Workbook
Name Afectación_Económica: '3 PROBABIL E IMPACTO INHERENTE'!$X$10:$X$15
Name Definicion_tratamiento: '11 FORMULAS'!#REF!
Name E_Relaciones_Laborales: '11 FORMULAS'!$C$12:$C$17
Name Ejecución_administración_de_procesos: Tabla2[Ejecución_administración_de_procesos]
Name Evento_externo: '11 FORMULAS'!$F$39:$F$42
Name F_Usuarios_Productos_y_Prácticas_Organizacionales: '11 FORMULAS'!$C$18:$C$23
Name Fiscal: '11 FORMULAS'!$B$32:$B$35
Name Fiscal_A: '11 FORMULAS'!#REF!
Name Fiscal_B: '11 FORMULAS'!#REF!
Name G_Daños_Activos_Físicos: '11 FORMULAS'!$C$24:$C$26
Name Gestión: '11 FORMULAS'!$A$32:$A$34
Name Gestiòn: '11 FORMULAS'!#REF!
Name Gestión_A: '11 FORMULAS'!#REF!
Name Gestión_B: '11 FORMULAS'!#REF!
Name IMPACTO_PROCESOS: '[1]LISTAS FORMULAS'!$C$3:$C$7
Name IMPACTO_PROCESOS: '[1]LISTAS FORMULAS'!$C$3:$C$7
Name IMPACTO_PROCESOS: '[1]LISTAS FORMULAS'!$C$3:$C$7
Name IMPACTO_PROCESOS: '[1]LISTAS FORMULAS'!$C$3:$C$7
Name IMPACTO_PROCESOS: '[1]LISTAS FORMULAS'!$C$3:$C$7
Name IMPACTO_PROCESOS: '[1]LISTAS FORMULAS'!$C$3:$C$7
Name Infraestructura: '11 FORMULAS'!$E$39:$E$42
Name Integridad_Pública_Corrupción: '11 FORMULAS'!$D$32:$D$34
Name Integridad_Pública_LA_FT_FP: '11 FORMULAS'!$E$32:$E$34
Name IntegridadPública_Corrupción: '11 FORMULAS'!#REF!
Name IntegridadPública_LA_FT_FP: '11 FORMULAS'!#REF!
Name opciones: '[1]LISTAS FORMULAS'!$F$3:$F$4
Name opciones: '[1]LISTAS FORMULAS'!$F$3:$F$4
Name opciones: '[1]LISTAS FORMULAS'!$F$3:$F$4
Name opciones: '[1]LISTAS FORMULAS'!$F$3:$F$4
Name opciones: '[1]LISTAS FORMULAS'!$F$3:$F$4
Name opciones: '[1]LISTAS FORMULAS'!$F$3:$F$4
Name opciones2: '[1]LISTAS FORMULAS'!$G$3:$G$5
Name opciones2: '[1]LISTAS FORMULAS'!$G$3:$G$5
Name opciones2: '[1]LISTAS FORMULAS'!$G$3:$G$5
Name opciones2: '[1]LISTAS FORMULAS'!$G$3:$G$5
Name opciones2: '[1]LISTAS FORMULAS'!$G$3:$G$5
Name opciones2: '[1]LISTAS FORMULAS'!$G$3:$G$5
Name Plan_accion: '11 FORMULAS'!#REF!
Name Plan_acción: '11 FORMULAS'!#REF!
Name Plan_de_acción: '11 FORMULAS'!#REF!
Name Posibilidad__de_efecto_dañoso_sobre_el_interes_patrimonial: '11 FORMULAS'!#REF!
Name Posibilidad_de_pérdida_Económica: '11 FORMULAS'!#REF!
Name Quince_Cero: '[1]LISTAS FORMULAS'!$F$14:$F$15
Name Quince_Cero: '[1]LISTAS FORMULAS'!$F$14:$F$15
Name Quince_Cero: '[1]LISTAS FORMULAS'!$F$14:$F$15
Name Quince_Cero: '[1]LISTAS FORMULAS'!$F$14:$F$15
Name Quince_Cero: '[1]LISTAS FORMULAS'!$F$14:$F$15
Name Quince_Cero: '[1]LISTAS FORMULAS'!$F$14:$F$15
Name Rango_Calificacion_Ejecucion: '[1]LISTAS FORMULAS'!$H$3:$H$5
Name Rango_Calificacion_Ejecucion: '[1]LISTAS FORMULAS'!$H$3:$H$5
Name Rango_Calificacion_Ejecucion: '[1]LISTAS FORMULAS'!$H$3:$H$5
Name Rango_Calificacion_Ejecucion: '[1]LISTAS FORMULAS'!$H$3:$H$5
Name Rango_Calificacion_Ejecucion: '[1]LISTAS FORMULAS'!$H$3:$H$5
Name Rango_Calificacion_Ejecucion: '[1]LISTAS FORMULAS'!$H$3:$H$5
Name Reducir_mitigar_Transferir_Evitar: '8 MAPA RIESGOS'!$AF$20:$AF$22
Name Reputacional: '3 PROBABIL E IMPACTO INHERENTE'!$Y$10:$Y$15
Name Requiere_Plan_de_Acción: '8 MAPA RIESGOS'!$AF$20:$AF$22
Name Seg.Información: '11 FORMULAS'!#REF!
Name Seguridad_Información: '11 FORMULAS'!$C$32:$C$34
Name Talento_Humano: '11 FORMULAS'!$C$39:$C$42

Sheet 1 INSTRUCTIVO
B2: Matriz Mapa de Riesgos Integrales
B4: Con la expedición del Decreto 1499 de 2017 “Por medio del cual se modifica el Decreto 1083 de 2015, Decreto Único Reglamentario del Sector Función Pública, en lo relacionado con el Sistema de Gestión establecido en el artículo 133 de la Ley 1753 de 2015”, se crea un solo Sistema de Gestión y se alinea con el Sistema de Control Interno, hoy todas las entidades públicas requieren actualizar y/o implementar el Modelo Integrado de Planeación y Gestión MIPG, modelo que incorpora el Modelo Estándar de Control Interno MECI a través de la 7a dimensión del mismo. En este marco general, el proceso de administración del riesgo es un esfuerzo conjunto entre la Alta Dirección y los servidores en todos sus niveles, ejercicio que inicia con la formulación de la política de Administración del Riesgo, la cual incluye los niveles de responsabilidad frente al seguimiento y evaluación, aspectos que deberán definirse acorde con el Esquema de Líneas de Defensa vinculado a la Dimensión 7. Teniendo en cuenta lo anterior y dada la necesidad de las entidades frente a la estructuración de los mapas de riesgos, como herramienta fundamental frente a la gestión del riesgo, el presente formato desarrolla un esquema completo acorde con los contenidos metodológicos de la Guía para la Administración del Riesgo y el diseño de controles V5. El formato cuenta con celdas parametrizadas y permite contar con los respectivos mapas de calor para riesgo inherente y riesgo residual.
B6: Orientaciones Generales
B7: Antes de iniciar con el diligenciamiento de la información en la matriz, se requiere haber avanzado en el análisis del proceso, su objetivo, alcance, actividades clave, considere los lineamientos establecidos en el Paso 2: identificación del riesgo, donde se explica ampliamente las bases para adelantar este análisis. Así mismo, considere en el Paso 3: valoración del riesgo los lineamientos para definir el No. de veces que se hace la actividad con la cual se relaciona el riesgo y su impacto en términos económicos o reputacionales. En este mismo paso se analizan los controles que deben responder a los atributos de eficiencia e informativos.
B9: Las hojas se encuentran protegidas para evidar dañar las formulas, para desprotegerlas no se requiere contraseña
B11: Se debe ingresar información solo en las celdas identificadas con color NARANJA CLARO, las demás contienen formulas de autollenado
B13: El formato de fecha es: DD/MM/AAAA
B15: El archivo contiene las siguientes hojas:
B17: 1 INSTRUCTIVO: Identifica el contenido del archivo y su funcionalidad
B19: 2 CONTEXTO E IDENTIFICACIÓN: Se establece el Número, Descripción y Factor del riesgo
C21: Columna | E21: Descripción - Lineamientos para el diligenciamiento
C22: Proceso | E22: Diligencie el nombre del proceso al cual se le identificarán y valorarán los riesgos.
C23: Objetivo del Proceso | E23: Diligencie el objetivo del proceso.
C24: Alcance del Proceso | E24: Diligencie el alcance del proceso.
C25: Vigencia: | E25: Vigencia que tiene el mapa de riesgos fecha inicio fecha final, formato (DD/MM/AAAA)
C26: No. de Riesgo | E26: Permite definir unl consecutivo de riesgos. Una entidad puede ir en el riesgo 150, pero tener 70 riesgos, lo que permite llevar una traza de los riesgos. Esta información la debe administrar la oficina asesora de planeación o gerencia de riesgos. Cuando un el riesgo salga del mapa no existirá otro riesgo con el mismo número.
C27: ¿QUÉ? IMPACTO | E27: Analice las consecuencias que puede ocasionar a la organización la materialización del riesgo, Seleccione de la lista desplegable entre: Posibilidad de pérdida Económica Posibilidad de pérdida Reputacional Posibilidad de pérdida Económica y Reputacional
C28: ¿CÓMO? CAUSA INMEDIATA | E28: Circunstancias bajo las cuales se presenta el riesgo, es la situación más evidente frente al riesgo, redacte de la forma más concreta posible. (Iniciar con la palabra por)
C29: ¿PORQUÉ? CAUSA RAÍZ | E29: Causa principal o básica, corresponde a las razones por la cuales se puede presentar el riesgo, redacte de la forma más concreta posible. (Iniciar con debido a)
C30: DESCRIPCIÓN DEL RIESGO | E30: Consolida o resume los análisis sobre impacto + causa inmediata + causa raíz, permitiendo contar con una redacción clara y concreta del riesgo indentificado. Tenga en cuenta la estructura de alto nivel establecida en al guía, inicia con POSIBILIDAD DE + Impacto para la entidad (Qué) + Causa Inmediata (Cómo) + Causa Raíz (Por qué) (Se genera automáticamente)
C31: FACTOR DEL RIESGO / TIPO | E31: Seleccione de la lista desplegable entre las opiciones: A_Ejecución_y_Administración_de_procesos B_Fraude_Externo C_Fraude_Interno D_Fallas_Tecnológicas E_Relaciones_Laborales F_Usuarios_Productos_y_Prácticas_Organizacionales G_Daños_Activos_Físicos
C32: FACTOR DEL RIESGO / SELECCIONE FUENTE GENERADORA DEL EVENTO PARA TIPO E,F,G | E32: Si en TIPO seleccioneó las opiciones: E_Relaciones_Laborales F_Usuarios_Productos_y_Prácticas_Organizacionales G_Daños_Activos_Físicos Debe definir la fuente generadora de la lista desplegable
C33: RESULTADO FUENTE GENERADORA DEL EVENTO | E33: Se rellena automáticamente según lo seleccinado de FACTOR DEL RIESGO
B35: 3 PROBABIL E IMPACTO INHERENTE:
C37: Columna | E37: Descripción - Lineamientos para el diligenciamiento
C38: No. veces que realiza la actividad al año | E38: Defina el número de veces que se ejecuta la actividad durante el año, (Recuerde la probabilidad e ocurrencia del riesgo se define como el No. de veces que se pasa por el punto de riesgo en el periodo de 1 año). La matriz automáticamente hará el cálculo para el nivel de probabilidad inherente. La matriz calcula automáticamente: Frecuencia de la Actividad % Probabilidad Nivel Probabilidad
C39: Afectación Económica | E39: Selecciona de la lista desplegable el rango de afectación económica y la matriz calcula: % Nivel
C40: Reputacional | E40: Selecciona de la lista desplegable el rango de afectación reputacional y la matriz calcula: % Nivel
C41: Resultado / Porcentaje de Impacto / Nivel de Impacto | E41: Se calcula automáticamente según la información de afectación económica y reputacional
B43: 4 MAPA CALOR INHERENTE: Representación gráfica de la ubicación de cada riesgo inherente en el mapa de calor (En esta hoja no se ingresan datos)
B45: 5 VALORACIÓN DEL CONTROL: Se realiza la descripción y atributos del control, calcula automáticamente el Valor Total del Control, Probabilidad residual e Impacto Residual
C47: Columna | E47: Descripción - Lineamientos para el diligenciamiento
C48: Descripción del Control | E48: Recuerde que el control se define como la medida que permite reducir o mitigar un riesgo. Defina el control (es) que atacan la causa raíz del riesgo, considere la estructura explicada en la guía: Responsable de ejecutar el control + Acción + Complemento
C49: Tipo de control | E49: Debe seleccionar de lista desplegable entre: Preventivo Detectivo Correctivo
C50: Peso del Control | E50: Se calcula automáticamente según lo seleccionado en Tipo de Control Preventivo: 25 % Detectivo: 15 % Correctivo: 10 %
C51: Afectación o Desplazamiento en la Matriz | E51: Se calcula automáticamente según lo seleccionado en Tipo de Control Preventivo: 25 % Detectivo: 15 % Correctivo: 10 %
C52: Implementación | E52: Debe seleccionar de lista desplegable entre: Automático: 25 % Manual: 15 %
C53: Peso de la implementación | E53: Se calcula automáticamente según lo seleccionado en Implementación Manual Automático
C54: Informativos | E54: Debe seleccionar de listas desplegables Documentación: Documentado - Sin Documentar Frecuencia: Continua - Aleatoria Evidencia: Con registro - Sin registro
C55: Valor Total del Control | E55: Se calcula automáticamente: Peso del Control + Peso de la implementación
...

Sheet 2 IDENTIFICACIÓN
B1: PROCESO PLANEACIÓN ESTRATÉGICA | J1: Código: F-DPM-10100-238,37-068
J2: Fecha: 21-05-2026
B3: MAPA DE RIESGOS INTEGRALES | J3: Versión: 0.0
A5: ENTIDAD: | B5: ALCALDÍA DE BUCARAMANGA | F5: PROCESO: | G5: GESTIÓN DE SERVICIOS DE LA EDUCACIÓN PÚBLICA | I5: VIGENCIA: | J5: 2026
A6: OBJETIVO DEL PROCESO: | B6: Proveer a la comunidad de Bucaramanga de un servicio educativo pertinente, universal y equitativo, a través de sus Instituciones Educativas, desarrollando en la Secretaría de Educación de Bucaramanga procesos innovadores de planeación, ejecución, control e inspección basados en las tecnologías de información y comunicaciones con el fin de lograr un excelente servicio al cliente, aplicando el mejoramiento continuo y la prevención de riesgos operativos. | F6: ALCANCE: | G6: Inicia con un análisis estratégico del sector educativo, que abarca la evaluación de los recursos humanos y la infraestructura física disponible. Esto permite desarrollar una oferta educativa adaptada a las necesidades de la comunidad, asegurando la calidad del servicio y la prevención del riesgo operativo, en la permanencia de los estudiantes y el adecuado mantenimiento de las instalaciones. Finaliza asegurando la trayectoria educativa hasta la educación media.
A8: No. de Riesgo (Mismo consecutivo para toda la entidad) | B8: FACTOR DEL RIESGO
B9: FACTOR DE RIESGO | C9: SELECCIONE FUENTE GENERADORA DEL EVENTO PARA TIPO E,F,G | D9: VALIDACIÓN FUENTE GENERADORA DEL EVENTO PARA TIPO A,B,C,D | E9: DESCRIPCIÓN DEL TIPO DE FACTOR DE RIESGO | F9: TIPOLOGÍA | G9: ¿QUÉ? IMPACTO | H9: ¿CÓMO? CAUSA INMEDIATA (Iniciar con la palabra por) | I9: ¿PORQUÉ? CAUSA RAÍZ (Iniciar con debido a/a causa de) | J9: DESCRIPCIÓN DEL RIESGO | K9: SUB CAUSAS (Si aplica)
A10: R1 | B10: Ejecución_administración_de_procesos | C10: Falta de aplicación de los procedimientos | D10: =+IF(B10='11 FORMULAS'!$B$4,'11 FORMULAS'!$C$4,IF(B10='11 FORMULAS'!$B$6,'11 FORMULAS'!$C$6,IF(B10='11 FORMULAS'!$B$8,'11 FORMULAS'!$C$8,IF(B10='11 FORMULAS'!$B$10,'11 FORMULAS'!$C$10,"")))) | E10: =+IFERROR(VLOOKUP(B10,Tabla3[],2,0),"") -> Eventos relacionados con la ejecución de los procesos y procedimientos determinados para la operación de la entidad, uso de sistemas de información, por errores en las actividades que deben realizar los servidores de la organización. Estructura organizacional que afecta la capacidad organizacional | F10: Gestión | G10: Posibilidad de afectación económica y reputacional | H10: inconsistencias en la caracterización y registro de la información de los estudiantes en el SIMAT, | I10: deficiencias en el suministro, actualización y validación de la información reportada por las Instituciones Educativas, generando disminución en la asignación de recursos del Sistema General de Participaciones para la prestación del servicio educativo. | J10: =(CONCATENATE(Tabla1[[#This Row],[¿QUÉ? IMPACTO]]," ","por ",Tabla1[[#This Row],[¿CÓMO? CAUSA INMEDIATA (Iniciar con la palabra por)]]," ","debido a"," ",Tabla1[[#This Row],[¿PORQUÉ? CAUSA RAÍZ (Iniciar con debido a/a causa de)]])) -> Posibilidad de afectación económica y reputacional por inconsistencias en la caracterización y registro de la información de los estudiantes en el SIMAT, debido a deficiencias en el suministro, actualización y validación de la información reportada por las Instituciones Educativas, generando disminución en la asignación de recursos del Sistema General de Participaciones para la prestación del servicio educativo.
A11: R2 | B11: Ejecución_administración_de_procesos | C11: Falta de aplicación de los procedimientos | D11: =+IF(B11='11 FORMULAS'!$B$4,'11 FORMULAS'!$C$4,IF(B11='11 FORMULAS'!$B$6,'11 FORMULAS'!$C$6,IF(B11='11 FORMULAS'!$B$8,'11 FORMULAS'!$C$8,IF(B11='11 FORMULAS'!$B$10,'11 FORMULAS'!$C$10,"")))) | E11: =+IFERROR(VLOOKUP(B11,Tabla3[],2,0),"") -> Eventos relacionados con la ejecución de los procesos y procedimientos determinados para la operación de la entidad, uso de sistemas de información, por errores en las actividades que deben realizar los servidores de la organización. Estructura organizacional que afecta la capacidad organizacional | F11: Gestión | G11: Posibilidad de afectación reputacional | H11: publicaciones extemporáneas en el SECOP, | I11: demoras en la entrega y remisión de la información requerida para la gestión contractual. | J11: =(CONCATENATE(Tabla1[[#This Row],[¿QUÉ? IMPACTO]]," ","por ",Tabla1[[#This Row],[¿CÓMO? CAUSA INMEDIATA (Iniciar con la palabra por)]]," ","debido a"," ",Tabla1[[#This Row],[¿PORQUÉ? CAUSA RAÍZ (Iniciar con debido a/a causa de)]])) -> Posibilidad de afectación reputacional por publicaciones extemporáneas en el SECOP, debido a demoras en la entrega y remisión de la información requerida para la gestión contractual.
A12: R3 | B12: Ejecución_administración_de_procesos | C12: Falta de aplicación de los procedimientos | D12: =+IF(B12='11 FORMULAS'!$B$4,'11 FORMULAS'!$C$4,IF(B12='11 FORMULAS'!$B$6,'11 FORMULAS'!$C$6,IF(B12='11 FORMULAS'!$B$8,'11 FORMULAS'!$C$8,IF(B12='11 FORMULAS'!$B$10,'11 FORMULAS'!$C$10,"")))) | E12: =+IFERROR(VLOOKUP(B12,Tabla3[],2,0),"") -> Eventos relacionados con la ejecución de los procesos y procedimientos determinados para la operación de la entidad, uso de sistemas de información, por errores en las actividades que deben realizar los servidores de la organización. Estructura organizacional que afecta la capacidad organizacional | F12: Gestión | G12: Posibilidad de afectación reputacional | H12: posibles investigaciones y sanciones disciplinarias por entes de control, | I12: incumplimiento de la Ley 594 del 2000 en los documentos generados por la Secretaría de Educación. | J12: =(CONCATENATE(Tabla1[[#This Row],[¿QUÉ? IMPACTO]]," ","por ",Tabla1[[#This Row],[¿CÓMO? CAUSA INMEDIATA (Iniciar con la palabra por)]]," ","debido a"," ",Tabla1[[#This Row],[¿PORQUÉ? CAUSA RAÍZ (Iniciar con debido a/a causa de)]])) -> Posibilidad de afectación reputacional por posibles investigaciones y sanciones disciplinarias por entes de control, debido a incumplimiento de la Ley 594 del 2000 en los documentos generados por la Secretaría de Educación.
A13: R4 | B13: Ejecución_administración_de_procesos | C13: Falta de aplicación de los procedimientos | D13: =+IF(B13='11 FORMULAS'!$B$4,'11 FORMULAS'!$C$4,IF(B13='11 FORMULAS'!$B$6,'11 FORMULAS'!$C$6,IF(B13='11 FORMULAS'!$B$8,'11 FORMULAS'!$C$8,IF(B13='11 FORMULAS'!$B$10,'11 FORMULAS'!$C$10,"")))) | E13: =+IFERROR(VLOOKUP(B13,Tabla3[],2,0),"") -> Eventos relacionados con la ejecución de los procesos y procedimientos determinados para la operación de la entidad, uso de sistemas de información, por errores en las actividades que deben realizar los servidores de la organización. Estructura organizacional que afecta la capacidad organizacional | F13: Gestión | G13: Posibilidad de afectación reputacional | H13: incumplimiento de las acciones establecidas en los planes de mejoramiento derivados de auditorías internas y externas, | I13: debilidades en el seguimiento y cumplimiento de los tiempos definidos para su ejecución. | J13: =(CONCATENATE(Tabla1[[#This Row],[¿QUÉ? IMPACTO]]," ","por ",Tabla1[[#This Row],[¿CÓMO? CAUSA INMEDIATA (Iniciar con la palabra por)]]," ","debido a"," ",Tabla1[[#This Row],[¿PORQUÉ? CAUSA RAÍZ (Iniciar con debido a/a causa de)]])) -> Posibilidad de afectación reputacional por incumplimiento de las acciones establecidas en los planes de mejoramiento derivados de auditorías internas y externas, debido a debilidades en el seguimiento y cumplimiento de los tiempos definidos para su ejecución.
A14: R5 | B14: Ejecución_administración_de_procesos | C14: Falta de aplicación de los procedimientos | D14: =+IF(B14='11 FORMULAS'!$B$4,'11 FORMULAS'!$C$4,IF(B14='11 FORMULAS'!$B$6,'11 FORMULAS'!$C$6,IF(B14='11 FORMULAS'!$B$8,'11 FORMULAS'!$C$8,IF(B14='11 FORMULAS'!$B$10,'11 FORMULAS'!$C$10,"")))) | E14: =+IFERROR(VLOOKUP(B14,Tabla3[],2,0),"") -> Eventos relacionados con la ejecución de los procesos y procedimientos determinados para la operación de la entidad, uso de sistemas de información, por errores en las actividades que deben realizar los servidores de la organización. Estructura organizacional que afecta la capacidad organizacional | F14: Gestión | G14: Posibilidad de afectación reputacional | H14: debilidades en la publicación y actualización de la información obligatoria en la página web institucional, | I14: incumplimiento de los lineamientos establecidos en la Ley 1712 de 2014 y la Resolución 1519 de 2020 del MINTIC. | J14: =(CONCATENATE(Tabla1[[#This Row],[¿QUÉ? IMPACTO]]," ","por ",Tabla1[[#This Row],[¿CÓMO? CAUSA INMEDIATA (Iniciar con la palabra por)]]," ","debido a"," ",Tabla1[[#This Row],[¿PORQUÉ? CAUSA RAÍZ (Iniciar con debido a/a causa de)]])) -> Posibilidad de afectación reputacional por debilidades en la publicación y actualización de la información obligatoria en la página web institucional, debido a incumplimiento de los lineamientos establecidos en la Ley 1712 de 2014 y la Resolución 1519 de 2020 del MINTIC.
A15: R6 | B15: Ejecución_administración_de_procesos | C15: Falta de aplicación de los procedimientos | D15: =+IF(B15='11 FORMULAS'!$B$4,'11 FORMULAS'!$C$4,IF(B15='11 FORMULAS'!$B$6,'11 FORMULAS'!$C$6,IF(B15='11 FORMULAS'!$B$8,'11 FORMULAS'!$C$8,IF(B15='11 FORMULAS'!$B$10,'11 FORMULAS'!$C$10,"")))) | E15: =+IFERROR(VLOOKUP(B15,Tabla3[],2,0),"") -> Eventos relacionados con la ejecución de los procesos y procedimientos determinados para la operación de la entidad, uso de sistemas de información, por errores en las actividades que deben realizar los servidores de la organización. Estructura organizacional que afecta la capacidad organizacional | F15: Gestión | G15: Posibilidad de afectación reputacional | H15: investigaciones y sanciones disciplinarias por entes de control, | I15: la falta de seguimiento al cumplimiento de metas del Plan de Desarrollo Municipal programadas para la vigencia. | J15: =(CONCATENATE(Tabla1[[#This Row],[¿QUÉ? IMPACTO]]," ","por ",Tabla1[[#This Row],[¿CÓMO? CAUSA INMEDIATA (Iniciar con la palabra por)]]," ","debido a"," ",Tabla1[[#This Row],[¿PORQUÉ? CAUSA RAÍZ (Iniciar con debido a/a causa de)]])) -> Posibilidad de afectación reputacional por investigaciones y sanciones disciplinarias por entes de control, debido a la falta de seguimiento al cumplimiento de metas del Plan de Desarrollo Municipal programadas para la vigencia.
A16: R7 | B16: Ejecución_administración_de_procesos | C16: Falta de aplicación de los procedimientos | D16: =+IF(B16='11 FORMULAS'!$B$4,'11 FORMULAS'!$C$4,IF(B16='11 FORMULAS'!$B$6,'11 FORMULAS'!$C$6,IF(B16='11 FORMULAS'!$B$8,'11 FORMULAS'!$C$8,IF(B16='11 FORMULAS'!$B$10,'11 FORMULAS'!$C$10,"")))) | E16: =+IFERROR(VLOOKUP(B16,Tabla3[],2,0),"") -> Eventos relacionados con la ejecución de los procesos y procedimientos determinados para la operación de la entidad, uso de sistemas de información, por errores en las actividades que deben realizar los servidores de la organización. Estructura organizacional que afecta la capacidad organizacional | F16: Fiscal | G16: Posibilidad de efecto dañoso sobre bienes de uso público | H16: pérdida, extravío, hurto o faltantes en inventario de bienes muebles de la entidad, | I16: deficiencias en la actualización, verificación y control del inventario de bienes muebles. | J16: =(CONCATENATE(Tabla1[[#This Row],[¿QUÉ? IMPACTO]]," ","por ",Tabla1[[#This Row],[¿CÓMO? CAUSA INMEDIATA (Iniciar con la palabra por)]]," ","debido a"," ",Tabla1[[#This Row],[¿PORQUÉ? CAUSA RAÍZ (Iniciar con debido a/a causa de)]])) -> Posibilidad de efecto dañoso sobre bienes de uso público por pérdida, extravío, hurto o faltantes en inventario de bienes muebles de la entidad, debido a deficiencias en la actualización, verificación y control del inventario de bienes muebles.
A17: R8 | B17: Ejecución_administración_de_procesos | C17: Falta de aplicación de los procedimientos | D17: =+IF(B17='11 FORMULAS'!$B$4,'11 FORMULAS'!$C$4,IF(B17='11 FORMULAS'!$B$6,'11 FORMULAS'!$C$6,IF(B17='11 FORMULAS'!$B$8,'11 FORMULAS'!$C$8,IF(B17='11 FORMULAS'!$B$10,'11 FORMULAS'!$C$10,"")))) | E17: =+IFERROR(VLOOKUP(B17,Tabla3[],2,0),"") -> Eventos relacionados con la ejecución de los procesos y procedimientos determinados para la operación de la entidad, uso de sistemas de información, por errores en las actividades que deben realizar los servidores de la organización. Estructura organizacional que afecta la capacidad organizacional | F17: Fiscal | G17: Posibilidad de efecto dañoso sobre el recurso público | H17: deficiencias en la gestión de las etapas precontractual, contractual y postcontractual, | I17: incumplimiento de los lineamientos, requisitos y obligaciones establecidos en la normatividad vigente y en los documentos contractuales, generando pagos sobre obligaciones parcialmente ejecutadas o no cumplidas. | J17: =(CONCATENATE(Tabla1[[#This Row],[¿QUÉ? IMPACTO]]," ","por ",Tabla1[[#This Row],[¿CÓMO? CAUSA INMEDIATA (Iniciar con la palabra por)]]," ","debido a"," ",Tabla1[[#This Row],[¿PORQUÉ? CAUSA RAÍZ (Iniciar con debido a/a causa de)]])) -> Posibilidad de efecto dañoso sobre el recurso público por deficiencias en la gestión de las etapas precontractual, contractual y postcontractual, debido a incumplimiento de los lineamientos, requisitos y obligaciones establecidos en la normatividad vigente y en los documentos contractuales, generando pagos sobre obligaciones parcialmente ejecutadas o no cumplidas.
A18: R9 | B18: Ejecución_administración_de_procesos | C18: Falta de aplicación de los procedimientos | D18: =+IF(B18='11 FORMULAS'!$B$4,'11 FORMULAS'!$C$4,IF(B18='11 FORMULAS'!$B$6,'11 FORMULAS'!$C$6,IF(B18='11 FORMULAS'!$B$8,'11 FORMULAS'!$C$8,IF(B18='11 FORMULAS'!$B$10,'11 FORMULAS'!$C$10,"")))) | E18: =+IFERROR(VLOOKUP(B18,Tabla3[],2,0),"") -> Eventos relacionados con la ejecución de los procesos y procedimientos determinados para la operación de la entidad, uso de sistemas de información, por errores en las actividades que deben realizar los servidores de la organización. Estructura organizacional que afecta la capacidad organizacional | F18: Fiscal | G18: Posibilidad de efecto dañoso sobre el recurso público | H18: pago de sanción e intereses moratorios, | I18: trámite inoportuno a los requerimientos de los entes de control y vigilancia, de acuerdo con sus lineamientos y términos de ley. | J18: =(CONCATENATE(Tabla1[[#This Row],[¿QUÉ? IMPACTO]]," ","por ",Tabla1[[#This Row],[¿CÓMO? CAUSA INMEDIATA (Iniciar con la palabra por)]]," ","debido a"," ",Tabla1[[#This Row],[¿PORQUÉ? CAUSA RAÍZ (Iniciar con debido a/a causa de)]])) -> Posibilidad de efecto dañoso sobre el recurso público por pago de sanción e intereses moratorios, debido a trámite inoportuno a los requerimientos de los entes de control y vigilancia, de acuerdo con sus lineamientos y términos de ley.
A19: R10 | B19: Ejecución_administración_de_procesos | C19: Falta de aplicación de los procedimientos | D19: =+IF(B19='11 FORMULAS'!$B$4,'11 FORMULAS'!$C$4,IF(B19='11 FORMULAS'!$B$6,'11 FORMULAS'!$C$6,IF(B19='11 FORMULAS'!$B$8,'11 FORMULAS'!$C$8,IF(B19='11 FORMULAS'!$B$10,'11 FORMULAS'!$C$10,"")))) | E19: =+IFERROR(VLOOKUP(B19,Tabla3[],2,0),"") -> Eventos relacionados con la ejecución de los procesos y procedimientos determinados para la operación de la entidad, uso de sistemas de información, por errores en las actividades que deben realizar los servidores de la organización. Estructura organizacional que afecta la capacidad organizacional | F19: Gestión | G19: Posibilidad de afectación económica y reputacional | H19: afectaciones en la disponibilidad y ejecución de los recursos del Sistema General de Participaciones (SGP) administrados por la Secretaría de Educación, | I19: inconsistencias en los procesos financieros y de tesorería relacionados con el manejo de pagos y descuentos efectuados sobre dichos recursos. | J19: =(CONCATENATE(Tabla1[[#This Row],[¿QUÉ? IMPACTO]]," ","por ",Tabla1[[#This Row],[¿CÓMO? CAUSA INMEDIATA (Iniciar con la palabra por)]]," ","debido a"," ",Tabla1[[#This Row],[¿PORQUÉ? CAUSA RAÍZ (Iniciar con debido a/a causa de)]])) -> Posibilidad de afectación económica y reputacional por afectaciones en la disponibilidad y ejecución de los recursos del Sistema General de Participaciones (SGP) administrados por la Secretaría de Educación, debido a inconsistencias en los procesos financieros y de tesorería relacionados con el manejo de pagos y descuentos efectuados sobre dichos recursos.
A20: R11 | B20: Ejecución_administración_de_procesos | C20: Falta de aplicación de los procedimientos | D20: =+IF(B20='11 FORMULAS'!$B$4,'11 FORMULAS'!$C$4,IF(B20='11 FORMULAS'!$B$6,'11 FORMULAS'!$C$6,IF(B20='11 FORMULAS'!$B$8,'11 FORMULAS'!$C$8,IF(B20='11 FORMULAS'!$B$10,'11 FORMULAS'!$C$10,"")))) | E20: =+IFERROR(VLOOKUP(B20,Tabla3[],2,0),"") -> Eventos relacionados con la ejecución de los procesos y procedimientos determinados para la operación de la entidad, uso de sistemas de información, por errores en las actividades que deben realizar los servidores de la organización. Estructura organizacional que afecta la capacidad organizacional | F20: Gestión | G20: Posibilidad de afectación reputacional | H20: demoras en el trámite de novedades de retiro y liquidación derivadas del fallecimiento del personal docente, directivo docente y administrativo de las Instituciones Educativas Oficiales, | I20: falencias en los procesos de gestión y actualización de la información administrativa y de nómina. | J20: =(CONCATENATE(Tabla1[[#This Row],[¿QUÉ? IMPACTO]]," ","por ",Tabla1[[#This Row],[¿CÓMO? CAUSA INMEDIATA (Iniciar con la palabra por)]]," ","debido a"," ",Tabla1[[#This Row],[¿PORQUÉ? CAUSA RAÍZ (Iniciar con debido a/a causa de)]])) -> Posibilidad de afectación reputacional por demoras en el trámite de novedades de retiro y liquidación derivadas del fallecimiento del personal docente, directivo docente y administrativo de las Instituciones Educativas Oficiales, debido a falencias en los procesos de gestión y actualización de la información administrativa y de nómina.
A21: R12 | B21: Talento_Humano | C21: Soborno | D21: =+IF(B21='11 FORMULAS'!$B$4,'11 FORMULAS'!$C$4,IF(B21='11 FORMULAS'!$B$6,'11 FORMULAS'!$C$6,IF(B21='11 FORMULAS'!$B$8,'11 FORMULAS'!$C$8,IF(B21='11 FORMULAS'!$B$10,'11 FORMULAS'!$C$10,"")))) | E21: =+IFERROR(VLOOKUP(B21,Tabla3[],2,0),"") -> Eventos relacionados con las conductas o comportamientos de los empleados que afectan la Integridad Pública | F21: Integridad_Pública_Corrupción | G21: Posibilidad de pérdida reputacional | H21: soborno entrante en los trámites administrativos del personal docente, directivo docente y administrativo, al recibir o solicitar ventajas indebidas en actuaciones relacionadas con traslados, permutas, nombramientos en vacancias temporales, ascensos o mejoramientos salariales, | I21: al incumplimiento de los requisitos y lineamientos establecidos. | J21: =(CONCATENATE(Tabla1[[#This Row],[¿QUÉ? IMPACTO]]," ","por ",Tabla1[[#This Row],[¿CÓMO? CAUSA INMEDIATA (Iniciar con la palabra por)]]," ","debido a"," ",Tabla1[[#This Row],[¿PORQUÉ? CAUSA RAÍZ (Iniciar con debido a/a causa de)]])) -> Posibilidad de pérdida reputacional por soborno entrante en los trámites administrativos del personal docente, directivo docente y administrativo, al recibir o solicitar ventajas indebidas en actuaciones relacionadas con traslados, permutas, nombramientos en vacancias temporales, ascensos o mejoramientos salariales, debido a al incumplimiento de los requisitos y lineamientos establecidos.
... A26: R17 | B26: Transacción_u_Operación_aplica_para_LA_FT_FP | C26: Contrapartes de la entidad (naturales o jurídicas) | D26: =+IF(B26='11 FORMULAS'!$B$4,'11 FORMULAS'!$C$4,IF(B26='11 FORMULAS'!$B$6,'11 FORMULAS'!$C$6,IF(B26='11 FORMULAS'!$B$8,'11 FORMULAS'!$C$8,IF(B26='11 FORMULAS'!$B$10,'11 FORMULAS'!$C$10,"")))) | E26: =+IFERROR(VLOOKUP(B26,Tabla3[],2,0),"") -> Eventos relacionados con transacciones y Operaciones realizadas por un cliente o usuario, que accede o entrega un bien o servicio a la entidad, a través de los canales dispuestos y en una jurisdicción específica. | F26: Integridad_Pública_LA_FT_FP | G26: Posibilidad de pérdida económica | H26: usar la entidad para dar apariencia de legalidad a los activos provenientes de actividades delictivas, para canalizar recursos hacia la realización de actividades terroristas o la proliferación de armas de destrucción masiva, | I26: fallas u omisiones en la verificación de la información declarada por los proponentes en los procesos de selección. | J26: =(CONCATENATE(Tabla1[[#This Row],[¿QUÉ? IMPACTO]]," ","por ",Tabla1[[#This Row],[¿CÓMO? CAUSA INMEDIATA (Iniciar con la palabra por)]]," ","debido a"," ",Tabla1[[#This Row],[¿PORQUÉ? CAUSA RAÍZ (Iniciar con debido a/a causa de)]])) -> Posibilidad de pérdida económica por usar la entidad para dar apariencia de legalidad a los activos provenientes de actividades delictivas, para canalizar recursos hacia la realización de actividades terroristas o la proliferación de armas de destrucción masiva, debido a fallas u omisiones en la verificación de la información declarada por los proponentes en los procesos de selección.
A27: R18 | D27: =+IF(B27='11 FORMULAS'!$B$4,'11 FORMULAS'!$C$4,IF(B27='11 FORMULAS'!$B$6,'11 FORMULAS'!$C$6,IF(B27='11 FORMULAS'!$B$8,'11 FORMULAS'!$C$8,IF(B27='11 FORMULAS'!$B$10,'11 FORMULAS'!$C$10,"")))) | E27: =+IFERROR(VLOOKUP(B27,Tabla3[],2,0),"") | J27: =(CONCATENATE(Tabla1[[#This Row],[¿QUÉ? IMPACTO]]," ","por ",Tabla1[[#This Row],[¿CÓMO? CAUSA INMEDIATA (Iniciar con la palabra por)]]," ","debido a"," ",Tabla1[[#This Row],[¿PORQUÉ? CAUSA RAÍZ (Iniciar con debido a/a causa de)]])) -> por debido a
A28: R19 | D28: =+IF(B28='11 FORMULAS'!$B$4,'11 FORMULAS'!$C$4,IF(B28='11 FORMULAS'!$B$6,'11 FORMULAS'!$C$6,IF(B28='11 FORMULAS'!$B$8,'11 FORMULAS'!$C$8,IF(B28='11 FORMULAS'!$B$10,'11 FORMULAS'!$C$10,"")))) | E28: =+IFERROR(VLOOKUP(B28,Tabla3[],2,0),"") | J28: =(CONCATENATE(Tabla1[[#This Row],[¿QUÉ? IMPACTO]]," ","por ",Tabla1[[#This Row],[¿CÓMO? CAUSA INMEDIATA (Iniciar con la palabra por)]]," ","debido a"," ",Tabla1[[#This Row],[¿PORQUÉ? CAUSA RAÍZ (Iniciar con debido a/a causa de)]])) -> por debido a
A29: R20 | E29: =+IFERROR(VLOOKUP(B29,Tabla3[],2,0),"") | J29: =(CONCATENATE(Tabla1[[#This Row],[¿QUÉ? IMPACTO]]," ","por ",Tabla1[[#This Row],[¿CÓMO? CAUSA INMEDIATA (Iniciar con la palabra por)]]," ","debido a"," ",Tabla1[[#This Row],[¿PORQUÉ? CAUSA RAÍZ (Iniciar con debido a/a causa de)]])) -> por debido a
A30: R21 | E30: =+IFERROR(VLOOKUP(B30,Tabla3[],2,0),"") | J30: =(CONCATENATE(Tabla1[[#This Row],[¿QUÉ? IMPACTO]]," ","por ",Tabla1[[#This Row],[¿CÓMO? CAUSA INMEDIATA (Iniciar con la palabra por)]]," ","debido a"," ",Tabla1[[#This Row],[¿PORQUÉ? CAUSA RAÍZ (Iniciar con debido a/a causa de)]])) -> por debido a
A31: R22 | E31: =+IFERROR(VLOOKUP(B31,Tabla3[],2,0),"") | J31: =(CONCATENATE(Tabla1[[#This Row],[¿QUÉ? IMPACTO]]," ","por ",Tabla1[[#This Row],[¿CÓMO? CAUSA INMEDIATA (Iniciar con la palabra por)]]," ","debido a"," ",Tabla1[[#This Row],[¿PORQUÉ? CAUSA RAÍZ (Iniciar con debido a/a causa de)]])) -> por debido a
A32: R23 | E32: =+IFERROR(VLOOKUP(B32,Tabla3[],2,0),"") | J32: =(CONCATENATE(Tabla1[[#This Row],[¿QUÉ? IMPACTO]]," ","por ",Tabla1[[#This Row],[¿CÓMO? CAUSA INMEDIATA (Iniciar con la palabra por)]]," ","debido a"," ",Tabla1[[#This Row],[¿PORQUÉ? CAUSA RAÍZ (Iniciar con debido a/a causa de)]])) -> por debido a
A33: R24 | E33: =+IFERROR(VLOOKUP(B33,Tabla3[],2,0),"") | J33: =(CONCATENATE(Tabla1[[#This Row],[¿QUÉ? IMPACTO]]," ","por ",Tabla1[[#This Row],[¿CÓMO? CAUSA INMEDIATA (Iniciar con la palabra por)]]," ","debido a"," ",Tabla1[[#This Row],[¿PORQUÉ? CAUSA RAÍZ (Iniciar con debido a/a causa de)]])) -> por debido a
A34: R25 | E34: =+IFERROR(VLOOKUP(B34,Tabla3[],2,0),"") | J34: =(CONCATENATE(Tabla1[[#This Row],[¿QUÉ? IMPACTO]]," ","por ",Tabla1[[#This Row],[¿CÓMO? CAUSA INMEDIATA (Iniciar con la palabra por)]]," ","debido a"," ",Tabla1[[#This Row],[¿PORQUÉ? CAUSA RAÍZ (Iniciar con debido a/a causa de)]])) -> por debido a
A35: R26 | E35: =+IFERROR(VLOOKUP(B35,Tabla3[],2,0),"") | J35: =(CONCATENATE(Tabla1[[#This Row],[¿QUÉ? IMPACTO]]," ","por ",Tabla1[[#This Row],[¿CÓMO? CAUSA INMEDIATA (Iniciar con la palabra por)]]," ","debido a"," ",Tabla1[[#This Row],[¿PORQUÉ? CAUSA RAÍZ (Iniciar con debido a/a causa de)]])) -> por debido a
A36: R27 | E36: =+IFERROR(VLOOKUP(B36,Tabla3[],2,0),"") | J36: =(CONCATENATE(Tabla1[[#This Row],[¿QUÉ? IMPACTO]]," ","por ",Tabla1[[#This Row],[¿CÓMO? CAUSA INMEDIATA (Iniciar con la palabra por)]]," ","debido a"," ",Tabla1[[#This Row],[¿PORQUÉ? CAUSA RAÍZ (Iniciar con debido a/a causa de)]])) -> por debido a
A37: R28 | E37: =+IFERROR(VLOOKUP(B37,Tabla3[],2,0),"") | J37: =(CONCATENATE(Tabla1[[#This Row],[¿QUÉ? IMPACTO]]," ","por ",Tabla1[[#This Row],[¿CÓMO? CAUSA INMEDIATA (Iniciar con la palabra por)]]," ","debido a"," ",Tabla1[[#This Row],[¿PORQUÉ? CAUSA RAÍZ (Iniciar con debido a/a causa de)]])) -> por debido a
A38: R29 | E38: =+IFERROR(VLOOKUP(B38,Tabla3[],2,0),"") | J38: =(CONCATENATE(Tabla1[[#This Row],[¿QUÉ? IMPACTO]]," ","por ",Tabla1[[#This Row],[¿CÓMO? CAUSA INMEDIATA (Iniciar con la palabra por)]]," ","debido a"," ",Tabla1[[#This Row],[¿PORQUÉ? CAUSA RAÍZ (Iniciar con debido a/a causa de)]])) -> por debido a
A39: R30 | D39: =+IF(B39='11 FORMULAS'!$B$4,'11 FORMULAS'!$C$4,IF(B39='11 FORMULAS'!$B$6,'11 FORMULAS'!$C$6,IF(B39='11 FORMULAS'!$B$8,'11 FORMULAS'!$C$8,IF(B39='11 FORMULAS'!$B$10,'11 FORMULAS'!$C$10,"")))) | E39: =+IFERROR(VLOOKUP(B39,Tabla3[],2,0),"") | J39: =(CONCATENATE(Tabla1[[#This Row],[¿QUÉ? IMPACTO]]," ","por ",Tabla1[[#This Row],[¿CÓMO? CAUSA INMEDIATA (Iniciar con la palabra por)]]," ","debido a"," ",Tabla1[[#This Row],[¿PORQUÉ? CAUSA RAÍZ (Iniciar con debido a/a causa de)]])) -> por debido a
A41: CONTROL DE CAMBIOS
A42: VERSIÓN | B42: FECHA | D42: DESCRIPCIÓN | F42: RESPONSABLE
A43: 0.0 | B43: 46163 | D43: Creación del documento. Este documento estará en prueba durante 3 meses, pasado este tiempo, se ajustará de versión con los cambios respectivos o se deja en firme, pero con cambio de versión. | F43: Profesional Especializado

Sheet 3 PROBABIL E IMPACTO INHERENTE
B1: PROCESO PLANEACIÓN ESTRATÉGICA | J1: Código: F-DPM-10100-238,37-068
J2: Fecha: 21-05-2026
B3: MAPA DE RIESGOS INTEGRALES | J3: Versión: 0.0
A5: ENTIDAD: | B5: ='2 IDENTIFICACIÓN'!B5 -> ALCALDÍA DE BUCARAMANGA | F5: PROCESO: | G5: ='2 IDENTIFICACIÓN'!G5 -> GESTIÓN DE SERVICIOS DE LA EDUCACIÓN PÚBLICA | I5: VIGENCIA: | J5: ='2 IDENTIFICACIÓN'!J5 -> 2026
G7: IMPACTO INHERENTE
C8: PROBABILIDAD INHERENTE | G8: Afectación Económica | J8: Reputacional | M8: Resultado | P8: PROBABILIDAD | V8: IMPACTO
A9: No. Riesgo | B9: Riesgo | C9: No. veces que realiza la actividad al año | D9: Frecuencia de la Actividad | E9: % Probabilidad | F9: Nivel Probabilidad | G9: Afectación Económica | H9: % | I9: Nivel | J9: Reputacional | K9: % | L9: Nivel | M9: Porcentaje de Impacto | N9: Nivel de Impacto | P9: Nivel | Q9: Frecuencia de la Actividad | R9: Mínimo | S9: Máximo | T9: Probabilidad | V9: Nivel | W9: % Impacto | X9: Afectación_Económica | Y9: Reputacional
A10: ='2 IDENTIFICACIÓN'!A10 -> R1 | B10: =+'2 IDENTIFICACIÓN'!J10 -> Posibilidad de afectación económica y reputacional por inconsistencias en la caracterización y registro de la información de los estudiantes en el SIMAT, debido a deficiencias en el suministro, actualización y validación de la información reportada por las Instituciones Educativas, generando disminución en la asignación de recursos del Sistema General de Participaciones para la prestación del servicio educativo. | C10: 68647 | D10: =+IF(C10="","",IF(C10<=$S$10,$Q$10,IF(C10<=$S$11,$Q$11,IF(C10<=$S$12,$Q$12,IF(C10<=$S$13,$Q$13,IF(C10>=$R$14,$Q$14,"")))))) -> La actividad que conlleva el riesgo se ejecuta más de 5.000 veces por año | E10: =+IF(D10="","",IF(D10=$Q$10,$T$10,IF(D10=$Q$11,$T$11,IF(D10=$Q$12,$T$12,IF(D10=$Q$13,$T$13,IF(D10=$Q$14,$T$14)))))) -> 1 | F10: =+IF(D10="","",IF(D10=$Q$10,$P$10,IF(D10=$Q$11,$P$11,IF(D10=$Q$12,$P$12,IF(D10=$Q$13,$P$13,IF(D10=$Q$14,$P$14)))))) -> Muy Alta | G10: Entre 100 y 500 SMLMV | H10: =+IF(G10="","",IF(G10="N/A","",IF(OR(G10=$X$10,G10=$Y$10),$W$10,IF(OR(G10=$X$11,G10=$Y$11),$W$11,IF(OR(G10=$X$12,G10=$Y$12),$W$12,IF(OR(G10=$X$13,G10=$Y$13),$W$13,IF(OR(G10=$X$14,G10=$Y$14),$W$14))))))) -> 0.8 | I10: =+IF(G10="","",IF(G10="N/A","",IF(OR(G10=$X$10,G10=$Y$10),$V$10,IF(OR(G10=$X$11,G10=$Y$11),$V$11,IF(OR(G10=$X$12,G10=$Y$12),$V$12,IF(OR(G10=$X$13,G10=$Y$13),$V$13,IF(OR(G10=$X$14,G10=$Y$14),$V$14))))))) -> Mayor | J10: El riesgo afecta la imagen de la entidad con algunos usuarios de relevancia frente al logro de los objetivos. | K10: =+IF(J10="","",IF(J10="N/A","",IF(OR(J10=$X$10,J10=$Y$10),$W$10,IF(OR(J10=$X$11,J10=$Y$11),$W$11,IF(OR(J10=$X$12,J10=$Y$12),$W$12,IF(OR(J10=$X$13,J10=$Y$13),$W$13,IF(OR(J10=$X$14,J10=$Y$14),$W$14))))))) -> 0.6 | L10: =+IF(J10="","",IF(J10="N/A","",IF(OR(J10=$X$10,J10=$Y$10),$V$10,IF(OR(J10=$X$11,J10=$Y$11),$V$11,IF(OR(J10=$X$12,J10=$Y$12),$V$12,IF(OR(J10=$X$13,J10=$Y$13),$V$13,IF(OR(J10=$X$14,J10=$Y$14),$V$14))))))) -> Moderado | M10: =+IF(H10="",K10,IF(K10="",H10,IF(H10>K10,H10,K10))) -> 0.8 | N10: =+IF(M10="","",IF(M10=$W$10,$V$10,IF(M10=$W$11,$V$11,IF(M10=$W$12,$V$12,IF(M10=$W$13,$V$13,IF(M10=$W$14,$V$14)))))) -> Mayor | P10: Muy Baja | Q10: La actividad que conlleva el riesgo se ejecuta como máximos 2 veces por año | R10: 0 | S10: 2 | T10: 0.2 | V10: Leve | W10: 0.2 | X10: Menor a 10 SMLMV | Y10: El riesgo afecta la imagen de algún área de la organización.
A11: ='2 IDENTIFICACIÓN'!A11 -> R2 | B11: =+'2 IDENTIFICACIÓN'!J11 -> Posibilidad de afectación reputacional por publicaciones extemporáneas en el SECOP, debido a demoras en la entrega y remisión de la información requerida para la gestión contractual. | C11: 439 | D11: =+IF(C11="","",IF(C11<=$S$10,$Q$10,IF(C11<=$S$11,$Q$11,IF(C11<=$S$12,$Q$12,IF(C11<=$S$13,$Q$13,IF(C11>=$R$14,$Q$14,"")))))) -> La actividad que conlleva el riesgo se ejecuta de 24 a 500 veces por año | E11: =+IF(D11="","",IF(D11=$Q$10,$T$10,IF(D11=$Q$11,$T$11,IF(D11=$Q$12,$T$12,IF(D11=$Q$13,$T$13,IF(D11=$Q$14,$T$14)))))) -> 0.6 | F11: =+IF(D11="","",IF(D11=$Q$10,$P$10,IF(D11=$Q$11,$P$11,IF(D11=$Q$12,$P$12,IF(D11=$Q$13,$P$13,IF(D11=$Q$14,$P$14)))))) -> Media | G11: N/A | H11: =+IF(G11="","",IF(G11="N/A","",IF(OR(G11=$X$10,G11=$Y$10),$W$10,IF(OR(G11=$X$11,G11=$Y$11),$W$11,IF(OR(G11=$X$12,G11=$Y$12),$W$12,IF(OR(G11=$X$13,G11=$Y$13),$W$13,IF(OR(G11=$X$14,G11=$Y$14),$W$14))))))) | I11: =+IF(G11="","",IF(G11="N/A","",IF(OR(G11=$X$10,G11=$Y$10),$V$10,IF(OR(G11=$X$11,G11=$Y$11),$V$11,IF(OR(G11=$X$12,G11=$Y$12),$V$12,IF(OR(G11=$X$13,G11=$Y$13),$V$13,IF(OR(G11=$X$14,G11=$Y$14),$V$14))))))) | J11: El riesgo afecta la imagen de algún área de la organización. | K11: =+IF(J11="","",IF(J11="N/A","",IF(OR(J11=$X$10,J11=$Y$10),$W$10,IF(OR(J11=$X$11,J11=$Y$11),$W$11,IF(OR(J11=$X$12,J11=$Y$12),$W$12,IF(OR(J11=$X$13,J11=$Y$13),$W$13,IF(OR(J11=$X$14,J11=$Y$14),$W$14))))))) -> 0.2 | L11: =+IF(J11="","",IF(J11="N/A","",IF(OR(J11=$X$10,J11=$Y$10),$V$10,IF(OR(J11=$X$11,J11=$Y$11),$V$11,IF(OR(J11=$X$12,J11=$Y$12),$V$12,IF(OR(J11=$X$13,J11=$Y$13),$V$13,IF(OR(J11=$X$14,J11=$Y$14),$V$14))))))) -> Leve | M11: =+IF(H11="",K11,IF(K11="",H11,IF(H11>K11,H11,K11))) -> 0.2 | N11: =+IF(M11="","",IF(M11=$W$10,$V$10,IF(M11=$W$11,$V$11,IF(M11=$W$12,$V$12,IF(M11=$W$13,$V$13,IF(M11=$W$14,$V$14)))))) -> Leve | P11: Baja | Q11: La actividad que conlleva el riesgo se ejecuta de 3 a 24 veces por año | R11: 3 | S11: 24 | T11: 0.4 | V11: Menor | W11: 0.4 | X11: Entre 10 y 50 SMLMV | Y11: El riesgo afecta la imagen de la entidad internamente, de conocimiento general nivel interno, de junta directiva y accionistas y/o de proveedores.
A12: ='2 IDENTIFICACIÓN'!A12 -> R3 | B12: =+'2 IDENTIFICACIÓN'!J12 -> Posibilidad de afectación reputacional por posibles investigaciones y sanciones disciplinarias por entes de control, debido a incumplimiento de la Ley 594 del 2000 en los documentos generados por la Secretaría de Educación. | C12: 360 | D12: =+IF(C12="","",IF(C12<=$S$10,$Q$10,IF(C12<=$S$11,$Q$11,IF(C12<=$S$12,$Q$12,IF(C12<=$S$13,$Q$13,IF(C12>=$R$14,$Q$14,"")))))) -> La actividad que conlleva el riesgo se ejecuta de 24 a 500 veces por año | E12: =+IF(D12="","",IF(D12=$Q$10,$T$10,IF(D12=$Q$11,$T$11,IF(D12=$Q$12,$T$12,IF(D12=$Q$13,$T$13,IF(D12=$Q$14,$T$14)))))) -> 0.6 | F12: =+IF(D12="","",IF(D12=$Q$10,$P$10,IF(D12=$Q$11,$P$11,IF(D12=$Q$12,$P$12,IF(D12=$Q$13,$P$13,IF(D12=$Q$14,$P$14)))))) -> Media | G12: N/A | H12: =+IF(G12="","",IF(G12="N/A","",IF(OR(G12=$X$10,G12=$Y$10),$W$10,IF(OR(G12=$X$11,G12=$Y$11),$W$11,IF(OR(G12=$X$12,G12=$Y$12),$W$12,IF(OR(G12=$X$13,G12=$Y$13),$W$13,IF(OR(G12=$X$14,G12=$Y$14),$W$14))))))) | I12: =+IF(G12="","",IF(G12="N/A","",IF(OR(G12=$X$10,G12=$Y$10),$V$10,IF(OR(G12=$X$11,G12=$Y$11),$V$11,IF(OR(G12=$X$12,G12=$Y$12),$V$12,IF(OR(G12=$X$13,G12=$Y$13),$V$13,IF(OR(G12=$X$14,G12=$Y$14),$V$14))))))) | J12: El riesgo afecta la imagen de la entidad con algunos usuarios de relevancia frente al logro de los objetivos. | K12: =+IF(J12="","",IF(J12="N/A","",IF(OR(J12=$X$10,J12=$Y$10),$W$10,IF(OR(J12=$X$11,J12=$Y$11),$W$11,IF(OR(J12=$X$12,J12=$Y$12),$W$12,IF(OR(J12=$X$13,J12=$Y$13),$W$13,IF(OR(J12=$X$14,J12=$Y$14),$W$14))))))) -> 0.6 | L12: =+IF(J12="","",IF(J12="N/A","",IF(OR(J12=$X$10,J12=$Y$10),$V$10,IF(OR(J12=$X$11,J12=$Y$11),$V$11,IF(OR(J12=$X$12,J12=$Y$12),$V$12,IF(OR(J12=$X$13,J12=$Y$13),$V$13,IF(OR(J12=$X$14,J12=$Y$14),$V$14))))))) -> Moderado | M12: =+IF(H12="",K12,IF(K12="",H12,IF(H12>K12,H12,K12))) -> 0.6 | N12: =+IF(M12="","",IF(M12=$W$10,$V$10,IF(M12=$W$11,$V$11,IF(M12=$W$12,$V$12,IF(M12=$W$13,$V$13,IF(M12=$W$14,$V$14)))))) -> Moderado | P12: Media | Q12: La actividad que conlleva el riesgo se ejecuta de 24 a 500 veces por año | R12: 25 | S12: 500 | T12: 0.6 | V12: Moderado | W12: 0.6 | X12: Entre 50 y 100 SMLMV | Y12: El riesgo afecta la imagen de la entidad con algunos usuarios de relevancia frente al logro de los objetivos.
A13: ='2 IDENTIFICACIÓN'!A13 -> R4 | B13: =+'2 IDENTIFICACIÓN'!J13 -> Posibilidad de afectación reputacional por incumplimiento de las acciones establecidas en los planes de mejoramiento derivados de auditorías internas y externas, debido a debilidades en el seguimiento y cumplimiento de los tiempos definidos para su ejecución. | C13: 2 | D13: =+IF(C13="","",IF(C13<=$S$10,$Q$10,IF(C13<=$S$11,$Q$11,IF(C13<=$S$12,$Q$12,IF(C13<=$S$13,$Q$13,IF(C13>=$R$14,$Q$14,"")))))) -> La actividad que conlleva el riesgo se ejecuta como máximos 2 veces por año | E13: =+IF(D13="","",IF(D13=$Q$10,$T$10,IF(D13=$Q$11,$T$11,IF(D13=$Q$12,$T$12,IF(D13=$Q$13,$T$13,IF(D13=$Q$14,$T$14)))))) -> 0.2 | F13: =+IF(D13="","",IF(D13=$Q$10,$P$10,IF(D13=$Q$11,$P$11,IF(D13=$Q$12,$P$12,IF(D13=$Q$13,$P$13,IF(D13=$Q$14,$P$14)))))) -> Muy Baja | G13: N/A | H13: =+IF(G13="","",IF(G13="N/A","",IF(OR(G13=$X$10,G13=$Y$10),$W$10,IF(OR(G13=$X$11,G13=$Y$11),$W$11,IF(OR(G13=$X$12,G13=$Y$12),$W$12,IF(OR(G13=$X$13,G13=$Y$13),$W$13,IF(OR(G13=$X$14,G13=$Y$14),$W$14))))))) | I13: =+IF(G13="","",IF(G13="N/A","",IF(OR(G13=$X$10,G13=$Y$10),$V$10,IF(OR(G13=$X$11,G13=$Y$11),$V$11,IF(OR(G13=$X$12,G13=$Y$12),$V$12,IF(OR(G13=$X$13,G13=$Y$13),$V$13,IF(OR(G13=$X$14,G13=$Y$14),$V$14))))))) | J13: El riesgo afecta la imagen de la entidad con algunos usuarios de relevancia frente al logro de los objetivos. | K13: =+IF(J13="","",IF(J13="N/A","",IF(OR(J13=$X$10,J13=$Y$10),$W$10,IF(OR(J13=$X$11,J13=$Y$11),$W$11,IF(OR(J13=$X$12,J13=$Y$12),$W$12,IF(OR(J13=$X$13,J13=$Y$13),$W$13,IF(OR(J13=$X$14,J13=$Y$14),$W$14))))))) -> 0.6 | L13: =+IF(J13="","",IF(J13="N/A","",IF(OR(J13=$X$10,J13=$Y$10),$V$10,IF(OR(J13=$X$11,J13=$Y$11),$V$11,IF(OR(J13=$X$12,J13=$Y$12),$V$12,IF(OR(J13=$X$13,J13=$Y$13),$V$13,IF(OR(J13=$X$14,J13=$Y$14),$V$14))))))) -> Moderado | M13: =+IF(H13="",K13,IF(K13="",H13,IF(H13>K13,H13,K13))) -> 0.6 | N13: =+IF(M13="","",IF(M13=$W$10,$V$10,IF(M13=$W$11,$V$11,IF(M13=$W$12,$V$12,IF(M13=$W$13,$V$13,IF(M13=$W$14,$V$14)))))) -> Moderado | P13: Alta | Q13: La actividad que conlleva el riesgo se ejecuta mínimo 500 veces al año y máximo 5.000 veces por año | R13: 501 | S13: 5000 | T13: 0.8 | V13: Mayor | W13: 0.8 | X13: Entre 100 y 500 SMLMV | Y13: El riesgo afecta la imagen de la entidad con efecto publicitario sostenido a nivel de sector administrativo, nivel departamental o municipal.
A14: ='2 IDENTIFICACIÓN'!A14 -> R5 | B14: =+'2 IDENTIFICACIÓN'!J14 -> Posibilidad de afectación reputacional por debilidades en la publicación y actualización de la información obligatoria en la página web institucional, debido a incumplimiento de los lineamientos establecidos en la Ley 1712 de 2014 y la Resolución 1519 de 2020 del MINTIC. | C14: 243 | D14: =+IF(C14="","",IF(C14<=$S$10,$Q$10,IF(C14<=$S$11,$Q$11,IF(C14<=$S$12,$Q$12,IF(C14<=$S$13,$Q$13,IF(C14>=$R$14,$Q$14,"")))))) -> La actividad que conlleva el riesgo se ejecuta de 24 a 500 veces por año | E14: =+IF(D14="","",IF(D14=$Q$10,$T$10,IF(D14=$Q$11,$T$11,IF(D14=$Q$12,$T$12,IF(D14=$Q$13,$T$13,IF(D14=$Q$14,$T$14)))))) -> 0.6 | F14: =+IF(D14="","",IF(D14=$Q$10,$P$10,IF(D14=$Q$11,$P$11,IF(D14=$Q$12,$P$12,IF(D14=$Q$13,$P$13,IF(D14=$Q$14,$P$14)))))) -> Media | G14: N/A | H14: =+IF(G14="","",IF(G14="N/A","",IF(OR(G14=$X$10,G14=$Y$10),$W$10,IF(OR(G14=$X$11,G14=$Y$11),$W$11,IF(OR(G14=$X$12,G14=$Y$12),$W$12,IF(OR(G14=$X$13,G14=$Y$13),$W$13,IF(OR(G14=$X$14,G14=$Y$14),$W$14))))))) | I14: =+IF(G14="","",IF(G14="N/A","",IF(OR(G14=$X$10,G14=$Y$10),$V$10,IF(OR(G14=$X$11,G14=$Y$11),$V$11,IF(OR(G14=$X$12,G14=$Y$12),$V$12,IF(OR(G14=$X$13,G14=$Y$13),$V$13,IF(OR(G14=$X$14,G14=$Y$14),$V$14))))))) | J14: El riesgo afecta la imagen de la entidad con algunos usuarios de relevancia frente al logro de los objetivos. | K14: =+IF(J14="","",IF(J14="N/A","",IF(OR(J14=$X$10,J14=$Y$10),$W$10,IF(OR(J14=$X$11,J14=$Y$11),$W$11,IF(OR(J14=$X$12,J14=$Y$12),$W$12,IF(OR(J14=$X$13,J14=$Y$13),$W$13,IF(OR(J14=$X$14,J14=$Y$14),$W$14))))))) -> 0.6 | L14: =+IF(J14="","",IF(J14="N/A","",IF(OR(J14=$X$10,J14=$Y$10),$V$10,IF(OR(J14=$X$11,J14=$Y$11),$V$11,IF(OR(J14=$X$12,J14=$Y$12),$V$12,IF(OR(J14=$X$13,J14=$Y$13),$V$13,IF(OR(J14=$X$14,J14=$Y$14),$V$14))))))) -> Moderado | M14: =+IF(H14="",K14,IF(K14="",H14,IF(H14>K14,H14,K14))) -> 0.6 | N14: =+IF(M14="","",IF(M14=$W$10,$V$10,IF(M14=$W$11,$V$11,IF(M14=$W$12,$V$12,IF(M14=$W$13,$V$13,IF(M14=$W$14,$V$14)))))) -> Moderado | P14: Muy Alta | Q14: La actividad que conlleva el riesgo se ejecuta más de 5.000 veces por año | R14: 5001 | T14: 1 | V14: Catastrófico | W14: 1 | X14: Mayor a 500 SMLMV | Y14: El riesgo afecta la imagen de la entidad a nivel nacional, con efecto publicitario sostenido a nivel país
A15: ='2 IDENTIFICACIÓN'!A15 -> R6 | B15: =+'2 IDENTIFICACIÓN'!J15 -> Posibilidad de afectación reputacional por investigaciones y sanciones disciplinarias por entes de control, debido a la falta de seguimiento al cumplimiento de metas del Plan de Desarrollo Municipal programadas para la vigencia. | C15: 24 | D15: =+IF(C15="","",IF(C15<=$S$10,$Q$10,IF(C15<=$S$11,$Q$11,IF(C15<=$S$12,$Q$12,IF(C15<=$S$13,$Q$13,IF(C15>=$R$14,$Q$14,"")))))) -> La actividad que conlleva el riesgo se ejecuta de 3 a 24 veces por año | E15: =+IF(D15="","",IF(D15=$Q$10,$T$10,IF(D15=$Q$11,$T$11,IF(D15=$Q$12,$T$12,IF(D15=$Q$13,$T$13,IF(D15=$Q$14,$T$14)))))) -> 0.4 | F15: =+IF(D15="","",IF(D15=$Q$10,$P$10,IF(D15=$Q$11,$P$11,IF(D15=$Q$12,$P$12,IF(D15=$Q$13,$P$13,IF(D15=$Q$14,$P$14)))))) -> Baja | G15: N/A | H15: =+IF(G15="","",IF(G15="N/A","",IF(OR(G15=$X$10,G15=$Y$10),$W$10,IF(OR(G15=$X$11,G15=$Y$11),$W$11,IF(OR(G15=$X$12,G15=$Y$12),$W$12,IF(OR(G15=$X$13,G15=$Y$13),$W$13,IF(OR(G15=$X$14,G15=$Y$14),$W$14))))))) | I15: =+IF(G15="","",IF(G15="N/A","",IF(OR(G15=$X$10,G15=$Y$10),$V$10,IF(OR(G15=$X$11,G15=$Y$11),$V$11,IF(OR(G15=$X$12,G15=$Y$12),$V$12,IF(OR(G15=$X$13,G15=$Y$13),$V$13,IF(OR(G15=$X$14,G15=$Y$14),$V$14))))))) | J15: El riesgo afecta la imagen de la entidad con algunos usuarios de relevancia frente al logro de los objetivos. | K15: =+IF(J15="","",IF(J15="N/A","",IF(OR(J15=$X$10,J15=$Y$10),$W$10,IF(OR(J15=$X$11,J15=$Y$11),$W$11,IF(OR(J15=$X$12,J15=$Y$12),$W$12,IF(OR(J15=$X$13,J15=$Y$13),$W$13,IF(OR(J15=$X$14,J15=$Y$14),$W$14))))))) -> 0.6 | L15: =+IF(J15="","",IF(J15="N/A","",IF(OR(J15=$X$10,J15=$Y$10),$V$10,IF(OR(J15=$X$11,J15=$Y$11),$V$11,IF(OR(J15=$X$12,J15=$Y$12),$V$12,IF(OR(J15=$X$13,J15=$Y$13),$V$13,IF(OR(J15=$X$14,J15=$Y$14),$V$14))))))) -> Moderado | M15: =+IF(H15="",K15,IF(K15="",H15,IF(H15>K15,H15,K15))) -> 0.6 | N15: =+IF(M15="","",IF(M15=$W$10,$V$10,IF(M15=$W$11,$V$11,IF(M15=$W$12,$V$12,IF(M15=$W$13,$V$13,IF(M15=$W$14,$V$14)))))) -> Moderado | X15: N/A | Y15: N/A
A16: ='2 IDENTIFICACIÓN'!A16 -> R7 | B16: =+'2 IDENTIFICACIÓN'!J16 -> Posibilidad de efecto dañoso sobre bienes de uso público por pérdida, extravío, hurto o faltantes en inventario de bienes muebles de la entidad, debido a deficiencias en la actualización, verificación y control del inventario de bienes muebles. | C16: 360 | D16: =+IF(C16="","",IF(C16<=$S$10,$Q$10,IF(C16<=$S$11,$Q$11,IF(C16<=$S$12,$Q$12,IF(C16<=$S$13,$Q$13,IF(C16>=$R$14,$Q$14,"")))))) -> La actividad que conlleva el riesgo se ejecuta de 24 a 500 veces por año | E16: =+IF(D16="","",IF(D16=$Q$10,$T$10,IF(D16=$Q$11,$T$11,IF(D16=$Q$12,$T$12,IF(D16=$Q$13,$T$13,IF(D16=$Q$14,$T$14)))))) -> 0.6 | F16: =+IF(D16="","",IF(D16=$Q$10,$P$10,IF(D16=$Q$11,$P$11,IF(D16=$Q$12,$P$12,IF(D16=$Q$13,$P$13,IF(D16=$Q$14,$P$14)))))) -> Media | G16: Mayor a 500 SMLMV | H16: =+IF(G16="","",IF(G16="N/A","",IF(OR(G16=$X$10,G16=$Y$10),$W$10,IF(OR(G16=$X$11,G16=$Y$11),$W$11,IF(OR(G16=$X$12,G16=$Y$12),$W$12,IF(OR(G16=$X$13,G16=$Y$13),$W$13,IF(OR(G16=$X$14,G16=$Y$14),$W$14))))))) -> 1 | I16: =+IF(G16="","",IF(G16="N/A","",IF(OR(G16=$X$10,G16=$Y$10),$V$10,IF(OR(G16=$X$11,G16=$Y$11),$V$11,IF(OR(G16=$X$12,G16=$Y$12),$V$12,IF(OR(G16=$X$13,G16=$Y$13),$V$13,IF(OR(G16=$X$14,G16=$Y$14),$V$14))))))) -> Catastrófico | J16: N/A | K16: =+IF(J16="","",IF(J16="N/A","",IF(OR(J16=$X$10,J16=$Y$10),$W$10,IF(OR(J16=$X$11,J16=$Y$11),$W$11,IF(OR(J16=$X$12,J16=$Y$12),$W$12,IF(OR(J16=$X$13,J16=$Y$13),$W$13,IF(OR(J16=$X$14,J16=$Y$14),$W$14))))))) | L16: =+IF(J16="","",IF(J16="N/A","",IF(OR(J16=$X$10,J16=$Y$10),$V$10,IF(OR(J16=$X$11,J16=$Y$11),$V$11,IF(OR(J16=$X$12,J16=$Y$12),$V$12,IF(OR(J16=$X$13,J16=$Y$13),$V$13,IF(OR(J16=$X$14,J16=$Y$14),$V$14))))))) | M16: =+IF(H16="",K16,IF(K16="",H16,IF(H16>K16,H16,K16))) -> 1 | N16: =+IF(M16="","",IF(M16=$W$10,$V$10,IF(M16=$W$11,$V$11,IF(M16=$W$12,$V$12,IF(M16=$W$13,$V$13,IF(M16=$W$14,$V$14)))))) -> Catastrófico
A17: ='2 IDENTIFICACIÓN'!A17 -> R8 | B17: =+'2 IDENTIFICACIÓN'!J17 -> Posibilidad de efecto dañoso sobre el recurso público por deficiencias en la gestión de las etapas precontractual, contractual y postcontractual, debido a incumplimiento de los lineamientos, requisitos y obligaciones establecidos en la normatividad vigente y en los documentos contractuales, generando pagos sobre obligaciones parcialmente ejecutadas o no cumplidas. | C17: 70 | D17: =+IF(C17="","",IF(C17<=$S$10,$Q$10,IF(C17<=$S$11,$Q$11,IF(C17<=$S$12,$Q$12,IF(C17<=$S$13,$Q$13,IF(C17>=$R$14,$Q$14,"")))))) -> La actividad que conlleva el riesgo se ejecuta de 24 a 500 veces por año | E17: =+IF(D17="","",IF(D17=$Q$10,$T$10,IF(D17=$Q$11,$T$11,IF(D17=$Q$12,$T$12,IF(D17=$Q$13,$T$13,IF(D17=$Q$14,$T$14)))))) -> 0.6 | F17: =+IF(D17="","",IF(D17=$Q$10,$P$10,IF(D17=$Q$11,$P$11,IF(D17=$Q$12,$P$12,IF(D17=$Q$13,$P$13,IF(D17=$Q$14,$P$14)))))) -> Media | G17: Mayor a 500 SMLMV | H17: =+IF(G17="","",IF(G17="N/A","",IF(OR(G17=$X$10,G17=$Y$10),$W$10,IF(OR(G17=$X$11,G17=$Y$11),$W$11,IF(OR(G17=$X$12,G17=$Y$12),$W$12,IF(OR(G17=$X$13,G17=$Y$13),$W$13,IF(OR(G17=$X$14,G17=$Y$14),$W$14))))))) -> 1 | I17: =+IF(G17="","",IF(G17="N/A","",IF(OR(G17=$X$10,G17=$Y$10),$V$10,IF(OR(G17=$X$11,G17=$Y$11),$V$11,IF(OR(G17=$X$12,G17=$Y$12),$V$12,IF(OR(G17=$X$13,G17=$Y$13),$V$13,IF(OR(G17=$X$14,G17=$Y$14),$V$14))))))) -> Catastrófico | J17: N/A | K17: =+IF(J17="","",IF(J17="N/A","",IF(OR(J17=$X$10,J17=$Y$10),$W$10,IF(OR(J17=$X$11,J17=$Y$11),$W$11,IF(OR(J17=$X$12,J17=$Y$12),$W$12,IF(OR(J17=$X$13,J17=$Y$13),$W$13,IF(OR(J17=$X$14,J17=$Y$14),$W$14))))))) | L17: =+IF(J17="","",IF(J17="N/A","",IF(OR(J17=$X$10,J17=$Y$10),$V$10,IF(OR(J17=$X$11,J17=$Y$11),$V$11,IF(OR(J17=$X$12,J17=$Y$12),$V$12,IF(OR(J17=$X$13,J17=$Y$13),$V$13,IF(OR(J17=$X$14,J17=$Y$14),$V$14))))))) | M17: =+IF(H17="",K17,IF(K17="",H17,IF(H17>K17,H17,K17))) -> 1 | N17: =+IF(M17="","",IF(M17=$W$10,$V$10,IF(M17=$W$11,$V$11,IF(M17=$W$12,$V$12,IF(M17=$W$13,$V$13,IF(M17=$W$14,$V$14)))))) -> Catastrófico
A18: ='2 IDENTIFICACIÓN'!A18 -> R9 | B18: =+'2 IDENTIFICACIÓN'!J18 -> Posibilidad de efecto dañoso sobre el recurso público por pago de sanción e intereses moratorios, debido a trámite inoportuno a los requerimientos de los entes de control y vigilancia, de acuerdo con sus lineamientos y términos de ley. | C18: 213 | D18: =+IF(C18="","",IF(C18<=$S$10,$Q$10,IF(C18<=$S$11,$Q$11,IF(C18<=$S$12,$Q$12,IF(C18<=$S$13,$Q$13,IF(C18>=$R$14,$Q$14,"")))))) -> La actividad que conlleva el riesgo se ejecuta de 24 a 500 veces por año | E18: =+IF(D18="","",IF(D18=$Q$10,$T$10,IF(D18=$Q$11,$T$11,IF(D18=$Q$12,$T$12,IF(D18=$Q$13,$T$13,IF(D18=$Q$14,$T$14)))))) -> 0.6 | F18: =+IF(D18="","",IF(D18=$Q$10,$P$10,IF(D18=$Q$11,$P$11,IF(D18=$Q$12,$P$12,IF(D18=$Q$13,$P$13,IF(D18=$Q$14,$P$14)))))) -> Media | G18: Entre 10 y 50 SMLMV | H18: =+IF(G18="","",IF(G18="N/A","",IF(OR(G18=$X$10,G18=$Y$10),$W$10,IF(OR(G18=$X$11,G18=$Y$11),$W$11,IF(OR(G18=$X$12,G18=$Y$12),$W$12,IF(OR(G18=$X$13,G18=$Y$13),$W$13,IF(OR(G18=$X$14,G18=$Y$14),$W$14))))))) -> 0.4 | I18: =+IF(G18="","",IF(G18="N/A","",IF(OR(G18=$X$10,G18=$Y$10),$V$10,IF(OR(G18=$X$11,G18=$Y$11),$V$11,IF(OR(G18=$X$12,G18=$Y$12),$V$12,IF(OR(G18=$X$13,G18=$Y$13),$V$13,IF(OR(G18=$X$14,G18=$Y$14),$V$14))))))) -> Menor | J18: N/A | K18: =+IF(J18="","",IF(J18="N/A","",IF(OR(J18=$X$10,J18=$Y$10),$W$10,IF(OR(J18=$X$11,J18=$Y$11),$W$11,IF(OR(J18=$X$12,J18=$Y$12),$W$12,IF(OR(J18=$X$13,J18=$Y$13),$W$13,IF(OR(J18=$X$14,J18=$Y$14),$W$14))))))) | L18: =+IF(J18="","",IF(J18="N/A","",IF(OR(J18=$X$10,J18=$Y$10),$V$10,IF(OR(J18=$X$11,J18=$Y$11),$V$11,IF(OR(J18=$X$12,J18=$Y$12),$V$12,IF(OR(J18=$X$13,J18=$Y$13),$V$13,IF(OR(J18=$X$14,J18=$Y$14),$V$14))))))) | M18: =+IF(H18="",K18,IF(K18="",H18,IF(H18>K18,H18,K18))) -> 0.4 | N18: =+IF(M18="","",IF(M18=$W$10,$V$10,IF(M18=$W$11,$V$11,IF(M18=$W$12,$V$12,IF(M18=$W$13,$V$13,IF(M18=$W$14,$V$14)))))) -> Menor
A19: ='2 IDENTIFICACIÓN'!A19 -> R10 | B19: =+'2 IDENTIFICACIÓN'!J19 -> Posibilidad de afectación económica y reputacional por afectaciones en la disponibilidad y ejecución de los recursos del Sistema General de Participaciones (SGP) administrados por la Secretaría de Educación, debido a inconsistencias en los procesos financieros y de tesorería relacionados con el manejo de pagos y descuentos efectuados sobre dichos recursos. | C19: 11 | D19: =+IF(C19="","",IF(C19<=$S$10,$Q$10,IF(C19<=$S$11,$Q$11,IF(C19<=$S$12,$Q$12,IF(C19<=$S$13,$Q$13,IF(C19>=$R$14,$Q$14,"")))))) -> La actividad que conlleva el riesgo se ejecuta de 3 a 24 veces por año | E19: =+IF(D19="","",IF(D19=$Q$10,$T$10,IF(D19=$Q$11,$T$11,IF(D19=$Q$12,$T$12,IF(D19=$Q$13,$T$13,IF(D19=$Q$14,$T$14)))))) -> 0.4 | F19: =+IF(D19="","",IF(D19=$Q$10,$P$10,IF(D19=$Q$11,$P$11,IF(D19=$Q$12,$P$12,IF(D19=$Q$13,$P$13,IF(D19=$Q$14,$P$14)))))) -> Baja | G19: Mayor a 500 SMLMV | H19: =+IF(G19="","",IF(G19="N/A","",IF(OR(G19=$X$10,G19=$Y$10),$W$10,IF(OR(G19=$X$11,G19=$Y$11),$W$11,IF(OR(G19=$X$12,G19=$Y$12),$W$12,IF(OR(G19=$X$13,G19=$Y$13),$W$13,IF(OR(G19=$X$14,G19=$Y$14),$W$14))))))) -> 1 | I19: =+IF(G19="","",IF(G19="N/A","",IF(OR(G19=$X$10,G19=$Y$10),$V$10,IF(OR(G19=$X$11,G19=$Y$11),$V$11,IF(OR(G19=$X$12,G19=$Y$12),$V$12,IF(OR(G19=$X$13,G19=$Y$13),$V$13,IF(OR(G19=$X$14,G19=$Y$14),$V$14))))))) -> Catastrófico | J19: El riesgo afecta la imagen de la entidad con algunos usuarios de relevancia frente al logro de los objetivos. | K19: =+IF(J19="","",IF(J19="N/A","",IF(OR(J19=$X$10,J19=$Y$10),$W$10,IF(OR(J19=$X$11,J19=$Y$11),$W$11,IF(OR(J19=$X$12,J19=$Y$12),$W$12,IF(OR(J19=$X$13,J19=$Y$13),$W$13,IF(OR(J19=$X$14,J19=$Y$14),$W$14))))))) -> 0.6 | L19: =+IF(J19="","",IF(J19="N/A","",IF(OR(J19=$X$10,J19=$Y$10),$V$10,IF(OR(J19=$X$11,J19=$Y$11),$V$11,IF(OR(J19=$X$12,J19=$Y$12),$V$12,IF(OR(J19=$X$13,J19=$Y$13),$V$13,IF(OR(J19=$X$14,J19=$Y$14),$V$14))))))) -> Moderado | M19: =+IF(H19="",K19,IF(K19="",H19,IF(H19>K19,H19,K19))) -> 1 | N19: =+IF(M19="","",IF(M19=$W$10,$V$10,IF(M19=$W$11,$V$11,IF(M19=$W$12,$V$12,IF(M19=$W$13,$V$13,IF(M19=$W$14,$V$14)))))) -> Catastrófico
