{"text_format":"1","workbook":"xlsx","n_sheets":9,"sheets":["INICIO","LÍNEA 1","LÍNEA 2","LÍNEA 3","LÍNEA 4","LÍNEA 5","LÍNEA 6","RESUMEN","Gráficos"],"not_rendered":{"charts":12,"images":14,"macros":1,"external_links":26,"defined_names":6,"comments":0,"pivot_tables":0},"unopened":[],"bounds":{"document_bytes":16777216,"sheet_cells":100000,"rows_first":2000,"rows_last":500,"rows_between":2000,"halvings":0,"cell_chars":16384,"cell_head_chars":4096},"cells_cut":0,"cells_raw":0,"read":"whole","date_system":"1900"}

{"sheet":"INICIO","index":0,"n_rows":0,"n_cols":0,"rows_kept":0,"cut":false,"hidden":false,"merged":[]}

{"sheet":"LÍNEA 1","index":1,"n_rows":207,"n_cols":98,"rows_kept":207,"cut":false,"hidden":false,"merged":[[7,44,8,54],[9,53,9,54],[9,47,9,48],[9,49,9,50],[9,51,9,52],[7,55,8,58],[7,59,8,69],[9,67,9,69],[169,38,174,38],[169,39,174,39],[157,38,162,38],[157,39,162,39],[163,38,168,38],[163,39,168,39],[146,38,149,38],[146,39,149,39],[151,38,156,38],[151,39,156,39],[136,38,140,38],[136,39,140,39],[141,38,145,38],[141,39,145,39],[116,38,124,38],[116,39,124,39],[175,38,180,38],[175,39,180,39],[169,29,174,29],[169,30,174,30],[169,31,174,31],[169,32,174,32],[169,33,174,33],[169,34,174,34],[169,35,174,35],[169,36,174,36],[169,37,174,37],[175,29,180,29],[175,30,180,30],[175,31,180,31],[175,32,180,32],[175,33,180,33],[175,34,180,34],[175,35,180,35],[175,36,180,36],[175,37,180,37],[163,29,168,29],[163,30,168,30],[163,31,168,31],[163,32,168,32],[163,33,168,33],[163,34,168,34],[163,35,168,35],[163,36,168,36],[163,37,168,37],[157,29,162,29],[157,30,162,30],[157,31,162,31],[157,32,162,32],[157,33,162,33],[157,34,162,34],[157,35,162,35],[157,36,162,36],[157,37,162,37],[151,29,156,29],[151,30,156,30],[151,31,156,31],[151,32,156,32],[151,33,156,33],[151,34,156,34],[151,35,156,35],[151,36,156,36],[151,37,156,37],[146,29,149,29],[146,30,149,30],[146,31,149,31],[146,32,149,32],[146,33,149,33],[146,34,149,34],[146,35,149,35],[146,36,149,36],[146,37,149,37],[141,29,145,29],[141,30,145,30],[141,31,145,31],[141,32,145,32],[141,33,145,33],[141,34,145,34],[141,35,145,35],[141,36,145,36],[141,37,145,37],[136,29,140,29],[136,30,140,30],[136,31,140,31],[136,32,140,32],[136,33,140,33],[136,34,140,34],[136,35,140,35],[136,36,140,36],[136,37,140,37],[125,38,134,38],[125,39,134,39],[116,29,124,29],[116,30,124,30],[116,31,124,31],[116,32,124,32],[116,33,124,33],[116,34,124,34],[116,35,124,35],[116,36,124,36],[116,37,124,37],[125,29,134,29],[125,30,134,30],[125,31,134,31],[125,32,134,32],[125,33,134,33],[125,34,134,34],[125,35,134,35],[125,36,134,36],[125,37,134,37],[97,38,106,38],[97,39,106,39],[107,29,115,29],[107,30,115,30],[107,31,115,31],[107,32,115,32],[107,33,115,33],[107,34,115,34],[107,35,115,35],[107,36,115,36],[107,37,115,37],[107,38,115,38],[107,39,115,39],[97,29,106,29],[97,30,106,30],[97,31,106,31],[97,32,106,32],[97,33,106,33],[97,34,106,34],[97,35,106,35],[97,36,106,36],[97,37,106,37],[77,38,86,38],[77,39,86,39],[87,29,96,29],[87,30,96,30],[87,31,96,31],[87,32,96,32],[87,33,96,33],[87,34,96,34],[87,35,96,35],[87,36,96,36],[87,37,96,37],[87,38,96,38],[87,39,96,39],[77,29,86,29],[77,30,86,30],[77,31,86,31],[77,32,86,32],[77,33,86,33],[77,34,86,34],[77,35,86,35],[77,36,86,36],[77,37,86,37],[50,38,62,38],[50,39,62,39],[63,29,75,29],[63,30,75,30],[63,31,75,31],[63,32,75,32],[63,33,75,33],[63,34,75,34],[63,35,75,35],[63,36,75,36],[63,37,75,37],[63,38,75,38],[63,39,75,39],[50,29,62,29],[50,30,62,30],[50,31,62,31],[50,32,62,32],[50,33,62,33],[50,34,62,34],[50,35,62,35],[50,36,62,36],[50,37,62,37],[37,37,49,37],[37,38,49,38],[37,39,49,39],[10,37,23,37],[10,38,23,38],[10,39,23,39],[24,29,36,29],[24,30,36,30],[24,31,36,31],[24,32,36,32],[24,33,36,33],[24,34,36,34],[24,35,36,35],[24,36,36,36],[24,37,36,37],[24,38,36,38],[24,39,36,39],[37,29,49,29],[37,30,49,30],[37,31,49,31],[37,32,49,32],[37,33,49,33],[37,34,49,34],[37,35,49,35],[37,36,49,36],[7,29,8,39],[9,21,9,22],[9,23,9,24],[9,25,9,26],[9,27,9,28],[9,35,9,36],[9,33,9,34],[9,31,9,32],[9,29,9,30],[7,21,8,28],[9,37,9,39],[10,29,23,29],[10,30,23,30],[10,31,23,31],[10,32,23,32],[10,33,23,33],[10,34,23,34],[10,35,23,35],[10,36,23,36],[10,26,23,26],[10,27,23,27],[10,28,23,28],[37,28,49,28],[175,22,180,22],[141,28,145,28],[146,23,149,23],[146,24,149,24],[146,25,149,25],[146,26,149,26],[146,27,149,27],[146,28,149,28],[136,26,140,26],[136,27,140,27],[136,28,140,28],[141,23,145,23],[141,24,145,24],[141,25,145,25],[141,26,145,26],[141,27,145,27],[169,28,174,28],[175,23,180,23],[175,24,180,24],[175,25,180,25],[175,26,180,26],[175,27,180,27],[175,28,180,28],[175,21,180,21],[169,22,174,22],[169,21,174,21],[151,23,156,23],[151,24,156,24],[151,25,156,25],[151,26,156,26],[151,27,156,27],[157,23,162,23],[157,24,162,24],[157,25,162,25],[157,26,162,26],[157,27,162,27],[163,23,168,23],[163,24,168,24],[163,25,168,25],[163,26,168,26],[163,27,168,27],[169,23,174,23],[169,24,174,24],[169,25,174,25],[169,26,174,26],[169,27,174,27],[163,22,168,22],[163,21,168,21],[157,22,162,22],[157,21,162,21],[151,22,156,22],[151,21,156,21],[151,28,156,28],[157,28,162,28],[163,28,168,28],[116,28,124,28],[125,23,134,23],[125,24,134,24],[125,25,134,25],[125,26,134,26],[125,27,134,27],[125,28,134,28],[146,22,149,22],[146,21,149,21],[141,21,145,21],[141,22,145,22],[136,22,140,22],[136,21,140,21],[136,23,140,23],[136,24,140,24],[136,25,140,25],[125,22,134,22],[116,22,124,22],[125,21,134,21],[116,21,124,21],[116,23,124,23],[116,24,124,24],[116,25,124,25],[116,26,124,26],[116,27,124,27],[87,22,96,22],[87,21,96,21],[87,23,96,23],[87,24,96,24],[87,25,96,25],[87,26,96,26],[87,27,96,27],[87,28,96,28],[107,22,115,22],[97,22,106,22],[107,21,115,21],[97,21,106,21],[97,23,106,23],[97,24,106,24],[97,25,106,25],[97,26,106,26],[97,27,106,27],[97,28,106,28],[107,23,115,23],[107,24,115,24],[107,25,115,25],[107,26,115,26],[107,27,115,27],[107,28,115,28],[63,22,75,22],[63,21,75,21],[63,23,75,23],[63,24,75,24],[63,25,75,25],[63,26,75,26],[63,27,75,27],[63,28,75,28],[77,21,86,21],[77,22,86,22],[77,23,86,23],[77,24,86,24],[77,25,86,25],[77,26,86,26],[77,27,86,27],[77,28,86,28],[50,26,62,26],[50,27,62,27],[50,28,62,28],[24,21,36,21],[24,22,36,22],[37,22,49,22],[37,21,49,21],[37,23,49,23],[37,24,49,24],[37,25,49,25],[37,26,49,26],[37,27,49,27],[24,23,36,23],[24,24,36,24],[24,25,36,25],[24,26,36,26],[24,27,36,27],[24,28,36,28],[10,21,23,21],[10,22,23,22],[10,23,23,23],[10,24,23,24],[10,25,23,25],[50,22,62,22],[50,21,62,21],[50,23,62,23],[50,24,62,24],[50,25,62,25],[157,20,162,20],[157,19,162,19],[157,17,162,17],[157,16,162,16],[157,14,162,14],[157,13,162,13],[9,9,9,11],[9,12,9,14],[9,15,9,17],[9,18,9,20],[146,19,149,19],[146,20,149,20],[141,20,145,20],[141,19,145,19],[141,17,145,17],[141,16,145,16],[141,14,145,14],[146,13,149,13],[141,13,145,13],[151,20,156,20],[151,19,156,19],[151,17,156,17],[151,16,156,16],[125,20,134,20],[175,11,180,11],[175,10,180,10],[175,8,180,8],[163,20,168,20],[163,19,168,19],[163,17,168,17],[163,16,168,16],[163,14,168,14],[163,13,168,13],[169,20,174,20],[169,19,174,19],[169,17,174,17],[169,16,174,16],[169,14,174,14],[169,13,174,13],[175,15,180,15],[175,18,180,18],[175,20,180,20],[175,19,180,19],[175,17,180,17],[175,16,180,16],[175,14,180,14],[175,13,180,13],[136,20,140,20],[136,19,140,19],[136,17,140,17],[136,16,140,16],[136,14,140,14],[136,13,140,13],[136,11,140,11],[136,10,140,10],[141,11,145,11],[141,10,145,10],[125,19,134,19],[125,17,134,17],[125,16,134,16],[125,14,134,14],[125,13,134,13],[125,11,134,11],[125,10,134,10],[125,8,134,8],[125,9,134,9],[125,12,134,12],[125,15,134,15],[116,20,124,20],[116,19,124,19],[116,17,124,17],[116,16,124,16],[116,14,124,14],[116,13,124,13],[116,11,124,11],[116,10,124,10],[116,8,124,8],[107,20,115,20],[107,19,115,19],[107,17,115,17],[107,16,115,16],[107,14,115,14],[107,13,115,13],[107,11,115,11],[107,10,115,10],[107,8,115,8],[50,20,62,20],[50,19,62,19],[50,17,62,17],[50,16,62,16],[63,20,75,20],[63,19,75,19],[63,17,75,17],[63,16,75,16],[63,14,75,14],[50,18,62,18],[63,18,75,18],[37,20,49,20],[37,19,49,19],[37,17,49,17],[37,16,49,16],[37,14,49,14],[37,13,49,13],[37,11,49,11],[37,10,49,10],[37,8,49,8],[37,18,49,18],[37,12,49,12],[37,15,49,15],[24,20,36,20],[24,19,36,19],[24,17,36,17],[24,16,36,16],[24,14,36,14],[24,13,36,13],[24,11,36,11],[24,10,36,10],[10,18,23,18],[10,14,23,14],[10,13,23,13],[2,1,2,97],[3,1,3,97],[4,1,4,97],[7,1,9,1],[7,2,9,2],[7,3,9,3],[7,4,9,4],[7,5,9,5],[7,6,9,6],[7,40,9,40],[7,41,9,41],[7,42,9,42],[7,43,9,43],[7,70,7,89],[7,96,9,96],[8,70,8,74],[8,75,8,79],[8,80,8,84],[8,85,8,89],[7,7,9,8],[9,59,9,60],[9,61,9,62],[9,63,9,64],[7,9,8,20],[10,40,12,40],[19,41,33,41],[13,41,18,41],[10,41,12,41],[10,3,75,3],[10,4,75,4],[47,41,55,41],[47,40,55,40],[34,41,46,41],[34,40,46,40],[19,40,33,40],[13,40,18,40],[71,40,75,40],[71,41,75,41],[60,41,70,41],[60,40,70,40],[56,41,59,41],[56,40,59,40],[10,11,23,11],[10,10,23,10],[10,8,23,8],[10,20,23,20],[10,19,23,19],[10,17,23,17],[77,3,134,3],[107,15,115,15],[107,18,115,18],[116,5,124,5],[125,5,134,5],[112,41,116,41],[112,40,116,40],[99,41,111,41],[99,40,111,40],[84,40,98,40],[84,41,98,41],[129,41,134,41],[129,40,134,40],[120,41,128,41],[120,40,128,40],[117,41,119,41],[117,40,119,40],[77,20,86,20],[77,19,86,19],[77,17,86,17],[77,16,86,16],[77,14,86,14],[77,13,86,13],[77,11,86,11],[136,40,139,40],[140,40,144,40],[140,41,144,41],[136,41,139,41],[81,40,83,40],[81,41,83,41],[77,40,80,40],[77,41,80,41],[77,4,134,4],[77,10,86,10],[77,8,86,8],[87,8,96,8],[87,14,96,14],[87,13,96,13],[87,11,96,11],[87,10,96,10],[87,20,96,20],[87,19,96,19],[87,17,96,17],[87,16,96,16],[97,20,106,20],[97,19,106,19],[97,17,106,17],[97,16,106,16],[151,41,159,41],[151,40,159,40],[151,4,180,4],[151,3,180,3],[97,18,106,18],[107,5,115,5],[107,6,115,6],[107,7,115,7],[107,9,115,9],[107,12,115,12],[136,4,149,4],[136,3,149,3],[175,41,180,41],[175,40,180,40],[170,41,174,41],[170,40,174,40],[162,41,169,41],[162,40,169,40],[160,41,161,41],[160,40,161,40],[147,41,149,41],[147,40,149,40],[145,40,146,40],[145,41,146,41],[87,18,96,18],[97,5,106,5],[97,6,106,6],[97,7,106,7],[97,9,106,9],[97,12,106,12],[97,15,106,15],[87,5,96,5],[87,6,96,6],[87,7,96,7],[97,14,106,14],[97,13,106,13],[97,11,106,11],[97,10,106,10],[97,8,106,8],[87,9,96,9],[87,12,96,12],[87,15,96,15],[24,8,36,8],[50,13,62,13],[50,11,62,11],[50,10,62,10],[50,8,62,8],[50,14,62,14],[63,13,75,13],[63,11,75,11],[63,10,75,10],[63,8,75,8],[24,5,36,5],[24,6,36,6],[24,7,36,7],[24,9,36,9],[24,12,36,12],[24,15,36,15],[24,18,36,18],[10,16,23,16],[50,5,62,5],[50,6,62,6],[50,7,62,7],[50,9,62,9],[50,12,62,12],[50,15,62,15],[10,5,23,5],[10,6,23,6],[37,5,49,5],[37,6,49,6],[37,7,49,7],[37,9,49,9],[10,7,23,7],[10,9,23,9],[10,12,23,12],[10,15,23,15],[77,5,86,5],[77,6,86,6],[77,7,86,7],[77,9,86,9],[77,12,86,12],[77,15,86,15],[77,18,86,18],[63,5,75,5],[63,6,75,6],[63,9,75,9],[63,12,75,12],[63,15,75,15],[63,7,75,7],[116,6,124,6],[116,7,124,7],[116,9,124,9],[116,12,124,12],[116,15,124,15],[116,18,124,18],[141,8,145,8],[136,8,140,8],[136,15,140,15],[136,18,140,18],[141,6,145,6],[141,7,145,7],[141,18,145,18],[125,6,134,6],[125,7,134,7],[125,18,134,18],[136,5,140,5],[141,5,145,5],[136,6,140,6],[136,7,140,7],[136,9,140,9],[146,15,149,15],[146,18,149,18],[151,5,156,5],[157,5,162,5],[146,5,149,5],[146,6,149,6],[146,7,149,7],[141,9,145,9],[141,12,145,12],[141,15,145,15],[157,11,162,11],[157,10,162,10],[157,8,162,8],[136,12,140,12],[151,8,156,8],[151,10,156,10],[151,11,156,11],[151,13,156,13],[151,14,156,14],[163,5,168,5],[151,15,156,15],[151,18,156,18],[157,15,162,15],[157,18,162,18],[146,9,149,9],[146,11,149,11],[146,10,149,10],[146,8,149,8],[146,14,149,14],[146,16,149,16],[146,17,149,17],[163,11,168,11],[163,10,168,10],[163,8,168,8],[146,12,149,12],[157,12,162,12],[169,6,174,6],[169,7,174,7],[169,9,174,9],[169,12,174,12],[169,15,174,15],[169,18,174,18],[163,15,168,15],[163,18,168,18],[169,11,174,11],[169,10,174,10],[169,8,174,8],[206,51,206,54],[205,51,205,54],[9,65,9,66],[8,90,8,94],[7,95,9,95],[10,2,181,2],[10,1,181,1],[175,6,180,6],[175,7,180,7],[175,9,180,9],[175,12,180,12],[163,6,168,6],[163,7,168,7],[163,9,168,9],[163,12,168,12],[169,5,174,5],[175,5,180,5],[151,6,156,6],[151,7,156,7],[151,9,156,9],[151,12,156,12],[157,6,162,6],[157,7,162,7],[157,9,162,9],[204,51,204,54],[203,51,203,54],[202,51,202,54],[201,51,201,54],[200,51,200,54],[199,51,199,54],[198,51,198,54],[197,51,197,54],[196,51,196,54],[195,51,195,54],[194,51,194,54],[193,51,193,54],[192,51,192,54],[191,51,191,54],[189,51,189,54],[188,51,188,54],[187,51,187,54],[186,51,186,54],[190,51,190,54]]}
[]
[]
[null,"ALCALDÍA DE BUCARAMANGA"]
[null,"PLAN DE DESARROLLO 2016 - 2019 \"GOBIERNO DE LAS CIUDADANAS Y LOS CIUDADANOS\""]
[null,"LÍNEA ESTRATÉGICA 1: GOBERNANZA DEMOCRÁTICA"]
[]
[]
[null,"POND","LÍNEA ESTRATÉGICA","POND","COMPONENTE","META DE RESULTADO","LÍNEA BASE","RESULTADO CUATRIENIO",null,"META POR VIGENCIA",null,null,null,null,null,null,null,null,null,null,null,"LOGRO POR VIGENCIA",null,null,null,null,null,null,null,"PORCENTAJE DE CUMPLIMIENTO",null,null,null,null,null,null,null,null,null,null,"POND","PROGRAMA","META DE PRODUCTO","RUBRO PPTAL","INDICADOR DE PRODUCTO",null,null,null,null,null,null,null,null,null,null,"LOGRO POR VIGENCIA",null,null,null,"PORCENTAJE DE CUMPLIMIENTO",null,null,null,null,null,null,null,null,null,null,"RECURSOS POR FUENTE DE FINANCIACIÓN PARA CADA VIGENCIA (Cifras en Miles de Pesos)",null,null,null,null,null,null,null,null,null,null,null,null,null,null,null,null,null,null,null,null,null,null,null,null,"ODS","SECTOR"]
[null,null,null,null,null,null,null,null,null,null,null,null,null,null,null,null,null,null,null,null,null,null,null,null,null,null,null,null,null,null,null,null,null,null,null,null,null,null,null,null,null,null,null,null,null,null,null,null,null,null,null,null,null,null,null,null,null,null,null,null,null,null,null,null,null,null,null,null,null,null,2016,null,null,null,null,2017,null,null,null,null,2018,null,null,null,null,2019,null,null,null,null,"2016 - 2019"]
[null,null,null,null,null,null,null,null,null,2016,null,null,2017,null,null,2018,null,null,2019,null,null,2016,null,2017,null,2018,null,2019,null,2016,null,2017,null,2018,null,2019,null,"2016 - 2019",null,null,null,null,null,null,"NOMBRE INDICADOR","LÍNEA BASE","ESPERADO CUATRIENIO",2016,null,2017,null,2018,null,2019,null,2016,2017,2018,2019,2016,null,2017,null,2018,null,2019,null,"2016 - 2019",null,null,"RECURSOS PROGRAMADOS","RECURSOS EJECUTADOS","RECURSOS GESTIONADOS","PORCENTAJE EJECUCIÓN","NIVEL DE GESTIÓN","RECURSOS PROGRAMADOS","RECURSOS EJECUTADOS","RECURSOS GESTIONADOS","PORCENTAJE EJECUCIÓN","NIVEL DE GESTIÓN","RECURSOS PROGRAMADOS","RECURSOS EJECUTADOS","RECURSOS GESTIONADOS","PORCENTAJE EJECUCIÓN","NIVEL DE GESTIÓN","RECURSOS PROGRAMADOS","RECURSOS EJECUTADOS","RECURSOS GESTIONADOS","PORCENTAJE EJECUCIÓN","NIVEL DE GESTIÓN","RECURSOS PROGRAMADOS","RECURSOS EJECUTADOS","RECURSOS GESTIONADOS","PORCENTAJE EJECUCIÓN","NIVEL DE GESTIÓN",null,null,"RESPONSABLE"]
[null,{"$f":"+RESUMEN!J8","v":0.64881698401554722},"1 - GOBERNANZA DEMOCRÁTICA",{"$f":"+RESUMEN!J9","v":0.64665825507553443},"GOBIERNO PARTICIPATIVO Y ABIERTO","Lograr una calificación de 85 sobre 100 en el componente visibilidad en el Índice de Transparencia de las Entidades Públicas - ITEP.",69.8,85,{"$f":"+H11-G11","v":15.200000000000003},69.8,{"$f":"+J11-G11","v":0},null,85,{"$f":"+M11-J11","v":15.200000000000003},null,85,{"$f":"+P11-M11","v":0},null,85,{"$f":"+S11-P11","v":0},null,65.5,{"$f":"+IF(V11=0,0,V11-G11)","v":-4.2999999999999972},null,{"$f":"+IF(X11=0,0,X11-V11)","v":0},null,{"$f":"+IF(Z11=0,0,Z11-X11)","v":0},null,{"$f":"+IF(AB11=0,0,AB11-Z11)","v":0},{"$f":"+IF(K11=0,\" -\",W11/K11)","v":" -"},{"$f":"+IF(K11=0,\" -\",IF(AD11>100%,100%,AD11))","v":" -"},{"$f":"+IF(N11=0,\" -\",Y11/N11)","v":0},{"$f":"+IF(N11=0,\" -\",IF(AF11>100%,100%,AF11))","v":0},{"$f":"+IF(Q11=0,\" -\",AA11/Q11)","v":" -"},{"$f":"+IF(Q11=0,\" -\",IF(AH11>100%,100%,AH11))","v":" -"},{"$f":"+IF(T11=0,\" -\",AC11/T11)","v":" -"},{"$f":"+IF(T11=0,\" -\",IF(AJ11>100%,100%,AJ11))","v":" -"},{"$f":"+SUM(AC11,AA11,Y11,W11)/I11","v":-0.28289473684210503},{"$f":"+IF(AL11>100%,100%,IF(AL11<0%,0%,AL11))","v":0},null,{"$f":"+RESUMEN!J10","v":0.65317460317460307},"NUEVOS LIDERAZGOS","Implementar y mantener la estrategia de casas para nuevos liderazgos.",{"$f":"'[1]LÍNEA 1'!P11","v":2210980},"Número de estrategias de casas para nuevos liderazgos implementadas y mantenidas.",0,{"$f":"'[1]LÍNEA 1'!S11","v":1},{"$f":"'[1]LÍNEA 1'!T11","v":1},0.25,{"$f":"'[1]LÍNEA 1'!U11","v":1},0.25,{"$f":"'[1]LÍNEA 1'!V11","v":1},0.25,{"$f":"'[1]LÍNEA 1'!W11","v":1},0.25,{"$f":"'[2]2016'!$K$12","v":1},{"$f":"'[2]2017'!$K$12","v":1},{"$f":"'[2]2018'!$K$12","v":1},{"$f":"'[2]2019'!$K$12","v":0},{"$f":"IF(AV11=0,\" -\",BD11/AV11)","v":1},{"$f":"IF(AV11=0,\" -\",IF(BH11>100%,100%,BH11))","v":1},{"$f":"IF(AX11=0,\" -\",BE11/AX11)","v":1},{"$f":"IF(AX11=0,\" -\",IF(BJ11>100%,100%,BJ11))","v":1},{"$f":"IF(AZ11=0,\" -\",BF11/AZ11)","v":1},{"$f":"IF(AZ11=0,\" -\",IF(BL11>100%,100%,BL11))","v":1},{"$f":"IF(BB11=0,\" -\",BG11/BB11)","v":0},{"$f":"IF(BB11=0,\" -\",IF(BN11>100%,100%,BN11))","v":0},{"$f":"+AVERAGE(BD11:BG11)/AU11","v":0.75},{"$f":"+IF(BP11>100%,100%,BP11)","v":0.75},{"$f":"+BQ11","v":0.75},{"$f":"'[2]2016'!P12","v":100000},{"$f":"'[2]2016'!Q12","v":65333},{"$f":"'[2]2016'!R12","v":0},{"$f":"IF(BS11=0,\" -\",BT11/BS11)","v":0.65332999999999997},{"$f":"IF(BU11=0,\" -\",IF(BT11=0,100%,BU11/BT11))","v":" -"},{"$f":"'[2]2017'!P12","v":167836},{"$f":"'[2]2017'!Q12","v":167003},{"$f":"'[2]2017'!R12","v":0},{"$f":"IF(BX11=0,\" -\",BY11/BX11)","v":0.99503682165923879},{"$f":"IF(BZ11=0,\" -\",IF(BY11=0,100%,BZ11/BY11))","v":" -"},{"$f":"'[2]2018'!P12","v":240000},{"$f":"'[2]2018'!Q12","v":99000},{"$f":"'[2]2018'!R12","v":0},{"$f":"IF(CC11=0,\" -\",CD11/CC11)","v":0.41249999999999998},{"$f":"IF(CE11=0,\" -\",IF(CD11=0,100%,CE11/CD11))","v":" -"},{"$f":"'[2]2019'!P12","v":213500},{"$f":"'[2]2019'!Q12","v":0},{"$f":"'[2]2019'!R12","v":0},{"$f":"IF(CH11=0,\" -\",CI11/CH11)","v":0},{"$f":"IF(CJ11=0,\" -\",IF(CI11=0,100%,CJ11/CI11))","v":" -"},{"$f":"+BS11+BX11+CC11+CH11","v":721336},331336,0,{"$f":"IF(CM11=0,\" -\",CN11/CM11)","v":0.45933656437499309},{"$f":"IF(CO11=0,\" -\",IF(CN11=0,100%,CO11/CN11))","v":" -"},"16. Paz, justicia e instituciones sólidas","Promoción del Desarrollo",{"$f":"'[1]LÍNEA 1'!AQ11","v":"Sec. Interior"}]
[null,null,null,null,null,null,null,null,null,null,null,null,null,null,null,null,null,null,null,null,null,null,null,null,null,null,null,null,null,null,null,null,null,null,null,null,null,null,null,null,null,null,"Implementar y mantener la estrategia escuela de liderazgo para mujeres las Mil Manuelas.",{"$f":"'[1]LÍNEA 1'!P12","v":2210708},"Número de estrategias escuela de liderazgo para mujeres las Mil Manuelas implementadas y mantenidas.",0,{"$f":"'[1]LÍNEA 1'!S12","v":1},{"$f":"'[1]LÍNEA 1'!T12","v":0},{"$f":"+AV12/AU12","v":0},{"$f":"'[1]LÍNEA 1'!U12","v":1},0.33,{"$f":"'[1]LÍNEA 1'!V12","v":1},0.33,{"$f":"'[1]LÍNEA 1'!W12","v":1},0.34,{"$f":"'[3]2016'!$K$12","v":0},{"$f":"'[3]2017'!$K$12","v":1},{"$f":"'[3]2018'!$K$12","v":1},{"$f":"'[3]2019'!$K$12","v":0},{"$f":"IF(AV12=0,\" -\",BD12/AV12)","v":" -"},{"$f":"IF(AV12=0,\" -\",IF(BH12>100%,100%,BH12))","v":" -"},{"$f":"IF(AX12=0,\" -\",BE12/AX12)","v":1},{"$f":"IF(AX12=0,\" -\",IF(BJ12>100%,100%,BJ12))","v":1},{"$f":"IF(AZ12=0,\" -\",BF12/AZ12)","v":1},{"$f":"IF(AZ12=0,\" -\",IF(BL12>100%,100%,BL12))","v":1},{"$f":"IF(BB12=0,\" -\",BG12/BB12)","v":0},{"$f":"IF(BB12=0,\" -\",IF(BN12>100%,100%,BN12))","v":0},{"$f":"+AVERAGE(BE12:BG12)/AU12","v":0.66666666666666663},{"$f":"+IF(BP12>100%,100%,BP12)","v":0.66666666666666663},{"$f":"+BQ12","v":0.66666666666666663},{"$f":"'[3]2016'!P12","v":0},{"$f":"'[3]2016'!Q12","v":0},{"$f":"'[3]2016'!R12","v":0},{"$f":"IF(BS12=0,\" -\",BT12/BS12)","v":" -"},{"$f":"IF(BU12=0,\" -\",IF(BT12=0,100%,BU12/BT12))","v":" -"},{"$f":"'[3]2017'!P12","v":6320},{"$f":"'[3]2017'!Q12","v":1820},{"$f":"'[3]2017'!R12","v":0},{"$f":"IF(BX12=0,\" -\",BY12/BX12)","v":0.28797468354430378},{"$f":"IF(BZ12=0,\" -\",IF(BY12=0,100%,BZ12/BY12))","v":" -"},{"$f":"'[3]2018'!P12","v":36228},{"$f":"'[3]2018'!Q12","v":18000},{"$f":"'[3]2018'!R12","v":0},{"$f":"IF(CC12=0,\" -\",CD12/CC12)","v":0.49685326266975821},{"$f":"IF(CE12=0,\" -\",IF(CD12=0,100%,CE12/CD12))","v":" -"},{"$f":"'[3]2019'!P12","v":150000},{"$f":"'[3]2019'!Q12","v":0},{"$f":"'[3]2019'!R12","v":0},{"$f":"IF(CH12=0,\" -\",CI12/CH12)","v":0},{"$f":"IF(CJ12=0,\" -\",IF(CI12=0,100%,CJ12/CI12))","v":" -"},192548,19820,0,{"$f":"IF(CM12=0,\" -\",CN12/CM12)","v":0.10293537195919979},{"$f":"IF(CO12=0,\" -\",IF(CN12=0,100%,CO12/CN12))","v":" -"},"10. Reducción de las desigualdades","Promoción del Desarrollo",{"$f":"'[1]LÍNEA 1'!AQ12","v":"Sec. Desarrollo Social"}]
[null,null,null,null,null,null,null,null,null,null,null,null,null,null,null,null,null,null,null,null,null,null,null,null,null,null,null,null,null,null,null,null,null,null,null,null,null,null,null,null,null,null,"Realizar 35 actividades o iniciativas para promover, visibilizar y empoderar el gobierno escolar en las instituciones educativas oficiales.",{"$f":"'[1]LÍNEA 1'!P13","v":0},"Número de actividades o iniciativas realizadas para promover, visibilizar y empoderar el gobierno escolar en las instituciones educativas oficiales.",0,{"$f":"'[1]LÍNEA 1'!S13","v":35},{"$f":"'[1]LÍNEA 1'!T13","v":3},{"$f":"+AV13/AU13","v":8.5714285714285715E-2},{"$f":"'[1]LÍNEA 1'!U13","v":12},{"$f":"+AX13/AU13","v":0.34285714285714286},{"$f":"'[1]LÍNEA 1'!V13","v":10},{"$f":"+AZ13/AU13","v":0.2857142857142857},{"$f":"'[1]LÍNEA 1'!W13","v":10},{"$f":"+BB13/AU13","v":0.2857142857142857},{"$f":"'[4]2016'!$K$12","v":3},{"$f":"'[4]2017'!$K$12","v":12},{"$f":"'[4]2018'!$K$12","v":4},{"$f":"'[4]2019'!$K$12","v":0},1,1,1,1,0.4,0.4,0,0,{"$f":"+SUM(BD13:BG13)/AU13","v":0.54285714285714282},0.54285714285714282,0.54285714285714282,{"$f":"'[4]2016'!P12","v":0},{"$f":"'[4]2016'!Q12","v":0},{"$f":"'[4]2016'!R12","v":0},{"$f":"IF(BS13=0,\" -\",BT13/BS13)","v":" -"},{"$f":"IF(BU13=0,\" -\",IF(BT13=0,100%,BU13/BT13))","v":" -"},{"$f":"'[4]2017'!P12","v":0},{"$f":"'[4]2017'!Q12","v":0},{"$f":"'[4]2017'!R12","v":0},{"$f":"IF(BX13=0,\" -\",BY13/BX13)","v":" -"},{"$f":"IF(BZ13=0,\" -\",IF(BY13=0,100%,BZ13/BY13))","v":" -"},{"$f":"'[4]2018'!P12","v":0},{"$f":"'[4]2018'!Q12","v":0},{"$f":"'[4]2018'!R12","v":0},{"$f":"IF(CC13=0,\" -\",CD13/CC13)","v":" -"},{"$f":"IF(CE13=0,\" -\",IF(CD13=0,100%,CE13/CD13))","v":" -"},{"$f":"'[4]2019'!P12","v":20000},{"$f":"'[4]2019'!Q12","v":0},{"$f":"'[4]2019'!R12","v":0},{"$f":"IF(CH13=0,\" -\",CI13/CH13)","v":0},{"$f":"IF(CJ13=0,\" -\",IF(CI13=0,100%,CJ13/CI13))","v":" -"},{"$f":"+BS13+BX13+CC13+CH13","v":20000},{"$f":"+BT13+BY13+CD13+CI13","v":0},{"$f":"+BU13+BZ13+CE13+CJ13","v":0},{"$f":"IF(CM13=0,\" -\",CN13/CM13)","v":0},{"$f":"IF(CO13=0,\" -\",IF(CN13=0,100%,CO13/CN13))","v":" -"},"16. Paz, justicia e instituciones sólidas","Educación",{"$f":"'[1]LÍNEA 1'!AQ13","v":"Sec. Educación"}]
[null,null,null,null,null,null,null,null,null,null,null,null,null,null,null,null,null,null,null,null,null,null,null,null,null,null,null,null,null,null,null,null,null,null,null,null,null,null,null,null,{"$f":"+RESUMEN!J11","v":0.60049019607843135},"PRESUPUESTOS INCLUYENTES","Crear y mantener 1 sección web en línea para que la ciudadanía pueda consultar el presupuesto y vigilar su aprobación y ejecución.",{"$f":"'[1]LÍNEA 1'!P14","v":" -"},"Número de secciones web en línea creadas y mantenidas para que la ciudadanía pueda consultar el presupuesto y vigilar su aprobación y ejecución.",0,{"$f":"'[1]LÍNEA 1'!S14","v":1},{"$f":"'[1]LÍNEA 1'!T14","v":1},0.25,{"$f":"'[1]LÍNEA 1'!U14","v":1},0.25,{"$f":"'[1]LÍNEA 1'!V14","v":1},0.25,{"$f":"'[1]LÍNEA 1'!W14","v":1},0.25,{"$f":"'[5]2016'!K12","v":1},{"$f":"'[5]2017'!K12","v":1},{"$f":"'[5]2018'!K12","v":1},{"$f":"'[5]2019'!K12","v":0},1,1,1,1,1,1,0,0,{"$f":"+AVERAGE(BD14:BG14)/AU14","v":0.75},0.75,0.75,{"$f":"'[5]2016'!P12","v":0},{"$f":"'[5]2016'!Q12","v":0},{"$f":"'[5]2016'!R12","v":0}," -"," -",{"$f":"'[5]2017'!P12","v":0},{"$f":"'[5]2017'!Q12","v":0},{"$f":"'[5]2017'!R12","v":0}," -"," -",{"$f":"'[5]2018'!P12","v":0},{"$f":"'[5]2018'!Q12","v":0},{"$f":"'[5]2018'!R12","v":0}," -"," -",{"$f":"'[5]2019'!P12","v":0},{"$f":"'[5]2019'!Q12","v":0},{"$f":"'[5]2019'!R12","v":0}," -"," -",0,0,0," -"," -","16. Paz, justicia e instituciones sólidas","Fortalecimiento Institucional",{"$f":"'[1]LÍNEA 1'!AQ14","v":"Sec. Hacienda"}]
[null,null,null,null,null,null,null,null,null,null,null,null,null,null,null,null,null,null,null,null,null,null,null,null,null,null,null,null,null,null,null,null,null,null,null,null,null,null,null,null,null,null,"Ejecutar 4 planes de socialización del proyecto de acuerdo del presupuesto municipal previa presentación al Concejo.",{"$f":"'[1]LÍNEA 1'!P15","v":" -"},"Número de planes de socialización ejecutados del proyecto de acuerdo del presupuesto municipal previa presentación al Concejo.",0,{"$f":"'[1]LÍNEA 1'!S15","v":4},{"$f":"'[1]LÍNEA 1'!T15","v":1},0.25,{"$f":"'[1]LÍNEA 1'!U15","v":1},0.25,{"$f":"'[1]LÍNEA 1'!V15","v":1},0.25,{"$f":"'[1]LÍNEA 1'!W15","v":1},0.25,{"$f":"'[5]2016'!K13","v":1},{"$f":"'[5]2017'!K13","v":1},{"$f":"'[5]2018'!K13","v":0},{"$f":"'[5]2019'!K13","v":0},1,1,1,1,0,0,0,0,{"$f":"+SUM(BD15:BG15)/AU15","v":0.5},0.5,0.5,{"$f":"'[5]2016'!P13","v":0},{"$f":"'[5]2016'!Q13","v":0},{"$f":"'[5]2016'!R13","v":0}," -"," -",{"$f":"'[5]2017'!P13","v":0},{"$f":"'[5]2017'!Q13","v":0},{"$f":"'[5]2017'!R13","v":0}," -"," -",{"$f":"'[5]2018'!P13","v":0},{"$f":"'[5]2018'!Q13","v":0},{"$f":"'[5]2018'!R13","v":0}," -"," -",{"$f":"'[5]2019'!P13","v":0},{"$f":"'[5]2019'!Q13","v":0},{"$f":"'[5]2019'!R13","v":0}," -"," -",0,0,0," -"," -","16. Paz, justicia e instituciones sólidas","Fortalecimiento Institucional",{"$f":"'[1]LÍNEA 1'!AQ15","v":"Sec. Hacienda"}]
[null,null,null,null,null,null,null,null,null,null,null,null,null,null,null,null,null,null,null,null,null,null,null,null,null,null,null,null,null,null,null,null,null,null,null,null,null,null,null,null,null,null,"Celebrar 4 cabildos ciudadanos para asignar presupuesto a obras comunitarias y discutir otros asuntos del presupuesto.",{"$f":"'[1]LÍNEA 1'!P16","v":" -"},"Número de cabildos ciudadanos celebrados para asignar presupuesto a obras comunitarias y discutir otros asuntos del presupuesto.",0,{"$f":"'[1]LÍNEA 1'!S16","v":4},{"$f":"'[1]LÍNEA 1'!T16","v":1},0.25,{"$f":"'[1]LÍNEA 1'!U16","v":1},0.25,{"$f":"'[1]LÍNEA 1'!V16","v":1},0.25,{"$f":"'[1]LÍNEA 1'!W16","v":1},0.25,{"$f":"'[5]2016'!K14","v":1},{"$f":"'[5]2017'!K14","v":1},{"$f":"'[5]2018'!K14","v":1},{"$f":"'[5]2019'!K14","v":0},1,1,1,1,1,1,0,0,{"$f":"+SUM(BD16:BG16)/AU16","v":0.75},0.75,0.75,{"$f":"'[5]2016'!P14","v":0},{"$f":"'[5]2016'!Q14","v":0},{"$f":"'[5]2016'!R14","v":0}," -"," -",{"$f":"'[5]2017'!P14","v":0},{"$f":"'[5]2017'!Q14","v":0},{"$f":"'[5]2017'!R14","v":0}," -"," -",{"$f":"'[5]2018'!P14","v":0},{"$f":"'[5]2018'!Q14","v":0},{"$f":"'[5]2018'!R14","v":0}," -"," -",{"$f":"'[5]2019'!P14","v":0},{"$f":"'[5]2019'!Q14","v":0},{"$f":"'[5]2019'!R14","v":0}," -"," -",0,0,0," -"," -","16. Paz, justicia e instituciones sólidas","Fortalecimiento Institucional",{"$f":"'[1]LÍNEA 1'!AQ16","v":"Sec. Hacienda"}]
[null,null,null,null,null,null,null,null,null,null,null,null,null,null,null,null,null,null,null,null,null,null,null,null,null,null,null,null,null,null,null,null,null,null,null,null,null,null,null,null,null,null,"Implementar y mantener 1 estrategia de implementación del acuerdo de presupuestos participativos y del decreto reglamentario.",{"$f":"'[1]LÍNEA 1'!P17","v":" -"},"Número de estrategias de implementación del acuerdo de presupuestos participativos y del decreto reglamentario implementadas y mantenidas.",1,{"$f":"'[1]LÍNEA 1'!S17","v":1},{"$f":"'[1]LÍNEA 1'!T17","v":1},0.25,{"$f":"'[1]LÍNEA 1'!U17","v":1},0.25,{"$f":"'[1]LÍNEA 1'!V17","v":1},0.25,{"$f":"'[1]LÍNEA 1'!W17","v":1},0.25,{"$f":"'[6]2016'!$K$12","v":1},{"$f":"'[6]2017'!$K$12","v":1},{"$f":"'[6]2018'!$K$12","v":1},{"$f":"'[6]2019'!$K$12","v":0},1,1,1,1,1,1,0,0,0.75,0.75,0.75,{"$f":"'[6]2016'!P12","v":0},{"$f":"'[6]2016'!Q12","v":0},{"$f":"'[6]2016'!R12","v":0}," -"," -",{"$f":"'[6]2017'!P12","v":0},{"$f":"'[6]2017'!Q12","v":0},{"$f":"'[6]2017'!R12","v":0}," -"," -",{"$f":"'[6]2018'!P12","v":21000},{"$f":"'[6]2018'!Q12","v":21000},{"$f":"'[6]2018'!R12","v":0},1," -",{"$f":"'[6]2019'!P12","v":0},{"$f":"'[6]2019'!Q12","v":0},{"$f":"'[6]2019'!R12","v":0}," -"," -",21000,21000,0,1," -","16. Paz, justicia e instituciones sólidas","Fortalecimiento Institucional",{"$f":"'[1]LÍNEA 1'!AQ17","v":"Sec. Planeación"}]
[null,null,null,null,null,null,null,null,null,null,null,null,null,null,null,null,null,null,null,null,null,null,null,null,null,null,null,null,null,null,null,null,null,null,null,null,null,null,null,null,null,null,"Implementar 1 estrategia para la formación y capacitación técnica en planeación participativa para los ciudadanos bumangueses.",{"$f":"'[1]LÍNEA 1'!P18","v":2210230},"Número de estrategias implementadas para la formación y capacitación técnica en planeación participativa para los ciudadanos bumangueses.",0,{"$f":"'[1]LÍNEA 1'!S18","v":1},{"$f":"'[1]LÍNEA 1'!T18","v":1},0.25,{"$f":"'[1]LÍNEA 1'!U18","v":1},0.25,{"$f":"'[1]LÍNEA 1'!V18","v":1},0.25,{"$f":"'[1]LÍNEA 1'!W18","v":1},0.25,{"$f":"'[3]2016'!$K$13","v":1},{"$f":"'[3]2017'!$K$13","v":1},{"$f":"'[3]2018'!$K$13","v":1},{"$f":"'[3]2019'!$K$13","v":0},1,1,1,1,1,1,0,0,0.75,0.75,0.75,{"$f":"'[3]2016'!P13","v":35000},{"$f":"'[3]2016'!Q13","v":15000},{"$f":"'[3]2016'!R13","v":0},0.42857142857142855," -",{"$f":"'[3]2017'!P13","v":0},{"$f":"'[3]2017'!Q13","v":0},{"$f":"'[3]2017'!R13","v":0}," -"," -",{"$f":"'[3]2018'!P13","v":0},{"$f":"'[3]2018'!Q13","v":0},{"$f":"'[3]2018'!R13","v":0}," -"," -",{"$f":"'[3]2019'!P13","v":50000},{"$f":"'[3]2019'!Q13","v":0},{"$f":"'[3]2019'!R13","v":0},0," -",85000,15000,0,0.17647058823529413," -","16. Paz, justicia e instituciones sólidas","Fortalecimiento Institucional",{"$f":"'[1]LÍNEA 1'!AQ18","v":"Sec. Desarrollo Social"}]
[null,null,null,null,null,null,null,null,null,null,null,null,null,null,null,null,null,null,null,null,null,null,null,null,null,null,null,null,null,null,null,null,null,null,null,null,null,null,null,null,null,null,"Ejecutar obras comunitarias con presupuestos participatios en las 17 comunas.",{"$f":"'[1]LÍNEA 1'!P19","v":2210219},"Número de comunas con obras comunitarias ejecutadas con presupuesto participativo.",0,{"$f":"'[1]LÍNEA 1'!S19","v":17},{"$f":"'[1]LÍNEA 1'!T19","v":17},0.25,{"$f":"'[1]LÍNEA 1'!U19","v":17},0.25,{"$f":"'[1]LÍNEA 1'!V19","v":17},0.25,{"$f":"'[1]LÍNEA 1'!W19","v":17},0.25,{"$f":"'[7]2016'!$K$12","v":0},{"$f":"'[7]2017'!$K$12","v":7},{"$f":"'[7]2018'!$K$12","v":0},{"$f":"'[7]2019'!$K$12","v":0},0,0,0.41176470588235292,0.41176470588235292,0,0,0,0,0.10294117647058823,0.10294117647058823,0.10294117647058823,{"$f":"'[7]2016'!P12","v":0},{"$f":"'[7]2016'!Q12","v":0},{"$f":"'[7]2016'!R12","v":0}," -"," -",{"$f":"'[7]2017'!P12","v":755144},{"$f":"'[7]2017'!Q12","v":755144},{"$f":"'[7]2017'!R12","v":0},1," -",{"$f":"'[7]2018'!P12","v":6975188},{"$f":"'[7]2018'!Q12","v":0},{"$f":"'[7]2018'!R12","v":0},0," -",{"$f":"'[7]2019'!P12","v":0},{"$f":"'[7]2019'!Q12","v":0},{"$f":"'[7]2019'!R12","v":0}," -"," -",7730332,755144,0,9.7685843247094686E-2," -","16. Paz, justicia e instituciones sólidas","Fortalecimiento Institucional",{"$f":"'[1]LÍNEA 1'!AQ19","v":"Sec. Infraestructura"}]
[null,null,null,null,null,null,null,null,null,null,null,null,null,null,null,null,null,null,null,null,null,null,null,null,null,null,null,null,null,null,null,null,null,null,null,null,null,null,null,null,{"$f":"+RESUMEN!J12","v":0.50561111111111112},"CIUDADANÍA EMPODERADA Y DEBATE PÚBLICO","Implementar y mantener 1 estrategia de comunicaciones para difundir las iniciativas de la Administración Municipal y promover el debate público sobre temas de gobierno y de ciudad.",{"$f":"'[1]LÍNEA 1'!P20","v":0},"Número de estrategias de comunicación implementadas y mantenidas para difundir las iniciativas de la Administración Municipal y promover el debate público sobre temas de gobierno y de ciudad.",0,{"$f":"'[1]LÍNEA 1'!S20","v":1},{"$f":"'[1]LÍNEA 1'!T20","v":1},0.25,{"$f":"'[1]LÍNEA 1'!U20","v":1},0.25,{"$f":"'[1]LÍNEA 1'!V20","v":1},0.25,{"$f":"'[1]LÍNEA 1'!W20","v":1},0.25,{"$f":"'[8]2016'!K12","v":1},{"$f":"'[8]2017'!K12","v":1},{"$f":"'[8]2018'!K12","v":1},{"$f":"'[8]2019'!K12","v":0},1,1,1,1,1,1,0,0,0.75,0.75,0.75,{"$f":"'[8]2016'!P12","v":1190000},{"$f":"'[8]2016'!Q12","v":213597},{"$f":"'[8]2016'!R12","v":0},0.17949327731092438," -",{"$f":"'[8]2017'!P12","v":270000},{"$f":"'[8]2017'!Q12","v":179476},{"$f":"'[8]2017'!R12","v":0},0.66472592592592594," -",{"$f":"'[8]2018'!P12","v":174554},{"$f":"'[8]2018'!Q12","v":74554},{"$f":"'[8]2018'!R12","v":0},0.42711138100530494," -",{"$f":"'[8]2019'!P12","v":500000},{"$f":"'[8]2019'!Q12","v":0},{"$f":"'[8]2019'!R12","v":0},0," -",2134554,467627,0,0.21907480438536575," -","16. Paz, justicia e instituciones sólidas","Fortalecimiento Institucional",{"$f":"'[1]LÍNEA 1'!AQ20","v":"Ofc. Prensa"}]
[null,null,null,null,null,null,null,null,null,null,null,null,null,null,null,null,null,null,null,null,null,null,null,null,null,null,null,null,null,null,null,null,null,null,null,null,null,null,null,null,null,null,"Implementar y mantener 1 Plan de medios para informar a la ciudadanía sobre las políticas e iniciativas del gobierno.",{"$f":"'[1]LÍNEA 1'!P21","v":" -"},"Número de Planes de medios implementados y mantenidos para informar a la ciudadanía las políticas e iniciativas del gobierno.",0,{"$f":"'[1]LÍNEA 1'!S21","v":1},{"$f":"'[1]LÍNEA 1'!T21","v":1},0.25,{"$f":"'[1]LÍNEA 1'!U21","v":1},0.25,{"$f":"'[1]LÍNEA 1'!V21","v":1},0.25,{"$f":"'[1]LÍNEA 1'!W21","v":1},0.25,{"$f":"'[8]2016'!K13","v":1},{"$f":"'[8]2017'!K13","v":1},{"$f":"'[8]2018'!K13","v":0},{"$f":"'[8]2019'!K13","v":0},1,1,1,1,0,0,0,0,0.5,0.5,0.5,{"$f":"'[8]2016'!P13","v":600000},{"$f":"'[8]2016'!Q13","v":213597},{"$f":"'[8]2016'!R13","v":0},0.35599500000000001," -",{"$f":"'[8]2017'!P13","v":653331},{"$f":"'[8]2017'!Q13","v":616621},{"$f":"'[8]2017'!R13","v":0},0.94381102381488102," -",{"$f":"'[8]2018'!P13","v":601786},{"$f":"'[8]2018'!Q13","v":0},{"$f":"'[8]2018'!R13","v":0},0," -",{"$f":"'[8]2019'!P13","v":0},{"$f":"'[8]2019'!Q13","v":0},{"$f":"'[8]2019'!R13","v":0}," -"," -",1855117,830218,0,0.44752864644116785," -","16. Paz, justicia e instituciones sólidas","Fortalecimiento Institucional",{"$f":"'[1]LÍNEA 1'!AQ21","v":"Ofc. Prensa"}]
[null,null,null,null,null,null,null,null,null,null,null,null,null,null,null,null,null,null,null,null,null,null,null,null,null,null,null,null,null,null,null,null,null,null,null,null,null,null,null,null,null,null,"Implementar y mantener 1 estrategia de comunicaciones para difundir las acciones de la Administración Municipal y promover el debate público sobre temas de gobierno y de ciudad en la emisora cultural.",{"$f":"'[1]LÍNEA 1'!P22","v":0},"Número de estrategias de comunicación implementadas y mantenidas para difundir las acciones de la Administración Municipal y promover el debate público sobre temas de gobierno y de ciudad en la emisora cultural.",0,{"$f":"'[1]LÍNEA 1'!S22","v":1},{"$f":"'[1]LÍNEA 1'!T22","v":1},0.25,{"$f":"'[1]LÍNEA 1'!U22","v":1},0.25,{"$f":"'[1]LÍNEA 1'!V22","v":1},0.25,{"$f":"'[1]LÍNEA 1'!W22","v":1},0.25,{"$f":"'[8]2016'!K14","v":1},{"$f":"'[8]2017'!K14","v":1},{"$f":"'[8]2018'!K14","v":0},{"$f":"'[8]2019'!K14","v":0},1,1,1,1,0,0,0,0,0.5,0.5,0.5,{"$f":"'[8]2016'!P14","v":100000},{"$f":"'[8]2016'!Q14","v":0},{"$f":"'[8]2016'!R14","v":0},0," -",{"$f":"'[8]2017'!P14","v":0},{"$f":"'[8]2017'!Q14","v":0},{"$f":"'[8]2017'!R14","v":0}," -"," -",{"$f":"'[8]2018'!P14","v":0},{"$f":"'[8]2018'!Q14","v":0},{"$f":"'[8]2018'!R14","v":0}," -"," -",{"$f":"'[8]2019'!P14","v":300000},{"$f":"'[8]2019'!Q14","v":0},{"$f":"'[8]2019'!R14","v":0},0," -",400000,0,0,0," -","16. Paz, justicia e instituciones sólidas","Fortalecimiento Institucional",{"$f":"'[1]LÍNEA 1'!AQ22","v":"Ofc. Prensa"}]
[null,null,null,null,null,null,null,null,null,null,null,null,null,null,null,null,null,null,null,null,null,null,null,null,null,null,null,null,null,null,null,null,null,null,null,null,null,null,null,null,null,null,"Convocar y realizar 40 ruedas de prensa por el despacho del Alcalde.",{"$f":"'[1]LÍNEA 1'!P23","v":" -"},"Número de ruedas de prensa convocadas y realizadas  por el despacho del Alcalde.",0,{"$f":"'[1]LÍNEA 1'!S23","v":40},{"$f":"'[1]LÍNEA 1'!T23","v":6},0.15,{"$f":"'[1]LÍNEA 1'!U23","v":12},0.3,{"$f":"'[1]LÍNEA 1'!V23","v":12},0.3,{"$f":"'[1]LÍNEA 1'!W23","v":10},0.25,{"$f":"'[8]2016'!K15","v":31},{"$f":"'[8]2017'!K15","v":45},{"$f":"'[8]2018'!K15","v":7},{"$f":"'[8]2019'!K15","v":0},5.166666666666667,1,3.75,1,0.58333333333333337,0.58333333333333337,0,0,{"$f":"+SUM(BD23:BG23)/AU23","v":2.0750000000000002},1,1,{"$f":"'[8]2016'!P15","v":0},{"$f":"'[8]2016'!Q15","v":0},{"$f":"'[8]2016'!R15","v":0}," -"," -",{"$f":"'[8]2017'!P15","v":0},{"$f":"'[8]2017'!Q15","v":0},{"$f":"'[8]2017'!R15","v":0}," -"," -",{"$f":"'[8]2018'!P15","v":0},{"$f":"'[8]2018'!Q15","v":0},{"$f":"'[8]2018'!R15","v":0}," -"," -",{"$f":"'[8]2019'!P15","v":0},{"$f":"'[8]2019'!Q15","v":0},{"$f":"'[8]2019'!R15","v":0}," -"," -",0,0,0," -"," -","16. Paz, justicia e instituciones sólidas","Fortalecimiento Institucional",{"$f":"'[1]LÍNEA 1'!AQ23","v":"Ofc. Prensa"}]
[null,null,null,null,null,null,null,null,null,null,null,null,null,null,null,null,null,null,null,null,null,null,null,null,null,null,null,null,null,null,null,null,null,null,null,null,null,null,null,null,null,null,"Implementar y mantener 1 estrategia de comunicación para promover la participación ciudadana sobre asuntos de interés públicos.",{"$f":"'[1]LÍNEA 1'!P24","v":0},"Número de estrategias de comunicación implementadas y mantenidas  para promover la participación ciudadana sobre asuntos de interés públicos.",0,{"$f":"'[1]LÍNEA 1'!S24","v":1},{"$f":"'[1]LÍNEA 1'!T24","v":1},0.25,{"$f":"'[1]LÍNEA 1'!U24","v":1},0.25,{"$f":"'[1]LÍNEA 1'!V24","v":1},0.25,{"$f":"'[1]LÍNEA 1'!W24","v":1},0.25,{"$f":"'[8]2016'!K16","v":1},{"$f":"'[8]2017'!K16","v":1},{"$f":"'[8]2018'!K16","v":1},{"$f":"'[8]2019'!K16","v":0},1,1,1,1,1,1,0,0,0.75,0.75,0.75,{"$f":"'[8]2016'!P16","v":0},{"$f":"'[8]2016'!Q16","v":0},{"$f":"'[8]2016'!R16","v":0}," -"," -",{"$f":"'[8]2017'!P16","v":281600},{"$f":"'[8]2017'!Q16","v":281600},{"$f":"'[8]2017'!R16","v":0},1," -",{"$f":"'[8]2018'!P16","v":74554},{"$f":"'[8]2018'!Q16","v":74554},{"$f":"'[8]2018'!R16","v":0},1," -",{"$f":"'[8]2019'!P16","v":100000},{"$f":"'[8]2019'!Q16","v":0},{"$f":"'[8]2019'!R16","v":0},0," -",456154,356154,0,0.78077579063211111," -","16. Paz, justicia e instituciones sólidas","Fortalecimiento Institucional",{"$f":"'[1]LÍNEA 1'!AQ24","v":"Ofc. Prensa"}]
[null,null,null,null,null,"Lograr una calificación de 80 sobre 100 en el componente de control y sanción en el Índice de Transparencia de las Entidades Públicas - ITEP.",62.4,80,{"$f":"+H25-G25","v":17.600000000000001},62.4,{"$f":"+J25-G25","v":0},null,80,{"$f":"+M25-J25","v":17.600000000000001},null,80,{"$f":"+P25-M25","v":0},null,80,{"$f":"+S25-P25","v":0},null,65.099999999999994,{"$f":"+IF(V25=0,0,V25-G25)","v":2.6999999999999957},null,{"$f":"+IF(X25=0,0,X25-V25)","v":0},null,{"$f":"+IF(Z25=0,0,Z25-X25)","v":0},null,{"$f":"+IF(AB25=0,0,AB25-Z25)","v":0},{"$f":"+IF(K25=0,\" -\",W25/K25)","v":" -"},{"$f":"+IF(K25=0,\" -\",IF(AD25>100%,100%,AD25))","v":" -"},{"$f":"+IF(N25=0,\" -\",Y25/N25)","v":0},{"$f":"+IF(N25=0,\" -\",IF(AF25>100%,100%,AF25))","v":0},{"$f":"+IF(Q25=0,\" -\",AA25/Q25)","v":" -"},{"$f":"+IF(Q25=0,\" -\",IF(AH25>100%,100%,AH25))","v":" -"},{"$f":"+IF(T25=0,\" -\",AC25/T25)","v":" -"},{"$f":"+IF(T25=0,\" -\",IF(AJ25>100%,100%,AJ25))","v":" -"},{"$f":"+SUM(AC25,AA25,Y25,W25)/I25","v":0.15340909090909066},{"$f":"+IF(AL25>100%,100%,IF(AL25<0%,0%,AL25))","v":0.15340909090909066},null,null,null,"Implementar y mantener 1 estrategia para la creación y promoción del Consejo Municipal de participación ciudadana.",{"$f":"'[1]LÍNEA 1'!P25","v":0},"Número de estrategias implementadas y mantenidas para la creación y promoción del Consejo Municipal de participación ciudadana.",0,{"$f":"'[1]LÍNEA 1'!S25","v":1},{"$f":"'[1]LÍNEA 1'!T25","v":1},0.25,{"$f":"'[1]LÍNEA 1'!U25","v":1},0.25,{"$f":"'[1]LÍNEA 1'!V25","v":1},0.25,{"$f":"'[1]LÍNEA 1'!W25","v":1},0.25,{"$f":"'[3]2016'!K14","v":0},{"$f":"'[3]2017'!K14","v":1},{"$f":"'[3]2018'!K14","v":1},{"$f":"'[3]2019'!K14","v":0},0,0,1,1,1,1,0,0,0.5,0.5,0.5,{"$f":"'[3]2016'!P14","v":0},{"$f":"'[3]2016'!Q14","v":0},{"$f":"'[3]2016'!R14","v":0}," -"," -",{"$f":"'[3]2017'!P14","v":0},{"$f":"'[3]2017'!Q14","v":0},{"$f":"'[3]2017'!R14","v":0}," -"," -",{"$f":"'[3]2018'!P14","v":0},{"$f":"'[3]2018'!Q14","v":0},{"$f":"'[3]2018'!R14","v":0}," -"," -",{"$f":"'[3]2019'!P14","v":25000},{"$f":"'[3]2019'!Q14","v":0},{"$f":"'[3]2019'!R14","v":0},0," -",25000,0,0,0," -","16. Paz, justicia e instituciones sólidas","Fortalecimiento Institucional",{"$f":"'[1]LÍNEA 1'!AQ25","v":"Sec. Desarrollo Social"}]
[null,null,null,null,null,null,null,null,null,null,null,null,null,null,null,null,null,null,null,null,null,null,null,null,null,null,null,null,null,null,null,null,null,null,null,null,null,null,null,null,null,null,"Implementar y mantener 1 estrategia para difundir la ley 1757 de 2015 y promover la apropiación por parte de la ciudadanía de los mecanismos allí establecidos.",{"$f":"'[1]LÍNEA 1'!P26","v":0},"Número de estrategias implementadas y mantenidas para difundir la ley 1757 de 2015 y promover la apropiación por parte de la ciudadanía de los mecanismos allí establecidos.",0,{"$f":"'[1]LÍNEA 1'!S26","v":1},{"$f":"'[1]LÍNEA 1'!T26","v":1},0.25,{"$f":"'[1]LÍNEA 1'!U26","v":1},0.25,{"$f":"'[1]LÍNEA 1'!V26","v":1},0.25,{"$f":"'[1]LÍNEA 1'!W26","v":1},0.25,{"$f":"'[3]2016'!K15","v":0},{"$f":"'[3]2017'!K15","v":0.67},{"$f":"'[3]2018'!K15","v":0},{"$f":"'[3]2019'!K15","v":0},0,0,0.67,0.67,0,0,0,0,0.16750000000000001,0.16750000000000001,0.16750000000000001,{"$f":"'[3]2016'!P15","v":0},{"$f":"'[3]2016'!Q15","v":0},{"$f":"'[3]2016'!R15","v":0}," -"," -",{"$f":"'[3]2017'!P15","v":0},{"$f":"'[3]2017'!Q15","v":0},{"$f":"'[3]2017'!R15","v":0}," -"," -",{"$f":"'[3]2018'!P15","v":0},{"$f":"'[3]2018'!Q15","v":0},{"$f":"'[3]2018'!R15","v":0}," -"," -",{"$f":"'[3]2019'!P15","v":25000},{"$f":"'[3]2019'!Q15","v":0},{"$f":"'[3]2019'!R15","v":0},0," -",25000,0,0,0," -","16. Paz, justicia e instituciones sólidas","Fortalecimiento Institucional",{"$f":"'[1]LÍNEA 1'!AQ26","v":"Sec. Desarrollo Social"}]
[null,null,null,null,null,null,null,null,null,null,null,null,null,null,null,null,null,null,null,null,null,null,null,null,null,null,null,null,null,null,null,null,null,null,null,null,null,null,null,null,null,null,"Implementar y mantener 1 estrategia de gobierno para la aplicación cabal de la ley 1757 de 2015 de participación ciudadana.",{"$f":"'[1]LÍNEA 1'!P27","v":" -"},"Número de estrategias de gobierno implementadas y mantenidas para la aplicación cabal de la ley 1757 de 2015 de participación ciudadana.",0,{"$f":"'[1]LÍNEA 1'!S27","v":1},{"$f":"'[1]LÍNEA 1'!T27","v":1},0.25,{"$f":"'[1]LÍNEA 1'!U27","v":1},0.25,{"$f":"'[1]LÍNEA 1'!V27","v":1},0.25,{"$f":"'[1]LÍNEA 1'!W27","v":1},0.25,{"$f":"'[3]2016'!K16","v":0},{"$f":"'[3]2017'!K16","v":1},{"$f":"'[3]2018'!K16","v":1},{"$f":"'[3]2019'!K16","v":0},0,0,1,1,1,1,0,0,0.5,0.5,0.5,{"$f":"'[3]2016'!P16","v":0},{"$f":"'[3]2016'!Q16","v":0},{"$f":"'[3]2016'!R16","v":0}," -"," -",{"$f":"'[3]2017'!P16","v":0},{"$f":"'[3]2017'!Q16","v":0},{"$f":"'[3]2017'!R16","v":0}," -"," -",{"$f":"'[3]2018'!P16","v":0},{"$f":"'[3]2018'!Q16","v":0},{"$f":"'[3]2018'!R16","v":0}," -"," -",{"$f":"'[3]2019'!P16","v":0},{"$f":"'[3]2019'!Q16","v":0},{"$f":"'[3]2019'!R16","v":0}," -"," -",0,0,0," -"," -","16. Paz, justicia e instituciones sólidas","Fortalecimiento Institucional",{"$f":"'[1]LÍNEA 1'!AQ27","v":"Sec. Desarrollo Social"}]
[null,null,null,null,null,null,null,null,null,null,null,null,null,null,null,null,null,null,null,null,null,null,null,null,null,null,null,null,null,null,null,null,null,null,null,null,null,null,null,null,null,null,"Implementar y mantener 1 estrategia para la promoción y el fortalecimiento de las veedurías.",{"$f":"'[1]LÍNEA 1'!P28","v":0},"Número de estrategias implementadas y mantenidas para la promoción y el fortalecimiento de las veedurías.",0,{"$f":"'[1]LÍNEA 1'!S28","v":1},{"$f":"'[1]LÍNEA 1'!T28","v":1},0.25,{"$f":"'[1]LÍNEA 1'!U28","v":1},0.25,{"$f":"'[1]LÍNEA 1'!V28","v":1},0.25,{"$f":"'[1]LÍNEA 1'!W28","v":1},0.25,{"$f":"'[3]2016'!K17","v":0},{"$f":"'[3]2017'!K17","v":0.5},{"$f":"'[3]2018'!K17","v":0},{"$f":"'[3]2019'!K17","v":0},0,0,0.5,0.5,0,0,0,0,0.125,0.125,0.125,{"$f":"'[3]2016'!P17","v":0},{"$f":"'[3]2016'!Q17","v":0},{"$f":"'[3]2016'!R17","v":0}," -"," -",{"$f":"'[3]2017'!P17","v":0},{"$f":"'[3]2017'!Q17","v":0},{"$f":"'[3]2017'!R17","v":0}," -"," -",{"$f":"'[3]2018'!P17","v":0},{"$f":"'[3]2018'!Q17","v":0},{"$f":"'[3]2018'!R17","v":0}," -"," -",{"$f":"'[3]2019'!P17","v":25000},{"$f":"'[3]2019'!Q17","v":0},{"$f":"'[3]2019'!R17","v":0},0," -",25000,0,0,0," -","16. Paz, justicia e instituciones sólidas","Fortalecimiento Institucional",{"$f":"'[1]LÍNEA 1'!AQ28","v":"Sec. Desarrollo Social"}]
[null,null,null,null,null,null,null,null,null,null,null,null,null,null,null,null,null,null,null,null,null,null,null,null,null,null,null,null,null,null,null,null,null,null,null,null,null,null,null,null,null,null,"Implementar y mantener 1 estrategia para el fortalecimiento del Consejo Municipal de Desarrollo Rural.",{"$f":"'[1]LÍNEA 1'!P29","v":0},"Número de estrategias implementadas y mantenidas para el fortalecimiento del Consejo Municipal de Desarrollo Rural.",1,{"$f":"'[1]LÍNEA 1'!S29","v":1},{"$f":"'[1]LÍNEA 1'!T29","v":1},0.25,{"$f":"'[1]LÍNEA 1'!U29","v":1},0.25,{"$f":"'[1]LÍNEA 1'!V29","v":1},0.25,{"$f":"'[1]LÍNEA 1'!W29","v":1},0.25,{"$f":"'[3]2016'!K18","v":1},{"$f":"'[3]2017'!K18","v":0.5},{"$f":"'[3]2018'!K18","v":1},{"$f":"'[3]2019'!K18","v":0},1,1,0.5,0.5,1,1,0,0,0.625,0.625,0.625,{"$f":"'[3]2016'!P18","v":0},{"$f":"'[3]2016'!Q18","v":0},{"$f":"'[3]2016'!R18","v":0}," -"," -",{"$f":"'[3]2017'!P18","v":0},{"$f":"'[3]2017'!Q18","v":0},{"$f":"'[3]2017'!R18","v":0}," -"," -",{"$f":"'[3]2018'!P18","v":0},{"$f":"'[3]2018'!Q18","v":0},{"$f":"'[3]2018'!R18","v":0}," -"," -",{"$f":"'[3]2019'!P18","v":25000},{"$f":"'[3]2019'!Q18","v":0},{"$f":"'[3]2019'!R18","v":0},0," -",25000,0,0,0," -","16. Paz, justicia e instituciones sólidas","Fortalecimiento Institucional",{"$f":"'[1]LÍNEA 1'!AQ29","v":"Sec. Desarrollo Social"}]
[null,null,null,null,null,null,null,null,null,null,null,null,null,null,null,null,null,null,null,null,null,null,null,null,null,null,null,null,null,null,null,null,null,null,null,null,null,null,null,null,null,null,"Crear 1 cargo del nivel directivo o asesor para que la coordinación de los asuntos de prensa y comunicaciones (Jefe de Prensa).",{"$f":"'[1]LÍNEA 1'!P30","v":" -"},"Número de cargos creados para la coordinación de los asuntos de prensa y comunicaciones (Jefe de prensa)",0,{"$f":"'[1]LÍNEA 1'!S30","v":1},{"$f":"'[1]LÍNEA 1'!T30","v":0},0,{"$f":"'[1]LÍNEA 1'!U30","v":1},1,{"$f":"'[1]LÍNEA 1'!V30","v":0},0,{"$f":"'[1]LÍNEA 1'!W30","v":0},0,{"$f":"'[9]2016'!K12","v":0},{"$f":"'[9]2017'!K12","v":0},{"$f":"'[9]2018'!K12","v":0},{"$f":"'[9]2019'!K12","v":0}," -"," -",0,0," -"," -"," -"," -",{"$f":"+SUM(BD30:BG30)/AU30","v":0},0,0,{"$f":"'[9]2016'!P12","v":0},{"$f":"'[9]2016'!Q12","v":0},{"$f":"'[9]2016'!R12","v":0}," -"," -",{"$f":"'[9]2017'!P12","v":0},{"$f":"'[9]2017'!Q12","v":0},{"$f":"'[9]2017'!R12","v":0}," -"," -",{"$f":"'[9]2018'!P12","v":0},{"$f":"'[9]2018'!Q12","v":0},{"$f":"'[9]2018'!R12","v":0}," -"," -",{"$f":"'[9]2019'!P12","v":0},{"$f":"'[9]2019'!Q12","v":0},{"$f":"'[9]2019'!R12","v":0}," -"," -",0,0,0," -"," -","16. Paz, justicia e instituciones sólidas","Fortalecimiento Institucional",{"$f":"'[1]LÍNEA 1'!AQ30","v":"Sec. Administrativa"}]
[null,null,null,null,null,null,null,null,null,null,null,null,null,null,null,null,null,null,null,null,null,null,null,null,null,null,null,null,null,null,null,null,null,null,null,null,null,null,null,null,null,null,"Crear 1 cargo del nivel directivo y/o asesor adscrito al despacho del Alcalde como encargado de asuntos de participación ciudadana.",{"$f":"'[1]LÍNEA 1'!P31","v":" -"},"Número de cargos del nivel directivo y/o asesor adscritos al despacho del Alcalde como encargado de asuntos de participación ciudadana.",0,{"$f":"'[1]LÍNEA 1'!S31","v":1},{"$f":"'[1]LÍNEA 1'!T31","v":0},0,{"$f":"'[1]LÍNEA 1'!U31","v":1},1,{"$f":"'[1]LÍNEA 1'!V31","v":0},0,{"$f":"'[1]LÍNEA 1'!W31","v":0},0,{"$f":"'[9]2016'!K13","v":0},{"$f":"'[9]2017'!K13","v":0},{"$f":"'[9]2018'!K13","v":0},{"$f":"'[9]2019'!K13","v":0}," -"," -",0,0," -"," -"," -"," -",{"$f":"+SUM(BD31:BG31)/AU31","v":0},0,0,{"$f":"'[9]2016'!P13","v":0},{"$f":"'[9]2016'!Q13","v":0},{"$f":"'[9]2016'!R13","v":0}," -"," -",{"$f":"'[9]2017'!P13","v":0},{"$f":"'[9]2017'!Q13","v":0},{"$f":"'[9]2017'!R13","v":0}," -"," -",{"$f":"'[9]2018'!P13","v":0},{"$f":"'[9]2018'!Q13","v":0},{"$f":"'[9]2018'!R13","v":0}," -"," -",{"$f":"'[9]2019'!P13","v":0},{"$f":"'[9]2019'!Q13","v":0},{"$f":"'[9]2019'!R13","v":0}," -"," -",0,0,0," -"," -","16. Paz, justicia e instituciones sólidas","Fortalecimiento Institucional",{"$f":"'[1]LÍNEA 1'!AQ31","v":"Sec. Administrativa"}]
[null,null,null,null,null,null,null,null,null,null,null,null,null,null,null,null,null,null,null,null,null,null,null,null,null,null,null,null,null,null,null,null,null,null,null,null,null,null,null,null,null,null,"Convocar y realizar 48 conversatorios con organizaciones sociales, organizaciones políticas, periodísticas o grupos de líderes de opinión para discutir asuntos del gobierno y la ciudad.",{"$f":"'[1]LÍNEA 1'!P32","v":2210289},"Número de conversatorios convocados y realizados con organizaciones sociales, organizaciones políticas, periodísticas o grupos de líderes de opinión para discutir asuntos del gobierno y la ciudad.",0,{"$f":"'[1]LÍNEA 1'!S32","v":48},{"$f":"'[1]LÍNEA 1'!T32","v":4},8.3333333333333329E-2,{"$f":"'[1]LÍNEA 1'!U32","v":15},0.3125,{"$f":"'[1]LÍNEA 1'!V32","v":14},0.29166666666666669,{"$f":"'[1]LÍNEA 1'!W32","v":15},0.3125,{"$f":"'[2]2016'!$K$13","v":3},{"$f":"'[2]2017'!$K$13","v":19},{"$f":"'[2]2018'!$K$13","v":20},{"$f":"'[2]2019'!$K$13","v":0},0.75,0.75,1.2666666666666666,1,1.4285714285714286,1,0,0,{"$f":"+SUM(BD32:BG32)/AU32","v":0.875},0.875,0.875,{"$f":"'[2]2016'!P13","v":0},{"$f":"'[2]2016'!Q13","v":0},{"$f":"'[2]2016'!R13","v":0}," -"," -",{"$f":"'[2]2017'!P13","v":0},{"$f":"'[2]2017'!Q13","v":0},{"$f":"'[2]2017'!R13","v":0}," -"," -",{"$f":"'[2]2018'!P13","v":24000},{"$f":"'[2]2018'!Q13","v":24000},{"$f":"'[2]2018'!R13","v":0},1," -",{"$f":"'[2]2019'!P13","v":0},{"$f":"'[2]2019'!Q13","v":0},{"$f":"'[2]2019'!R13","v":0}," -"," -",24000,24000,0,1," -","16. Paz, justicia e instituciones sólidas","Fortalecimiento Institucional",{"$f":"'[1]LÍNEA 1'!AQ32","v":"Sec. Interior"}]
[null,null,null,null,null,null,null,null,null,null,null,null,null,null,null,null,null,null,null,null,null,null,null,null,null,null,null,null,null,null,null,null,null,null,null,null,null,null,null,null,null,null,"Implementar y mantener 1 sección en la página web institucional para informar sobre los debates, las relaciones y los acuerdos con el Concejo e interactuar con la ciudadanía.",{"$f":"'[1]LÍNEA 1'!P33","v":" -"},"Número de secciones implementadas y mantenidas en la página web institucional para informar sobre los debates, las relaciones y los acuerdos con el Concejo e interactuar con la ciudadanía.",0,{"$f":"'[1]LÍNEA 1'!S33","v":1},{"$f":"'[1]LÍNEA 1'!T33","v":0},0,{"$f":"'[1]LÍNEA 1'!U33","v":1},0.33,{"$f":"'[1]LÍNEA 1'!V33","v":1},0.33,{"$f":"'[1]LÍNEA 1'!W33","v":1},0.34,{"$f":"'[10]2016'!K12","v":0.33},{"$f":"'[10]2017'!K12","v":1},{"$f":"'[10]2018'!K12","v":1},{"$f":"'[10]2019'!K12","v":0}," -"," -",1,1,1,1,0,0,{"$f":"+AVERAGE(BE33:BG33)/AU33","v":0.66666666666666663},0.66666666666666663,0.66666666666666663,{"$f":"'[10]2016'!P12","v":0},{"$f":"'[10]2016'!Q12","v":0},{"$f":"'[10]2016'!R12","v":0}," -"," -",{"$f":"'[10]2017'!P12","v":0},{"$f":"'[10]2017'!Q12","v":0},{"$f":"'[10]2017'!R12","v":0}," -"," -",{"$f":"'[10]2018'!P12","v":0},{"$f":"'[10]2018'!Q12","v":0},{"$f":"'[10]2018'!R12","v":0}," -"," -",{"$f":"'[10]2019'!P12","v":0},{"$f":"'[10]2019'!Q12","v":0},{"$f":"'[10]2019'!R12","v":0}," -"," -",0,0,0," -"," -","16. Paz, justicia e instituciones sólidas","Fortalecimiento Institucional",{"$f":"'[1]LÍNEA 1'!AQ33","v":"Asesor TIC"}]
[null,null,null,null,null,null,null,null,null,null,null,null,null,null,null,null,null,null,null,null,null,null,null,null,null,null,null,null,null,null,null,null,null,null,null,null,null,null,null,null,null,null,"Implementar y mantener 1 sección en la página web institucional para que la ciudadanía pueda compartir textos, imágenes, audios y videos sobre condiciones y problemas de la ciudad o propuestas de política.",{"$f":"'[1]LÍNEA 1'!P34","v":" -"},"Número de secciones implementadas y mantenidas en la página web institucional para que la ciudadanía pueda compartir textos, imágenes, audios y videos sobre condiciones y problemas de la ciudad o propuestas de política.",0,{"$f":"'[1]LÍNEA 1'!S34","v":1},{"$f":"'[1]LÍNEA 1'!T34","v":0},0,{"$f":"'[1]LÍNEA 1'!U34","v":1},0.33,{"$f":"'[1]LÍNEA 1'!V34","v":1},0.33,{"$f":"'[1]LÍNEA 1'!W34","v":1},0.34,{"$f":"'[10]2016'!K13","v":0.5},{"$f":"'[10]2017'!K13","v":1},{"$f":"'[10]2018'!K13","v":1},{"$f":"'[10]2019'!K13","v":0}," -"," -",1,1,1,1,0,0,0.625,0.625,0.625,{"$f":"'[10]2016'!P13","v":0},{"$f":"'[10]2016'!Q13","v":0},{"$f":"'[10]2016'!R13","v":0}," -"," -",{"$f":"'[10]2017'!P13","v":0},{"$f":"'[10]2017'!Q13","v":0},{"$f":"'[10]2017'!R13","v":0}," -"," -",{"$f":"'[10]2018'!P13","v":0},{"$f":"'[10]2018'!Q13","v":0},{"$f":"'[10]2018'!R13","v":0}," -"," -",{"$f":"'[10]2019'!P13","v":0},{"$f":"'[10]2019'!Q13","v":0},{"$f":"'[10]2019'!R13","v":0}," -"," -",0,0,0," -"," -","16. Paz, justicia e instituciones sólidas","Fortalecimiento Institucional",{"$f":"'[1]LÍNEA 1'!AQ34","v":"Asesor TIC"}]
[null,null,null,null,null,null,null,null,null,null,null,null,null,null,null,null,null,null,null,null,null,null,null,null,null,null,null,null,null,null,null,null,null,null,null,null,null,null,null,null,{"$f":"+RESUMEN!J13","v":0.76826923076923082},"INSTITUCIONES DEMOCRÁTICAS DE BASE  FORTALECIDAS E INCLUYENTES","Beneficiar al 100% de los ediles con pago de EPS, Pensión, ARL y póliza de vida.",{"$f":"'[1]LÍNEA 1'!P35","v":2210216},"Porcentaje de ediles beneficiados con pago de EPS, Pensión, ARL y póliza de vida.",1,{"$f":"'[1]LÍNEA 1'!S35","v":1},{"$f":"'[1]LÍNEA 1'!T35","v":1},0.25,{"$f":"'[1]LÍNEA 1'!U35","v":1},0.25,{"$f":"'[1]LÍNEA 1'!V35","v":1},0.25,{"$f":"'[1]LÍNEA 1'!W35","v":1},0.25,{"$f":"'[3]2016'!K19","v":1},{"$f":"'[3]2017'!K19","v":1},{"$f":"'[3]2018'!K19","v":1},{"$f":"'[3]2019'!K19","v":0},1,1,1,1,1,1,0,0,0.75,0.75,0.75,{"$f":"'[3]2016'!P19","v":500000},{"$f":"'[3]2016'!Q19","v":483730},{"$f":"'[3]2016'!R19","v":0},0.96745999999999999," -",{"$f":"'[3]2017'!P19","v":497805},{"$f":"'[3]2017'!Q19","v":496218},{"$f":"'[3]2017'!R19","v":0},0.9968120047006358," -",{"$f":"'[3]2018'!P19","v":758291},{"$f":"'[3]2018'!Q19","v":673389},{"$f":"'[3]2018'!R19","v":0},0.88803506833128709," -",{"$f":"'[3]2019'!P19","v":912933},{"$f":"'[3]2019'!Q19","v":0},{"$f":"'[3]2019'!R19","v":0},0," -",2669029,1653337,0,0.61945261741254964," -","16. Paz, justicia e instituciones sólidas","Fortalecimiento Institucional",{"$f":"'[1]LÍNEA 1'!AQ35","v":"Sec. Desarrollo Social"}]
[null,null,null,null,null,null,null,null,null,null,null,null,null,null,null,null,null,null,null,null,null,null,null,null,null,null,null,null,null,null,null,null,null,null,null,null,null,null,null,null,null,null,"Implementar y mantener 1 estrategia para fortalecer la Unidad de Desarrollo Comunitario - UNDECO.",{"$f":"'[1]LÍNEA 1'!P36","v":2210706},"Número de estrategias implementadas y mantenidas para fortalecer la Unidad de Desarrollo Comunitario - UNDECO.",1,{"$f":"'[1]LÍNEA 1'!S36","v":1},{"$f":"'[1]LÍNEA 1'!T36","v":1},0.25,{"$f":"'[1]LÍNEA 1'!U36","v":1},0.25,{"$f":"'[1]LÍNEA 1'!V36","v":1},0.25,{"$f":"'[1]LÍNEA 1'!W36","v":1},0.25,{"$f":"'[3]2016'!K20","v":1},{"$f":"'[3]2017'!K20","v":1},{"$f":"'[3]2018'!K20","v":1},{"$f":"'[3]2019'!K20","v":0},1,1,1,1,1,1,0,0,0.75,0.75,0.75,{"$f":"'[3]2016'!P20","v":300000},{"$f":"'[3]2016'!Q20","v":246783},{"$f":"'[3]2016'!R20","v":0},0.82260999999999995," -",{"$f":"'[3]2017'!P20","v":494004},{"$f":"'[3]2017'!Q20","v":479089},{"$f":"'[3]2017'!R20","v":0},0.96980793677783983," -",{"$f":"'[3]2018'!P20","v":2259200},{"$f":"'[3]2018'!Q20","v":1953266},{"$f":"'[3]2018'!R20","v":0},0.86458303824362603," -",{"$f":"'[3]2019'!P20","v":0},{"$f":"'[3]2019'!Q20","v":0},{"$f":"'[3]2019'!R20","v":0}," -"," -",3053204,2679138,0,0.87748411177242003," -","16. Paz, justicia e instituciones sólidas","Desarrollo Comunitario",{"$f":"'[1]LÍNEA 1'!AQ36","v":"Sec. Desarrollo Social"}]
[null,null,null,null,null,null,null,null,null,null,null,null,null,null,null,null,null,null,null,null,null,null,null,null,null,null,null,null,null,null,null,null,null,null,null,null,null,null,null,null,null,null,"Realizar ejercicios de participación y construcción del territorio con 100 Juntas de Acción Comunal - JAC.",{"$f":"'[1]LÍNEA 1'!P37","v":2210706},"Número de Juntas de Acción Comunal - JAC que participan en ejercicios de construcción del territorio.",0,{"$f":"'[1]LÍNEA 1'!S37","v":100},{"$f":"'[1]LÍNEA 1'!T37","v":25},0.25,{"$f":"'[1]LÍNEA 1'!U37","v":25},0.25,{"$f":"'[1]LÍNEA 1'!V37","v":25},0.25,{"$f":"'[1]LÍNEA 1'!W37","v":25},0.25,{"$f":"'[3]2016'!K21","v":55},{"$f":"'[3]2017'!K21","v":35},{"$f":"'[3]2018'!K21","v":15},{"$f":"'[3]2019'!K21","v":0},2.2000000000000002,1,1.4,1,0.6,0.6,0,0,{"$f":"+SUM(BD37:BG37)/AU37","v":1.05},1,1,{"$f":"'[3]2016'!P21","v":35000},{"$f":"'[3]2016'!Q21","v":15000},{"$f":"'[3]2016'!R21","v":0},0.42857142857142855," -",{"$f":"'[3]2017'!P21","v":0},{"$f":"'[3]2017'!Q21","v":0},{"$f":"'[3]2017'!R21","v":0}," -"," -",{"$f":"'[3]2018'!P21","v":0},{"$f":"'[3]2018'!Q21","v":0},{"$f":"'[3]2018'!R21","v":0}," -"," -",{"$f":"'[3]2019'!P21","v":27300},{"$f":"'[3]2019'!Q21","v":0},{"$f":"'[3]2019'!R21","v":0},0," -",62300,15000,0,0.24077046548956663," -","16. Paz, justicia e instituciones sólidas","Desarrollo Comunitario",{"$f":"'[1]LÍNEA 1'!AQ37","v":"Sec. Desarrollo Social"}]
[null,null,null,null,null,"Lograr que el 60% de los ciudadanos confíe en la gestión del Alcalde/Gobierno Municipal de acuerdo a la encuesta Cómo Vamos.",0.3,0.6,{"$f":"+H38-G38","v":0.3},0.4,{"$f":"+J38-G38","v":0.10000000000000003},null,0.5,{"$f":"+M38-J38","v":9.9999999999999978E-2},null,0.6,{"$f":"+P38-M38","v":9.9999999999999978E-2},null,0.6,{"$f":"+S38-P38","v":0},null,0.3,{"$f":"+IF(V38=0,0,V38-G38)","v":0},null,{"$f":"+IF(X38=0,0,X38-V38)","v":0},null,{"$f":"+IF(Z38=0,0,Z38-X38)","v":0},null,{"$f":"+IF(AB38=0,0,AB38-Z38)","v":0},{"$f":"+IF(K38=0,\" -\",W38/K38)","v":0},{"$f":"+IF(K38=0,\" -\",IF(AD38>100%,100%,AD38))","v":0},{"$f":"+IF(N38=0,\" -\",Y38/N38)","v":0},{"$f":"+IF(N38=0,\" -\",IF(AF38>100%,100%,AF38))","v":0},{"$f":"+IF(Q38=0,\" -\",AA38/Q38)","v":0},{"$f":"+IF(Q38=0,\" -\",IF(AH38>100%,100%,AH38))","v":0},{"$f":"+IF(T38=0,\" -\",AC38/T38)","v":" -"},{"$f":"+IF(T38=0,\" -\",IF(AJ38>100%,100%,AJ38))","v":" -"},{"$f":"+SUM(AC38,AA38,Y38,W38)/I38","v":0},{"$f":"+IF(AL38>100%,100%,IF(AL38<0%,0%,AL38))","v":0},null,null,null,"Implementar y mantener la estrategia \"Voces de los comuneros\".",{"$f":"'[1]LÍNEA 1'!P38","v":" -"},"Número de estrategias \"Voces de los comuneros\" implementadas y mantenidas.",0,{"$f":"'[1]LÍNEA 1'!S38","v":1},{"$f":"'[1]LÍNEA 1'!T38","v":1},0.25,{"$f":"'[1]LÍNEA 1'!U38","v":1},0.25,{"$f":"'[1]LÍNEA 1'!V38","v":1},0.25,{"$f":"'[1]LÍNEA 1'!W38","v":1},0.25,{"$f":"'[3]2016'!K22","v":1},{"$f":"'[3]2017'!K22","v":1},{"$f":"'[3]2018'!K22","v":1},{"$f":"'[3]2019'!K22","v":0},1,1,1,1,1,1,0,0,0.75,0.75,0.75,{"$f":"'[3]2016'!P22","v":0},{"$f":"'[3]2016'!Q22","v":0},{"$f":"'[3]2016'!R22","v":0}," -"," -",{"$f":"'[3]2017'!P22","v":0},{"$f":"'[3]2017'!Q22","v":0},{"$f":"'[3]2017'!R22","v":0}," -"," -",{"$f":"'[3]2018'!P22","v":0},{"$f":"'[3]2018'!Q22","v":0},{"$f":"'[3]2018'!R22","v":0}," -"," -",{"$f":"'[3]2019'!P22","v":0},{"$f":"'[3]2019'!Q22","v":0},{"$f":"'[3]2019'!R22","v":0}," -"," -",0,0,0," -"," -","16. Paz, justicia e instituciones sólidas","Justicia y Seguridad",{"$f":"'[1]LÍNEA 1'!AQ38","v":"Sec. Desarrollo Social"}]
[null,null,null,null,null,null,null,null,null,null,null,null,null,null,null,null,null,null,null,null,null,null,null,null,null,null,null,null,null,null,null,null,null,null,null,null,null,null,null,null,null,null,"Realizar 2 actividades de dotación para ediles con el fin de apoyar su ejercicio democrático.",{"$f":"'[1]LÍNEA 1'!P39","v":2210706},"Número de actividades de dotación realizadas para ediles con el fin de apoyar su ejercicio democrático.",1,{"$f":"'[1]LÍNEA 1'!S39","v":2},{"$f":"'[1]LÍNEA 1'!T39","v":0},0,{"$f":"'[1]LÍNEA 1'!U39","v":1},0.5,{"$f":"'[1]LÍNEA 1'!V39","v":1},0.5,{"$f":"'[1]LÍNEA 1'!W39","v":0},0,{"$f":"'[3]2016'!K23","v":0},{"$f":"'[3]2017'!K23","v":3},{"$f":"'[3]2018'!K23","v":0},{"$f":"'[3]2019'!K23","v":0}," -"," -",3,1,0,0," -"," -",{"$f":"+SUM(BD39:BG39)/AU39","v":1.5},1,1,{"$f":"'[3]2016'!P23","v":0},{"$f":"'[3]2016'!Q23","v":0},{"$f":"'[3]2016'!R23","v":0}," -"," -",{"$f":"'[3]2017'!P23","v":30940},{"$f":"'[3]2017'!Q23","v":9638},{"$f":"'[3]2017'!R23","v":0},0.31150614091790563," -",{"$f":"'[3]2018'!P23","v":0},{"$f":"'[3]2018'!Q23","v":0},{"$f":"'[3]2018'!R23","v":0}," -"," -",{"$f":"'[3]2019'!P23","v":41800},{"$f":"'[3]2019'!Q23","v":0},{"$f":"'[3]2019'!R23","v":0},0," -",72740,9638,0,0.13249931262029144," -","16. Paz, justicia e instituciones sólidas","Desarrollo Comunitario",{"$f":"'[1]LÍNEA 1'!AQ39","v":"Sec. Desarrollo Social"}]
[null,null,null,null,null,null,null,null,null,null,null,null,null,null,null,null,null,null,null,null,null,null,null,null,null,null,null,null,null,null,null,null,null,null,null,null,null,null,null,null,null,null,"Realizar 4 concursos \"embellece tu barrio\".",{"$f":"'[1]LÍNEA 1'!P40","v":2210706},"Número de concursos \"embellece tu barrio\" realizados.",0,{"$f":"'[1]LÍNEA 1'!S40","v":4},{"$f":"'[1]LÍNEA 1'!T40","v":0},0,{"$f":"'[1]LÍNEA 1'!U40","v":1},0.25,{"$f":"'[1]LÍNEA 1'!V40","v":1},0.25,{"$f":"'[1]LÍNEA 1'!W40","v":2},0.5,{"$f":"'[3]2016'!K24","v":0},{"$f":"'[3]2017'!K24","v":0},{"$f":"'[3]2018'!K24","v":0},{"$f":"'[3]2019'!K24","v":0}," -"," -",0,0,0,0,0,0,{"$f":"+SUM(BD40:BG40)/AU40","v":0},0,0,{"$f":"'[3]2016'!P24","v":30000},{"$f":"'[3]2016'!Q24","v":0},{"$f":"'[3]2016'!R24","v":0},0," -",{"$f":"'[3]2017'!P24","v":0},{"$f":"'[3]2017'!Q24","v":0},{"$f":"'[3]2017'!R24","v":0}," -"," -",{"$f":"'[3]2018'!P24","v":0},{"$f":"'[3]2018'!Q24","v":0},{"$f":"'[3]2018'!R24","v":0}," -"," -",{"$f":"'[3]2019'!P24","v":22823},{"$f":"'[3]2019'!Q24","v":0},{"$f":"'[3]2019'!R24","v":0},0," -",52823,0,0,0," -","13. Acción por el clima","Ambiental",{"$f":"'[1]LÍNEA 1'!AQ40","v":"Sec. Desarrollo Social"}]
[null,null,null,null,null,null,null,null,null,null,null,null,null,null,null,null,null,null,null,null,null,null,null,null,null,null,null,null,null,null,null,null,null,null,null,null,null,null,null,null,null,null,"Brindar 10.000 entradas gratuitas a ediles, dignatarios y afiliados de las JAL y JAC a espacios de recreación y cultura.",{"$f":"'[1]LÍNEA 1'!P41","v":2210706},"Número de entradas gratuitas brindadas a ediles, dignatarios y afiliados de las JAL y JAC a espacios de recreación y cultura.",0,{"$f":"'[1]LÍNEA 1'!S41","v":10000},{"$f":"'[1]LÍNEA 1'!T41","v":2500},0.25,{"$f":"'[1]LÍNEA 1'!U41","v":2500},0.25,{"$f":"'[1]LÍNEA 1'!V41","v":2500},0.25,{"$f":"'[1]LÍNEA 1'!W41","v":2500},0.25,{"$f":"'[3]2016'!K25","v":4200},{"$f":"'[3]2017'!K25","v":6500},{"$f":"'[3]2018'!K25","v":7827},{"$f":"'[3]2019'!K25","v":0},1.68,1,2.6,1,3.1307999999999998,1,0,0,1.8527,1,1,{"$f":"'[3]2016'!P25","v":21000},{"$f":"'[3]2016'!Q25","v":21000},{"$f":"'[3]2016'!R25","v":6300},1,0.3,{"$f":"'[3]2017'!P25","v":30000},{"$f":"'[3]2017'!Q25","v":30000},{"$f":"'[3]2017'!R25","v":0},1," -",{"$f":"'[3]2018'!P25","v":40000},{"$f":"'[3]2018'!Q25","v":39996},{"$f":"'[3]2018'!R25","v":17141},0.99990000000000001,0.42856785678567855,{"$f":"'[3]2019'!P25","v":0},{"$f":"'[3]2019'!Q25","v":0},{"$f":"'[3]2019'!R25","v":0}," -"," -",91000,90996,23441,0.99995604395604398,0.2576047298782364,"16. Paz, justicia e instituciones sólidas","Desarrollo Comunitario",{"$f":"'[1]LÍNEA 1'!AQ41","v":"Sec. Desarrollo Social"}]
[null,null,null,null,null,null,null,null,null,null,null,null,null,null,null,null,null,null,null,null,null,null,null,null,null,null,null,null,null,null,null,null,null,null,null,null,null,null,null,null,null,null,"Realizar 80 reuniones en el territorio con Juntas Administradoras Locales - JAL para discutir política pública y problemas de la comunidad.",{"$f":"'[1]LÍNEA 1'!P42","v":2210706},"Número de reuniones realizadas en el territorio con Juntas Administradoras Locales - JAL para discutir política pública y problemas de la comunidad.",0,{"$f":"'[1]LÍNEA 1'!S42","v":80},{"$f":"'[1]LÍNEA 1'!T42","v":20},0.25,{"$f":"'[1]LÍNEA 1'!U42","v":20},0.25,{"$f":"'[1]LÍNEA 1'!V42","v":20},0.25,{"$f":"'[1]LÍNEA 1'!W42","v":20},0.25,{"$f":"'[3]2016'!K26","v":20},{"$f":"'[3]2017'!K26","v":19},{"$f":"'[3]2018'!K26","v":10},{"$f":"'[3]2019'!K26","v":0},1,1,0.95,0.95,0.5,0.5,0,0,0.61250000000000004,0.61250000000000004,0.61250000000000004,{"$f":"'[3]2016'!P26","v":20000},{"$f":"'[3]2016'!Q26","v":0},{"$f":"'[3]2016'!R26","v":0},0," -",{"$f":"'[3]2017'!P26","v":0},{"$f":"'[3]2017'!Q26","v":0},{"$f":"'[3]2017'!R26","v":0}," -"," -",{"$f":"'[3]2018'!P26","v":0},{"$f":"'[3]2018'!Q26","v":0},{"$f":"'[3]2018'!R26","v":0}," -"," -",{"$f":"'[3]2019'!P26","v":20000},{"$f":"'[3]2019'!Q26","v":0},{"$f":"'[3]2019'!R26","v":0},0," -",40000,0,0,0," -","16. Paz, justicia e instituciones sólidas","Desarrollo Comunitario",{"$f":"'[1]LÍNEA 1'!AQ42","v":"Sec. Desarrollo Social"}]
[null,null,null,null,null,null,null,null,null,null,null,null,null,null,null,null,null,null,null,null,null,null,null,null,null,null,null,null,null,null,null,null,null,null,null,null,null,null,null,null,null,null,"Desarrollar 1 estrategia para la formación de los conciliadores de las JAC que promuevan una cultura de trasformación de los conflictos cotidianos en la comunidad para disminuir los índices de violencia por intolerancia social.",{"$f":"'[1]LÍNEA 1'!P43","v":" -"},"Número de estrategias desarrolladas para la formación de los conciliadores de las JAC que promuevan una cultura de trasformación de los conflictos cotidianos en la comunidad para disminuir los índices de violencia por intolerancia social.",0,{"$f":"'[1]LÍNEA 1'!S43","v":1},{"$f":"'[1]LÍNEA 1'!T43","v":0},0,{"$f":"'[1]LÍNEA 1'!U43","v":1},1,{"$f":"'[1]LÍNEA 1'!V43","v":0},0,{"$f":"'[1]LÍNEA 1'!W43","v":0},0,{"$f":"'[3]2016'!K27","v":1},{"$f":"'[3]2017'!K27","v":1},{"$f":"'[3]2018'!K27","v":1},{"$f":"'[3]2019'!K27","v":0}," -"," -",1,1," -"," -"," -"," -",3,1,1,{"$f":"'[3]2016'!P27","v":0},{"$f":"'[3]2016'!Q27","v":0},{"$f":"'[3]2016'!R27","v":0}," -"," -",{"$f":"'[3]2017'!P27","v":0},{"$f":"'[3]2017'!Q27","v":0},{"$f":"'[3]2017'!R27","v":0}," -"," -",{"$f":"'[3]2018'!P27","v":0},{"$f":"'[3]2018'!Q27","v":0},{"$f":"'[3]2018'!R27","v":0}," -"," -",{"$f":"'[3]2019'!P27","v":0},{"$f":"'[3]2019'!Q27","v":0},{"$f":"'[3]2019'!R27","v":0}," -"," -",0,0,0," -"," -","16. Paz, justicia e instituciones sólidas","Desarrollo Comunitario",{"$f":"'[1]LÍNEA 1'!AQ43","v":"Sec. Desarrollo Social"}]
[null,null,null,null,null,null,null,null,null,null,null,null,null,null,null,null,null,null,null,null,null,null,null,null,null,null,null,null,null,null,null,null,null,null,null,null,null,null,null,null,null,null,"Realizar 8 actividades para el fortalecimiento del Consejo Territorial de Planeación.",{"$f":"'[1]LÍNEA 1'!P44","v":2210842},"Número de actividades realizadas para el fortalecimiento del Consejo Territorial de Planeación.",0,{"$f":"'[1]LÍNEA 1'!S44","v":8},{"$f":"'[1]LÍNEA 1'!T44","v":1},0.125,{"$f":"'[1]LÍNEA 1'!U44","v":3},0.375,{"$f":"'[1]LÍNEA 1'!V44","v":2},0.25,{"$f":"'[1]LÍNEA 1'!W44","v":2},0.25,{"$f":"'[6]2016'!$K$13","v":1},{"$f":"'[6]2017'!$K$13","v":3},{"$f":"'[6]2018'!$K$13","v":1},{"$f":"'[6]2019'!$K$13","v":0},1,1,1,1,0.5,0.5,0,0,0.625,0.625,0.625,{"$f":"'[6]2016'!P13","v":33500},{"$f":"'[6]2016'!Q13","v":23650},{"$f":"'[6]2016'!R13","v":0},0.70597014925373136," -",{"$f":"'[6]2017'!P13","v":169800},{"$f":"'[6]2017'!Q13","v":169800},{"$f":"'[6]2017'!R13","v":270000},1,1.5901060070671378,{"$f":"'[6]2018'!P13","v":10200},{"$f":"'[6]2018'!Q13","v":10200},{"$f":"'[6]2018'!R13","v":0},1," -",{"$f":"'[6]2019'!P13","v":20000},{"$f":"'[6]2019'!Q13","v":0},{"$f":"'[6]2019'!R13","v":0},0," -",233500,203650,270000,0.87216274089935764,1.3258040756199361,"16. Paz, justicia e instituciones sólidas","Desarrollo Comunitario",{"$f":"'[1]LÍNEA 1'!AQ44","v":"Sec. Planeación"}]
[null,null,null,null,null,null,null,null,null,null,null,null,null,null,null,null,null,null,null,null,null,null,null,null,null,null,null,null,null,null,null,null,null,null,null,null,null,null,null,null,null,null,"Construir o adecuar 1 espacio de trabajo con equipamiento para ediles.",{"$f":"'[1]LÍNEA 1'!P45","v":" -"},"Número de espacios de trabajo construidos o adecuados con equipamiento para ediles.",0,{"$f":"'[1]LÍNEA 1'!S45","v":1},{"$f":"'[1]LÍNEA 1'!T45","v":0},0,{"$f":"'[1]LÍNEA 1'!U45","v":1},1,{"$f":"'[1]LÍNEA 1'!V45","v":0},0,{"$f":"'[1]LÍNEA 1'!W45","v":0},0,{"$f":"'[7]2016'!$K$13","v":0},{"$f":"'[3]2017'!$K$28","v":1},{"$f":"'[3]2018'!$K$28","v":0},{"$f":"'[3]2019'!$K$28","v":0}," -"," -",1,1," -"," -"," -"," -",1,1,1,{"$f":"'[7]2016'!P13","v":0},{"$f":"'[7]2016'!Q13","v":0},{"$f":"'[7]2016'!R13","v":0}," -"," -",{"$f":"'[3]2017'!P28","v":39156},{"$f":"'[3]2017'!Q28","v":39156},{"$f":"'[3]2017'!R28","v":0},1," -",{"$f":"'[3]2018'!P28","v":0},{"$f":"'[3]2018'!Q28","v":0},{"$f":"'[3]2018'!R28","v":0}," -"," -",{"$f":"'[3]2019'!P28","v":0},{"$f":"'[3]2019'!Q28","v":0},{"$f":"'[3]2019'!R28","v":0}," -"," -",39156,39156,0,1," -","16. Paz, justicia e instituciones sólidas","Desarrollo Comunitario",{"$f":"'[1]LÍNEA 1'!AQ45","v":"Sec. Desarrollo Social"}]
[null,null,null,null,null,null,null,null,null,null,null,null,null,null,null,null,null,null,null,null,null,null,null,null,null,null,null,null,null,null,null,null,null,null,null,null,null,null,null,null,null,null,"Implementar y mantener 1 plataforma de interacción, registro de información y visibilización en línea para Juntas de Acción Comunal, Juntas Administradoras Locales y comités de desarrollo y control social.",{"$f":"'[1]LÍNEA 1'!P46","v":" -"},"Número de plataformas de interacción, registro de información y visibilización en línea implementadas y mantenidas para Juntas de Acción Comunal, Juntas Administradoras Locales y comités de desarrollo y control social.",0,{"$f":"'[1]LÍNEA 1'!S46","v":1},{"$f":"'[1]LÍNEA 1'!T46","v":1},0.25,{"$f":"'[1]LÍNEA 1'!U46","v":1},0.25,{"$f":"'[1]LÍNEA 1'!V46","v":1},0.25,{"$f":"'[1]LÍNEA 1'!W46","v":1},0.25,{"$f":"'[10]2016'!$K$14","v":1},{"$f":"'[10]2017'!$K$14","v":1},{"$f":"'[10]2018'!$K$14","v":1},{"$f":"'[10]2019'!$K$14","v":0},1,1,1,1,1,1,0,0,0.75,0.75,0.75,{"$f":"'[10]2016'!P14","v":0},{"$f":"'[10]2016'!Q14","v":0},{"$f":"'[10]2016'!R14","v":0}," -"," -",{"$f":"'[10]2017'!P14","v":0},{"$f":"'[10]2017'!Q14","v":0},{"$f":"'[10]2017'!R14","v":0}," -"," -",{"$f":"'[10]2018'!P14","v":0},{"$f":"'[10]2018'!Q14","v":0},{"$f":"'[10]2018'!R14","v":0}," -"," -",{"$f":"'[10]2019'!P14","v":0},{"$f":"'[10]2019'!Q14","v":0},{"$f":"'[10]2019'!R14","v":0}," -"," -",0,0,0," -"," -","16. Paz, justicia e instituciones sólidas","Desarrollo Comunitario",{"$f":"'[1]LÍNEA 1'!AQ46","v":"Asesor TIC"}]
[null,null,null,null,null,null,null,null,null,null,null,null,null,null,null,null,null,null,null,null,null,null,null,null,null,null,null,null,null,null,null,null,null,null,null,null,null,null,null,null,null,null,"Mantener el acompañamiento y/o asesoría al 100% de los comites de desarrollo y control social que lo requieran.",{"$f":"'[1]LÍNEA 1'!P47","v":" -"},"Porcentaje de comités de desarrollo y control social con el acompañamiento según lo requerido.",1,{"$f":"'[1]LÍNEA 1'!S47","v":1},{"$f":"'[1]LÍNEA 1'!T47","v":1},0.25,{"$f":"'[1]LÍNEA 1'!U47","v":1},0.25,{"$f":"'[1]LÍNEA 1'!V47","v":1},0.25,{"$f":"'[1]LÍNEA 1'!W47","v":1},0.25,{"$f":"'[11]2016'!$K$12","v":1},{"$f":"'[11]2017'!$K$12","v":1},{"$f":"'[11]2018'!$K$12","v":1},{"$f":"'[11]2019'!$K$12","v":0},1,1,1,1,1,1,0,0,0.75,0.75,0.75,{"$f":"'[11]2016'!P12","v":0},{"$f":"'[11]2016'!Q12","v":0},{"$f":"'[11]2016'!R12","v":0}," -"," -",{"$f":"'[11]2017'!P12","v":0},{"$f":"'[11]2017'!Q12","v":0},{"$f":"'[11]2017'!R12","v":0}," -"," -",{"$f":"'[11]2018'!P12","v":0},{"$f":"'[11]2018'!Q12","v":0},{"$f":"'[11]2018'!R12","v":0}," -"," -",{"$f":"'[11]2019'!P12","v":0},{"$f":"'[11]2019'!Q12","v":0},{"$f":"'[11]2019'!R12","v":0}," -"," -",0,0,0," -"," -","16. Paz, justicia e instituciones sólidas","Fortalecimiento Institucional",{"$f":"'[1]LÍNEA 1'!AQ47","v":"UTSP"}]
[null,null,null,null,null,null,null,null,null,null,null,null,null,null,null,null,null,null,null,null,null,null,null,null,null,null,null,null,null,null,null,null,null,null,null,null,null,null,null,null,{"$f":"+RESUMEN!J14","v":0.64947089947089942},"RENDICIÓN DE CUENTAS PERMANENTE E INTERACTIVA","Mantener 1 sección en línea y actualizada sobre los planes anti-corrupción y su cumplimiento.",{"$f":"'[1]LÍNEA 1'!P48","v":" -"},"Número de secciones mantenidas en línea y actualizada sobre los planes anti-corrupción y su cumplimiento.",1,{"$f":"'[1]LÍNEA 1'!S48","v":1},{"$f":"'[1]LÍNEA 1'!T48","v":1},0.25,{"$f":"'[1]LÍNEA 1'!U48","v":1},0.25,{"$f":"'[1]LÍNEA 1'!V48","v":1},0.25,{"$f":"'[1]LÍNEA 1'!W48","v":1},0.25,{"$f":"'[10]2016'!K15","v":1},{"$f":"'[10]2017'!K15","v":1},{"$f":"'[10]2018'!K15","v":1},{"$f":"'[10]2019'!K15","v":0},1,1,1,1,1,1,0,0,0.75,0.75,0.75,{"$f":"'[10]2016'!P15","v":0},{"$f":"'[10]2016'!Q15","v":0},{"$f":"'[10]2016'!R15","v":0}," -"," -",{"$f":"'[10]2017'!P15","v":0},{"$f":"'[10]2017'!Q15","v":0},{"$f":"'[10]2017'!R15","v":0}," -"," -",{"$f":"'[10]2018'!P15","v":0},{"$f":"'[10]2018'!Q15","v":0},{"$f":"'[10]2018'!R15","v":0}," -"," -",{"$f":"'[10]2019'!P15","v":0},{"$f":"'[10]2019'!Q15","v":0},{"$f":"'[10]2019'!R15","v":0}," -"," -",0,0,0," -"," -","16. Paz, justicia e instituciones sólidas","Fortalecimiento Institucional",{"$f":"'[1]LÍNEA 1'!AQ48","v":"Asesor TIC"}]
[null,null,null,null,null,null,null,null,null,null,null,null,null,null,null,null,null,null,null,null,null,null,null,null,null,null,null,null,null,null,null,null,null,null,null,null,null,null,null,null,null,null,"Implementar y mantener 1 sección en línea y actualizada de los planes de compras y adquisiciones y su ejecución.",{"$f":"'[1]LÍNEA 1'!P49","v":" -"},"Número de secciones implementadas y mantenidas en línea y actualizada de los planes de compras y adquisiciones y su ejecución.",1,{"$f":"'[1]LÍNEA 1'!S49","v":1},{"$f":"'[1]LÍNEA 1'!T49","v":1},0.25,{"$f":"'[1]LÍNEA 1'!U49","v":1},0.25,{"$f":"'[1]LÍNEA 1'!V49","v":1},0.25,{"$f":"'[1]LÍNEA 1'!W49","v":1},0.25,{"$f":"'[10]2016'!K16","v":1},{"$f":"'[10]2017'!K16","v":1},{"$f":"'[10]2018'!K16","v":1},{"$f":"'[10]2019'!K16","v":0},1,1,1,1,1,1,0,0,0.75,0.75,0.75,{"$f":"'[10]2016'!P16","v":0},{"$f":"'[10]2016'!Q16","v":0},{"$f":"'[10]2016'!R16","v":0}," -"," -",{"$f":"'[10]2017'!P16","v":0},{"$f":"'[10]2017'!Q16","v":0},{"$f":"'[10]2017'!R16","v":0}," -"," -",{"$f":"'[10]2018'!P16","v":0},{"$f":"'[10]2018'!Q16","v":0},{"$f":"'[10]2018'!R16","v":0}," -"," -",{"$f":"'[10]2019'!P16","v":0},{"$f":"'[10]2019'!Q16","v":0},{"$f":"'[10]2019'!R16","v":0}," -"," -",0,0,0," -"," -","16. Paz, justicia e instituciones sólidas","Fortalecimiento Institucional",{"$f":"'[1]LÍNEA 1'!AQ49","v":"Asesor TIC"}]
[null,null,null,null,null,null,null,null,null,null,null,null,null,null,null,null,null,null,null,null,null,null,null,null,null,null,null,null,null,null,null,null,null,null,null,null,null,null,null,null,null,null,"Mantener 1 sección en línea y actualizada sobre el Plan de Desarrollo y su ejecución.",{"$f":"'[1]LÍNEA 1'!P50","v":" -"},"Número de secciones mantenidas en línea y actualizada sobre el Plan de Desarrollo y su ejecución.",1,{"$f":"'[1]LÍNEA 1'!S50","v":1},{"$f":"'[1]LÍNEA 1'!T50","v":1},0.25,{"$f":"'[1]LÍNEA 1'!U50","v":1},0.25,{"$f":"'[1]LÍNEA 1'!V50","v":1},0.25,{"$f":"'[1]LÍNEA 1'!W50","v":1},0.25,{"$f":"'[10]2016'!K17","v":1},{"$f":"'[10]2017'!K17","v":1},{"$f":"'[10]2018'!K17","v":1},{"$f":"'[10]2019'!K17","v":0},1,1,1,1,1,1,0,0,0.75,0.75,0.75,{"$f":"'[10]2016'!P17","v":0},{"$f":"'[10]2016'!Q17","v":0},{"$f":"'[10]2016'!R17","v":0}," -"," -",{"$f":"'[10]2017'!P17","v":0},{"$f":"'[10]2017'!Q17","v":0},{"$f":"'[10]2017'!R17","v":0}," -"," -",{"$f":"'[10]2018'!P17","v":0},{"$f":"'[10]2018'!Q17","v":0},{"$f":"'[10]2018'!R17","v":0}," -"," -",{"$f":"'[10]2019'!P17","v":0},{"$f":"'[10]2019'!Q17","v":0},{"$f":"'[10]2019'!R17","v":0}," -"," -",0,0,0," -"," -","16. Paz, justicia e instituciones sólidas","Fortalecimiento Institucional",{"$f":"'[1]LÍNEA 1'!AQ50","v":"Asesor TIC"}]
[null,null,null,null,null,"Lograr que el 60% de los ciudadanos considere que la Alcaldía es transparente en sus actividades de acuerdo a encuesta Cómo Vamos.",0.14000000000000001,0.6,{"$f":"+H51-G51","v":0.45999999999999996},0.3,{"$f":"+J51-G51","v":0.15999999999999998},null,0.4,{"$f":"+M51-J51","v":0.10000000000000003},null,0.5,{"$f":"+P51-M51","v":9.9999999999999978E-2},null,0.6,{"$f":"+S51-P51","v":9.9999999999999978E-2},null,0.37,{"$f":"+IF(V51=0,0,V51-G51)","v":0.22999999999999998},null,{"$f":"+IF(X51=0,0,X51-V51)","v":0},null,{"$f":"+IF(Z51=0,0,Z51-X51)","v":0},null,{"$f":"+IF(AB51=0,0,AB51-Z51)","v":0},{"$f":"+IF(K51=0,\" -\",W51/K51)","v":1.4375},{"$f":"+IF(K51=0,\" -\",IF(AD51>100%,100%,AD51))","v":1},{"$f":"+IF(N51=0,\" -\",Y51/N51)","v":0},{"$f":"+IF(N51=0,\" -\",IF(AF51>100%,100%,AF51))","v":0},{"$f":"+IF(Q51=0,\" -\",AA51/Q51)","v":0},{"$f":"+IF(Q51=0,\" -\",IF(AH51>100%,100%,AH51))","v":0},{"$f":"+IF(T51=0,\" -\",AC51/T51)","v":0},{"$f":"+IF(T51=0,\" -\",IF(AJ51>100%,100%,AJ51))","v":0},{"$f":"+SUM(AC51,AA51,Y51,W51)/I51","v":0.5},{"$f":"+IF(AL51>100%,100%,IF(AL51<0%,0%,AL51))","v":0.5},null,null,null,"Implementar y mantener 1 sección en línea y actualizada para que la ciudadanía pueda seguir la ejecución y los costos de las obras de infraestructura.",{"$f":"'[1]LÍNEA 1'!P51","v":" -"},"Número de secciones implementadas y mantenidas en línea y actualizada para que la ciudadanía pueda seguir la ejecución y los costos de las obras de infraestructura.",0,{"$f":"'[1]LÍNEA 1'!S51","v":1},{"$f":"'[1]LÍNEA 1'!T51","v":0},0,{"$f":"'[1]LÍNEA 1'!U51","v":1},0.33,{"$f":"'[1]LÍNEA 1'!V51","v":1},0.33,{"$f":"'[1]LÍNEA 1'!W51","v":1},0.34,{"$f":"'[10]2016'!K18","v":0},{"$f":"'[10]2017'!K18","v":1},{"$f":"'[10]2018'!K18","v":1},{"$f":"'[10]2019'!K18","v":0}," -"," -",1,1,1,1,0,0,{"$f":"+AVERAGE(BE51:BG51)/AU51","v":0.66666666666666663},0.66666666666666663,0.66666666666666663,{"$f":"'[10]2016'!P18","v":0},{"$f":"'[10]2016'!Q18","v":0},{"$f":"'[10]2016'!R18","v":0}," -"," -",{"$f":"'[10]2017'!P18","v":0},{"$f":"'[10]2017'!Q18","v":0},{"$f":"'[10]2017'!R18","v":0}," -"," -",{"$f":"'[10]2018'!P18","v":0},{"$f":"'[10]2018'!Q18","v":0},{"$f":"'[10]2018'!R18","v":0}," -"," -",{"$f":"'[10]2019'!P18","v":0},{"$f":"'[10]2019'!Q18","v":0},{"$f":"'[10]2019'!R18","v":0}," -"," -",0,0,0," -"," -","16. Paz, justicia e instituciones sólidas","Fortalecimiento Institucional",{"$f":"'[1]LÍNEA 1'!AQ51","v":"Asesor TIC"}]
[null,null,null,null,null,null,null,null,null,null,null,null,null,null,null,null,null,null,null,null,null,null,null,null,null,null,null,null,null,null,null,null,null,null,null,null,null,null,null,null,null,null,"Implementar y mantener 1 sección en línea y actualizada sobre los contratos de prestación de servicios celebrados por la Administración Central.",{"$f":"'[1]LÍNEA 1'!P52","v":" -"},"Número de secciones implementadas y mantenidas en línea y actualizada sobre los contratos de prestación de servicios celebrados por la Administración Central.",0,{"$f":"'[1]LÍNEA 1'!S52","v":1},{"$f":"'[1]LÍNEA 1'!T52","v":1},0.25,{"$f":"'[1]LÍNEA 1'!U52","v":1},0.25,{"$f":"'[1]LÍNEA 1'!V52","v":1},0.25,{"$f":"'[1]LÍNEA 1'!W52","v":1},0.25,{"$f":"'[10]2016'!K19","v":1},{"$f":"'[10]2017'!K19","v":1},{"$f":"'[10]2018'!K19","v":1},{"$f":"'[10]2019'!K19","v":0},1,1,1,1,1,1,0,0,0.75,0.75,0.75,{"$f":"'[10]2016'!P19","v":0},{"$f":"'[10]2016'!Q19","v":0},{"$f":"'[10]2016'!R19","v":0}," -"," -",{"$f":"'[10]2017'!P19","v":0},{"$f":"'[10]2017'!Q19","v":0},{"$f":"'[10]2017'!R19","v":0}," -"," -",{"$f":"'[10]2018'!P19","v":0},{"$f":"'[10]2018'!Q19","v":0},{"$f":"'[10]2018'!R19","v":0}," -"," -",{"$f":"'[10]2019'!P19","v":0},{"$f":"'[10]2019'!Q19","v":0},{"$f":"'[10]2019'!R19","v":0}," -"," -",0,0,0," -"," -","16. Paz, justicia e instituciones sólidas","Fortalecimiento Institucional",{"$f":"'[1]LÍNEA 1'!AQ52","v":"Asesor TIC"}]
[null,null,null,null,null,null,null,null,null,null,null,null,null,null,null,null,null,null,null,null,null,null,null,null,null,null,null,null,null,null,null,null,null,null,null,null,null,null,null,null,null,null,"Implementar y mantener 1 sección en línea y actualizada sobre la ejecución de los proyectos estratégicos.",{"$f":"'[1]LÍNEA 1'!P53","v":" -"},"Número de secciones implementadas y mantenidas en línea y actualizada sobre la ejecución de los proyectos estratégicos.",0,{"$f":"'[1]LÍNEA 1'!S53","v":1},{"$f":"'[1]LÍNEA 1'!T53","v":1},0.25,{"$f":"'[1]LÍNEA 1'!U53","v":1},0.25,{"$f":"'[1]LÍNEA 1'!V53","v":1},0.25,{"$f":"'[1]LÍNEA 1'!W53","v":1},0.25,{"$f":"'[10]2016'!K20","v":1},{"$f":"'[10]2017'!K20","v":1},{"$f":"'[10]2018'!K20","v":1},{"$f":"'[10]2019'!K20","v":0},1,1,1,1,1,1,0,0,0.75,0.75,0.75,{"$f":"'[10]2016'!P20","v":0},{"$f":"'[10]2016'!Q20","v":0},{"$f":"'[10]2016'!R20","v":0}," -"," -",{"$f":"'[10]2017'!P20","v":0},{"$f":"'[10]2017'!Q20","v":0},{"$f":"'[10]2017'!R20","v":0}," -"," -",{"$f":"'[10]2018'!P20","v":0},{"$f":"'[10]2018'!Q20","v":0},{"$f":"'[10]2018'!R20","v":0}," -"," -",{"$f":"'[10]2019'!P20","v":0},{"$f":"'[10]2019'!Q20","v":0},{"$f":"'[10]2019'!R20","v":0}," -"," -",0,0,0," -"," -","16. Paz, justicia e instituciones sólidas","Fortalecimiento Institucional",{"$f":"'[1]LÍNEA 1'!AQ53","v":"Asesor TIC"}]
[null,null,null,null,null,null,null,null,null,null,null,null,null,null,null,null,null,null,null,null,null,null,null,null,null,null,null,null,null,null,null,null,null,null,null,null,null,null,null,null,null,null,"Implementar y mantener 1 sección en línea y actualizada sobre los gastos de funcionamiento de la Administración Central.",{"$f":"'[1]LÍNEA 1'!P54","v":" -"},"Número de secciones implementadas y mantenidas en línea y actualizada sobre los gastos de funcionamiento de la Administración Central.",1,{"$f":"'[1]LÍNEA 1'!S54","v":1},{"$f":"'[1]LÍNEA 1'!T54","v":1},0.25,{"$f":"'[1]LÍNEA 1'!U54","v":1},0.25,{"$f":"'[1]LÍNEA 1'!V54","v":1},0.25,{"$f":"'[1]LÍNEA 1'!W54","v":1},0.25,{"$f":"'[10]2016'!K21","v":1},{"$f":"'[10]2017'!K21","v":1},{"$f":"'[10]2018'!K21","v":1},{"$f":"'[10]2019'!K21","v":0},1,1,1,1,1,1,0,0,0.75,0.75,0.75,{"$f":"'[10]2016'!P21","v":0},{"$f":"'[10]2016'!Q21","v":0},{"$f":"'[10]2016'!R21","v":0}," -"," -",{"$f":"'[10]2017'!P21","v":0},{"$f":"'[10]2017'!Q21","v":0},{"$f":"'[10]2017'!R21","v":0}," -"," -",{"$f":"'[10]2018'!P21","v":0},{"$f":"'[10]2018'!Q21","v":0},{"$f":"'[10]2018'!R21","v":0}," -"," -",{"$f":"'[10]2019'!P21","v":0},{"$f":"'[10]2019'!Q21","v":0},{"$f":"'[10]2019'!R21","v":0}," -"," -",0,0,0," -"," -","16. Paz, justicia e instituciones sólidas","Fortalecimiento Institucional",{"$f":"'[1]LÍNEA 1'!AQ54","v":"Asesor TIC"}]
[null,null,null,null,null,null,null,null,null,null,null,null,null,null,null,null,null,null,null,null,null,null,null,null,null,null,null,null,null,null,null,null,null,null,null,null,null,null,null,null,null,null,"Celebrar 7 reuniones populares para rendir cuentas de la ejecución del Plan de Desarrollo y la ejecución del presupuesto.",{"$f":"'[1]LÍNEA 1'!P55","v":0},"Número de reuniones populares celebradas para rendir cuentas de la ejecución del Plan de Desarrollo y la ejecución del presupuesto.",0,{"$f":"'[1]LÍNEA 1'!S55","v":7},{"$f":"'[1]LÍNEA 1'!T55","v":1},0.14285714285714285,{"$f":"'[1]LÍNEA 1'!U55","v":2},0.2857142857142857,{"$f":"'[1]LÍNEA 1'!V55","v":2},0.2857142857142857,{"$f":"'[1]LÍNEA 1'!W55","v":2},0.2857142857142857,{"$f":"'[5]2016'!$K$15","v":1},{"$f":"'[5]2017'!$K$15","v":2},{"$f":"'[5]2018'!$K$15","v":0},{"$f":"'[5]2019'!$K$15","v":0},1,1,1,1,0,0,0,0,{"$f":"+SUM(BD55:BG55)/AU55","v":0.42857142857142855},0.42857142857142855,0.42857142857142855,{"$f":"'[5]2016'!P15","v":0},{"$f":"'[5]2016'!Q15","v":0},{"$f":"'[5]2016'!R15","v":0}," -"," -",{"$f":"'[5]2017'!P15","v":0},{"$f":"'[5]2017'!Q15","v":0},{"$f":"'[5]2017'!R15","v":0}," -"," -",{"$f":"'[5]2018'!P15","v":0},{"$f":"'[5]2018'!Q15","v":0},{"$f":"'[5]2018'!R15","v":0}," -"," -",{"$f":"'[5]2019'!P15","v":40000},{"$f":"'[5]2019'!Q15","v":0},{"$f":"'[5]2019'!R15","v":0},0," -",40000,0,0,0," -","16. Paz, justicia e instituciones sólidas","Fortalecimiento Institucional",{"$f":"'[1]LÍNEA 1'!AQ55","v":"Sec. Hacienda"}]
[null,null,null,null,null,null,null,null,null,null,null,null,null,null,null,null,null,null,null,null,null,null,null,null,null,null,null,null,null,null,null,null,null,null,null,null,null,null,null,null,null,null,"Implementar y mantener 1 estrategia para el informe anual de rendición de cuentas en cultura.",{"$f":"'[1]LÍNEA 1'!P56","v":" -"},"Número de estrategias para el informe anual de rendición de cuentas en cultura implementadas y mantenidas",0,{"$f":"'[1]LÍNEA 1'!S56","v":1},{"$f":"'[1]LÍNEA 1'!T56","v":1},0.25,{"$f":"'[1]LÍNEA 1'!U56","v":1},0.25,{"$f":"'[1]LÍNEA 1'!V56","v":1},0.25,{"$f":"'[1]LÍNEA 1'!W56","v":1},0.25,{"$f":"'[12]2016'!$K$12","v":0},{"$f":"'[12]2017'!$K$12","v":1},{"$f":"'[12]2018'!$K$12","v":0},{"$f":"'[12]2019'!$K$12","v":0},0,0,1,1,0,0,0,0,0.25,0.25,0.25,{"$f":"'[12]2016'!P12","v":0},{"$f":"'[12]2016'!Q12","v":0},{"$f":"'[12]2016'!R12","v":0}," -"," -",{"$f":"'[12]2017'!P12","v":0},{"$f":"'[12]2017'!Q12","v":0},{"$f":"'[12]2017'!R12","v":0}," -"," -",{"$f":"'[12]2018'!P12","v":0},{"$f":"'[12]2018'!Q12","v":0},{"$f":"'[12]2018'!R12","v":0}," -"," -",{"$f":"'[12]2019'!P12","v":0},{"$f":"'[12]2019'!Q12","v":0},{"$f":"'[12]2019'!R12","v":0}," -"," -",0,0,0," -"," -","16. Paz, justicia e instituciones sólidas","Cultura",{"$f":"'[1]LÍNEA 1'!AQ56","v":"IMCT"}]
[null,null,null,null,null,null,null,null,null,null,null,null,null,null,null,null,null,null,null,null,null,null,null,null,null,null,null,null,null,null,null,null,null,null,null,null,null,null,null,null,{"$f":"+RESUMEN!J15","v":0.56874999999999998},"CULTURA METROPOLITANA Y CIUDAD REGIÓN: PARTICIPACIÓN QUE ATRAVIESA FRONTERAS","Realizar 4 audiencias de participación metropolitana en conjunto con la Alcaldía de Floridablanca.",{"$f":"'[1]LÍNEA 1'!P57","v":" -"},"Número de audiencias de participación metropolitana realizadas en conjunto con la Alcaldía de Floridablanca.",0,{"$f":"'[1]LÍNEA 1'!S57","v":4},{"$f":"'[1]LÍNEA 1'!T57","v":0},0,{"$f":"'[1]LÍNEA 1'!U57","v":1},0.25,{"$f":"'[1]LÍNEA 1'!V57","v":2},0.5,{"$f":"'[1]LÍNEA 1'!W57","v":1},0.25,{"$f":"'[13]2016'!K12","v":0},{"$f":"'[13]2017'!K12","v":1},{"$f":"'[13]2018'!K12","v":0},{"$f":"'[13]2019'!K12","v":0}," -"," -",1,1,0,0,0,0,{"$f":"+SUM(BD57:BG57)/AU57","v":0.25},0.25,0.25,{"$f":"'[13]2016'!P12","v":0},{"$f":"'[13]2016'!Q12","v":0},{"$f":"'[13]2016'!R12","v":0}," -"," -",{"$f":"'[13]2017'!P12","v":4000},{"$f":"'[13]2017'!Q12","v":4000},{"$f":"'[13]2017'!R12","v":0},1," -",{"$f":"'[13]2018'!P12","v":0},{"$f":"'[13]2018'!Q12","v":0},{"$f":"'[13]2018'!R12","v":0}," -"," -",{"$f":"'[13]2019'!P12","v":0},{"$f":"'[13]2019'!Q12","v":0},{"$f":"'[13]2019'!R12","v":0}," -"," -",4000,4000,0,1," -","16. Paz, justicia e instituciones sólidas","Fortalecimiento Institucional",{"$f":"'[1]LÍNEA 1'!AQ57","v":"AMB"}]
[null,null,null,null,null,null,null,null,null,null,null,null,null,null,null,null,null,null,null,null,null,null,null,null,null,null,null,null,null,null,null,null,null,null,null,null,null,null,null,null,null,null,"Realizar 4 audiencias de participación metropolitana en conjunto con la Alcaldía de Piedecuesta.",{"$f":"'[1]LÍNEA 1'!P58","v":" -"},"Número de audiencias de participación metropolitana realizadas en conjunto con la Alcaldía de Piedecuesta.",0,{"$f":"'[1]LÍNEA 1'!S58","v":4},{"$f":"'[1]LÍNEA 1'!T58","v":0},0,{"$f":"'[1]LÍNEA 1'!U58","v":2},0.5,{"$f":"'[1]LÍNEA 1'!V58","v":1},0.25,{"$f":"'[1]LÍNEA 1'!W58","v":1},0.25,{"$f":"'[13]2016'!K13","v":0},{"$f":"'[13]2017'!K13","v":1.5},{"$f":"'[13]2018'!K13","v":4},{"$f":"'[13]2019'!K13","v":0}," -"," -",0.75,0.75,4,1,0,0,1.375,1,1,{"$f":"'[13]2016'!P13","v":0},{"$f":"'[13]2016'!Q13","v":0},{"$f":"'[13]2016'!R13","v":0}," -"," -",{"$f":"'[13]2017'!P13","v":8000},{"$f":"'[13]2017'!Q13","v":4333},{"$f":"'[13]2017'!R13","v":0},0.54162500000000002," -",{"$f":"'[13]2018'!P13","v":0},{"$f":"'[13]2018'!Q13","v":0},{"$f":"'[13]2018'!R13","v":0}," -"," -",{"$f":"'[13]2019'!P13","v":0},{"$f":"'[13]2019'!Q13","v":0},{"$f":"'[13]2019'!R13","v":0}," -"," -",8000,4333,0,0.54162500000000002," -","16. Paz, justicia e instituciones sólidas","Fortalecimiento Institucional",{"$f":"'[1]LÍNEA 1'!AQ58","v":"AMB"}]
[null,null,null,null,null,null,null,null,null,null,null,null,null,null,null,null,null,null,null,null,null,null,null,null,null,null,null,null,null,null,null,null,null,null,null,null,null,null,null,null,null,null,"Realizar 4 audiencias de participación metropolitana en conjunto con la Alcaldía de Girón.",{"$f":"'[1]LÍNEA 1'!P59","v":" -"},"Número de audiencias de participación metropolitana realizadas en conjunto con la Alcaldía de Girón.",0,{"$f":"'[1]LÍNEA 1'!S59","v":4},{"$f":"'[1]LÍNEA 1'!T59","v":0},0,{"$f":"'[1]LÍNEA 1'!U59","v":1},0.25,{"$f":"'[1]LÍNEA 1'!V59","v":1},0.25,{"$f":"'[1]LÍNEA 1'!W59","v":2},0.5,{"$f":"'[13]2016'!K14","v":0},{"$f":"'[13]2017'!K14","v":1},{"$f":"'[13]2018'!K14","v":4},{"$f":"'[13]2019'!K14","v":0}," -"," -",1,1,4,1,0,0,1.25,1,1,{"$f":"'[13]2016'!P14","v":0},{"$f":"'[13]2016'!Q14","v":0},{"$f":"'[13]2016'!R14","v":0}," -"," -",{"$f":"'[13]2017'!P14","v":4000},{"$f":"'[13]2017'!Q14","v":4000},{"$f":"'[13]2017'!R14","v":0},1," -",{"$f":"'[13]2018'!P14","v":0},{"$f":"'[13]2018'!Q14","v":0},{"$f":"'[13]2018'!R14","v":0}," -"," -",{"$f":"'[13]2019'!P14","v":0},{"$f":"'[13]2019'!Q14","v":0},{"$f":"'[13]2019'!R14","v":0}," -"," -",4000,4000,0,1," -","16. Paz, justicia e instituciones sólidas","Fortalecimiento Institucional",{"$f":"'[1]LÍNEA 1'!AQ59","v":"AMB"}]
[null,null,null,null,null,null,null,null,null,null,null,null,null,null,null,null,null,null,null,null,null,null,null,null,null,null,null,null,null,null,null,null,null,null,null,null,null,null,null,null,null,null,"Realizar 8 juntas abiertas del Área Metropolitana de Bucaramanga con presencia de los integrantes de la junta metropolitana y participación de la comunidad para una discusión pública sobre asuntos metropolitanos.",{"$f":"'[1]LÍNEA 1'!P60","v":" -"},"Número de juntas abiertas del Área Metropolitana de Bucaramanga realizadas con presencia de los integrantes de la junta metropolitana y participación de la comunidad para una discusión pública sobre asuntos metropolitanos.",0,{"$f":"'[1]LÍNEA 1'!S60","v":8},{"$f":"'[1]LÍNEA 1'!T60","v":0},0,{"$f":"'[1]LÍNEA 1'!U60","v":2},0.25,{"$f":"'[1]LÍNEA 1'!V60","v":3},0.375,{"$f":"'[1]LÍNEA 1'!W60","v":3},0.375,{"$f":"'[13]2016'!K15","v":0},{"$f":"'[13]2017'!K15","v":0.2},{"$f":"'[13]2018'!K15","v":0},{"$f":"'[13]2019'!K15","v":0}," -"," -",0.1,0.1,0,0,0,0,2.5000000000000001E-2,2.5000000000000001E-2,2.5000000000000001E-2,{"$f":"'[13]2016'!P15","v":0},{"$f":"'[13]2016'!Q15","v":0},{"$f":"'[13]2016'!R15","v":0}," -"," -",{"$f":"'[13]2017'!P15","v":5000},{"$f":"'[13]2017'!Q15","v":667},{"$f":"'[13]2017'!R15","v":0},0.13339999999999999," -",{"$f":"'[13]2018'!P15","v":0},{"$f":"'[13]2018'!Q15","v":0},{"$f":"'[13]2018'!R15","v":0}," -"," -",{"$f":"'[13]2019'!P15","v":0},{"$f":"'[13]2019'!Q15","v":0},{"$f":"'[13]2019'!R15","v":0}," -"," -",5000,667,0,0.13339999999999999," -","16. Paz, justicia e instituciones sólidas","Desarrollo Comunitario",{"$f":"'[1]LÍNEA 1'!AQ60","v":"AMB"}]
[null,null,null,null,null,null,null,null,null,null,null,null,null,null,null,null,null,null,null,null,null,null,null,null,null,null,null,null,null,null,null,null,null,null,null,null,null,null,null,null,{"$f":"+RESUMEN!J16","v":0.66249999999999998},"GOBIERNO TRANSPARENTE","Formular e implementar 1 estrategia de comunicación para difundir los procesos de contratación pública de selección abierta y promover la participación de oferentes así como el control social ciudadano.",{"$f":"'[1]LÍNEA 1'!P61","v":0},"Número de estrategias de comunicaciones formuladas e implementadas para difundir los procesos de contratación pública de selección abierta y promover la participación de oferentes así como el control social ciudadano.",0,{"$f":"'[1]LÍNEA 1'!S61","v":1},{"$f":"'[1]LÍNEA 1'!T61","v":1},0.25,{"$f":"'[1]LÍNEA 1'!U61","v":1},0.25,{"$f":"'[1]LÍNEA 1'!V61","v":1},0.25,{"$f":"'[1]LÍNEA 1'!W61","v":1},0.25,{"$f":"'[8]2016'!$K$17","v":1},{"$f":"'[8]2017'!$K$17","v":1},{"$f":"'[8]2018'!$K$17","v":1},{"$f":"'[8]2019'!$K$17","v":0},1,1,1,1,1,1,0,0,0.75,0.75,0.75,{"$f":"'[8]2016'!P17","v":0},{"$f":"'[8]2016'!Q17","v":0},{"$f":"'[8]2016'!R17","v":0}," -"," -",{"$f":"'[8]2017'!P17","v":0},{"$f":"'[8]2017'!Q17","v":0},{"$f":"'[8]2017'!R17","v":0}," -"," -",{"$f":"'[8]2018'!P17","v":74554},{"$f":"'[8]2018'!Q17","v":74554},{"$f":"'[8]2018'!R17","v":0},1," -",{"$f":"'[8]2019'!P17","v":50000},{"$f":"'[8]2019'!Q17","v":0},{"$f":"'[8]2019'!R17","v":0},0," -",124554,74554,0,0.59856768951619377," -","16. Paz, justicia e instituciones sólidas","Fortalecimiento Institucional",{"$f":"'[1]LÍNEA 1'!AQ61","v":"Ofc. Prensa"}]
[null,null,null,null,null,null,null,null,null,null,null,null,null,null,null,null,null,null,null,null,null,null,null,null,null,null,null,null,null,null,null,null,null,null,null,null,null,null,null,null,null,null,"Elaborar y difundir 16 informes de contratación pública.",{"$f":"'[1]LÍNEA 1'!P62","v":" -"},"Número de informes de contratación pública elaboras y difundidas.",0,{"$f":"'[1]LÍNEA 1'!S62","v":16},{"$f":"'[1]LÍNEA 1'!T62","v":4},0.25,{"$f":"'[1]LÍNEA 1'!U62","v":4},0.25,{"$f":"'[1]LÍNEA 1'!V62","v":4},0.25,{"$f":"'[1]LÍNEA 1'!W62","v":4},0.25,{"$f":"'[14]2016'!K12","v":3},{"$f":"'[14]2017'!K12","v":4},{"$f":"'[14]2018'!K12","v":2},{"$f":"'[14]2019'!K12","v":0},0.75,0.75,1,1,0.5,0.5,0,0,{"$f":"+SUM(BD62:BG62)/AU62","v":0.5625},0.5625,0.5625,{"$f":"'[14]2016'!P12","v":0},{"$f":"'[14]2016'!Q12","v":0},{"$f":"'[14]2016'!R12","v":0}," -"," -",{"$f":"'[14]2017'!P12","v":0},{"$f":"'[14]2017'!Q12","v":0},{"$f":"'[14]2017'!R12","v":0}," -"," -",{"$f":"'[14]2018'!P12","v":19250},{"$f":"'[14]2018'!Q12","v":19250},{"$f":"'[14]2018'!R12","v":0},1," -",{"$f":"'[14]2019'!P12","v":0},{"$f":"'[14]2019'!Q12","v":0},{"$f":"'[14]2019'!R12","v":0}," -"," -",19250,19250,0,1," -","16. Paz, justicia e instituciones sólidas","Fortalecimiento Institucional",{"$f":"'[1]LÍNEA 1'!AQ62","v":"Sec. Jurídica"}]
[null,null,null,null,null,null,null,null,null,null,null,null,null,null,null,null,null,null,null,null,null,null,null,null,null,null,null,null,null,null,null,null,null,null,null,null,null,null,null,null,null,null,"Implementar y mantener actualizado en línea 1 registro de intereses privados de los secretarios y sub-secretarios así como de los asesores del despacho del alcalde.",{"$f":"'[1]LÍNEA 1'!P63","v":" -"},"Número registros implementados y mantenidos actualizados en línea de intereses privados de los secretarios y sub-secretarios así como de los asesores del despacho del alcalde.",0,{"$f":"'[1]LÍNEA 1'!S63","v":1},{"$f":"'[1]LÍNEA 1'!T63","v":1},0.25,{"$f":"'[1]LÍNEA 1'!U63","v":1},0.25,{"$f":"'[1]LÍNEA 1'!V63","v":1},0.25,{"$f":"'[1]LÍNEA 1'!W63","v":1},0.25,{"$f":"'[14]2016'!K13","v":1},{"$f":"'[14]2017'!K13","v":1},{"$f":"'[14]2018'!K13","v":1},{"$f":"'[14]2019'!K13","v":0},1,1,1,1,1,1,0,0,0.75,0.75,0.75,{"$f":"'[14]2016'!P13","v":0},{"$f":"'[14]2016'!Q13","v":0},{"$f":"'[14]2016'!R13","v":0}," -"," -",{"$f":"'[14]2017'!P13","v":0},{"$f":"'[14]2017'!Q13","v":0},{"$f":"'[14]2017'!R13","v":0}," -"," -",{"$f":"'[14]2018'!P13","v":19250},{"$f":"'[14]2018'!Q13","v":19250},{"$f":"'[14]2018'!R13","v":0},1," -",{"$f":"'[14]2019'!P13","v":0},{"$f":"'[14]2019'!Q13","v":0},{"$f":"'[14]2019'!R13","v":0}," -"," -",19250,19250,0,1," -","16. Paz, justicia e instituciones sólidas","Fortalecimiento Institucional",{"$f":"'[1]LÍNEA 1'!AQ63","v":"Sec. Jurídica"}]
[null,null,null,null,null,"Lograr una calificación de 90 en el componente exposición de la información del IGA.",79.400000000000006,90,{"$f":"+H64-G64","v":10.599999999999994},79.400000000000006,{"$f":"+J64-G64","v":0},null,90,{"$f":"+M64-J64","v":10.599999999999994},null,90,{"$f":"+P64-M64","v":0},null,90,{"$f":"+S64-P64","v":0},null,82.4,{"$f":"+IF(V64=0,0,V64-G64)","v":3},null,{"$f":"+IF(X64=0,0,X64-V64)","v":0},null,{"$f":"+IF(Z64=0,0,Z64-X64)","v":0},null,{"$f":"+IF(AB64=0,0,AB64-Z64)","v":0},{"$f":"+IF(K64=0,\" -\",W64/K64)","v":" -"},{"$f":"+IF(K64=0,\" -\",IF(AD64>100%,100%,AD64))","v":" -"},{"$f":"+IF(N64=0,\" -\",Y64/N64)","v":0},{"$f":"+IF(N64=0,\" -\",IF(AF64>100%,100%,AF64))","v":0},{"$f":"+IF(Q64=0,\" -\",AA64/Q64)","v":" -"},{"$f":"+IF(Q64=0,\" -\",IF(AH64>100%,100%,AH64))","v":" -"},{"$f":"+IF(T64=0,\" -\",AC64/T64)","v":" -"},{"$f":"+IF(T64=0,\" -\",IF(AJ64>100%,100%,AJ64))","v":" -"},{"$f":"+SUM(AC64,AA64,Y64,W64)/I64","v":0.28301886792452846},{"$f":"+IF(AL64>100%,100%,IF(AL64<0%,0%,AL64))","v":0.28301886792452846},null,null,null,"Formular e implementar 1 plan de la excelencia por la transparencia enfocado al mejoramiento continuo del índice ITEP en todas sus dimensiones.",{"$f":"'[1]LÍNEA 1'!P64","v":0},"Número de planes de la excelencia formulados e implementados por la transparencia enfocado al mejoramiento continuo del índice ITEP en todas sus dimensiones.",0,{"$f":"'[1]LÍNEA 1'!S64","v":1},{"$f":"'[1]LÍNEA 1'!T64","v":0},0,{"$f":"'[1]LÍNEA 1'!U64","v":1},0.33,{"$f":"'[1]LÍNEA 1'!V64","v":1},0.33,{"$f":"'[1]LÍNEA 1'!W64","v":1},0.34,{"$f":"'[14]2016'!K14","v":0},{"$f":"'[14]2017'!K14","v":1},{"$f":"'[14]2018'!K14","v":0.5},{"$f":"'[14]2019'!K14","v":0}," -"," -",1,1,0.5,0.5,0,0,{"$f":"+AVERAGE(BE64:BG64)/AU64","v":0.5},0.5,0.5,{"$f":"'[14]2016'!P14","v":0},{"$f":"'[14]2016'!Q14","v":0},{"$f":"'[14]2016'!R14","v":0}," -"," -",{"$f":"'[14]2017'!P14","v":106190},{"$f":"'[14]2017'!Q14","v":102190},{"$f":"'[14]2017'!R14","v":0},0.96233166964874284," -",{"$f":"'[14]2018'!P14","v":19250},{"$f":"'[14]2018'!Q14","v":19250},{"$f":"'[14]2018'!R14","v":0},1," -",{"$f":"'[14]2019'!P14","v":200000},{"$f":"'[14]2019'!Q14","v":0},{"$f":"'[14]2019'!R14","v":0},0," -",325440,121440,0,0.37315634218289084," -","16. Paz, justicia e instituciones sólidas","Fortalecimiento Institucional",{"$f":"'[1]LÍNEA 1'!AQ64","v":"Sec. Jurídica"}]
[null,null,null,null,null,null,null,null,null,null,null,null,null,null,null,null,null,null,null,null,null,null,null,null,null,null,null,null,null,null,null,null,null,null,null,null,null,null,null,null,null,null,"Actualizar la estrategia integral de gobierno para la aplicación cabal de los postulados y mandatos de la ley 1712 de 2014 de transparencia y del derecho al acceso a la información pública.",{"$f":"'[1]LÍNEA 1'!P65","v":" -"},"Número de estrategias integrales de gobierno actualizadas para la aplicación cabal de los postulados y mandatos de la ley 1712 de 2014 de transparencia y del derecho al acceso a la información pública.",1,{"$f":"'[1]LÍNEA 1'!S65","v":1},{"$f":"'[1]LÍNEA 1'!T65","v":1},0.25,{"$f":"'[1]LÍNEA 1'!U65","v":1},0.25,{"$f":"'[1]LÍNEA 1'!V65","v":1},0.25,{"$f":"'[1]LÍNEA 1'!W65","v":1},0.25,{"$f":"'[14]2016'!K15","v":1},{"$f":"'[14]2017'!K15","v":1},{"$f":"'[14]2018'!K15","v":0.9},{"$f":"'[14]2019'!K15","v":0},1,1,1,1,0.9,0.9,0,0,0.72499999999999998,0.72499999999999998,0.72499999999999998,{"$f":"'[14]2016'!P15","v":250000},{"$f":"'[14]2016'!Q15","v":14250},{"$f":"'[14]2016'!R15","v":0},5.7000000000000002E-2," -",{"$f":"'[14]2017'!P15","v":0},{"$f":"'[14]2017'!Q15","v":0},{"$f":"'[14]2017'!R15","v":0}," -"," -",{"$f":"'[14]2018'!P15","v":19250},{"$f":"'[14]2018'!Q15","v":19250},{"$f":"'[14]2018'!R15","v":0},1," -",{"$f":"'[14]2019'!P15","v":0},{"$f":"'[14]2019'!Q15","v":0},{"$f":"'[14]2019'!R15","v":0}," -"," -",269250,33500,0,0.12441968430826369," -","16. Paz, justicia e instituciones sólidas","Fortalecimiento Institucional",{"$f":"'[1]LÍNEA 1'!AQ65","v":"Sec. Jurídica"}]
[null,null,null,null,null,null,null,null,null,null,null,null,null,null,null,null,null,null,null,null,null,null,null,null,null,null,null,null,null,null,null,null,null,null,null,null,null,null,null,null,null,null,"Actualizar el manual de contratación.",{"$f":"'[1]LÍNEA 1'!P66","v":" -"},"Número de manuales de contratación actualizados.",1,{"$f":"'[1]LÍNEA 1'!S66","v":1},{"$f":"'[1]LÍNEA 1'!T66","v":1},1,{"$f":"'[1]LÍNEA 1'!U66","v":0},0,{"$f":"'[1]LÍNEA 1'!V66","v":0},0,{"$f":"'[1]LÍNEA 1'!W66","v":0},0,{"$f":"'[14]2016'!K16","v":1},{"$f":"'[14]2017'!K16","v":0},{"$f":"'[14]2018'!K16","v":0},{"$f":"'[14]2019'!K16","v":0},1,1," -"," -"," -"," -"," -"," -",{"$f":"+SUM(BD66:BG66)/AU66","v":1},1,1,{"$f":"'[14]2016'!P16","v":0},{"$f":"'[14]2016'!Q16","v":0},{"$f":"'[14]2016'!R16","v":0}," -"," -",{"$f":"'[14]2017'!P16","v":0},{"$f":"'[14]2017'!Q16","v":0},{"$f":"'[14]2017'!R16","v":0}," -"," -",{"$f":"'[14]2018'!P16","v":0},{"$f":"'[14]2018'!Q16","v":0},{"$f":"'[14]2018'!R16","v":0}," -"," -",{"$f":"'[14]2019'!P16","v":0},{"$f":"'[14]2019'!Q16","v":0},{"$f":"'[14]2019'!R16","v":0}," -"," -",0,0,0," -"," -","16. Paz, justicia e instituciones sólidas","Fortalecimiento Institucional",{"$f":"'[1]LÍNEA 1'!AQ66","v":"Sec. Jurídica"}]
[null,null,null,null,null,null,null,null,null,null,null,null,null,null,null,null,null,null,null,null,null,null,null,null,null,null,null,null,null,null,null,null,null,null,null,null,null,null,null,null,null,null,"Crear 1 cargo del nivel directivo y/o asesor adscrito al despacho del Alcalde como encargado de asuntos de transparencia en la gestión pública.",{"$f":"'[1]LÍNEA 1'!P67","v":" -"},"Número de cargos creados del nivel directivo y/o asesor adscritos al despacho del Alcalde como encargado de asuntos de transparencia en la gestión pública",1,{"$f":"'[1]LÍNEA 1'!S67","v":1},{"$f":"'[1]LÍNEA 1'!T67","v":0},0,{"$f":"'[1]LÍNEA 1'!U67","v":1},1,{"$f":"'[1]LÍNEA 1'!V67","v":0},0,{"$f":"'[1]LÍNEA 1'!W67","v":0},0,{"$f":"'[9]2016'!K14","v":0},{"$f":"'[9]2017'!K14","v":0},{"$f":"'[9]2018'!K14","v":0},{"$f":"'[9]2019'!K14","v":0}," -"," -",0,0," -"," -"," -"," -",0,0,0,{"$f":"'[9]2016'!P14","v":0},{"$f":"'[9]2016'!Q14","v":0},{"$f":"'[9]2016'!R14","v":0}," -"," -",{"$f":"'[9]2017'!P14","v":0},{"$f":"'[9]2017'!Q14","v":0},{"$f":"'[9]2017'!R14","v":0}," -"," -",{"$f":"'[9]2018'!P14","v":0},{"$f":"'[9]2018'!Q14","v":0},{"$f":"'[9]2018'!R14","v":0}," -"," -",{"$f":"'[9]2019'!P14","v":0},{"$f":"'[9]2019'!Q14","v":0},{"$f":"'[9]2019'!R14","v":0}," -"," -",0,0,0," -"," -","16. Paz, justicia e instituciones sólidas","Fortalecimiento Institucional",{"$f":"'[1]LÍNEA 1'!AQ67","v":"Sec. Administrativa"}]
[null,null,null,null,null,null,null,null,null,null,null,null,null,null,null,null,null,null,null,null,null,null,null,null,null,null,null,null,null,null,null,null,null,null,null,null,null,null,null,null,null,null,"Implementar y mantener 1 estrategia para publicar en línea necesidades de trabajo o de provisión de servicios del municipio y recopilar hojas de vida o propuestas (Tu Talento es lo que Vale).",{"$f":"'[1]LÍNEA 1'!P68","v":" -"},"Número de estrategias implementadas y mantenidas para publicar en línea necesidades de trabajo o de provisión de servicios del municipio y recopilar hojas de vida o propuestas (Tu Talento es lo que Vale).",0,{"$f":"'[1]LÍNEA 1'!S68","v":1},{"$f":"'[1]LÍNEA 1'!T68","v":1},0.25,{"$f":"'[1]LÍNEA 1'!U68","v":1},0.25,{"$f":"'[1]LÍNEA 1'!V68","v":1},0.25,{"$f":"'[1]LÍNEA 1'!W68","v":1},0.25,{"$f":"'[9]2016'!K15","v":1},{"$f":"'[9]2017'!K15","v":1},{"$f":"'[9]2018'!K15","v":1},{"$f":"'[9]2019'!K15","v":0},1,1,1,1,1,1,0,0,{"$f":"+AVERAGE(BD68:BG68)/AU68","v":0.75},0.75,0.75,{"$f":"'[9]2016'!P15","v":0},{"$f":"'[9]2016'!Q15","v":0},{"$f":"'[9]2016'!R15","v":0}," -"," -",{"$f":"'[9]2017'!P15","v":0},{"$f":"'[9]2017'!Q15","v":0},{"$f":"'[9]2017'!R15","v":0}," -"," -",{"$f":"'[9]2018'!P15","v":0},{"$f":"'[9]2018'!Q15","v":0},{"$f":"'[9]2018'!R15","v":0}," -"," -",{"$f":"'[9]2019'!P15","v":0},{"$f":"'[9]2019'!Q15","v":0},{"$f":"'[9]2019'!R15","v":0}," -"," -",0,0,0," -"," -","16. Paz, justicia e instituciones sólidas","Fortalecimiento Institucional",{"$f":"'[1]LÍNEA 1'!AQ68","v":"Sec. Administrativa"}]
[null,null,null,null,null,null,null,null,null,null,null,null,null,null,null,null,null,null,null,null,null,null,null,null,null,null,null,null,null,null,null,null,null,null,null,null,null,null,null,null,null,null,"Implementar y mantener 1 sección en línea y actualizada dentro de la página web institucional para consultar todos los procesos de contratación pública.",{"$f":"'[1]LÍNEA 1'!P69","v":" -"},"Número de secciones implementadas y mantenidas en línea y actualizada dentro de la página web institucional para consultar todos los procesos de contratación pública.",0,{"$f":"'[1]LÍNEA 1'!S69","v":1},{"$f":"'[1]LÍNEA 1'!T69","v":1},0.25,{"$f":"'[1]LÍNEA 1'!U69","v":1},0.25,{"$f":"'[1]LÍNEA 1'!V69","v":1},0.25,{"$f":"'[1]LÍNEA 1'!W69","v":1},0.25,{"$f":"'[10]2016'!K22","v":1},{"$f":"'[10]2017'!K22","v":1},{"$f":"'[10]2018'!K22","v":1},{"$f":"'[10]2019'!K22","v":0},1,1,1,1,1,1,0,0,0.75,0.75,0.75,{"$f":"'[10]2016'!P22","v":0},{"$f":"'[10]2016'!Q22","v":0},{"$f":"'[10]2016'!R22","v":0}," -"," -",{"$f":"'[10]2017'!P22","v":0},{"$f":"'[10]2017'!Q22","v":0},{"$f":"'[10]2017'!R22","v":0}," -"," -",{"$f":"'[10]2018'!P22","v":0},{"$f":"'[10]2018'!Q22","v":0},{"$f":"'[10]2018'!R22","v":0}," -"," -",{"$f":"'[10]2019'!P22","v":0},{"$f":"'[10]2019'!Q22","v":0},{"$f":"'[10]2019'!R22","v":0}," -"," -",0,0,0," -"," -","16. Paz, justicia e instituciones sólidas","Fortalecimiento Institucional",{"$f":"'[1]LÍNEA 1'!AQ69","v":"Asesor TIC"}]
[null,null,null,null,null,null,null,null,null,null,null,null,null,null,null,null,null,null,null,null,null,null,null,null,null,null,null,null,null,null,null,null,null,null,null,null,null,null,null,null,null,null,"Mantener 1 sección en línea dentro de la página web institucional con información actualizada sobre decretos y resolución de la Administración así como de proyectos de acuerdo y acuerdos municipales.",{"$f":"'[1]LÍNEA 1'!P70","v":" -"},"Número de secciones mantenidas en línea dentro de la página web institucional con información actualizada sobre decretos y resolución de la Administración así como de proyectos de acuerdo y acuerdos municipales.",1,{"$f":"'[1]LÍNEA 1'!S70","v":1},{"$f":"'[1]LÍNEA 1'!T70","v":1},0.25,{"$f":"'[1]LÍNEA 1'!U70","v":1},0.25,{"$f":"'[1]LÍNEA 1'!V70","v":1},0.25,{"$f":"'[1]LÍNEA 1'!W70","v":1},0.25,{"$f":"'[10]2016'!K23","v":1},{"$f":"'[10]2017'!K23","v":1},{"$f":"'[10]2018'!K23","v":1},{"$f":"'[10]2019'!K23","v":0},1,1,1,1,1,1,0,0,0.75,0.75,0.75,{"$f":"'[10]2016'!P23","v":0},{"$f":"'[10]2016'!Q23","v":0},{"$f":"'[10]2016'!R23","v":0}," -"," -",{"$f":"'[10]2017'!P23","v":0},{"$f":"'[10]2017'!Q23","v":0},{"$f":"'[10]2017'!R23","v":0}," -"," -",{"$f":"'[10]2018'!P23","v":0},{"$f":"'[10]2018'!Q23","v":0},{"$f":"'[10]2018'!R23","v":0}," -"," -",{"$f":"'[10]2019'!P23","v":0},{"$f":"'[10]2019'!Q23","v":0},{"$f":"'[10]2019'!R23","v":0}," -"," -",0,0,0," -"," -","16. Paz, justicia e instituciones sólidas","Fortalecimiento Institucional",{"$f":"'[1]LÍNEA 1'!AQ70","v":"Asesor TIC"}]
[null,null,null,null,null,null,null,null,null,null,null,null,null,null,null,null,null,null,null,null,null,null,null,null,null,null,null,null,null,null,null,null,null,null,null,null,null,null,null,null,null,null,"Implementar y mantener 1 estrategia para la socialización del plan anti-corrupción y atención al ciudadano.",{"$f":"'[1]LÍNEA 1'!P71","v":2210289},"Número de estrategias implementadas y mantenidas  para la socialización del plan anti-corrupción y atención al ciudadano.",0,{"$f":"'[1]LÍNEA 1'!S71","v":1},{"$f":"'[1]LÍNEA 1'!T71","v":1},0.25,{"$f":"'[1]LÍNEA 1'!U71","v":1},0.25,{"$f":"'[1]LÍNEA 1'!V71","v":1},0.25,{"$f":"'[1]LÍNEA 1'!W71","v":1},0.25,{"$f":"'[6]2016'!$K$14","v":1},{"$f":"'[6]2017'!$K$14","v":1},{"$f":"'[6]2018'!$K$14","v":1},{"$f":"'[6]2019'!$K$14","v":0},1,1,1,1,1,1,0,0,0.75,0.75,0.75,{"$f":"'[6]2016'!P14","v":0},{"$f":"'[6]2016'!Q14","v":0},{"$f":"'[6]2016'!R14","v":0}," -"," -",{"$f":"'[6]2017'!P14","v":762900},{"$f":"'[6]2017'!Q14","v":728851},{"$f":"'[6]2017'!R14","v":0},0.95536898676104343," -",{"$f":"'[6]2018'!P14","v":673000},{"$f":"'[6]2018'!Q14","v":474000},{"$f":"'[6]2018'!R14","v":0},0.7043090638930164," -",{"$f":"'[6]2019'!P14","v":0},{"$f":"'[6]2019'!Q14","v":0},{"$f":"'[6]2019'!R14","v":0}," -"," -",1435900,1202851,0,0.83769830768159348," -","16. Paz, justicia e instituciones sólidas","Fortalecimiento Institucional",{"$f":"'[1]LÍNEA 1'!AQ71","v":"Sec. Planeación"}]
[null,null,null,null,null,null,null,null,null,null,null,null,null,null,null,null,null,null,null,null,null,null,null,null,null,null,null,null,null,null,null,null,null,null,null,null,null,null,null,null,{"$f":"+RESUMEN!J17","v":0.76500000000000001},"GOBIERNO COMPRENSIBLE Y ACCESIBLE","Publicar mantener en línea el 100% de la información sobre la estructura orgánica, las funciones y los deberes de las dependencias así como los medios de contacto y/o servicios de estas.",{"$f":"'[1]LÍNEA 1'!P72","v":" -"},"Porcentaje de información publicados y mantenidos en línea sobre la estructura orgánica, las funciones y los deberes de las dependencias así como los medios de contacto y/o servicios de estas.",0.5,{"$f":"'[1]LÍNEA 1'!S72","v":1},{"$f":"'[1]LÍNEA 1'!T72","v":1},0.25,{"$f":"'[1]LÍNEA 1'!U72","v":1},0.25,{"$f":"'[1]LÍNEA 1'!V72","v":1},0.25,{"$f":"'[1]LÍNEA 1'!W72","v":1},0.25,{"$f":"'[10]2016'!K24","v":1},{"$f":"'[10]2017'!K24","v":0.8},{"$f":"'[10]2018'!K24","v":1},{"$f":"'[10]2019'!K24","v":0},1,1,0.8,0.8,1,1,0,0,0.7,0.7,0.7,{"$f":"'[10]2016'!P24","v":0},{"$f":"'[10]2016'!Q24","v":0},{"$f":"'[10]2016'!R24","v":0}," -"," -",{"$f":"'[10]2017'!P24","v":0},{"$f":"'[10]2017'!Q24","v":0},{"$f":"'[10]2017'!R24","v":0}," -"," -",{"$f":"'[10]2018'!P24","v":0},{"$f":"'[10]2018'!Q24","v":0},{"$f":"'[10]2018'!R24","v":0}," -"," -",{"$f":"'[10]2019'!P24","v":0},{"$f":"'[10]2019'!Q24","v":0},{"$f":"'[10]2019'!R24","v":0}," -"," -",0,0,0," -"," -","16. Paz, justicia e instituciones sólidas","Fortalecimiento Institucional",{"$f":"'[1]LÍNEA 1'!AQ72","v":"Asesor TIC"}]
[null,null,null,null,null,null,null,null,null,null,null,null,null,null,null,null,null,null,null,null,null,null,null,null,null,null,null,null,null,null,null,null,null,null,null,null,null,null,null,null,null,null,"Publicar y mantener actualizado en línea el directorio de servidores públicos.",{"$f":"'[1]LÍNEA 1'!P73","v":" -"},"Número de directorios de servidores públicos publicados y mantenidos en línea.",1,{"$f":"'[1]LÍNEA 1'!S73","v":1},{"$f":"'[1]LÍNEA 1'!T73","v":1},0.25,{"$f":"'[1]LÍNEA 1'!U73","v":1},0.25,{"$f":"'[1]LÍNEA 1'!V73","v":1},0.25,{"$f":"'[1]LÍNEA 1'!W73","v":1},0.25,{"$f":"'[10]2016'!K25","v":1},{"$f":"'[10]2017'!K25","v":0.5},{"$f":"'[10]2018'!K25","v":1},{"$f":"'[10]2019'!K25","v":0},1,1,0.5,0.5,1,1,0,0,0.625,0.625,0.625,{"$f":"'[10]2016'!P25","v":0},{"$f":"'[10]2016'!Q25","v":0},{"$f":"'[10]2016'!R25","v":0}," -"," -",{"$f":"'[10]2017'!P25","v":0},{"$f":"'[10]2017'!Q25","v":0},{"$f":"'[10]2017'!R25","v":0}," -"," -",{"$f":"'[10]2018'!P25","v":0},{"$f":"'[10]2018'!Q25","v":0},{"$f":"'[10]2018'!R25","v":0}," -"," -",{"$f":"'[10]2019'!P25","v":0},{"$f":"'[10]2019'!Q25","v":0},{"$f":"'[10]2019'!R25","v":0}," -"," -",0,0,0," -"," -","16. Paz, justicia e instituciones sólidas","Fortalecimiento Institucional",{"$f":"'[1]LÍNEA 1'!AQ73","v":"Asesor TIC"}]
[null,null,null,null,null,null,null,null,null,null,null,null,null,null,null,null,null,null,null,null,null,null,null,null,null,null,null,null,null,null,null,null,null,null,null,null,null,null,null,null,null,null,"Publicar y mantener actualizado en línea el manual de funciones de la Administración Central.",{"$f":"'[1]LÍNEA 1'!P74","v":" -"},"Número de directorios de manuales de funciones de la Administración Central publicados y mantenidos en línea.",1,{"$f":"'[1]LÍNEA 1'!S74","v":1},{"$f":"'[1]LÍNEA 1'!T74","v":1},0.25,{"$f":"'[1]LÍNEA 1'!U74","v":1},0.25,{"$f":"'[1]LÍNEA 1'!V74","v":1},0.25,{"$f":"'[1]LÍNEA 1'!W74","v":1},0.25,{"$f":"'[10]2016'!K26","v":1},{"$f":"'[10]2017'!K26","v":1},{"$f":"'[10]2018'!K26","v":1},{"$f":"'[10]2019'!K26","v":0},1,1,1,1,1,1,0,0,0.75,0.75,0.75,{"$f":"'[10]2016'!P26","v":0},{"$f":"'[10]2016'!Q26","v":0},{"$f":"'[10]2016'!R26","v":0}," -"," -",{"$f":"'[10]2017'!P26","v":0},{"$f":"'[10]2017'!Q26","v":0},{"$f":"'[10]2017'!R26","v":0}," -"," -",{"$f":"'[10]2018'!P26","v":0},{"$f":"'[10]2018'!Q26","v":0},{"$f":"'[10]2018'!R26","v":0}," -"," -",{"$f":"'[10]2019'!P26","v":0},{"$f":"'[10]2019'!Q26","v":0},{"$f":"'[10]2019'!R26","v":0}," -"," -",0,0,0," -"," -","16. Paz, justicia e instituciones sólidas","Fortalecimiento Institucional",{"$f":"'[1]LÍNEA 1'!AQ74","v":"Asesor TIC"}]
[null,null,null,null,null,null,null,null,null,null,null,null,null,null,null,null,null,null,null,null,null,null,null,null,null,null,null,null,null,null,null,null,null,null,null,null,null,null,null,null,null,null,"Realizar 1 caracterización de las personas que requieren trámites y servicios administrativos del gobierno municipal.",{"$f":"'[1]LÍNEA 1'!P75","v":" -"},"Número de caracterizaciones de las personas que requieren trámites y servicios administrativos del gobierno municipal realizadas.",0,{"$f":"'[1]LÍNEA 1'!S75","v":1},{"$f":"'[1]LÍNEA 1'!T75","v":0},0,{"$f":"'[1]LÍNEA 1'!U75","v":1},1,{"$f":"'[1]LÍNEA 1'!V75","v":0},0,{"$f":"'[1]LÍNEA 1'!W75","v":0},0,{"$f":"'[9]2016'!$K$16","v":0},{"$f":"'[9]2017'!$K$16","v":1},{"$f":"'[9]2018'!$K$16","v":0},{"$f":"'[9]2019'!$K$16","v":0}," -"," -",1,1," -"," -"," -"," -",{"$f":"+SUM(BD75:BG75)/AU75","v":1},1,1,{"$f":"'[9]2016'!P16","v":0},{"$f":"'[9]2016'!Q16","v":0},{"$f":"'[9]2016'!R16","v":0}," -"," -",{"$f":"'[9]2017'!P16","v":0},{"$f":"'[9]2017'!Q16","v":0},{"$f":"'[9]2017'!R16","v":0}," -"," -",{"$f":"'[9]2018'!P16","v":0},{"$f":"'[9]2018'!Q16","v":0},{"$f":"'[9]2018'!R16","v":0}," -"," -",{"$f":"'[9]2019'!P16","v":0},{"$f":"'[9]2019'!Q16","v":0},{"$f":"'[9]2019'!R16","v":0}," -"," -",0,0,0," -"," -","16. Paz, justicia e instituciones sólidas","Fortalecimiento Institucional",{"$f":"'[1]LÍNEA 1'!AQ75","v":"Sec. Administrativa"}]
[null,null,null,null,null,null,null,null,null,null,null,null,null,null,null,null,null,null,null,null,null,null,null,null,null,null,null,null,null,null,null,null,null,null,null,null,null,null,null,null,null,null,"Implementar y mantener 1 estrategia de comunicaciones para difundir y promover la oferta institucional así como de sus funciones, deberes y/u obligaciones legales dirigida a la población con enfoque diferencial.",{"$f":"'[1]LÍNEA 1'!P76","v":0},"Número de estrategias de comunicaciones implementadas y mantenidas para difundir y promover la oferta institucional así como de sus funciones, deberes y/u obligaciones legales dirigida a la población con enfoque diferencial.",0,{"$f":"'[1]LÍNEA 1'!S76","v":1},{"$f":"'[1]LÍNEA 1'!T76","v":1},0.25,{"$f":"'[1]LÍNEA 1'!U76","v":1},0.25,{"$f":"'[1]LÍNEA 1'!V76","v":1},0.25,{"$f":"'[1]LÍNEA 1'!W76","v":1},0.25,{"$f":"'[8]2016'!$K$18","v":1},{"$f":"'[8]2017'!$K$18","v":1},{"$f":"'[8]2018'!$K$18","v":1},{"$f":"'[8]2019'!$K$18","v":0},{"$f":"IF(AV76=0,\" -\",BD76/AV76)","v":1},{"$f":"IF(AV76=0,\" -\",IF(BH76>100%,100%,BH76))","v":1},{"$f":"IF(AX76=0,\" -\",BE76/AX76)","v":1},{"$f":"IF(AX76=0,\" -\",IF(BJ76>100%,100%,BJ76))","v":1},{"$f":"IF(AZ76=0,\" -\",BF76/AZ76)","v":1},{"$f":"IF(AZ76=0,\" -\",IF(BL76>100%,100%,BL76))","v":1},{"$f":"IF(BB76=0,\" -\",BG76/BB76)","v":0},{"$f":"IF(BB76=0,\" -\",IF(BN76>100%,100%,BN76))","v":0},{"$f":"+AVERAGE(BD76:BG76)/AU76","v":0.75},{"$f":"+IF(BP76>100%,100%,BP76)","v":0.75},{"$f":"+BQ76","v":0.75},{"$f":"'[8]2016'!P18","v":0},{"$f":"'[8]2016'!Q18","v":0},{"$f":"'[8]2016'!R18","v":0}," -"," -",{"$f":"'[8]2017'!P18","v":0},{"$f":"'[8]2017'!Q18","v":0},{"$f":"'[8]2017'!R18","v":0}," -"," -",{"$f":"'[8]2018'!P18","v":74554},{"$f":"'[8]2018'!Q18","v":74554},{"$f":"'[8]2018'!R18","v":0},1," -",{"$f":"'[8]2019'!P18","v":250000},{"$f":"'[8]2019'!Q18","v":0},{"$f":"'[8]2019'!R18","v":0},0," -",324554,74554,0,0.22971215883951515," -","16. Paz, justicia e instituciones sólidas","Fortalecimiento Institucional",{"$f":"'[1]LÍNEA 1'!AQ76","v":"Ofc. Prensa"}]
[null,null,null,null,null,null,null,null,null,null,null,null,null,null,null,null,null,null,null,null,null,null,null,null,null,null,null,null,null,null,null,null,null,null,null,null,null,null,null,null,null,null,null,null,null,null,{"$f":"'[1]LÍNEA 1'!S77","v":0},{"$f":"'[1]LÍNEA 1'!T77","v":0},{"$f":"+AVERAGE(AW11:AW76)","v":0.18692279942279943},{"$f":"'[1]LÍNEA 1'!U77","v":0},{"$f":"+AVERAGE(AY11:AY76)","v":0.33357683982683983},{"$f":"'[1]LÍNEA 1'!V77","v":0},{"$f":"+AVERAGE(BA11:BA76)","v":0.2414862914862915},{"$f":"'[1]LÍNEA 1'!W77","v":0},{"$f":"+AVERAGE(BC11:BC76)","v":0.23801406926406929},null,null,null,null,null,{"$f":"+AVERAGE(BI11:BI76)","v":0.86734693877551017},null,0.87971945701357468,null,0.73700564971751414,null,0,null,{"$f":"+AVERAGE(BQ11:BQ76)","v":0.6419222689075631}]
[null,null,null,{"$f":"+RESUMEN!J18","v":0.59149162543109912},"GOBIERNO LEGAL Y EFECTIVO","Aumentar en un 30% los ingresos provenientes del impuesto predial.",0,0.3,{"$f":"+H78-G78","v":0.3},0,{"$f":"+J78-G78","v":0},null,0,{"$f":"+M78-J78","v":0},null,0.15,{"$f":"+P78-M78","v":0.15},null,0.3,{"$f":"+S78-P78","v":0.15},null,null,{"$f":"+IF(V78=0,0,V78-G78)","v":0},null,{"$f":"+IF(X78=0,0,X78-V78)","v":0},null,{"$f":"+IF(Z78=0,0,Z78-X78)","v":0},null,{"$f":"+IF(AB78=0,0,AB78-Z78)","v":0},{"$f":"+IF(K78=0,\" -\",W78/K78)","v":" -"},{"$f":"+IF(K78=0,\" -\",IF(AD78>100%,100%,AD78))","v":" -"},{"$f":"+IF(N78=0,\" -\",Y78/N78)","v":" -"},{"$f":"+IF(N78=0,\" -\",IF(AF78>100%,100%,AF78))","v":" -"},{"$f":"+IF(Q78=0,\" -\",AA78/Q78)","v":0},{"$f":"+IF(Q78=0,\" -\",IF(AH78>100%,100%,AH78))","v":0},{"$f":"+IF(T78=0,\" -\",AC78/T78)","v":0},{"$f":"+IF(T78=0,\" -\",IF(AJ78>100%,100%,AJ78))","v":0},{"$f":"+SUM(AC78,AA78,Y78,W78)/I78","v":0},{"$f":"+IF(AL78>100%,100%,IF(AL78<0%,0%,AL78))","v":0},null,{"$f":"+RESUMEN!J19","v":0.57916666666666661},"NUEVO MODELO DE ATENCIÓN A LA CIUDADANÍA","Formular e implementar 1 plan de la excelencia para la gestión de PQRSD en la Administración Municipal (procedimientos e infraestructura).",{"$f":"'[1]LÍNEA 1'!P78","v":2210289},"Número de planes de la excelencia formulados e implementados para la gestión de PQRSD en la Administración Municipal (procedimientos e infraestructura).",0,{"$f":"'[1]LÍNEA 1'!S78","v":1},{"$f":"'[1]LÍNEA 1'!T78","v":0},{"$f":"+AV78/AU78","v":0},{"$f":"'[1]LÍNEA 1'!U78","v":1},0.33,{"$f":"'[1]LÍNEA 1'!V78","v":1},0.33,{"$f":"'[1]LÍNEA 1'!W78","v":1},0.34,{"$f":"'[9]2016'!K18","v":0},{"$f":"'[9]2017'!K18","v":1},{"$f":"'[9]2018'!K18","v":1},{"$f":"'[9]2019'!K18","v":0}," -"," -",1,1,1,1,0,0,{"$f":"+AVERAGE(BE78:BG78)/AU78","v":0.66666666666666663},0.66666666666666663,0.66666666666666663,{"$f":"'[9]2016'!P18","v":0},{"$f":"'[9]2016'!Q18","v":0},{"$f":"'[9]2016'!R18","v":0},{"$f":"IF(BS78=0,\" -\",BT78/BS78)","v":" -"},{"$f":"IF(BU78=0,\" -\",IF(BT78=0,100%,BU78/BT78))","v":" -"},{"$f":"'[9]2017'!P18","v":287480},{"$f":"'[9]2017'!Q18","v":247987},{"$f":"'[9]2017'!R18","v":0},{"$f":"IF(BX78=0,\" -\",BY78/BX78)","v":0.86262348685125922},{"$f":"IF(BZ78=0,\" -\",IF(BY78=0,100%,BZ78/BY78))","v":" -"},{"$f":"'[9]2018'!P18","v":172666},{"$f":"'[9]2018'!Q18","v":60713},{"$f":"'[9]2018'!R18","v":0},{"$f":"IF(CC78=0,\" -\",CD78/CC78)","v":0.3516210487299179},{"$f":"IF(CE78=0,\" -\",IF(CD78=0,100%,CE78/CD78))","v":" -"},{"$f":"'[9]2019'!P18","v":500000},{"$f":"'[9]2019'!Q18","v":0},{"$f":"'[9]2019'!R18","v":0},{"$f":"IF(CH78=0,\" -\",CI78/CH78)","v":0},{"$f":"IF(CJ78=0,\" -\",IF(CI78=0,100%,CJ78/CI78))","v":" -"},{"$f":"+BS78+BX78+CC78+CH78","v":960146},{"$f":"+BT78+BY78+CD78+CI78","v":308700},{"$f":"+BU78+BZ78+CE78+CJ78","v":0},{"$f":"IF(CM78=0,\" -\",CN78/CM78)","v":0.32151360313952254},{"$f":"IF(CO78=0,\" -\",IF(CN78=0,100%,CO78/CN78))","v":" -"},"16. Paz, justicia e instituciones sólidas","Fortalecimiento Institucional",{"$f":"'[1]LÍNEA 1'!AQ78","v":"Sec. Administrativa"}]
[null,null,null,null,null,null,null,null,null,null,null,null,null,null,null,null,null,null,null,null,null,null,null,null,null,null,null,null,null,null,null,null,null,null,null,null,null,null,null,null,null,null,"Crear 1 cargo del nivel directivo y/o asesor para coordinar la atención a la comunidad en la administración municipal.",{"$f":"'[1]LÍNEA 1'!P79","v":" -"},"Número de cargos creados del nivel directivo y/o asesor creados para coordinar la atención a la comunidad en la administración municipal.",0,{"$f":"'[1]LÍNEA 1'!S79","v":1},{"$f":"'[1]LÍNEA 1'!T79","v":0},0,{"$f":"'[1]LÍNEA 1'!U79","v":1},{"$f":"+AX79/AU79","v":1},{"$f":"'[1]LÍNEA 1'!V79","v":0},{"$f":"+AZ79/AU79","v":0},{"$f":"'[1]LÍNEA 1'!W79","v":0},{"$f":"+BB79/AU79","v":0},{"$f":"'[9]2016'!K19","v":0},{"$f":"'[9]2017'!K19","v":0},{"$f":"'[9]2018'!K19","v":0},{"$f":"'[9]2019'!K19","v":0}," -"," -",0,0," -"," -"," -"," -",{"$f":"+SUM(BD79:BG79)/AU79","v":0},0,0,{"$f":"'[9]2016'!P19","v":0},{"$f":"'[9]2016'!Q19","v":0},{"$f":"'[9]2016'!R19","v":0}," -"," -",{"$f":"'[9]2017'!P19","v":0},{"$f":"'[9]2017'!Q19","v":0},{"$f":"'[9]2017'!R19","v":0}," -"," -",{"$f":"'[9]2018'!P19","v":0},{"$f":"'[9]2018'!Q19","v":0},{"$f":"'[9]2018'!R19","v":0}," -"," -",{"$f":"'[9]2019'!P19","v":0},{"$f":"'[9]2019'!Q19","v":0},{"$f":"'[9]2019'!R19","v":0}," -"," -",0,0,0," -"," -","16. Paz, justicia e instituciones sólidas","Fortalecimiento Institucional",{"$f":"'[1]LÍNEA 1'!AQ79","v":"Sec. Administrativa"}]
[null,null,null,null,null,null,null,null,null,null,null,null,null,null,null,null,null,null,null,null,null,null,null,null,null,null,null,null,null,null,null,null,null,null,null,null,null,null,null,null,null,null,"Implementar y mantener 1 red incluyente de asesores de la comunidad en las oficinas de la Administración Municipal.",{"$f":"'[1]LÍNEA 1'!P80","v":0},"Número de redes incluyentes de asesores de la comunidad implementadas y mantenidas en las oficinas de la Administración Municipal.",0,{"$f":"'[1]LÍNEA 1'!S80","v":1},{"$f":"'[1]LÍNEA 1'!T80","v":1},0.25,{"$f":"'[1]LÍNEA 1'!U80","v":1},0.25,{"$f":"'[1]LÍNEA 1'!V80","v":1},0.25,{"$f":"'[1]LÍNEA 1'!W80","v":1},0.25,{"$f":"'[9]2016'!K20","v":1},{"$f":"'[9]2017'!K20","v":1},{"$f":"'[9]2018'!K20","v":1},{"$f":"'[9]2019'!K20","v":0},1,1,1,1,1,1,0,0,{"$f":"+AVERAGE(BD80:BG80)/AU80","v":0.75},0.75,0.75,{"$f":"'[9]2016'!P20","v":0},{"$f":"'[9]2016'!Q20","v":0},{"$f":"'[9]2016'!R20","v":0}," -"," -",{"$f":"'[9]2017'!P20","v":0},{"$f":"'[9]2017'!Q20","v":0},{"$f":"'[9]2017'!R20","v":0}," -"," -",{"$f":"'[9]2018'!P20","v":0},{"$f":"'[9]2018'!Q20","v":0},{"$f":"'[9]2018'!R20","v":0}," -"," -",{"$f":"'[9]2019'!P20","v":250000},{"$f":"'[9]2019'!Q20","v":0},{"$f":"'[9]2019'!R20","v":0},0," -",250000,0,0,0," -","16. Paz, justicia e instituciones sólidas","Fortalecimiento Institucional",{"$f":"'[1]LÍNEA 1'!AQ80","v":"Sec. Administrativa"}]
[null,null,null,null,null,null,null,null,null,null,null,null,null,null,null,null,null,null,null,null,null,null,null,null,null,null,null,null,null,null,null,null,null,null,null,null,null,null,null,null,null,null,"Crear e implementar 2 \"Centros de atención municipal especializados (CAME)\".",{"$f":"'[1]LÍNEA 1'!P81","v":2210302},"Número de \"Centros de atención municipal especializados (CAME)\" creados e implementados.",0,{"$f":"'[1]LÍNEA 1'!S81","v":2},{"$f":"'[1]LÍNEA 1'!T81","v":0},0,{"$f":"'[1]LÍNEA 1'!U81","v":1},0.5,{"$f":"'[1]LÍNEA 1'!V81","v":1},0.5,{"$f":"'[1]LÍNEA 1'!W81","v":0},0,{"$f":"'[9]2016'!K21","v":0},{"$f":"'[9]2017'!K21","v":1},{"$f":"'[9]2018'!K21","v":0.8},{"$f":"'[9]2019'!K21","v":0}," -"," -",1,1,0.8,0.8," -"," -",{"$f":"+SUM(BD81:BG81)/AU81","v":0.9},0.9,0.9,{"$f":"'[9]2016'!P21","v":0},{"$f":"'[9]2016'!Q21","v":0},{"$f":"'[9]2016'!R21","v":0}," -"," -",{"$f":"'[9]2017'!P21","v":639325},{"$f":"'[9]2017'!Q21","v":633955},{"$f":"'[9]2017'!R21","v":0},0.99160051616939737," -",{"$f":"'[9]2018'!P21","v":652198},{"$f":"'[9]2018'!Q21","v":49996},{"$f":"'[9]2018'!R21","v":0},7.6657702108868783E-2," -",{"$f":"'[9]2019'!P21","v":0},{"$f":"'[9]2019'!Q21","v":0},{"$f":"'[9]2019'!R21","v":0}," -"," -",1291523,683951,0,0.52956935339130629," -","16. Paz, justicia e instituciones sólidas","Fortalecimiento Institucional",{"$f":"'[1]LÍNEA 1'!AQ81","v":"Sec. Administrativa"}]
[null,null,null,null,null,null,null,null,null,null,null,null,null,null,null,null,null,null,null,null,null,null,null,null,null,null,null,null,null,null,null,null,null,null,null,null,null,null,null,null,{"$f":"+RESUMEN!J20","v":0.58333333333333337},"ACCIONES CONSTITUCIONALES Y ACCIONES LEGALES: RESPUESTA Y GESTIÓN SOCIAL Y ESTRATÉGICA","Implementar y mantener el observatorio de acciones constitucionales (derechos de petición, tutelas, acciones populares y acciones de cumplimiento).",{"$f":"'[1]LÍNEA 1'!P82","v":0},"Número de observatorios de acciones constitucionales (derechos de petición, tutelas, acciones populares y acciones de cumplimiento) implementados y mantenidos.",0,{"$f":"'[1]LÍNEA 1'!S82","v":1},{"$f":"'[1]LÍNEA 1'!T82","v":1},0.25,{"$f":"'[1]LÍNEA 1'!U82","v":1},0.25,{"$f":"'[1]LÍNEA 1'!V82","v":1},0.25,{"$f":"'[1]LÍNEA 1'!W82","v":1},0.25,{"$f":"'[14]2016'!K18","v":0},{"$f":"'[14]2017'!K18","v":1},{"$f":"'[14]2018'!K18","v":0.5},{"$f":"'[14]2019'!K18","v":0},0,0,1,1,0.5,0.5,0,0,0.375,0.375,0.375,{"$f":"'[14]2016'!P18","v":0},{"$f":"'[14]2016'!Q18","v":0},{"$f":"'[14]2016'!R18","v":0}," -"," -",{"$f":"'[14]2017'!P18","v":0},{"$f":"'[14]2017'!Q18","v":0},{"$f":"'[14]2017'!R18","v":0}," -"," -",{"$f":"'[14]2018'!P18","v":49400},{"$f":"'[14]2018'!Q18","v":21600},{"$f":"'[14]2018'!R18","v":0},0.43724696356275305," -",{"$f":"'[14]2019'!P18","v":200000},{"$f":"'[14]2019'!Q18","v":0},{"$f":"'[14]2019'!R18","v":0},0," -",249400,21600,0,8.660785886126704E-2," -","16. Paz, justicia e instituciones sólidas","Justicia y Seguridad",{"$f":"'[1]LÍNEA 1'!AQ82","v":"Sec. Jurídica"}]
[null,null,null,null,null,null,null,null,null,null,null,null,null,null,null,null,null,null,null,null,null,null,null,null,null,null,null,null,null,null,null,null,null,null,null,null,null,null,null,null,null,null,"Implementar y mantener 1 estrategia para la prevención del daño antijurídico.",{"$f":"'[1]LÍNEA 1'!P83","v":" -"},"Número de estrategias para la prevención del daño antijurídico implementadas y mantenidas.",0,{"$f":"'[1]LÍNEA 1'!S83","v":1},{"$f":"'[1]LÍNEA 1'!T83","v":1},0.25,{"$f":"'[1]LÍNEA 1'!U83","v":1},0.25,{"$f":"'[1]LÍNEA 1'!V83","v":1},0.25,{"$f":"'[1]LÍNEA 1'!W83","v":1},0.25,{"$f":"'[14]2016'!K19","v":1},{"$f":"'[14]2017'!K19","v":1},{"$f":"'[14]2018'!K19","v":0.5},{"$f":"'[14]2019'!K19","v":0},1,1,1,1,0.5,0.5,0,0,0.625,0.625,0.625,{"$f":"'[14]2016'!P19","v":0},{"$f":"'[14]2016'!Q19","v":0},{"$f":"'[14]2016'!R19","v":0}," -"," -",{"$f":"'[14]2017'!P19","v":0},{"$f":"'[14]2017'!Q19","v":0},{"$f":"'[14]2017'!R19","v":0}," -"," -",{"$f":"'[14]2018'!P19","v":25000},{"$f":"'[14]2018'!Q19","v":0},{"$f":"'[14]2018'!R19","v":0},0," -",{"$f":"'[14]2019'!P19","v":0},{"$f":"'[14]2019'!Q19","v":0},{"$f":"'[14]2019'!R19","v":0}," -"," -",25000,0,0,0," -","16. Paz, justicia e instituciones sólidas","Justicia y Seguridad",{"$f":"'[1]LÍNEA 1'!AQ83","v":"Sec. Jurídica"}]
[null,null,null,null,null,null,null,null,null,null,null,null,null,null,null,null,null,null,null,null,null,null,null,null,null,null,null,null,null,null,null,null,null,null,null,null,null,null,null,null,null,null,"Implementar y mantener 1 sistema de información misional que agilice el registro, seguimiento y control de los asuntos de la secretaría jurídica.",{"$f":"'[1]LÍNEA 1'!P84","v":0},"Número de sistemas de información misional implementados que agilice el registro, seguimiento y control de los asuntos de la secretaría jurídica.",0,{"$f":"'[1]LÍNEA 1'!S84","v":1},{"$f":"'[1]LÍNEA 1'!T84","v":1},0.25,{"$f":"'[1]LÍNEA 1'!U84","v":1},0.25,{"$f":"'[1]LÍNEA 1'!V84","v":1},0.25,{"$f":"'[1]LÍNEA 1'!W84","v":1},0.25,{"$f":"'[14]2016'!K20","v":1},{"$f":"'[14]2017'!K20","v":1},{"$f":"'[14]2018'!K20","v":1},{"$f":"'[14]2019'!K20","v":0},1,1,1,1,1,1,0,0,0.75,0.75,0.75,{"$f":"'[14]2016'!P20","v":19000},{"$f":"'[14]2016'!Q20","v":19000},{"$f":"'[14]2016'!R20","v":0},1," -",{"$f":"'[14]2017'!P20","v":57000},{"$f":"'[14]2017'!Q20","v":57000},{"$f":"'[14]2017'!R20","v":0},1," -",{"$f":"'[14]2018'!P20","v":37000},{"$f":"'[14]2018'!Q20","v":23171},{"$f":"'[14]2018'!R20","v":0},0.62624324324324321," -",{"$f":"'[14]2019'!P20","v":300000},{"$f":"'[14]2019'!Q20","v":0},{"$f":"'[14]2019'!R20","v":0},0," -",413000,99171,0,0.24012348668280872," -","16. Paz, justicia e instituciones sólidas","Fortalecimiento Institucional",{"$f":"'[1]LÍNEA 1'!AQ84","v":"Sec. Jurídica"}]
[null,null,null,null,null,null,null,null,null,null,null,null,null,null,null,null,null,null,null,null,null,null,null,null,null,null,null,null,null,null,null,null,null,null,null,null,null,null,null,null,{"$f":"+RESUMEN!J21","v":0.62124444444444449},"ADMINISTRACIÓN ARTICULADA Y COHERENTE","Ajustar y mantener implementado el Plan Institucional de Capacitación y Formación y el Plan de Bienestar y Estímulos.",{"$f":"'[1]LÍNEA 1'!P85","v":2210526},"Número de Planes institucionales de capacitación y formación y de bienestar y estímulos ajustados y mantenidos.",2,{"$f":"'[1]LÍNEA 1'!S85","v":2},{"$f":"'[1]LÍNEA 1'!T85","v":2},0.25,{"$f":"'[1]LÍNEA 1'!U85","v":2},0.25,{"$f":"'[1]LÍNEA 1'!V85","v":2},0.25,{"$f":"'[1]LÍNEA 1'!W85","v":2},0.25,{"$f":"'[9]2016'!K22","v":2},{"$f":"'[9]2017'!K22","v":2},{"$f":"'[9]2018'!K22","v":1},{"$f":"'[9]2019'!K22","v":0},1,1,1,1,0.5,0.5,0,0,0.625,0.625,0.625,{"$f":"'[9]2016'!P22","v":600000},{"$f":"'[9]2016'!Q22","v":600000},{"$f":"'[9]2016'!R22","v":0},1," -",{"$f":"'[9]2017'!P22","v":600000},{"$f":"'[9]2017'!Q22","v":0},{"$f":"'[9]2017'!R22","v":0},0," -",{"$f":"'[9]2018'!P22","v":400000},{"$f":"'[9]2018'!Q22","v":0},{"$f":"'[9]2018'!R22","v":0},0," -",{"$f":"'[9]2019'!P22","v":1000000},{"$f":"'[9]2019'!Q22","v":0},{"$f":"'[9]2019'!R22","v":0},0," -",2600000,600000,0,0.23076923076923078," -","16. Paz, justicia e instituciones sólidas","Fortalecimiento Institucional",{"$f":"'[1]LÍNEA 1'!AQ85","v":"Sec. Administrativa"}]
[null,null,null,null,null,null,null,null,null,null,null,null,null,null,null,null,null,null,null,null,null,null,null,null,null,null,null,null,null,null,null,null,null,null,null,null,null,null,null,null,null,null,"Mantener 1 sistema de gestión y control certificado.",{"$f":"'[1]LÍNEA 1'!P86","v":2210527},"Número de sistemas de gestión y control certificados mantenidos.",1,{"$f":"'[1]LÍNEA 1'!S86","v":1},{"$f":"'[1]LÍNEA 1'!T86","v":1},0.25,{"$f":"'[1]LÍNEA 1'!U86","v":1},0.25,{"$f":"'[1]LÍNEA 1'!V86","v":1},0.25,{"$f":"'[1]LÍNEA 1'!W86","v":1},0.25,{"$f":"'[9]2016'!K23","v":1},{"$f":"'[9]2017'!K23","v":1},{"$f":"'[9]2018'!K23","v":1},{"$f":"'[9]2019'!K23","v":0},1,1,1,1,1,1,0,0,0.75,0.75,0.75,{"$f":"'[9]2016'!P23","v":0},{"$f":"'[9]2016'!Q23","v":0},{"$f":"'[9]2016'!R23","v":0}," -"," -",{"$f":"'[9]2017'!P23","v":53052},{"$f":"'[9]2017'!Q23","v":49573},{"$f":"'[9]2017'!R23","v":0},0.93442283043052099," -",{"$f":"'[9]2018'!P23","v":0},{"$f":"'[9]2018'!Q23","v":0},{"$f":"'[9]2018'!R23","v":0}," -"," -",{"$f":"'[9]2019'!P23","v":300000},{"$f":"'[9]2019'!Q23","v":0},{"$f":"'[9]2019'!R23","v":0},0," -",353052,49573,0,0.14041274373180154," -","16. Paz, justicia e instituciones sólidas","Fortalecimiento Institucional",{"$f":"'[1]LÍNEA 1'!AQ86","v":"Sec. Administrativa"}]
[null,null,null,null,null,null,null,null,null,null,null,null,null,null,null,null,null,null,null,null,null,null,null,null,null,null,null,null,null,null,null,null,null,null,null,null,null,null,null,null,null,null,"Realizar 3 auditorías de seguimiento por el ente certificador.",{"$f":"'[1]LÍNEA 1'!P87","v":2210527},"Número de auditorías de seguimiento por el ente certificador realizadas.",3,{"$f":"'[1]LÍNEA 1'!S87","v":3},{"$f":"'[1]LÍNEA 1'!T87","v":1},0.33333333333333331,{"$f":"'[1]LÍNEA 1'!U87","v":0},0,{"$f":"'[1]LÍNEA 1'!V87","v":1},0.33333333333333331,{"$f":"'[1]LÍNEA 1'!W87","v":1},0.33333333333333331,{"$f":"'[9]2016'!K24","v":1},{"$f":"'[9]2017'!K24","v":0},{"$f":"'[9]2018'!K24","v":0},{"$f":"'[9]2019'!K24","v":0},1,1," -"," -",0,0,0,0,{"$f":"+SUM(BD87:BG87)/AU87","v":0.33333333333333331},0.33333333333333331,0.33333333333333331,{"$f":"'[9]2016'!P24","v":200000},{"$f":"'[9]2016'!Q24","v":7637},{"$f":"'[9]2016'!R24","v":0},3.8184999999999997E-2," -",{"$f":"'[9]2017'!P24","v":0},{"$f":"'[9]2017'!Q24","v":0},{"$f":"'[9]2017'!R24","v":0}," -"," -",{"$f":"'[9]2018'!P24","v":11000},{"$f":"'[9]2018'!Q24","v":0},{"$f":"'[9]2018'!R24","v":0},0," -",{"$f":"'[9]2019'!P24","v":70000},{"$f":"'[9]2019'!Q24","v":0},{"$f":"'[9]2019'!R24","v":0},0," -",281000,7637,0,2.7177935943060498E-2," -","16. Paz, justicia e instituciones sólidas","Fortalecimiento Institucional",{"$f":"'[1]LÍNEA 1'!AQ87","v":"Sec. Administrativa"}]
[null,null,null,null,null,"Lograr una calificación de 85 en el Índice de Desempeño Integral del DNP.",75,85,{"$f":"+H88-G88","v":10},75,{"$f":"+J88-G88","v":0},null,80,{"$f":"+M88-J88","v":5},null,85,{"$f":"+P88-M88","v":5},null,85,{"$f":"+S88-P88","v":0},null,71.900000000000006,{"$f":"+IF(V88=0,0,V88-G88)","v":-3.0999999999999943},null,{"$f":"+IF(X88=0,0,X88-V88)","v":0},null,{"$f":"+IF(Z88=0,0,Z88-X88)","v":0},null,{"$f":"+IF(AB88=0,0,AB88-Z88)","v":0},{"$f":"+IF(K88=0,\" -\",W88/K88)","v":" -"},{"$f":"+IF(K88=0,\" -\",IF(AD88>100%,100%,AD88))","v":" -"},{"$f":"+IF(N88=0,\" -\",Y88/N88)","v":0},{"$f":"+IF(N88=0,\" -\",IF(AF88>100%,100%,AF88))","v":0},{"$f":"+IF(Q88=0,\" -\",AA88/Q88)","v":0},{"$f":"+IF(Q88=0,\" -\",IF(AH88>100%,100%,AH88))","v":0},{"$f":"+IF(T88=0,\" -\",AC88/T88)","v":" -"},{"$f":"+IF(T88=0,\" -\",IF(AJ88>100%,100%,AJ88))","v":" -"},{"$f":"+SUM(AC88,AA88,Y88,W88)/I88","v":-0.30999999999999944},{"$f":"+IF(AL88>100%,100%,IF(AL88<0%,0%,AL88))","v":0},null,null,null,"Realizar 1 auditoría de recertificación por el ente certificador.",{"$f":"'[1]LÍNEA 1'!P88","v":2210527},"Número de auditorías de recertificación por el ente certificador realizadas.",1,{"$f":"'[1]LÍNEA 1'!S88","v":1},{"$f":"'[1]LÍNEA 1'!T88","v":0},0,{"$f":"'[1]LÍNEA 1'!U88","v":1},1,{"$f":"'[1]LÍNEA 1'!V88","v":0},0,{"$f":"'[1]LÍNEA 1'!W88","v":0},0,{"$f":"'[9]2016'!K25","v":0},{"$f":"'[9]2017'!K25","v":1},{"$f":"'[9]2018'!K25","v":0},{"$f":"'[9]2019'!K25","v":0}," -"," -",1,1," -"," -"," -"," -",1,1,1,{"$f":"'[9]2016'!P25","v":0},{"$f":"'[9]2016'!Q25","v":0},{"$f":"'[9]2016'!R25","v":0}," -"," -",{"$f":"'[9]2017'!P25","v":0},{"$f":"'[9]2017'!Q25","v":0},{"$f":"'[9]2017'!R25","v":0}," -"," -",{"$f":"'[9]2018'!P25","v":0},{"$f":"'[9]2018'!Q25","v":0},{"$f":"'[9]2018'!R25","v":0}," -"," -",{"$f":"'[9]2019'!P25","v":0},{"$f":"'[9]2019'!Q25","v":0},{"$f":"'[9]2019'!R25","v":0}," -"," -",0,0,0," -"," -","16. Paz, justicia e instituciones sólidas","Fortalecimiento Institucional",{"$f":"'[1]LÍNEA 1'!AQ88","v":"Sec. Administrativa"}]
[null,null,null,null,null,null,null,null,null,null,null,null,null,null,null,null,null,null,null,null,null,null,null,null,null,null,null,null,null,null,null,null,null,null,null,null,null,null,null,null,null,null,"Formular e implementar el Programa de Gestión Documental - PGD y el Plan Institucional de Archivos - PINAR.",{"$f":"'[1]LÍNEA 1'!P89","v":2210524},"Número de Programas de Gestión Documental y Planes Institucional de Archivos formulados e implementados.",2,{"$f":"'[1]LÍNEA 1'!S89","v":2},{"$f":"'[1]LÍNEA 1'!T89","v":2},0.25,{"$f":"'[1]LÍNEA 1'!U89","v":2},0.25,{"$f":"'[1]LÍNEA 1'!V89","v":2},0.25,{"$f":"'[1]LÍNEA 1'!W89","v":2},0.25,{"$f":"'[9]2016'!K26","v":2},{"$f":"'[9]2017'!K26","v":2},{"$f":"'[9]2018'!K26","v":1.6},{"$f":"'[9]2019'!K26","v":0},1,1,1,1,0.8,0.8,0,0,0.7,0.7,0.7,{"$f":"'[9]2016'!P26","v":50000},{"$f":"'[9]2016'!Q26","v":0},{"$f":"'[9]2016'!R26","v":0},0," -",{"$f":"'[9]2017'!P26","v":300000},{"$f":"'[9]2017'!Q26","v":279846},{"$f":"'[9]2017'!R26","v":0},0.93281999999999998," -",{"$f":"'[9]2018'!P26","v":0},{"$f":"'[9]2018'!Q26","v":0},{"$f":"'[9]2018'!R26","v":0}," -"," -",{"$f":"'[9]2019'!P26","v":200000},{"$f":"'[9]2019'!Q26","v":0},{"$f":"'[9]2019'!R26","v":0},0," -",550000,279846,0,0.50881090909090909," -","16. Paz, justicia e instituciones sólidas","Fortalecimiento Institucional",{"$f":"'[1]LÍNEA 1'!AQ89","v":"Sec. Administrativa"}]
[null,null,null,null,null,null,null,null,null,null,null,null,null,null,null,null,null,null,null,null,null,null,null,null,null,null,null,null,null,null,null,null,null,null,null,null,null,null,null,null,null,null,"Formular e implementar 1 estrategia de gobierno para la aplicación cabal de la ley 1474 de 2011 estatuto anti-corrupción y el CONPES 167 de 2013.",{"$f":"'[1]LÍNEA 1'!P90","v":" -"},"Número de estrategias de gobierno formuladas e implementadas para la aplicación cabal de la ley 1474 de 2011 estatuto anti-corrupción y el CONPES 167 de 2013.",1,{"$f":"'[1]LÍNEA 1'!S90","v":1},{"$f":"'[1]LÍNEA 1'!T90","v":1},1,{"$f":"'[1]LÍNEA 1'!U90","v":1},0.33,{"$f":"'[1]LÍNEA 1'!V90","v":1},0.33,{"$f":"'[1]LÍNEA 1'!W90","v":1},0.34,{"$f":"'[9]2016'!K27","v":1},{"$f":"'[9]2017'!K27","v":1},{"$f":"'[9]2018'!K27","v":1},{"$f":"'[9]2019'!K27","v":0},1,1,1,1,1,1,0,0,{"$f":"+AVERAGE(BD90:BG90)/AU90","v":0.75},0.75,0.75,{"$f":"'[9]2016'!P27","v":0},{"$f":"'[9]2016'!Q27","v":0},{"$f":"'[9]2016'!R27","v":0}," -"," -",{"$f":"'[9]2017'!P27","v":0},{"$f":"'[9]2017'!Q27","v":0},{"$f":"'[9]2017'!R27","v":0}," -"," -",{"$f":"'[9]2018'!P27","v":0},{"$f":"'[9]2018'!Q27","v":0},{"$f":"'[9]2018'!R27","v":0}," -"," -",{"$f":"'[9]2019'!P27","v":0},{"$f":"'[9]2019'!Q27","v":0},{"$f":"'[9]2019'!R27","v":0}," -"," -",0,0,0," -"," -","16. Paz, justicia e instituciones sólidas","Fortalecimiento Institucional",{"$f":"'[1]LÍNEA 1'!AQ90","v":"Sec. Administrativa"}]
[null,null,null,null,null,null,null,null,null,null,null,null,null,null,null,null,null,null,null,null,null,null,null,null,null,null,null,null,null,null,null,null,null,null,null,null,null,null,null,null,null,null,"Implementar y mantener el 100% de los procesos necesarios para la formulación y ejecución del Plan Anti-corrupción y Atención al Ciudadano.",{"$f":"'[1]LÍNEA 1'!P91","v":" -"},"Porcentaje de procesos necesarios implementados y mantenidos para la formulación y ejecución del Plan Anti-corrupción y Atención al Ciudadano.",0,{"$f":"'[1]LÍNEA 1'!S91","v":1},{"$f":"'[1]LÍNEA 1'!T91","v":1},0.25,{"$f":"'[1]LÍNEA 1'!U91","v":1},0.25,{"$f":"'[1]LÍNEA 1'!V91","v":1},0.25,{"$f":"'[1]LÍNEA 1'!W91","v":1},0.25,{"$f":"'[9]2016'!K28","v":1},{"$f":"'[9]2017'!K28","v":1},{"$f":"'[9]2018'!K28","v":0.3},{"$f":"'[9]2019'!K28","v":0},1,1,1,1,0.3,0.3,0,0,0.57499999999999996,0.57499999999999996,0.57499999999999996,{"$f":"'[9]2016'!P28","v":0},{"$f":"'[9]2016'!Q28","v":0},{"$f":"'[9]2016'!R28","v":0}," -"," -",{"$f":"'[9]2017'!P28","v":0},{"$f":"'[9]2017'!Q28","v":0},{"$f":"'[9]2017'!R28","v":0}," -"," -",{"$f":"'[9]2018'!P28","v":0},{"$f":"'[9]2018'!Q28","v":0},{"$f":"'[9]2018'!R28","v":0}," -"," -",{"$f":"'[9]2019'!P28","v":0},{"$f":"'[9]2019'!Q28","v":0},{"$f":"'[9]2019'!R28","v":0}," -"," -",0,0,0," -"," -","16. Paz, justicia e instituciones sólidas","Fortalecimiento Institucional",{"$f":"'[1]LÍNEA 1'!AQ91","v":"Sec. Administrativa"}]
[null,null,null,null,null,null,null,null,null,null,null,null,null,null,null,null,null,null,null,null,null,null,null,null,null,null,null,null,null,null,null,null,null,null,null,null,null,null,null,null,null,null,"Formular e implementar 1 plan de modernización de la planta de personal.",{"$f":"'[1]LÍNEA 1'!P92","v":2210252},"Porcentaje de avance de la formulación e implementación del plan de modernización de la planta de personal.",0,{"$f":"'[1]LÍNEA 1'!S92","v":1},{"$f":"'[1]LÍNEA 1'!T92","v":0.1},0.1,{"$f":"'[1]LÍNEA 1'!U92","v":0.2},0.2,{"$f":"'[1]LÍNEA 1'!V92","v":0.35},0.35,{"$f":"'[1]LÍNEA 1'!W92","v":0.35},0.35,{"$f":"'[9]2016'!K29","v":0.1},{"$f":"'[9]2017'!K29","v":0.3},{"$f":"'[9]2018'!K29","v":0},{"$f":"'[9]2019'!K29","v":0},1,1,1.4999999999999998,1,0,0,0,0,{"$f":"+SUM(BD92:BG92)/AU92","v":0.4},0.4,0.4,{"$f":"'[9]2016'!P29","v":325000},{"$f":"'[9]2016'!Q29","v":0},{"$f":"'[9]2016'!R29","v":0},0," -",{"$f":"'[9]2017'!P29","v":0},{"$f":"'[9]2017'!Q29","v":0},{"$f":"'[9]2017'!R29","v":0}," -"," -",{"$f":"'[9]2018'!P29","v":0},{"$f":"'[9]2018'!Q29","v":0},{"$f":"'[9]2018'!R29","v":0}," -"," -",{"$f":"'[9]2019'!P29","v":0},{"$f":"'[9]2019'!Q29","v":0},{"$f":"'[9]2019'!R29","v":0}," -"," -",325000,0,0,0," -","16. Paz, justicia e instituciones sólidas","Fortalecimiento Institucional",{"$f":"'[1]LÍNEA 1'!AQ92","v":"Sec. Administrativa"}]
[null,null,null,null,null,null,null,null,null,null,null,null,null,null,null,null,null,null,null,null,null,null,null,null,null,null,null,null,null,null,null,null,null,null,null,null,null,null,null,null,null,null,"Crear 1 cargo del nivel directivo y/o asesor adscrito al despacho del Alcalde encargado de la coordinación del gabinete municipal (Jefe de Gabinete).",{"$f":"'[1]LÍNEA 1'!P93","v":" -"},"Número de cargos creados adscritos al despacho del Alcalde para la coordinación del gabinete municipal (Jefe de Gabinete).",0,{"$f":"'[1]LÍNEA 1'!S93","v":1},{"$f":"'[1]LÍNEA 1'!T93","v":0},0,{"$f":"'[1]LÍNEA 1'!U93","v":1},1,{"$f":"'[1]LÍNEA 1'!V93","v":0},0,{"$f":"'[1]LÍNEA 1'!W93","v":0},0,{"$f":"'[9]2016'!K30","v":0},{"$f":"'[9]2017'!K30","v":0},{"$f":"'[9]2018'!K30","v":0},{"$f":"'[9]2019'!K30","v":0}," -"," -",0,0," -"," -"," -"," -",0,0,0,{"$f":"'[9]2016'!P30","v":0},{"$f":"'[9]2016'!Q30","v":0},{"$f":"'[9]2016'!R30","v":0}," -"," -",{"$f":"'[9]2017'!P30","v":0},{"$f":"'[9]2017'!Q30","v":0},{"$f":"'[9]2017'!R30","v":0}," -"," -",{"$f":"'[9]2018'!P30","v":0},{"$f":"'[9]2018'!Q30","v":0},{"$f":"'[9]2018'!R30","v":0}," -"," -",{"$f":"'[9]2019'!P30","v":0},{"$f":"'[9]2019'!Q30","v":0},{"$f":"'[9]2019'!R30","v":0}," -"," -",0,0,0," -"," -","16. Paz, justicia e instituciones sólidas","Fortalecimiento Institucional",{"$f":"'[1]LÍNEA 1'!AQ93","v":"Sec. Administrativa"}]
[null,null,null,null,null,null,null,null,null,null,null,null,null,null,null,null,null,null,null,null,null,null,null,null,null,null,null,null,null,null,null,null,null,null,null,null,null,null,null,null,null,null,"Formular e implementar 1 estrategia de gobierno para la aplicación cabal de la ley 1551 de 2012 por medio de la cual se dictaron normas para modernizar la organización y el funcionamiento de los municipios.",{"$f":"'[1]LÍNEA 1'!P94","v":2210301},"Número de estrategias de gobierno formuladas e implementadas para la aplicación cabal de la ley 1551 de 2012 por medio de la cual se dictaron normas para modernizar la organización y el funcionamiento de los municipios.",0,{"$f":"'[1]LÍNEA 1'!S94","v":1},{"$f":"'[1]LÍNEA 1'!T94","v":1},0.25,{"$f":"'[1]LÍNEA 1'!U94","v":1},0.25,{"$f":"'[1]LÍNEA 1'!V94","v":1},0.25,{"$f":"'[1]LÍNEA 1'!W94","v":1},0.25,{"$f":"'[5]2016'!$K$17","v":1},{"$f":"'[5]2017'!$K$17","v":2},{"$f":"'[5]2018'!$K$17","v":1},{"$f":"'[5]2019'!$K$17","v":0},1,1,2,1,1,1,0,0,1,1,1,{"$f":"'[5]2016'!P17","v":6950523},{"$f":"'[5]2016'!Q17","v":6653051},{"$f":"'[5]2016'!R17","v":0},0.95720149404584376," -",{"$f":"'[5]2017'!P17","v":22431254},{"$f":"'[5]2017'!Q17","v":18616411},{"$f":"'[5]2017'!R17","v":0},0.82993179962208086," -",{"$f":"'[5]2018'!P17","v":40410002},{"$f":"'[5]2018'!Q17","v":36560924},{"$f":"'[5]2018'!R17","v":0},0.90474937368228792," -",{"$f":"'[5]2019'!P17","v":0},{"$f":"'[5]2019'!Q17","v":0},{"$f":"'[5]2019'!R17","v":0}," -"," -",69791779,61830386,0,0.88592649286100011," -","16. Paz, justicia e instituciones sólidas","Fortalecimiento Institucional",{"$f":"'[1]LÍNEA 1'!AQ94","v":"Sec. Hacienda"}]
[null,null,null,null,null,null,null,null,null,null,null,null,null,null,null,null,null,null,null,null,null,null,null,null,null,null,null,null,null,null,null,null,null,null,null,null,null,null,null,null,null,null,"Adecuar física y tecnológicamente el archivo de planos.",{"$f":"'[1]LÍNEA 1'!P95","v":2210158},"Porcentaje de avance en la adecuación física y tecnológica del archivo de planos.",0,{"$f":"'[1]LÍNEA 1'!S95","v":1},{"$f":"'[1]LÍNEA 1'!T95","v":0},0,{"$f":"'[1]LÍNEA 1'!U95","v":0.4},0.4,{"$f":"'[1]LÍNEA 1'!V95","v":0},0,{"$f":"'[1]LÍNEA 1'!W95","v":0.6},0.6,{"$f":"'[6]2016'!$K$16","v":0},{"$f":"'[6]2017'!$K$16","v":2E-3},{"$f":"'[6]2018'!$K$16","v":0},{"$f":"'[6]2019'!$K$16","v":0}," -"," -",5.0000000000000001E-3,5.0000000000000001E-3," -"," -",0,0,{"$f":"+SUM(BD95:BG95)/AU95","v":2E-3},2E-3,2E-3,{"$f":"'[6]2016'!P16","v":0},{"$f":"'[6]2016'!Q16","v":0},{"$f":"'[6]2016'!R16","v":0}," -"," -",{"$f":"'[6]2017'!P16","v":18133},{"$f":"'[6]2017'!Q16","v":18133},{"$f":"'[6]2017'!R16","v":0},1," -",{"$f":"'[6]2018'!P16","v":0},{"$f":"'[6]2018'!Q16","v":0},{"$f":"'[6]2018'!R16","v":0}," -"," -",{"$f":"'[6]2019'!P16","v":0},{"$f":"'[6]2019'!Q16","v":0},{"$f":"'[6]2019'!R16","v":0}," -"," -",18133,18133,0,1," -","16. Paz, justicia e instituciones sólidas","Fortalecimiento Institucional",{"$f":"'[1]LÍNEA 1'!AQ95","v":"Sec. Planeación"}]
[null,null,null,null,null,null,null,null,null,null,null,null,null,null,null,null,null,null,null,null,null,null,null,null,null,null,null,null,null,null,null,null,null,null,null,null,null,null,null,null,null,null,"Celebrar 20 acuerdos populares en el territorio para comprometer acciones diversas de gobierno ante problemas comunitarios.",{"$f":"'[1]LÍNEA 1'!P96","v":"2210289\r2210754"},"Número de acuerdos populares celebrados en el territorio para comprometer acciones diversas de gobierno ante problemas comunitarios.",0,{"$f":"'[1]LÍNEA 1'!S96","v":20},{"$f":"'[1]LÍNEA 1'!T96","v":20},1,{"$f":"'[1]LÍNEA 1'!U96","v":0},0,{"$f":"'[1]LÍNEA 1'!V96","v":0},0,{"$f":"'[1]LÍNEA 1'!W96","v":0},0,{"$f":"'[3]2016'!$K$29","v":20},{"$f":"'[3]2017'!$K$30","v":0},{"$f":"'[3]2018'!$K$30","v":0},{"$f":"'[3]2019'!$K$30","v":0},1,1," -"," -"," -"," -"," -"," -",1,1,1,{"$f":"'[3]2016'!P29","v":0},{"$f":"'[3]2016'!Q29","v":0},{"$f":"'[3]2016'!R29","v":0}," -"," -",{"$f":"'[3]2017'!P30","v":0},{"$f":"'[3]2017'!Q30","v":0},{"$f":"'[3]2017'!R30","v":0}," -"," -",{"$f":"'[3]2018'!P30","v":0},{"$f":"'[3]2018'!Q30","v":0},{"$f":"'[3]2018'!R30","v":0}," -"," -",{"$f":"'[3]2019'!P30","v":0},{"$f":"'[3]2019'!Q30","v":0},{"$f":"'[3]2019'!R30","v":0}," -"," -",0,0,0," -"," -","16. Paz, justicia e instituciones sólidas","Fortalecimiento Institucional",{"$f":"'[1]LÍNEA 1'!AQ96","v":"Sec. Desarrollo Social"}]
[null,null,null,null,null,null,null,null,null,null,null,null,null,null,null,null,null,null,null,null,null,null,null,null,null,null,null,null,null,null,null,null,null,null,null,null,null,null,null,null,null,null,"Formular e implementar 1 plan institucional en Bomberos de Bucaramanga.",{"$f":"'[1]LÍNEA 1'!P97","v":"22141 22151 22161"},"Número de planes institucionales integrales formulados e implementados en Bomberos de Bucaramanga.",0,{"$f":"'[1]LÍNEA 1'!S97","v":1},{"$f":"'[1]LÍNEA 1'!T97","v":0},0,{"$f":"'[1]LÍNEA 1'!U97","v":1},0.33,{"$f":"'[1]LÍNEA 1'!V97","v":1},0.33,{"$f":"'[1]LÍNEA 1'!W97","v":1},0.34,{"$f":"'[15]2016'!$K$12","v":0},{"$f":"'[15]2017'!$K$12","v":1},{"$f":"'[15]2018'!$K$12","v":0.3},{"$f":"'[15]2019'!$K$12","v":0}," -"," -",1,1,0.3,0.3,0,0,{"$f":"+AVERAGE(BE97:BG97)/AU97","v":0.43333333333333335},0.43333333333333335,0.43333333333333335,{"$f":"'[15]2016'!P12","v":770000},{"$f":"'[15]2016'!Q12","v":0},{"$f":"'[15]2016'!R12","v":0},0," -",{"$f":"'[15]2017'!P12","v":1427338},{"$f":"'[15]2017'!Q12","v":778799},{"$f":"'[15]2017'!R12","v":618838},0.54563039728501583,0.79460554006874684,{"$f":"'[15]2018'!P12","v":848875},{"$f":"'[15]2018'!Q12","v":20000},{"$f":"'[15]2018'!R12","v":0},2.356059490502135E-2," -",{"$f":"'[15]2019'!P12","v":891371},{"$f":"'[15]2019'!Q12","v":0},{"$f":"'[15]2019'!R12","v":0},0," -",3937584,798799,618838,0.20286525950938444,0.7747105341894519,"16. Paz, justicia e instituciones sólidas","Fortalecimiento Institucional",{"$f":"'[1]LÍNEA 1'!AQ97","v":"Bomberos"}]
[null,null,null,null,null,"Mantener una calificación de solvente en el Índice de Desempeño Fiscal del DNP.","Solvente","Solvente",1,"Solvente",1,null,"Solvente",1,null,"Solvente",1,null,"Solvente",1,null,"Solvente",{"$f":"+IF(V98=\"Solvente\",1,0)","v":1},null,{"$f":"+IF(X98=\"Solvente\",1,0)","v":0},null,{"$f":"+IF(Z98=\"Solvente\",1,0)","v":0},null,{"$f":"+IF(AB98=\"Solvente\",1,0)","v":0},{"$f":"+IF(K98=0,\" -\",W98/K98)","v":1},{"$f":"+IF(K98=0,\" -\",IF(AD98>100%,100%,AD98))","v":1},{"$f":"+IF(N98=0,\" -\",Y98/N98)","v":0},{"$f":"+IF(N98=0,\" -\",IF(AF98>100%,100%,AF98))","v":0},{"$f":"+IF(Q98=0,\" -\",AA98/Q98)","v":0},{"$f":"+IF(Q98=0,\" -\",IF(AH98>100%,100%,AH98))","v":0},{"$f":"+IF(T98=0,\" -\",AC98/T98)","v":0},{"$f":"+IF(T98=0,\" -\",IF(AJ98>100%,100%,AJ98))","v":0},{"$f":"+SUM(AC98,AA98,Y98,W98)/I98","v":1},{"$f":"+IF(AL98>100%,100%,IF(AL98<0%,0%,AL98))","v":1},null,null,null,"Formular e implementar 1 plan de adquisición de equipos tecnológicos.",{"$f":"'[1]LÍNEA 1'!P98","v":2210237},"Porcentaje de avance en la formulación e implementación del plan de adquisición de equipos tecnológicos.",0,{"$f":"'[1]LÍNEA 1'!S98","v":1},{"$f":"'[1]LÍNEA 1'!T98","v":0},0,{"$f":"'[1]LÍNEA 1'!U98","v":0.2},0.2,{"$f":"'[1]LÍNEA 1'!V98","v":0.4},0.4,{"$f":"'[1]LÍNEA 1'!W98","v":0.4},0.4,{"$f":"'[10]2016'!$K$28","v":0.5},{"$f":"'[10]2017'!$K$28","v":0.2},{"$f":"'[10]2018'!$K$28","v":0.37},{"$f":"'[10]2019'!$K$28","v":0}," -"," -",1,1,0.92499999999999993,0.92499999999999993,0,0,{"$f":"+SUM(BD98:BG98)/AU98","v":1.0699999999999998},1,1,{"$f":"'[10]2016'!P28","v":0},{"$f":"'[10]2016'!Q28","v":0},{"$f":"'[10]2016'!R28","v":0}," -"," -",{"$f":"'[10]2017'!P28","v":2952569},{"$f":"'[10]2017'!Q28","v":1683843},{"$f":"'[10]2017'!R28","v":0},0.57029759507737166," -",{"$f":"'[10]2018'!P28","v":2097632},{"$f":"'[10]2018'!Q28","v":857600},{"$f":"'[10]2018'!R28","v":0},0.40884197037421244," -",{"$f":"'[10]2019'!P28","v":1650000},{"$f":"'[10]2019'!Q28","v":0},{"$f":"'[10]2019'!R28","v":0},0," -",6700201,2541443,0,0.37930847149212388," -","16. Paz, justicia e instituciones sólidas","Fortalecimiento Institucional",{"$f":"'[1]LÍNEA 1'!AQ98","v":"Asesor TIC"}]
[null,null,null,null,null,null,null,null,null,null,null,null,null,null,null,null,null,null,null,null,null,null,null,null,null,null,null,null,null,null,null,null,null,null,null,null,null,null,null,null,null,null,"Formular e implementar 1 plan de fortalecimiento institucional para la Dirección de Tránsito de Bucaramanga.",{"$f":"'[1]LÍNEA 1'!P99","v":"O535060101 O535060102 O535060103 O535060104"},"Número de planes de fortalecimiento institucional para la Dirección de tránsito de Bucaramanga formulados e implementados.",1,{"$f":"'[1]LÍNEA 1'!S99","v":1},{"$f":"'[1]LÍNEA 1'!T99","v":1},0.25,{"$f":"'[1]LÍNEA 1'!U99","v":1},0.25,{"$f":"'[1]LÍNEA 1'!V99","v":1},0.25,{"$f":"'[1]LÍNEA 1'!W99","v":1},0.25,{"$f":"'[16]2016'!$K$12","v":1},{"$f":"'[16]2017'!$K$12","v":1},{"$f":"'[16]2018'!$K$12","v":1},{"$f":"'[16]2019'!$K$12","v":0},1,1,1,1,1,1,0,0,0.75,0.75,0.75,{"$f":"'[16]2016'!P12","v":2830991},{"$f":"'[16]2016'!Q12","v":234557},{"$f":"'[16]2016'!R12","v":0},8.2853318855482055E-2," -",{"$f":"'[16]2017'!P12","v":1125100},{"$f":"'[16]2017'!Q12","v":782923},{"$f":"'[16]2017'!R12","v":0},0.69586970047106922," -",{"$f":"'[16]2018'!P12","v":1975825.25},{"$f":"'[16]2018'!Q12","v":290246.31599999999},{"$f":"'[16]2018'!R12","v":0},0.14689877862427358," -",{"$f":"'[16]2019'!P12","v":1578890},{"$f":"'[16]2019'!Q12","v":0},{"$f":"'[16]2019'!R12","v":0},0," -",7510806.25,1307726.3160000001,0,0.17411264150236869," -","16. Paz, justicia e instituciones sólidas","Fortalecimiento Institucional",{"$f":"'[1]LÍNEA 1'!AQ99","v":"Dir. Tránsito"}]
[null,null,null,null,null,null,null,null,null,null,null,null,null,null,null,null,null,null,null,null,null,null,null,null,null,null,null,null,null,null,null,null,null,null,null,null,null,null,null,null,{"$f":"+RESUMEN!J22","v":0.35737179487179493},"UNA CIUDAD VISIBLE QUE TOMA DECISIONES INTELIGENTES","Mantener actualizada la base de datos del SISBEN.",{"$f":"'[1]LÍNEA 1'!P100","v":2210844},"Número de bases de datos del SISBEN actualizadas.",1,{"$f":"'[1]LÍNEA 1'!S100","v":1},{"$f":"'[1]LÍNEA 1'!T100","v":1},0.25,{"$f":"'[1]LÍNEA 1'!U100","v":1},0.25,{"$f":"'[1]LÍNEA 1'!V100","v":1},0.25,{"$f":"'[1]LÍNEA 1'!W100","v":1},0.25,{"$f":"'[6]2016'!K17","v":1},{"$f":"'[6]2017'!K17","v":1},{"$f":"'[6]2018'!K17","v":1},{"$f":"'[6]2019'!K17","v":0},1,1,1,1,1,1,0,0,0.75,0.75,0.75,{"$f":"'[6]2016'!P17","v":355000},{"$f":"'[6]2016'!Q17","v":269367},{"$f":"'[6]2016'!R17","v":0},0.75878028169014089," -",{"$f":"'[6]2017'!P17","v":214127},{"$f":"'[6]2017'!Q17","v":213327},{"$f":"'[6]2017'!R17","v":0},0.99626389946153449," -",{"$f":"'[6]2018'!P17","v":354600},{"$f":"'[6]2018'!Q17","v":115500},{"$f":"'[6]2018'!R17","v":0},0.3257191201353638," -",{"$f":"'[6]2019'!P17","v":0},{"$f":"'[6]2019'!Q17","v":0},{"$f":"'[6]2019'!R17","v":0}," -"," -",923727,598194,0,0.64758743654781126," -","16. Paz, justicia e instituciones sólidas","Salud",{"$f":"'[1]LÍNEA 1'!AQ100","v":"Sec. Planeación"}]
[null,null,null,null,null,null,null,null,null,null,null,null,null,null,null,null,null,null,null,null,null,null,null,null,null,null,null,null,null,null,null,null,null,null,null,null,null,null,null,null,null,null,"Implementar la nueva metodología SISBEN 4.",{"$f":"'[1]LÍNEA 1'!P101","v":2210844},"Número de metodologías SISBEN 4 implementadas.",0,{"$f":"'[1]LÍNEA 1'!S101","v":1},{"$f":"'[1]LÍNEA 1'!T101","v":0},0,{"$f":"'[1]LÍNEA 1'!U101","v":0},0,{"$f":"'[1]LÍNEA 1'!V101","v":0},0,{"$f":"'[1]LÍNEA 1'!W101","v":1},1,{"$f":"'[6]2016'!K18","v":0},{"$f":"'[6]2017'!K18","v":0},{"$f":"'[6]2018'!K18","v":0},{"$f":"'[6]2019'!K18","v":0}," -"," -"," -"," -"," -"," -",0,0,{"$f":"+SUM(BD101:BG101)/AU101","v":0},0,0,{"$f":"'[6]2016'!P18","v":0},{"$f":"'[6]2016'!Q18","v":0},{"$f":"'[6]2016'!R18","v":0}," -"," -",{"$f":"'[6]2017'!P18","v":0},{"$f":"'[6]2017'!Q18","v":0},{"$f":"'[6]2017'!R18","v":0}," -"," -",{"$f":"'[6]2018'!P18","v":0},{"$f":"'[6]2018'!Q18","v":0},{"$f":"'[6]2018'!R18","v":0}," -"," -",{"$f":"'[6]2019'!P18","v":200000},{"$f":"'[6]2019'!Q18","v":0},{"$f":"'[6]2019'!R18","v":0},0," -",200000,0,0,0," -","16. Paz, justicia e instituciones sólidas","Salud",{"$f":"'[1]LÍNEA 1'!AQ101","v":"Sec. Planeación"}]
[null,null,null,null,null,null,null,null,null,null,null,null,null,null,null,null,null,null,null,null,null,null,null,null,null,null,null,null,null,null,null,null,null,null,null,null,null,null,null,null,null,null,"Readecuar 1 oficina para el SISBEN",{"$f":"'[1]LÍNEA 1'!P102","v":2210844},"Número de oficinas para el SISBEN readecuadas.",0,{"$f":"'[1]LÍNEA 1'!S102","v":1},{"$f":"'[1]LÍNEA 1'!T102","v":0},0,{"$f":"'[1]LÍNEA 1'!U102","v":1},1,{"$f":"'[1]LÍNEA 1'!V102","v":0},0,{"$f":"'[1]LÍNEA 1'!W102","v":0},0,{"$f":"'[6]2016'!K19","v":0},{"$f":"'[6]2017'!K19","v":0},{"$f":"'[6]2018'!K19","v":0},{"$f":"'[6]2019'!K19","v":0}," -"," -",0,0," -"," -"," -"," -",0,0,0,{"$f":"'[6]2016'!P19","v":0},{"$f":"'[6]2016'!Q19","v":0},{"$f":"'[6]2016'!R19","v":0}," -"," -",{"$f":"'[6]2017'!P19","v":0},{"$f":"'[6]2017'!Q19","v":0},{"$f":"'[6]2017'!R19","v":0}," -"," -",{"$f":"'[6]2018'!P19","v":0},{"$f":"'[6]2018'!Q19","v":0},{"$f":"'[6]2018'!R19","v":0}," -"," -",{"$f":"'[6]2019'!P19","v":0},{"$f":"'[6]2019'!Q19","v":0},{"$f":"'[6]2019'!R19","v":0}," -"," -",0,0,0," -"," -","16. Paz, justicia e instituciones sólidas","Fortalecimiento Institucional",{"$f":"'[1]LÍNEA 1'!AQ102","v":"Sec. Planeación"}]
[null,null,null,null,null,null,null,null,null,null,null,null,null,null,null,null,null,null,null,null,null,null,null,null,null,null,null,null,null,null,null,null,null,null,null,null,null,null,null,null,null,null,"Mantener el fortalecimiento del grupo de clasificación socioeconómico y estadístico.",{"$f":"'[1]LÍNEA 1'!P103","v":2210844},"Número de grupos de clasificación socioeconómico y estadístico fortalecidos.",1,{"$f":"'[1]LÍNEA 1'!S103","v":1},{"$f":"'[1]LÍNEA 1'!T103","v":1},0.25,{"$f":"'[1]LÍNEA 1'!U103","v":1},0.25,{"$f":"'[1]LÍNEA 1'!V103","v":1},0.25,{"$f":"'[1]LÍNEA 1'!W103","v":1},0.25,{"$f":"'[6]2016'!K20","v":1},{"$f":"'[6]2017'!K20","v":1},{"$f":"'[6]2018'!K20","v":1},{"$f":"'[6]2019'!K20","v":0},1,1,1,1,1,1,0,0,0.75,0.75,0.75,{"$f":"'[6]2016'!P20","v":0},{"$f":"'[6]2016'!Q20","v":0},{"$f":"'[6]2016'!R20","v":0}," -"," -",{"$f":"'[6]2017'!P20","v":176000},{"$f":"'[6]2017'!Q20","v":176000},{"$f":"'[6]2017'!R20","v":0},1," -",{"$f":"'[6]2018'!P20","v":204600},{"$f":"'[6]2018'!Q20","v":115500},{"$f":"'[6]2018'!R20","v":0},0.56451612903225812," -",{"$f":"'[6]2019'!P20","v":30000},{"$f":"'[6]2019'!Q20","v":0},{"$f":"'[6]2019'!R20","v":0},0," -",410600,291500,0,0.70993667803214811," -","16. Paz, justicia e instituciones sólidas","Fortalecimiento Institucional",{"$f":"'[1]LÍNEA 1'!AQ103","v":"Sec. Planeación"}]
[null,null,null,null,null,null,null,null,null,null,null,null,null,null,null,null,null,null,null,null,null,null,null,null,null,null,null,null,null,null,null,null,null,null,null,null,null,null,null,null,null,null,"Mantener actualizada la base de datos de estratificación urbana y rural.",{"$f":"'[1]LÍNEA 1'!P104","v":2210833},"Número de base de datos de estratificación urbana y rural actualizada.",1,{"$f":"'[1]LÍNEA 1'!S104","v":1},{"$f":"'[1]LÍNEA 1'!T104","v":1},0.25,{"$f":"'[1]LÍNEA 1'!U104","v":1},0.25,{"$f":"'[1]LÍNEA 1'!V104","v":1},0.25,{"$f":"'[1]LÍNEA 1'!W104","v":1},0.25,{"$f":"'[6]2016'!K21","v":1},{"$f":"'[6]2017'!K21","v":1},{"$f":"'[6]2018'!K21","v":1},{"$f":"'[6]2019'!K21","v":0},1,1,1,1,1,1,0,0,0.75,0.75,0.75,{"$f":"'[6]2016'!P21","v":47245},{"$f":"'[6]2016'!Q21","v":25101},{"$f":"'[6]2016'!R21","v":0},0.53129431685892692," -",{"$f":"'[6]2017'!P21","v":495469.88413000002},{"$f":"'[6]2017'!Q21","v":273720},{"$f":"'[6]2017'!R21","v":0},0.55244528228113676," -",{"$f":"'[6]2018'!P21","v":389908},{"$f":"'[6]2018'!Q21","v":39600},{"$f":"'[6]2018'!R21","v":0},0.10156241985288837," -",{"$f":"'[6]2019'!P21","v":0},{"$f":"'[6]2019'!Q21","v":0},{"$f":"'[6]2019'!R21","v":0}," -"," -",932622.88413000002,338421,0,0.36287014371912718," -","16. Paz, justicia e instituciones sólidas","Fortalecimiento Institucional",{"$f":"'[1]LÍNEA 1'!AQ104","v":"Sec. Planeación"}]
[null,null,null,null,null,null,null,null,null,null,null,null,null,null,null,null,null,null,null,null,null,null,null,null,null,null,null,null,null,null,null,null,null,null,null,null,null,null,null,null,null,null,"Realizar la revisión general de la estratificación urbana y rural y su respectiva socialización.",{"$f":"'[1]LÍNEA 1'!P105","v":2210833},"Número de revisiones y socializaciones generales de la estratificación urbana y rural realizadas.",0,{"$f":"'[1]LÍNEA 1'!S105","v":1},{"$f":"'[1]LÍNEA 1'!T105","v":0},0,{"$f":"'[1]LÍNEA 1'!U105","v":1},1,{"$f":"'[1]LÍNEA 1'!V105","v":0},0,{"$f":"'[1]LÍNEA 1'!W105","v":0},0,{"$f":"'[6]2016'!K22","v":0},{"$f":"'[6]2017'!K22","v":0},{"$f":"'[6]2018'!K22","v":0},{"$f":"'[6]2019'!K22","v":0}," -"," -",0,0," -"," -"," -"," -",{"$f":"+SUM(BD105:BG105)/AU105","v":0},0,0,{"$f":"'[6]2016'!P22","v":0},{"$f":"'[6]2016'!Q22","v":0},{"$f":"'[6]2016'!R22","v":0}," -"," -",{"$f":"'[6]2017'!P22","v":0},{"$f":"'[6]2017'!Q22","v":0},{"$f":"'[6]2017'!R22","v":0}," -"," -",{"$f":"'[6]2018'!P22","v":0},{"$f":"'[6]2018'!Q22","v":0},{"$f":"'[6]2018'!R22","v":0}," -"," -",{"$f":"'[6]2019'!P22","v":0},{"$f":"'[6]2019'!Q22","v":0},{"$f":"'[6]2019'!R22","v":0}," -"," -",0,0,0," -"," -","16. Paz, justicia e instituciones sólidas","Fortalecimiento Institucional",{"$f":"'[1]LÍNEA 1'!AQ105","v":"Sec. Planeación"}]
[null,null,null,null,null,null,null,null,null,null,null,null,null,null,null,null,null,null,null,null,null,null,null,null,null,null,null,null,null,null,null,null,null,null,null,null,null,null,null,null,null,null,"Implementar y mantener 1 estrategia para fortalecer el observatorio metropolitano y ampliar su alcance.",{"$f":"'[1]LÍNEA 1'!P106","v":2210100},"Número de estrategias implementadas y mantenidas para fortalecer el Observatorio Metropolitano y ampliar su alcance.",0,{"$f":"'[1]LÍNEA 1'!S106","v":1},{"$f":"'[1]LÍNEA 1'!T106","v":0},0,{"$f":"'[1]LÍNEA 1'!U106","v":1},0.33,{"$f":"'[1]LÍNEA 1'!V106","v":1},0.33,{"$f":"'[1]LÍNEA 1'!W106","v":1},0.34,{"$f":"'[6]2016'!K23","v":0},{"$f":"'[6]2017'!K23","v":0},{"$f":"'[6]2018'!K23","v":1},{"$f":"'[6]2019'!K23","v":0}," -"," -",0,0,1,1,0,0,{"$f":"+AVERAGE(BE106:BG106)/AU106","v":0.33333333333333331},0.33333333333333331,0.33333333333333331,{"$f":"'[6]2016'!P23","v":0},{"$f":"'[6]2016'!Q23","v":0},{"$f":"'[6]2016'!R23","v":0}," -"," -",{"$f":"'[6]2017'!P23","v":0},{"$f":"'[6]2017'!Q23","v":0},{"$f":"'[6]2017'!R23","v":0}," -"," -",{"$f":"'[6]2018'!P23","v":0},{"$f":"'[6]2018'!Q23","v":0},{"$f":"'[6]2018'!R23","v":0}," -"," -",{"$f":"'[6]2019'!P23","v":500000},{"$f":"'[6]2019'!Q23","v":0},{"$f":"'[6]2019'!R23","v":0},0," -",500000,0,0,0," -","16. Paz, justicia e instituciones sólidas","Fortalecimiento Institucional",{"$f":"'[1]LÍNEA 1'!AQ106","v":"Sec. Planeación"}]
[null,null,null,null,null,null,null,null,null,null,null,null,null,null,null,null,null,null,null,null,null,null,null,null,null,null,null,null,null,null,null,null,null,null,null,null,null,null,null,null,null,null,"Crear 4 rankings MI (Medición Integral) Ciudad.",{"$f":"'[1]LÍNEA 1'!P107","v":" -"},"Número de rankings MI (Medición Integral) Ciudad creados.",0,{"$f":"'[1]LÍNEA 1'!S107","v":4},{"$f":"'[1]LÍNEA 1'!T107","v":0},0,{"$f":"'[1]LÍNEA 1'!U107","v":0},0,{"$f":"'[1]LÍNEA 1'!V107","v":2},0.5,{"$f":"'[1]LÍNEA 1'!W107","v":2},0.5,{"$f":"'[6]2016'!K24","v":1},{"$f":"'[6]2017'!K24","v":0},{"$f":"'[6]2018'!K24","v":0},{"$f":"'[6]2019'!K24","v":0}," -"," -"," -"," -",0,0,0,0,{"$f":"+SUM(BD107:BG107)/AU107","v":0.25},0.25,0.25,{"$f":"'[6]2016'!P24","v":0},{"$f":"'[6]2016'!Q24","v":0},{"$f":"'[6]2016'!R24","v":0}," -"," -",{"$f":"'[6]2017'!P24","v":0},{"$f":"'[6]2017'!Q24","v":0},{"$f":"'[6]2017'!R24","v":0}," -"," -",{"$f":"'[6]2018'!P24","v":0},{"$f":"'[6]2018'!Q24","v":0},{"$f":"'[6]2018'!R24","v":0}," -"," -",{"$f":"'[6]2019'!P24","v":0},{"$f":"'[6]2019'!Q24","v":0},{"$f":"'[6]2019'!R24","v":0}," -"," -",0,0,0," -"," -","16. Paz, justicia e instituciones sólidas","Fortalecimiento Institucional",{"$f":"'[1]LÍNEA 1'!AQ107","v":"Sec. Planeación"}]
[null,null,null,null,null,"Lograr que el 60% de los ciudadanos considere como buena la gestión del Alcalde/Gobierno municipal de acuerdo a la encuesta Cómo Vamos.",0.3,0.6,{"$f":"+H108-G108","v":0.3},0.3,{"$f":"+J108-G108","v":0},null,0.4,{"$f":"+M108-J108","v":0.10000000000000003},null,0.5,{"$f":"+P108-M108","v":9.9999999999999978E-2},null,0.6,{"$f":"+S108-P108","v":9.9999999999999978E-2},null,0.55000000000000004,{"$f":"+IF(V108=0,0,V108-G108)","v":0.25000000000000006},null,{"$f":"+IF(X108=0,0,X108-V108)","v":0},null,{"$f":"+IF(Z108=0,0,Z108-X108)","v":0},null,{"$f":"+IF(AB108=0,0,AB108-Z108)","v":0},{"$f":"+IF(K108=0,\" -\",W108/K108)","v":" -"},{"$f":"+IF(K108=0,\" -\",IF(AD108>100%,100%,AD108))","v":" -"},{"$f":"+IF(N108=0,\" -\",Y108/N108)","v":0},{"$f":"+IF(N108=0,\" -\",IF(AF108>100%,100%,AF108))","v":0},{"$f":"+IF(Q108=0,\" -\",AA108/Q108)","v":0},{"$f":"+IF(Q108=0,\" -\",IF(AH108>100%,100%,AH108))","v":0},{"$f":"+IF(T108=0,\" -\",AC108/T108)","v":0},{"$f":"+IF(T108=0,\" -\",IF(AJ108>100%,100%,AJ108))","v":0},{"$f":"+SUM(AC108,AA108,Y108,W108)/I108","v":0.83333333333333359},{"$f":"+IF(AL108>100%,100%,IF(AL108<0%,0%,AL108))","v":0.83333333333333359},null,null,null,"Apoyar 4 investigaciones académicas sobre temas urbanos de Bucaramanga que contribuyan a la comprensión de un problema público y a la formulación de políticas para solucionarlo.",{"$f":"'[1]LÍNEA 1'!P108","v":2210100},"Número de investigaciones académicas apoyadas sobre temas urbanos de Bucaramanga que contribuyan a la comprensión de un problema público y a la formulación de políticas para solucionarlo.",0,{"$f":"'[1]LÍNEA 1'!S108","v":4},{"$f":"'[1]LÍNEA 1'!T108","v":1},0.25,{"$f":"'[1]LÍNEA 1'!U108","v":1},0.25,{"$f":"'[1]LÍNEA 1'!V108","v":1},0.25,{"$f":"'[1]LÍNEA 1'!W108","v":1},0.25,{"$f":"'[6]2016'!K25","v":1},{"$f":"'[6]2017'!K25","v":1},{"$f":"'[6]2018'!K25","v":0},{"$f":"'[6]2019'!K25","v":0},1,1,1,1,0,0,0,0,0.5,0.5,0.5,{"$f":"'[6]2016'!P25","v":0},{"$f":"'[6]2016'!Q25","v":0},{"$f":"'[6]2016'!R25","v":0}," -"," -",{"$f":"'[6]2017'!P25","v":102000},{"$f":"'[6]2017'!Q25","v":102000},{"$f":"'[6]2017'!R25","v":344000},1,3.3725490196078431,{"$f":"'[6]2018'!P25","v":500000},{"$f":"'[6]2018'!Q25","v":0},{"$f":"'[6]2018'!R25","v":0},0," -",{"$f":"'[6]2019'!P25","v":100000},{"$f":"'[6]2019'!Q25","v":0},{"$f":"'[6]2019'!R25","v":0},0," -",702000,102000,344000,0.14529914529914531,3.3725490196078431,"16. Paz, justicia e instituciones sólidas","Fortalecimiento Institucional",{"$f":"'[1]LÍNEA 1'!AQ108","v":"Sec. Planeación"}]
[null,null,null,null,null,null,null,null,null,null,null,null,null,null,null,null,null,null,null,null,null,null,null,null,null,null,null,null,null,null,null,null,null,null,null,null,null,null,null,null,null,null,"Crear y mantener 1 banco de datos y estadísticas para la gestión pública.",{"$f":"'[1]LÍNEA 1'!P109","v":0},"Número de bancos de datos y estadísticas para la gestión pública creados y mantenidos.",0,{"$f":"'[1]LÍNEA 1'!S109","v":1},{"$f":"'[1]LÍNEA 1'!T109","v":0},0,{"$f":"'[1]LÍNEA 1'!U109","v":1},0.33,{"$f":"'[1]LÍNEA 1'!V109","v":1},0.33,{"$f":"'[1]LÍNEA 1'!W109","v":1},0.34,{"$f":"'[17]2016'!$K$12","v":0},{"$f":"'[17]2017'!$K$12","v":0.25},{"$f":"'[17]2018'!$K$12","v":1},{"$f":"'[17]2019'!$K$12","v":0}," -"," -",0.25,0.25,1,1,0,0,0.3125,0.3125,0.3125,{"$f":"'[17]2016'!P12","v":150000},{"$f":"'[17]2016'!Q12","v":0},{"$f":"'[17]2016'!R12","v":0},0," -",{"$f":"'[17]2017'!P12","v":85854},{"$f":"'[17]2017'!Q12","v":24854},{"$f":"'[17]2017'!R12","v":0},0.28949146224986605," -",{"$f":"'[17]2018'!P12","v":0},{"$f":"'[17]2018'!Q12","v":0},{"$f":"'[17]2018'!R12","v":0}," -"," -",{"$f":"'[17]2019'!P12","v":200000},{"$f":"'[17]2019'!Q12","v":0},{"$f":"'[17]2019'!R12","v":0},0," -",435854,24854,0,5.7023682242218723E-2," -","16. Paz, justicia e instituciones sólidas","Fortalecimiento Institucional",{"$f":"'[1]LÍNEA 1'!AQ109","v":"Sec. Salud y Ambiente"}]
[null,null,null,null,null,null,null,null,null,null,null,null,null,null,null,null,null,null,null,null,null,null,null,null,null,null,null,null,null,null,null,null,null,null,null,null,null,null,null,null,null,null,"Implementar y mantener 1 estrategia de comunicación y pedagógica para promover la apropiación del territorio y para fortalecer el conocimiento de la propia ciudad entre los ciudadanos.",{"$f":"'[1]LÍNEA 1'!P110","v":"2.2.1.35.2"},"Número de estrategias de comunicación y pedagógicas implementadas y mantenidas para promover la apropiación del territorio y para fortalecer el conocimiento de la propia ciudad entre los ciudadanos.",0,{"$f":"'[1]LÍNEA 1'!S110","v":1},{"$f":"'[1]LÍNEA 1'!T110","v":1},0.25,{"$f":"'[1]LÍNEA 1'!U110","v":1},0.25,{"$f":"'[1]LÍNEA 1'!V110","v":1},0.25,{"$f":"'[1]LÍNEA 1'!W110","v":1},0.25,{"$f":"'[12]2016'!K14","v":0},{"$f":"'[12]2017'!K14","v":0},{"$f":"'[12]2018'!K14","v":1},{"$f":"'[12]2019'!K14","v":0},0,0,0,0,1,1,0,0,0.25,0.25,0.25,{"$f":"'[12]2016'!P14","v":60000},{"$f":"'[12]2016'!Q14","v":0},{"$f":"'[12]2016'!R14","v":0},0," -",{"$f":"'[12]2017'!P14","v":0},{"$f":"'[12]2017'!Q14","v":0},{"$f":"'[12]2017'!R14","v":0}," -"," -",{"$f":"'[12]2018'!P14","v":111000},{"$f":"'[12]2018'!Q14","v":11000},{"$f":"'[12]2018'!R14","v":0},9.90990990990991E-2," -",{"$f":"'[12]2019'!P14","v":100000},{"$f":"'[12]2019'!Q14","v":0},{"$f":"'[12]2019'!R14","v":0},0," -",271000,11000,0,4.0590405904059039E-2," -","16. Paz, justicia e instituciones sólidas","Cultura",{"$f":"'[1]LÍNEA 1'!AQ110","v":"IMCT"}]
[null,null,null,null,null,null,null,null,null,null,null,null,null,null,null,null,null,null,null,null,null,null,null,null,null,null,null,null,null,null,null,null,null,null,null,null,null,null,null,null,null,null,"Implementar y mantener 1 plataforma en línea sobre temas y datos actualizados de la ciudad (historia, cultura, turismo, geografía, economía, sociales, movilidad, espacio público entre otros factores).",{"$f":"'[1]LÍNEA 1'!P111","v":"2.2.1.35.3"},"Número de plataformas en línea  implementadas y mantenidas sobre temas y datos actualizados de la ciudad (historia, cultura, turismo, geografía, economía, sociales, movilidad, espacio público entre otros factores).",0,{"$f":"'[1]LÍNEA 1'!S111","v":1},{"$f":"'[1]LÍNEA 1'!T111","v":1},0.25,{"$f":"'[1]LÍNEA 1'!U111","v":1},0.25,{"$f":"'[1]LÍNEA 1'!V111","v":1},0.25,{"$f":"'[1]LÍNEA 1'!W111","v":1},0.25,{"$f":"'[12]2016'!K15","v":0},{"$f":"'[12]2017'!K15","v":1},{"$f":"'[12]2018'!K15","v":1},{"$f":"'[12]2019'!K15","v":0},0,0,1,1,1,1,0,0,0.5,0.5,0.5,{"$f":"'[12]2016'!P15","v":80000},{"$f":"'[12]2016'!Q15","v":0},{"$f":"'[12]2016'!R15","v":0},0," -",{"$f":"'[12]2017'!P15","v":35200},{"$f":"'[12]2017'!Q15","v":19200},{"$f":"'[12]2017'!R15","v":0},0.54545454545454541," -",{"$f":"'[12]2018'!P15","v":47000},{"$f":"'[12]2018'!Q15","v":12000},{"$f":"'[12]2018'!R15","v":0},0.25531914893617019," -",{"$f":"'[12]2019'!P15","v":0},{"$f":"'[12]2019'!Q15","v":0},{"$f":"'[12]2019'!R15","v":0}," -"," -",162200,31200,0,0.19235511713933415," -","16. Paz, justicia e instituciones sólidas","Cultura",{"$f":"'[1]LÍNEA 1'!AQ111","v":"IMCT"}]
[null,null,null,null,null,null,null,null,null,null,null,null,null,null,null,null,null,null,null,null,null,null,null,null,null,null,null,null,null,null,null,null,null,null,null,null,null,null,null,null,null,null,"Crear y mantener el libro virtual o plataforma en línea de la historia de las comunas.",{"$f":"'[1]LÍNEA 1'!P112","v":"2.2.1.35.4"},"Número de libros virtuales o plataformas en línea creadas y mantenidas de la historia de las comunas.",0,{"$f":"'[1]LÍNEA 1'!S112","v":1},{"$f":"'[1]LÍNEA 1'!T112","v":1},0.25,{"$f":"'[1]LÍNEA 1'!U112","v":1},0.25,{"$f":"'[1]LÍNEA 1'!V112","v":1},0.25,{"$f":"'[1]LÍNEA 1'!W112","v":1},0.25,{"$f":"'[12]2016'!K16","v":0},{"$f":"'[12]2017'!K16","v":0},{"$f":"'[12]2018'!K16","v":1},{"$f":"'[12]2019'!K16","v":0},0,0,0,0,1,1,0,0,0.25,0.25,0.25,{"$f":"'[12]2016'!P16","v":70000},{"$f":"'[12]2016'!Q16","v":0},{"$f":"'[12]2016'!R16","v":0},0," -",{"$f":"'[12]2017'!P16","v":70000},{"$f":"'[12]2017'!Q16","v":0},{"$f":"'[12]2017'!R16","v":0},0," -",{"$f":"'[12]2018'!P16","v":68000},{"$f":"'[12]2018'!Q16","v":12000},{"$f":"'[12]2018'!R16","v":0},0.17647058823529413," -",{"$f":"'[12]2019'!P16","v":0},{"$f":"'[12]2019'!Q16","v":0},{"$f":"'[12]2019'!R16","v":0}," -"," -",208000,12000,0,5.7692307692307696E-2," -","16. Paz, justicia e instituciones sólidas","Cultura",{"$f":"'[1]LÍNEA 1'!AQ112","v":"IMCT"}]
[null,null,null,null,null,null,null,null,null,null,null,null,null,null,null,null,null,null,null,null,null,null,null,null,null,null,null,null,null,null,null,null,null,null,null,null,null,null,null,null,{"$f":"+RESUMEN!J23","v":0.72083333333333333},"FINANZAS PÚBLICAS SOSTENIBLES Y COMPRENSIBLES PARA LA CIUDADANÍA","Garantizar que 3 documentos financieros estén disponibles y sean de fácil acceso e interpretación.",{"$f":"'[1]LÍNEA 1'!P113","v":" -"},"Número de documentos financieros disponibles de fácil acceso e interpretación.",0,{"$f":"'[1]LÍNEA 1'!S113","v":3},{"$f":"'[1]LÍNEA 1'!T113","v":3},0.25,{"$f":"'[1]LÍNEA 1'!U113","v":3},0.25,{"$f":"'[1]LÍNEA 1'!V113","v":3},0.25,{"$f":"'[1]LÍNEA 1'!W113","v":3},0.25,{"$f":"'[5]2016'!K18","v":3},{"$f":"'[5]2017'!K18","v":3},{"$f":"'[5]2018'!K18","v":2},{"$f":"'[5]2019'!K18","v":0},1,1,1,1,0.66666666666666663,0.66666666666666663,0,0,0.66666666666666663,0.66666666666666663,0.66666666666666663,{"$f":"'[5]2016'!P18","v":0},{"$f":"'[5]2016'!Q18","v":0},{"$f":"'[5]2016'!R18","v":0}," -"," -",{"$f":"'[5]2017'!P18","v":0},{"$f":"'[5]2017'!Q18","v":0},{"$f":"'[5]2017'!R18","v":0}," -"," -",{"$f":"'[5]2018'!P18","v":0},{"$f":"'[5]2018'!Q18","v":0},{"$f":"'[5]2018'!R18","v":0}," -"," -",{"$f":"'[5]2019'!P18","v":0},{"$f":"'[5]2019'!Q18","v":0},{"$f":"'[5]2019'!R18","v":0}," -"," -",0,0,0," -"," -","16. Paz, justicia e instituciones sólidas","Fortalecimiento Institucional",{"$f":"'[1]LÍNEA 1'!AQ113","v":"Sec. Hacienda"}]
[null,null,null,null,null,null,null,null,null,null,null,null,null,null,null,null,null,null,null,null,null,null,null,null,null,null,null,null,null,null,null,null,null,null,null,null,null,null,null,null,null,null,"Realizar 16 videos que permitan dar a conocer de manera didáctica al ciudadano la información financiera del municipio.",{"$f":"'[1]LÍNEA 1'!P114","v":" -"},"Número de videos realizados que permitan dar a conocer de manera didáctica al ciudadano la información financiera del municipio.",0,{"$f":"'[1]LÍNEA 1'!S114","v":16},{"$f":"'[1]LÍNEA 1'!T114","v":4},0.25,{"$f":"'[1]LÍNEA 1'!U114","v":4},0.25,{"$f":"'[1]LÍNEA 1'!V114","v":4},0.25,{"$f":"'[1]LÍNEA 1'!W114","v":4},0.25,{"$f":"'[5]2016'!K19","v":4},{"$f":"'[5]2017'!K19","v":4},{"$f":"'[5]2018'!K19","v":1},{"$f":"'[5]2019'!K19","v":0},1,1,1,1,0.25,0.25,0,0,{"$f":"+SUM(BD114:BG114)/AU114","v":0.5625},0.5625,0.5625,{"$f":"'[5]2016'!P19","v":0},{"$f":"'[5]2016'!Q19","v":0},{"$f":"'[5]2016'!R19","v":0}," -"," -",{"$f":"'[5]2017'!P19","v":0},{"$f":"'[5]2017'!Q19","v":0},{"$f":"'[5]2017'!R19","v":0}," -"," -",{"$f":"'[5]2018'!P19","v":0},{"$f":"'[5]2018'!Q19","v":0},{"$f":"'[5]2018'!R19","v":0}," -"," -",{"$f":"'[5]2019'!P19","v":0},{"$f":"'[5]2019'!Q19","v":0},{"$f":"'[5]2019'!R19","v":0}," -"," -",0,0,0," -"," -","16. Paz, justicia e instituciones sólidas","Fortalecimiento Institucional",{"$f":"'[1]LÍNEA 1'!AQ114","v":"Sec. Hacienda"}]
[null,null,null,null,null,null,null,null,null,null,null,null,null,null,null,null,null,null,null,null,null,null,null,null,null,null,null,null,null,null,null,null,null,null,null,null,null,null,null,null,null,null,"Implementar y mantener la norma internacional de información financiera - NIIF.",{"$f":"'[1]LÍNEA 1'!P115","v":2210277},"Número de normas internacionales de información financiera - NIIF implementadas y mantenidas.",0,{"$f":"'[1]LÍNEA 1'!S115","v":1},{"$f":"'[1]LÍNEA 1'!T115","v":1},0.25,{"$f":"'[1]LÍNEA 1'!U115","v":1},0.25,{"$f":"'[1]LÍNEA 1'!V115","v":1},0.25,{"$f":"'[1]LÍNEA 1'!W115","v":1},0.25,{"$f":"'[5]2016'!K20","v":0.3},{"$f":"'[5]2017'!K20","v":0.5},{"$f":"'[5]2018'!K20","v":0.7},{"$f":"'[5]2019'!K20","v":0},0.3,0.3,0.5,0.5,0.7,0.7,0,0,0.375,0.375,0.375,{"$f":"'[5]2016'!P20","v":68500},{"$f":"'[5]2016'!Q20","v":59940},{"$f":"'[5]2016'!R20","v":0},0.87503649635036496," -",{"$f":"'[5]2017'!P20","v":269500},{"$f":"'[5]2017'!Q20","v":269500},{"$f":"'[5]2017'!R20","v":0},1," -",{"$f":"'[5]2018'!P20","v":285000},{"$f":"'[5]2018'!Q20","v":285000},{"$f":"'[5]2018'!R20","v":0},1," -",{"$f":"'[5]2019'!P20","v":0},{"$f":"'[5]2019'!Q20","v":0},{"$f":"'[5]2019'!R20","v":0}," -"," -",623000,614440,0,0.98626003210272872," -","16. Paz, justicia e instituciones sólidas","Fortalecimiento Institucional",{"$f":"'[1]LÍNEA 1'!AQ115","v":"Sec. Hacienda"}]
[null,null,null,null,null,null,null,null,null,null,null,null,null,null,null,null,null,null,null,null,null,null,null,null,null,null,null,null,null,null,null,null,null,null,null,null,null,null,null,null,null,null,"Actualizar el estatuto tributario.",{"$f":"'[1]LÍNEA 1'!P116","v":" -"},"Número de estatutos tributarios actualizados.",1,{"$f":"'[1]LÍNEA 1'!S116","v":1},{"$f":"'[1]LÍNEA 1'!T116","v":0},0,{"$f":"'[1]LÍNEA 1'!U116","v":1},1,{"$f":"'[1]LÍNEA 1'!V116","v":0},0,{"$f":"'[1]LÍNEA 1'!W116","v":0},0,{"$f":"'[5]2016'!K21","v":0},{"$f":"'[5]2017'!K21","v":1},{"$f":"'[5]2018'!K21","v":0},{"$f":"'[5]2019'!K21","v":0}," -"," -",1,1," -"," -"," -"," -",{"$f":"+SUM(BD116:BG116)/AU116","v":1},1,1,{"$f":"'[5]2016'!P21","v":0},{"$f":"'[5]2016'!Q21","v":0},{"$f":"'[5]2016'!R21","v":0}," -"," -",{"$f":"'[5]2017'!P21","v":0},{"$f":"'[5]2017'!Q21","v":0},{"$f":"'[5]2017'!R21","v":0}," -"," -",{"$f":"'[5]2018'!P21","v":0},{"$f":"'[5]2018'!Q21","v":0},{"$f":"'[5]2018'!R21","v":0}," -"," -",{"$f":"'[5]2019'!P21","v":0},{"$f":"'[5]2019'!Q21","v":0},{"$f":"'[5]2019'!R21","v":0}," -"," -",0,0,0," -"," -","16. Paz, justicia e instituciones sólidas","Fortalecimiento Institucional",{"$f":"'[1]LÍNEA 1'!AQ116","v":"Sec. Hacienda"}]
[null,null,null,null,null,"Lograr una calificación de 80 en el componente organización de la información del IGA.",53.3,80,{"$f":"+H117-G117","v":26.700000000000003},60,{"$f":"+J117-G117","v":6.7000000000000028},null,80,{"$f":"+M117-J117","v":20},null,80,{"$f":"+P117-M117","v":0},null,80,{"$f":"+S117-P117","v":0},null,55.8,{"$f":"+IF(V117=0,0,V117-G117)","v":2.5},null,{"$f":"+IF(X117=0,0,X117-V117)","v":0},null,{"$f":"+IF(Z117=0,0,Z117-X117)","v":0},null,{"$f":"+IF(AB117=0,0,AB117-Z117)","v":0},{"$f":"+IF(K117=0,\" -\",W117/K117)","v":0.37313432835820881},{"$f":"+IF(K117=0,\" -\",IF(AD117>100%,100%,AD117))","v":0.37313432835820881},{"$f":"+IF(N117=0,\" -\",Y117/N117)","v":0},{"$f":"+IF(N117=0,\" -\",IF(AF117>100%,100%,AF117))","v":0},{"$f":"+IF(Q117=0,\" -\",AA117/Q117)","v":" -"},{"$f":"+IF(Q117=0,\" -\",IF(AH117>100%,100%,AH117))","v":" -"},{"$f":"+IF(T117=0,\" -\",AC117/T117)","v":" -"},{"$f":"+IF(T117=0,\" -\",IF(AJ117>100%,100%,AJ117))","v":" -"},{"$f":"+SUM(AC117,AA117,Y117,W117)/I117","v":9.363295880149812E-2},{"$f":"+IF(AL117>100%,100%,IF(AL117<0%,0%,AL117))","v":9.363295880149812E-2},null,null,null,"Realizar 5 acciones tendientes al fortalecimiento de los ingresos.",{"$f":"'[1]LÍNEA 1'!P117","v":2210277},"Número de acciones realizadas tendientes al fortalecimiento de los ingresos.",1,{"$f":"'[1]LÍNEA 1'!S117","v":5},{"$f":"'[1]LÍNEA 1'!T117","v":2},0.4,{"$f":"'[1]LÍNEA 1'!U117","v":3},0.6,{"$f":"'[1]LÍNEA 1'!V117","v":0},0,{"$f":"'[1]LÍNEA 1'!W117","v":0},0,{"$f":"'[5]2016'!K22","v":1},{"$f":"'[5]2017'!K22","v":4},{"$f":"'[5]2018'!K22","v":3},{"$f":"'[5]2019'!K22","v":0},0.5,0.5,1.3333333333333333,1," -"," -"," -"," -",1.6,1,1,{"$f":"'[5]2016'!P22","v":312414},{"$f":"'[5]2016'!Q22","v":283034},{"$f":"'[5]2016'!R22","v":0},0.90595811967453443," -",{"$f":"'[5]2017'!P22","v":5331547},{"$f":"'[5]2017'!Q22","v":5312293},{"$f":"'[5]2017'!R22","v":0},0.99638866542862703," -",{"$f":"'[5]2018'!P22","v":3915880},{"$f":"'[5]2018'!Q22","v":644638},{"$f":"'[5]2018'!R22","v":0},0.16462148993329725," -",{"$f":"'[5]2019'!P22","v":0},{"$f":"'[5]2019'!Q22","v":0},{"$f":"'[5]2019'!R22","v":0}," -"," -",9559841,6239965,0,0.65272686020614779," -","16. Paz, justicia e instituciones sólidas","Fortalecimiento Institucional",{"$f":"'[1]LÍNEA 1'!AQ117","v":"Sec. Hacienda"}]
[null,null,null,null,null,null,null,null,null,null,null,null,null,null,null,null,null,null,null,null,null,null,null,null,null,null,null,null,null,null,null,null,null,null,null,null,null,null,null,null,{"$f":"+RESUMEN!J24","v":0.42799999999999999},"GESTIÓN INTELIGENTE DEL PATRIMONIO INMOBILIARIO MUNICIPAL","Realizar y mantener actualizado en línea 1 inventario del los bienes inmuebles del municipio.",{"$f":"'[1]LÍNEA 1'!P118","v":" -"},"Número de inventarios en línea de los bienes inmuebles del municipio realizados y mantenidos.",0,{"$f":"'[1]LÍNEA 1'!S118","v":1},{"$f":"'[1]LÍNEA 1'!T118","v":1},0.25,{"$f":"'[1]LÍNEA 1'!U118","v":1},0.25,{"$f":"'[1]LÍNEA 1'!V118","v":1},0.25,{"$f":"'[1]LÍNEA 1'!W118","v":1},0.25,{"$f":"'[18]2016'!K12","v":0.85},{"$f":"'[18]2017'!K12","v":0.53600000000000003},{"$f":"'[18]2018'!K12","v":0.59},{"$f":"'[18]2019'!K12","v":0},0.85,0.85,0.53600000000000003,0.53600000000000003,0.59,0.59,0,0,0.49399999999999999,0.49399999999999999,0.49399999999999999,{"$f":"'[18]2016'!P12","v":0},{"$f":"'[18]2016'!Q12","v":0},{"$f":"'[18]2016'!R12","v":0}," -"," -",{"$f":"'[18]2017'!P12","v":0},{"$f":"'[18]2017'!Q12","v":0},{"$f":"'[18]2017'!R12","v":0}," -"," -",{"$f":"'[18]2018'!P12","v":0},{"$f":"'[18]2018'!Q12","v":0},{"$f":"'[18]2018'!R12","v":0}," -"," -",{"$f":"'[18]2019'!P12","v":0},{"$f":"'[18]2019'!Q12","v":0},{"$f":"'[18]2019'!R12","v":0}," -"," -",0,0,0," -"," -","16. Paz, justicia e instituciones sólidas","Equipamiento",{"$f":"'[1]LÍNEA 1'!AQ118","v":"DADEP"}]
[null,null,null,null,null,null,null,null,null,null,null,null,null,null,null,null,null,null,null,null,null,null,null,null,null,null,null,null,null,null,null,null,null,null,null,null,null,null,null,null,null,null,"Incorporar 300 predios de propiedad del municipio cuya titulación se encuentra pendiente.",{"$f":"'[1]LÍNEA 1'!P119","v":" -"},"Número de predios de propiedad del municipio cuya titulación se encuentra pendiente incorporados.",208,{"$f":"'[1]LÍNEA 1'!S119","v":300},{"$f":"'[1]LÍNEA 1'!T119","v":0},0,{"$f":"'[1]LÍNEA 1'!U119","v":0},0,{"$f":"'[1]LÍNEA 1'!V119","v":150},0.5,{"$f":"'[1]LÍNEA 1'!W119","v":150},0.5,{"$f":"'[18]2016'!K13","v":0},{"$f":"'[18]2017'!K13","v":0},{"$f":"'[18]2018'!K13","v":12},{"$f":"'[18]2019'!K13","v":0}," -"," -"," -"," -",0.08,0.08,0,0,{"$f":"+SUM(BD119:BG119)/AU119","v":0.04},0.04,0.04,{"$f":"'[18]2016'!P13","v":0},{"$f":"'[18]2016'!Q13","v":0},{"$f":"'[18]2016'!R13","v":0}," -"," -",{"$f":"'[18]2017'!P13","v":0},{"$f":"'[18]2017'!Q13","v":0},{"$f":"'[18]2017'!R13","v":0}," -"," -",{"$f":"'[18]2018'!P13","v":0},{"$f":"'[18]2018'!Q13","v":0},{"$f":"'[18]2018'!R13","v":0}," -"," -",{"$f":"'[18]2019'!P13","v":0},{"$f":"'[18]2019'!Q13","v":0},{"$f":"'[18]2019'!R13","v":0}," -"," -",0,0,0," -"," -","16. Paz, justicia e instituciones sólidas","Equipamiento",{"$f":"'[1]LÍNEA 1'!AQ119","v":"DADEP"}]
[null,null,null,null,null,null,null,null,null,null,null,null,null,null,null,null,null,null,null,null,null,null,null,null,null,null,null,null,null,null,null,null,null,null,null,null,null,null,null,null,null,null,"Adquirir el 100% de los predios requeridos para la ejecución de obras de desarrollo para la ciudad.",{"$f":"'[1]LÍNEA 1'!P120","v":" -"},"Porcentaje de predios requeridos adquiridos para la ejecución de obras de desarrollo para la ciudad.",1,{"$f":"'[1]LÍNEA 1'!S120","v":1},{"$f":"'[1]LÍNEA 1'!T120","v":1},0.25,{"$f":"'[1]LÍNEA 1'!U120","v":1},0.25,{"$f":"'[1]LÍNEA 1'!V120","v":1},0.25,{"$f":"'[1]LÍNEA 1'!W120","v":1},0.25,{"$f":"'[7]2016'!$K$15","v":1},{"$f":"'[7]2017'!$K$14","v":1},{"$f":"'[7]2018'!$K$14","v":1},{"$f":"'[7]2019'!$K$14","v":0},1,1,1,1,1,1,0,0,0.75,0.75,0.75,{"$f":"'[7]2016'!P15","v":0},{"$f":"'[7]2016'!Q15","v":0},{"$f":"'[7]2016'!R15","v":0}," -"," -",{"$f":"'[7]2017'!P14","v":0},{"$f":"'[7]2017'!Q14","v":0},{"$f":"'[7]2017'!R14","v":0}," -"," -",{"$f":"'[7]2018'!P14","v":0},{"$f":"'[7]2018'!Q14","v":0},{"$f":"'[7]2018'!R14","v":0}," -"," -",{"$f":"'[7]2019'!P14","v":0},{"$f":"'[7]2019'!Q14","v":0},{"$f":"'[7]2019'!R14","v":0}," -"," -",0,0,0," -"," -","9. Industria, innovación e infraestructura","Equipamiento",{"$f":"'[1]LÍNEA 1'!AQ120","v":"Sec. Infraestructura"}]
[null,null,null,null,null,null,null,null,null,null,null,null,null,null,null,null,null,null,null,null,null,null,null,null,null,null,null,null,null,null,null,null,null,null,null,null,null,null,null,null,{"$f":"+RESUMEN!J25","v":0.66018518518518521},"INSPECCIONES Y COMISARÍAS QUE FUNCIONAN","Sistematizar el 100% de los procesos que adelantan las inspecciones de policía.",{"$f":"'[1]LÍNEA 1'!P121","v":0},"Porcentaje de avance en la sistematización de los procesos que adelantan las inspecciones de policía.",0,{"$f":"'[1]LÍNEA 1'!S121","v":1},{"$f":"'[1]LÍNEA 1'!T121","v":0},0,{"$f":"'[1]LÍNEA 1'!U121","v":0.7},0.7,{"$f":"'[1]LÍNEA 1'!V121","v":0.3},0.3,{"$f":"'[1]LÍNEA 1'!W121","v":0},0,{"$f":"'[2]2016'!K15","v":0},{"$f":"'[2]2017'!K15","v":0.6},{"$f":"'[2]2018'!K15","v":1},{"$f":"'[2]2019'!K15","v":0}," -"," -",0.85714285714285721,0.85714285714285721,3.3333333333333335,1," -"," -",{"$f":"+SUM(BD121:BG121)/AU121","v":1.6},1,1,{"$f":"'[2]2016'!P15","v":225205},{"$f":"'[2]2016'!Q15","v":0},{"$f":"'[2]2016'!R15","v":0},0," -",{"$f":"'[2]2017'!P15","v":113830},{"$f":"'[2]2017'!Q15","v":41930},{"$f":"'[2]2017'!R15","v":0},0.36835632082930686," -",{"$f":"'[2]2018'!P15","v":0},{"$f":"'[2]2018'!Q15","v":0},{"$f":"'[2]2018'!R15","v":0}," -"," -",{"$f":"'[2]2019'!P15","v":0},{"$f":"'[2]2019'!Q15","v":0},{"$f":"'[2]2019'!R15","v":0}," -"," -",339035,41930,0,0.12367454687569129," -","16. Paz, justicia e instituciones sólidas","Justicia y Seguridad",{"$f":"'[1]LÍNEA 1'!AQ121","v":"Sec. Interior"}]
[null,null,null,null,null,null,null,null,null,null,null,null,null,null,null,null,null,null,null,null,null,null,null,null,null,null,null,null,null,null,null,null,null,null,null,null,null,null,null,null,null,null,"Descongestionar 9.000 procesos de las inspecciones iniciados antes del 2012 y que impiden la buena atención al ciudadano.",{"$f":"'[1]LÍNEA 1'!P122","v":2210264},"Número de procesos descongestionados de las inspecciones iniciados antes del 2012 y que impiden la buena atención al ciudadano.",0,{"$f":"'[1]LÍNEA 1'!S122","v":9000},{"$f":"'[1]LÍNEA 1'!T122","v":3000},0.33333333333333331,{"$f":"'[1]LÍNEA 1'!U122","v":2000},0.22222222222222221,{"$f":"'[1]LÍNEA 1'!V122","v":2000},0.22222222222222221,{"$f":"'[1]LÍNEA 1'!W122","v":2000},0.22222222222222221,{"$f":"'[2]2016'!K16","v":4077},{"$f":"'[2]2017'!K16","v":4626},{"$f":"'[2]2018'!K16","v":1380},{"$f":"'[2]2019'!K16","v":0},1.359,1,2.3130000000000002,1,0.69,0.69,0,0,1.1203333333333334,1,1,{"$f":"'[2]2016'!P16","v":256848},{"$f":"'[2]2016'!Q16","v":256633},{"$f":"'[2]2016'!R16","v":0},0.99916292904753001," -",{"$f":"'[2]2017'!P16","v":201502},{"$f":"'[2]2017'!Q16","v":200670},{"$f":"'[2]2017'!R16","v":0},0.9958710087244792," -",{"$f":"'[2]2018'!P16","v":360000},{"$f":"'[2]2018'!Q16","v":189000},{"$f":"'[2]2018'!R16","v":0},0.52500000000000002," -",{"$f":"'[2]2019'!P16","v":0},{"$f":"'[2]2019'!Q16","v":0},{"$f":"'[2]2019'!R16","v":0}," -"," -",818350,646303,0,0.78976354860389808," -","16. Paz, justicia e instituciones sólidas","Justicia y Seguridad",{"$f":"'[1]LÍNEA 1'!AQ122","v":"Sec. Interior"}]
[null,null,null,null,null,null,null,null,null,null,null,null,null,null,null,null,null,null,null,null,null,null,null,null,null,null,null,null,null,null,null,null,null,null,null,null,null,null,null,null,null,null,"Formular e implementar 1 plan de descongestión y gestión.",{"$f":"'[1]LÍNEA 1'!P123","v":2210264},"Número de planes de descongestión y gestión formulados e implementados.",1,{"$f":"'[1]LÍNEA 1'!S123","v":1},{"$f":"'[1]LÍNEA 1'!T123","v":1},0.25,{"$f":"'[1]LÍNEA 1'!U123","v":1},0.25,{"$f":"'[1]LÍNEA 1'!V123","v":1},0.25,{"$f":"'[1]LÍNEA 1'!W123","v":1},0.25,{"$f":"'[2]2016'!K17","v":1},{"$f":"'[2]2017'!K17","v":1},{"$f":"'[2]2018'!K17","v":1},{"$f":"'[2]2019'!K17","v":0},1,1,1,1,1,1,0,0,0.75,0.75,0.75,{"$f":"'[2]2016'!P17","v":0},{"$f":"'[2]2016'!Q17","v":0},{"$f":"'[2]2016'!R17","v":0}," -"," -",{"$f":"'[2]2017'!P17","v":522302},{"$f":"'[2]2017'!Q17","v":521470},{"$f":"'[2]2017'!R17","v":0},0.99840705185888623," -",{"$f":"'[2]2018'!P17","v":253040},{"$f":"'[2]2018'!Q17","v":177000},{"$f":"'[2]2018'!R17","v":0},0.69949415112235225," -",{"$f":"'[2]2019'!P17","v":0},{"$f":"'[2]2019'!Q17","v":0},{"$f":"'[2]2019'!R17","v":0}," -"," -",775342,698470,0,0.90085407471799539," -","16. Paz, justicia e instituciones sólidas","Justicia y Seguridad",{"$f":"'[1]LÍNEA 1'!AQ123","v":"Sec. Interior"}]
[null,null,null,null,null,null,null,null,null,null,null,null,null,null,null,null,null,null,null,null,null,null,null,null,null,null,null,null,null,null,null,null,null,null,null,null,null,null,null,null,null,null,"Formular e implementar 1 estrategia robusta de transparencia en las inspecciones.",{"$f":"'[1]LÍNEA 1'!P124","v":" -"},"Número de estrategias robustas de transparencia en las inspecciones formulados e implementados.",0,{"$f":"'[1]LÍNEA 1'!S124","v":1},{"$f":"'[1]LÍNEA 1'!T124","v":1},0.25,{"$f":"'[1]LÍNEA 1'!U124","v":1},0.25,{"$f":"'[1]LÍNEA 1'!V124","v":1},0.25,{"$f":"'[1]LÍNEA 1'!W124","v":1},0.25,{"$f":"'[2]2016'!K18","v":1},{"$f":"'[2]2017'!K18","v":1},{"$f":"'[2]2018'!K18","v":1},{"$f":"'[2]2019'!K18","v":0},1,1,1,1,1,1,0,0,0.75,0.75,0.75,{"$f":"'[2]2016'!P18","v":0},{"$f":"'[2]2016'!Q18","v":0},{"$f":"'[2]2016'!R18","v":0}," -"," -",{"$f":"'[2]2017'!P18","v":0},{"$f":"'[2]2017'!Q18","v":0},{"$f":"'[2]2017'!R18","v":0}," -"," -",{"$f":"'[2]2018'!P18","v":0},{"$f":"'[2]2018'!Q18","v":0},{"$f":"'[2]2018'!R18","v":0}," -"," -",{"$f":"'[2]2019'!P18","v":0},{"$f":"'[2]2019'!Q18","v":0},{"$f":"'[2]2019'!R18","v":0}," -"," -",0,0,0," -"," -","16. Paz, justicia e instituciones sólidas","Justicia y Seguridad",{"$f":"'[1]LÍNEA 1'!AQ124","v":"Sec. Interior"}]
[null,null,null,null,null,null,null,null,null,null,null,null,null,null,null,null,null,null,null,null,null,null,null,null,null,null,null,null,null,null,null,null,null,null,null,null,null,null,null,null,null,null,"Crear 4 cargos supernumerarios para la descongestión de las inspecciones municipales de policía.",{"$f":"'[1]LÍNEA 1'!P125","v":" -"},"Número de cargos supernumerarios creados para la descongestión de las inspecciones municipales de policía.",0,{"$f":"'[1]LÍNEA 1'!S125","v":4},{"$f":"'[1]LÍNEA 1'!T125","v":0},0,{"$f":"'[1]LÍNEA 1'!U125","v":4},1,{"$f":"'[1]LÍNEA 1'!V125","v":0},0,{"$f":"'[1]LÍNEA 1'!W125","v":0},0,{"$f":"'[2]2016'!K19","v":0},{"$f":"'[2]2017'!K19","v":0},{"$f":"'[2]2018'!K19","v":0.3},{"$f":"'[2]2019'!K19","v":0}," -"," -",0,0," -"," -"," -"," -",{"$f":"+SUM(BD125:BG125)/AU125","v":7.4999999999999997E-2},7.4999999999999997E-2,7.4999999999999997E-2,{"$f":"'[2]2016'!P19","v":0},{"$f":"'[2]2016'!Q19","v":0},{"$f":"'[2]2016'!R19","v":0}," -"," -",{"$f":"'[2]2017'!P19","v":0},{"$f":"'[2]2017'!Q19","v":0},{"$f":"'[2]2017'!R19","v":0}," -"," -",{"$f":"'[2]2018'!P19","v":0},{"$f":"'[2]2018'!Q19","v":0},{"$f":"'[2]2018'!R19","v":0}," -"," -",{"$f":"'[2]2019'!P19","v":0},{"$f":"'[2]2019'!Q19","v":0},{"$f":"'[2]2019'!R19","v":0}," -"," -",0,0,0," -"," -","16. Paz, justicia e instituciones sólidas","Justicia y Seguridad",{"$f":"'[1]LÍNEA 1'!AQ125","v":"Sec. Interior"}]
[null,null,null,null,null,"Lograr la probabilidad del 75% de cumplir la función administrativa según INTEGRA.",0.61980000000000002,0.75,{"$f":"+H126-G126","v":0.13019999999999998},0.62,{"$f":"+J126-G126","v":1.9999999999997797E-4},null,0.65,{"$f":"+M126-J126","v":3.0000000000000027E-2},null,0.7,{"$f":"+P126-M126","v":4.9999999999999933E-2},null,0.75,{"$f":"+S126-P126","v":5.0000000000000044E-2},null,0.62,{"$f":"+IF(V126=0,0,V126-G126)","v":1.9999999999997797E-4},null,{"$f":"+IF(X126=0,0,X126-V126)","v":0},null,{"$f":"+IF(Z126=0,0,Z126-X126)","v":0},null,{"$f":"+IF(AB126=0,0,AB126-Z126)","v":0},{"$f":"+IF(K126=0,\" -\",W126/K126)","v":1},{"$f":"+IF(K126=0,\" -\",IF(AD126>100%,100%,AD126))","v":1},{"$f":"+IF(N126=0,\" -\",Y126/N126)","v":0},{"$f":"+IF(N126=0,\" -\",IF(AF126>100%,100%,AF126))","v":0},{"$f":"+IF(Q126=0,\" -\",AA126/Q126)","v":0},{"$f":"+IF(Q126=0,\" -\",IF(AH126>100%,100%,AH126))","v":0},{"$f":"+IF(T126=0,\" -\",AC126/T126)","v":0},{"$f":"+IF(T126=0,\" -\",IF(AJ126>100%,100%,AJ126))","v":0},{"$f":"+SUM(AC126,AA126,Y126,W126)/I126","v":1.5360983102916898E-3},{"$f":"+IF(AL126>100%,100%,IF(AL126<0%,0%,AL126))","v":1.5360983102916898E-3},null,null,null,"Mejorar y equipar las 2 sedes de comisaría de familia (Norte y Joya).",{"$f":"'[1]LÍNEA 1'!P126","v":2210264},"Número de sedes de comisarías de familia (Norte y Joya) mejoradas y equipadas.",2,{"$f":"'[1]LÍNEA 1'!S126","v":2},{"$f":"'[1]LÍNEA 1'!T126","v":0},0,{"$f":"'[1]LÍNEA 1'!U126","v":0},0,{"$f":"'[1]LÍNEA 1'!V126","v":2},1,{"$f":"'[1]LÍNEA 1'!W126","v":0},0,{"$f":"'[2]2016'!K20","v":0},{"$f":"'[2]2017'!K20","v":0},{"$f":"'[2]2018'!K20","v":2},{"$f":"'[2]2019'!K20","v":0}," -"," -"," -"," -",1,1," -"," -",1,1,1,{"$f":"'[2]2016'!P20","v":0},{"$f":"'[2]2016'!Q20","v":0},{"$f":"'[2]2016'!R20","v":0}," -"," -",{"$f":"'[2]2017'!P20","v":0},{"$f":"'[2]2017'!Q20","v":0},{"$f":"'[2]2017'!R20","v":0}," -"," -",{"$f":"'[2]2018'!P20","v":150000},{"$f":"'[2]2018'!Q20","v":84000},{"$f":"'[2]2018'!R20","v":0},0.56000000000000005," -",{"$f":"'[2]2019'!P20","v":0},{"$f":"'[2]2019'!Q20","v":0},{"$f":"'[2]2019'!R20","v":0}," -"," -",150000,84000,0,0.56000000000000005," -","16. Paz, justicia e instituciones sólidas","Justicia y Seguridad",{"$f":"'[1]LÍNEA 1'!AQ126","v":"Sec. Interior"}]
[null,null,null,null,null,null,null,null,null,null,null,null,null,null,null,null,null,null,null,null,null,null,null,null,null,null,null,null,null,null,null,null,null,null,null,null,null,null,null,null,null,null,"Adecuar y equipar las 2 sedes nuevas de comisaría de familia (Oriente y Sur).",{"$f":"'[1]LÍNEA 1'!P127","v":" -"},"Número de sedes nuevas de comisarías de familias (Oriente y Sur) adecuadas y equipadas.",0,{"$f":"'[1]LÍNEA 1'!S127","v":2},{"$f":"'[1]LÍNEA 1'!T127","v":0},0,{"$f":"'[1]LÍNEA 1'!U127","v":0},0,{"$f":"'[1]LÍNEA 1'!V127","v":0},0,{"$f":"'[1]LÍNEA 1'!W127","v":2},1,{"$f":"'[2]2016'!K21","v":0},{"$f":"'[2]2017'!K21","v":0},{"$f":"'[2]2018'!K21","v":0},{"$f":"'[2]2019'!K21","v":0}," -"," -"," -"," -"," -"," -",0,0,0,0,0,{"$f":"'[2]2016'!P21","v":0},{"$f":"'[2]2016'!Q21","v":0},{"$f":"'[2]2016'!R21","v":0}," -"," -",{"$f":"'[2]2017'!P21","v":0},{"$f":"'[2]2017'!Q21","v":0},{"$f":"'[2]2017'!R21","v":0}," -"," -",{"$f":"'[2]2018'!P21","v":0},{"$f":"'[2]2018'!Q21","v":0},{"$f":"'[2]2018'!R21","v":0}," -"," -",{"$f":"'[2]2019'!P21","v":0},{"$f":"'[2]2019'!Q21","v":0},{"$f":"'[2]2019'!R21","v":0}," -"," -",0,0,0," -"," -","16. Paz, justicia e instituciones sólidas","Justicia y Seguridad",{"$f":"'[1]LÍNEA 1'!AQ127","v":"Sec. Interior"}]
[null,null,null,null,null,null,null,null,null,null,null,null,null,null,null,null,null,null,null,null,null,null,null,null,null,null,null,null,null,null,null,null,null,null,null,null,null,null,null,null,null,null,"Digitalizar y sistematizar el 100% el procedimiento del funcionamiento de las comisarías de familia.",{"$f":"'[1]LÍNEA 1'!P128","v":0},"Porcentaje de procedimientos de las comisarías de familia digitalizados y sistematizados,",0,{"$f":"'[1]LÍNEA 1'!S128","v":1},{"$f":"'[1]LÍNEA 1'!T128","v":0},0,{"$f":"'[1]LÍNEA 1'!U128","v":1},1,{"$f":"'[1]LÍNEA 1'!V128","v":0},0,{"$f":"'[1]LÍNEA 1'!W128","v":0},0,{"$f":"'[2]2016'!K22","v":0},{"$f":"'[2]2017'!K22","v":0.7},{"$f":"'[2]2018'!K22","v":0},{"$f":"'[2]2019'!K22","v":0}," -"," -",0.7,0.7," -"," -"," -"," -",0.7,0.7,0.7,{"$f":"'[2]2016'!P22","v":91425},{"$f":"'[2]2016'!Q22","v":0},{"$f":"'[2]2016'!R22","v":0},0," -",{"$f":"'[2]2017'!P22","v":17970},{"$f":"'[2]2017'!Q22","v":17970},{"$f":"'[2]2017'!R22","v":0},1," -",{"$f":"'[2]2018'!P22","v":0},{"$f":"'[2]2018'!Q22","v":0},{"$f":"'[2]2018'!R22","v":0}," -"," -",{"$f":"'[2]2019'!P22","v":0},{"$f":"'[2]2019'!Q22","v":0},{"$f":"'[2]2019'!R22","v":0}," -"," -",109395,17970,0,0.16426710544357603," -","16. Paz, justicia e instituciones sólidas","Justicia y Seguridad",{"$f":"'[1]LÍNEA 1'!AQ128","v":"Sec. Interior"}]
[null,null,null,null,null,null,null,null,null,null,null,null,null,null,null,null,null,null,null,null,null,null,null,null,null,null,null,null,null,null,null,null,null,null,null,null,null,null,null,null,null,null,"Implementar y mantener 1 plan de mejoramiento en las comisarías de familia.",{"$f":"'[1]LÍNEA 1'!P129","v":" -"},"Número de planes de mejoramiento de las comisarías de familia implementadas y mantenidas.",1,{"$f":"'[1]LÍNEA 1'!S129","v":1},{"$f":"'[1]LÍNEA 1'!T129","v":0},0,{"$f":"'[1]LÍNEA 1'!U129","v":1},0.33,{"$f":"'[1]LÍNEA 1'!V129","v":1},0.33,{"$f":"'[1]LÍNEA 1'!W129","v":1},0.34,{"$f":"'[2]2016'!K23","v":0.5},{"$f":"'[2]2017'!K23","v":1},{"$f":"'[2]2018'!K23","v":1},{"$f":"'[2]2019'!K23","v":0}," -"," -",1,1,1,1,0,0,{"$f":"+AVERAGE(BE129:BG129)/AU129","v":0.66666666666666663},0.66666666666666663,0.66666666666666663,{"$f":"'[2]2016'!P23","v":98000},{"$f":"'[2]2016'!Q23","v":0},{"$f":"'[2]2016'!R23","v":0},0," -",{"$f":"'[2]2017'!P23","v":179502},{"$f":"'[2]2017'!Q23","v":178670},{"$f":"'[2]2017'!R23","v":0},0.99536495415092863," -",{"$f":"'[2]2018'!P23","v":0},{"$f":"'[2]2018'!Q23","v":0},{"$f":"'[2]2018'!R23","v":0}," -"," -",{"$f":"'[2]2019'!P23","v":0},{"$f":"'[2]2019'!Q23","v":0},{"$f":"'[2]2019'!R23","v":0}," -"," -",277502,178670,0,0.64385121548673518," -","16. Paz, justicia e instituciones sólidas","Justicia y Seguridad",{"$f":"'[1]LÍNEA 1'!AQ129","v":"Sec. Interior"}]
[null,null,null,null,null,null,null,null,null,null,null,null,null,null,null,null,null,null,null,null,null,null,null,null,null,null,null,null,null,null,null,null,null,null,null,null,null,null,null,null,{"$f":"+RESUMEN!J26","v":0.7817982456140351},"CULTURA DE LA LEGALIDAD Y LA ÉTICA PÚBLICA","Realizar 8 capacitaciones dirigidas a servidores públicos en lo atinente al régimen disciplinario de los servidores públicos. ",{"$f":"'[1]LÍNEA 1'!P130","v":" -"},"Número de capacitaciones realizadas dirigidas a servidores públicos en lo atinente al régimen disciplinario de los servidores públicos.",8,{"$f":"'[1]LÍNEA 1'!S130","v":8},{"$f":"'[1]LÍNEA 1'!T130","v":2},0.25,{"$f":"'[1]LÍNEA 1'!U130","v":2},0.25,{"$f":"'[1]LÍNEA 1'!V130","v":2},0.25,{"$f":"'[1]LÍNEA 1'!W130","v":2},0.25,{"$f":"'[19]2016'!K12","v":3},{"$f":"'[19]2017'!K12","v":3},{"$f":"'[19]2018'!K12","v":6},{"$f":"'[19]2019'!K12","v":0},1.5,1,1.5,1,3,1,0,0,{"$f":"+SUM(BD130:BG130)/AU130","v":1.5},1,1,{"$f":"'[19]2016'!P12","v":0},{"$f":"'[19]2016'!Q12","v":0},{"$f":"'[19]2016'!R12","v":0}," -"," -",{"$f":"'[19]2017'!P12","v":0},{"$f":"'[19]2017'!Q12","v":0},{"$f":"'[19]2017'!R12","v":0}," -"," -",{"$f":"'[19]2018'!P12","v":0},{"$f":"'[19]2018'!Q12","v":0},{"$f":"'[19]2018'!R12","v":0}," -"," -",{"$f":"'[19]2019'!P12","v":0},{"$f":"'[19]2019'!Q12","v":0},{"$f":"'[19]2019'!R12","v":0}," -"," -",0,0,0," -"," -","16. Paz, justicia e instituciones sólidas","Justicia y Seguridad",{"$f":"'[1]LÍNEA 1'!AQ130","v":"Ofc. Control Interno Disciplinario"}]
[null,null,null,null,null,null,null,null,null,null,null,null,null,null,null,null,null,null,null,null,null,null,null,null,null,null,null,null,null,null,null,null,null,null,null,null,null,null,null,null,null,null,"Crear y mantener 1 base de datos que permita tener acceso ágil a la información de procesos que se adelantan.",{"$f":"'[1]LÍNEA 1'!P131","v":" -"},"Número de bases de datos creadas y mantenidas que permitan tener acceso ágil a la información de procesos que se adelantan.",0,{"$f":"'[1]LÍNEA 1'!S131","v":1},{"$f":"'[1]LÍNEA 1'!T131","v":1},0.25,{"$f":"'[1]LÍNEA 1'!U131","v":1},0.25,{"$f":"'[1]LÍNEA 1'!V131","v":1},0.25,{"$f":"'[1]LÍNEA 1'!W131","v":1},0.25,{"$f":"'[19]2016'!K13","v":1},{"$f":"'[19]2017'!K13","v":1},{"$f":"'[19]2018'!K13","v":1},{"$f":"'[19]2019'!K13","v":0},1,1,1,1,1,1,0,0,0.75,0.75,0.75,{"$f":"'[19]2016'!P13","v":0},{"$f":"'[19]2016'!Q13","v":0},{"$f":"'[19]2016'!R13","v":0}," -"," -",{"$f":"'[19]2017'!P13","v":0},{"$f":"'[19]2017'!Q13","v":0},{"$f":"'[19]2017'!R13","v":0}," -"," -",{"$f":"'[19]2018'!P13","v":0},{"$f":"'[19]2018'!Q13","v":0},{"$f":"'[19]2018'!R13","v":0}," -"," -",{"$f":"'[19]2019'!P13","v":0},{"$f":"'[19]2019'!Q13","v":0},{"$f":"'[19]2019'!R13","v":0}," -"," -",0,0,0," -"," -","16. Paz, justicia e instituciones sólidas","Justicia y Seguridad",{"$f":"'[1]LÍNEA 1'!AQ131","v":"Ofc. Control Interno Disciplinario"}]
[null,null,null,null,null,null,null,null,null,null,null,null,null,null,null,null,null,null,null,null,null,null,null,null,null,null,null,null,null,null,null,null,null,null,null,null,null,null,null,null,null,null,"Mantener el seguimiento, asesoría y evaluación a los 19 procesos de la Administración Central.",{"$f":"'[1]LÍNEA 1'!P132","v":" -"},"Número de procesos de la Administración Central con seguimiento, asesoría y evaluación mantenidos.",19,{"$f":"'[1]LÍNEA 1'!S132","v":19},{"$f":"'[1]LÍNEA 1'!T132","v":19},0.25,{"$f":"'[1]LÍNEA 1'!U132","v":19},0.25,{"$f":"'[1]LÍNEA 1'!V132","v":19},0.25,{"$f":"'[1]LÍNEA 1'!W132","v":19},0.25,{"$f":"'[20]2016'!$K$12","v":19},{"$f":"'[20]2017'!$K$12","v":19},{"$f":"'[20]2018'!$K$12","v":24},{"$f":"'[20]2019'!$K$12","v":0},1,1,1,1,1.263157894736842,1,0,0,0.81578947368421051,0.81578947368421051,0.81578947368421051,{"$f":"'[20]2016'!P12","v":0},{"$f":"'[20]2016'!Q12","v":0},{"$f":"'[20]2016'!R12","v":0}," -"," -",{"$f":"'[20]2017'!P12","v":0},{"$f":"'[20]2017'!Q12","v":0},{"$f":"'[20]2017'!R12","v":0}," -"," -",{"$f":"'[20]2018'!P12","v":0},{"$f":"'[20]2018'!Q12","v":0},{"$f":"'[20]2018'!R12","v":0}," -"," -",{"$f":"'[20]2019'!P12","v":0},{"$f":"'[20]2019'!Q12","v":0},{"$f":"'[20]2019'!R12","v":0}," -"," -",0,0,0," -"," -","16. Paz, justicia e instituciones sólidas","Justicia y Seguridad",{"$f":"'[1]LÍNEA 1'!AQ132","v":"Ofc. Control Interno"}]
[null,null,null,null,null,null,null,null,null,null,null,null,null,null,null,null,null,null,null,null,null,null,null,null,null,null,null,null,null,null,null,null,null,null,null,null,null,null,null,null,null,null,"Implementar y mantener 1 estrategia de gobierno para la promoción y adopción de la Cultura de la Legalidad y la Integridad para Colombia CLIC entre los servidores públicos y la ciudadanía.",{"$f":"'[1]LÍNEA 1'!P133","v":" -"},"Número de estrategias de gobierno implementadas y mantenidas para la promoción y adopción de la Cultura de la Legalidad y la Integridad para Colombia CLIC entre los servidores públicos y la ciudadanía.",0,{"$f":"'[1]LÍNEA 1'!S133","v":1},{"$f":"'[1]LÍNEA 1'!T133","v":1},0.25,{"$f":"'[1]LÍNEA 1'!U133","v":1},0.25,{"$f":"'[1]LÍNEA 1'!V133","v":1},0.25,{"$f":"'[1]LÍNEA 1'!W133","v":1},0.25,{"$f":"'[14]2016'!K21","v":0.7},{"$f":"'[14]2017'!K21","v":1},{"$f":"'[14]2018'!K21","v":0.3},{"$f":"'[14]2019'!K21","v":0},0.7,0.7,1,1,0.3,0.3,0,0,0.5,0.5,0.5,{"$f":"'[14]2016'!P21","v":0},{"$f":"'[14]2016'!Q21","v":0},{"$f":"'[14]2016'!R21","v":0}," -"," -",{"$f":"'[14]2017'!P21","v":0},{"$f":"'[14]2017'!Q21","v":0},{"$f":"'[14]2017'!R21","v":0}," -"," -",{"$f":"'[14]2018'!P21","v":17600},{"$f":"'[14]2018'!Q21","v":0},{"$f":"'[14]2018'!R21","v":0},0," -",{"$f":"'[14]2019'!P21","v":0},{"$f":"'[14]2019'!Q21","v":0},{"$f":"'[14]2019'!R21","v":0}," -"," -",17600,0,0,0," -","16. Paz, justicia e instituciones sólidas","Justicia y Seguridad",{"$f":"'[1]LÍNEA 1'!AQ133","v":"Sec. Jurídica"}]
[null,null,null,null,null,null,null,null,null,null,null,null,null,null,null,null,null,null,null,null,null,null,null,null,null,null,null,null,null,null,null,null,null,null,null,null,null,null,null,null,null,null,"Realizar 8 capacitaciones en materia de contratación estatal dirigida a servidores públicos.",{"$f":"'[1]LÍNEA 1'!P134","v":0},"Número de capacitaciones realizadas en materia de contratación estatal dirigida a servidores públicos.",0,{"$f":"'[1]LÍNEA 1'!S134","v":8},{"$f":"'[1]LÍNEA 1'!T134","v":2},0.25,{"$f":"'[1]LÍNEA 1'!U134","v":2},0.25,{"$f":"'[1]LÍNEA 1'!V134","v":2},0.25,{"$f":"'[1]LÍNEA 1'!W134","v":2},0.25,{"$f":"'[14]2016'!K22","v":7},{"$f":"'[14]2017'!K22","v":6},{"$f":"'[14]2018'!K22","v":0},{"$f":"'[14]2019'!K22","v":0},3.5,1,3,1,0,0,0,0,{"$f":"+SUM(BD134:BG134)/AU134","v":1.625},1,1,{"$f":"'[14]2016'!P22","v":0},{"$f":"'[14]2016'!Q22","v":0},{"$f":"'[14]2016'!R22","v":11400}," -",1,{"$f":"'[14]2017'!P22","v":29750},{"$f":"'[14]2017'!Q22","v":23500},{"$f":"'[14]2017'!R22","v":0},0.78991596638655459," -",{"$f":"'[14]2018'!P22","v":20000},{"$f":"'[14]2018'!Q22","v":0},{"$f":"'[14]2018'!R22","v":0},0," -",{"$f":"'[14]2019'!P22","v":50000},{"$f":"'[14]2019'!Q22","v":0},{"$f":"'[14]2019'!R22","v":0},0," -",99750,23500,11400,0.23558897243107768,0.48510638297872338,"16. Paz, justicia e instituciones sólidas","Justicia y Seguridad",{"$f":"'[1]LÍNEA 1'!AQ134","v":"Sec. Jurídica"}]
[null,null,null,null,null,null,null,null,null,null,null,null,null,null,null,null,null,null,null,null,null,null,null,null,null,null,null,null,null,null,null,null,null,null,null,null,null,null,null,null,null,null,"Implementar y mantener 1 estrategia de comunicaciones pedagógica para socializar y fortalecer el sentido de la ética en la gestión pública entre las diversas dependencias.",{"$f":"'[1]LÍNEA 1'!P135","v":" -"},"Número de estrategias de comunicaciones pedagógicas implementadas y mantenidas para socializar y fortalecer el sentido de la ética en la gestión pública entre las diversas dependencias.",0,{"$f":"'[1]LÍNEA 1'!S135","v":1},{"$f":"'[1]LÍNEA 1'!T135","v":1},0.25,{"$f":"'[1]LÍNEA 1'!U135","v":1},0.25,{"$f":"'[1]LÍNEA 1'!V135","v":1},0.25,{"$f":"'[1]LÍNEA 1'!W135","v":1},0.25,{"$f":"'[14]2016'!K23","v":1},{"$f":"'[14]2017'!K23","v":1},{"$f":"'[14]2018'!K23","v":0.5},{"$f":"'[14]2019'!K23","v":0},1,1,1,1,0.5,0.5,0,0,0.625,0.625,0.625,{"$f":"'[14]2016'!P23","v":0},{"$f":"'[14]2016'!Q23","v":0},{"$f":"'[14]2016'!R23","v":0}," -"," -",{"$f":"'[14]2017'!P23","v":56320},{"$f":"'[14]2017'!Q23","v":56320},{"$f":"'[14]2017'!R23","v":0},1," -",{"$f":"'[14]2018'!P23","v":0},{"$f":"'[14]2018'!Q23","v":0},{"$f":"'[14]2018'!R23","v":0}," -"," -",{"$f":"'[14]2019'!P23","v":0},{"$f":"'[14]2019'!Q23","v":0},{"$f":"'[14]2019'!R23","v":0}," -"," -",56320,56320,0,1," -","16. Paz, justicia e instituciones sólidas","Justicia y Seguridad",{"$f":"'[1]LÍNEA 1'!AQ135","v":"Sec. Jurídica"}]
[null,null,null,null,null,null,null,null,null,null,null,null,null,null,null,null,null,null,null,null,null,null,null,null,null,null,null,null,null,null,null,null,null,null,null,null,null,null,null,null,null,null,null,null,null,null,{"$f":"'[1]LÍNEA 1'!S136","v":0},{"$f":"'[1]LÍNEA 1'!T136","v":0},{"$f":"+AVERAGE(AW78:AW135)","v":0.18390804597701152},{"$f":"'[1]LÍNEA 1'!U136","v":0},{"$f":"+AVERAGE(AY78:AY135)","v":0.35003831417624515},{"$f":"'[1]LÍNEA 1'!V136","v":0},0.2342337164750958,{"$f":"'[1]LÍNEA 1'!W136","v":0},0.24906130268199231,null,null,null,null,null,{"$f":"+AVERAGE(BI78:BI135)","v":0.84305555555555556},null,0.78133613445378158,null,0.72003703703703714,null,0,null,{"$f":"+AVERAGE(BQ78:BQ135)","v":0.57847912885662434}]
[null,null,null,{"$f":"+RESUMEN!J27","v":0.77111805555555546},"GOBIERNO MUNICIPAL EN LÍNEA","Alcanzar un 85% de nivel de satisfacción en trámites electrónicos.",0.5,0.85,{"$f":"+H137-G137","v":0.35},0.5,{"$f":"+J137-G137","v":0},null,0.65,{"$f":"+M137-J137","v":0.15000000000000002},null,0.75,{"$f":"+P137-M137","v":9.9999999999999978E-2},null,0.85,{"$f":"+S137-P137","v":9.9999999999999978E-2},null,null,{"$f":"+IF(V137=0,0,V137-G137)","v":0},null,{"$f":"+IF(X137=0,0,X137-V137)","v":0},null,{"$f":"+IF(Z137=0,0,Z137-X137)","v":0},null,{"$f":"+IF(AB137=0,0,AB137-Z137)","v":0},{"$f":"+IF(K137=0,\" -\",W137/K137)","v":" -"},{"$f":"+IF(K137=0,\" -\",IF(AD137>100%,100%,AD137))","v":" -"},{"$f":"+IF(N137=0,\" -\",Y137/N137)","v":0},{"$f":"+IF(N137=0,\" -\",IF(AF137>100%,100%,AF137))","v":0},{"$f":"+IF(Q137=0,\" -\",AA137/Q137)","v":0},{"$f":"+IF(Q137=0,\" -\",IF(AH137>100%,100%,AH137))","v":0},{"$f":"+IF(T137=0,\" -\",AC137/T137)","v":0},{"$f":"+IF(T137=0,\" -\",IF(AJ137>100%,100%,AJ137))","v":0},{"$f":"+SUM(AC137,AA137,Y137,W137)/I137","v":0},{"$f":"+IF(AL137>100%,100%,IF(AL137<0%,0%,AL137))","v":0},null,{"$f":"+RESUMEN!J28","v":0.92974999999999997},"CIUDAD MODELO EN GOBIERNO EN LÍNEA","Lograr y mantener el 100% de la implementación del componente TIC servicios.",{"$f":"'[1]LÍNEA 1'!P137","v":2210237},"Porcentaje de avance de la implementación del componente TIC servicios.",0.745,{"$f":"'[1]LÍNEA 1'!S137","v":1},{"$f":"'[1]LÍNEA 1'!T137","v":0.3},0.25,{"$f":"'[1]LÍNEA 1'!U137","v":0.2},0.25,{"$f":"'[1]LÍNEA 1'!V137","v":0.15},0.25,{"$f":"'[1]LÍNEA 1'!W137","v":0.35},0.25,{"$f":"'[10]2016'!K30","v":0.31},{"$f":"'[10]2017'!K30","v":0.13},{"$f":"'[10]2018'!K30","v":0.53800000000000003},{"$f":"'[10]2019'!K30","v":0},1.0333333333333334,1,0.65,0.65,3.5866666666666669,1,0,0,{"$f":"+SUM(BD137:BG137)/AU137","v":0.97799999999999998},0.97799999999999998,0.97799999999999998,{"$f":"'[10]2016'!P30","v":0},{"$f":"'[10]2016'!Q30","v":0},{"$f":"'[10]2016'!R30","v":0}," -"," -",{"$f":"'[10]2017'!P30","v":65000},{"$f":"'[10]2017'!Q30","v":0},{"$f":"'[10]2017'!R30","v":0},0," -",{"$f":"'[10]2018'!P30","v":0},{"$f":"'[10]2018'!Q30","v":0},{"$f":"'[10]2018'!R30","v":0}," -"," -",{"$f":"'[10]2019'!P30","v":126000},{"$f":"'[10]2019'!Q30","v":0},{"$f":"'[10]2019'!R30","v":0},0," -",191000,0,0,0," -","16. Paz, justicia e instituciones sólidas","Fortalecimiento insitucional",{"$f":"'[1]LÍNEA 1'!AQ137","v":"Asesor TIC"}]
[null,null,null,null,null,null,null,null,null,null,null,null,null,null,null,null,null,null,null,null,null,null,null,null,null,null,null,null,null,null,null,null,null,null,null,null,null,null,null,null,null,null,"Lograr y mantener el 100% de la implementación del componente TIC gobierno abierto.",{"$f":"'[1]LÍNEA 1'!P138","v":2210237},"Porcentaje de avance de la implementación del componente TIC gobierno abierto.",0.44,{"$f":"'[1]LÍNEA 1'!S138","v":1},{"$f":"'[1]LÍNEA 1'!T138","v":0.3},0.25,{"$f":"'[1]LÍNEA 1'!U138","v":0.2},0.25,{"$f":"'[1]LÍNEA 1'!V138","v":0.3},0.25,{"$f":"'[1]LÍNEA 1'!W138","v":0.2},0.25,{"$f":"'[10]2016'!K31","v":0.28999999999999998},{"$f":"'[10]2017'!K31","v":0},{"$f":"'[10]2018'!K31","v":0.45100000000000001},{"$f":"'[10]2019'!K31","v":0},0.96666666666666667,0.96666666666666667,0,0,1.5033333333333334,1,0,0,{"$f":"+SUM(BD138:BG138)/AU138","v":0.74099999999999999},0.74099999999999999,0.74099999999999999,{"$f":"'[10]2016'!P31","v":0},{"$f":"'[10]2016'!Q31","v":0},{"$f":"'[10]2016'!R31","v":0}," -"," -",{"$f":"'[10]2017'!P31","v":35000},{"$f":"'[10]2017'!Q31","v":0},{"$f":"'[10]2017'!R31","v":0},0," -",{"$f":"'[10]2018'!P31","v":0},{"$f":"'[10]2018'!Q31","v":0},{"$f":"'[10]2018'!R31","v":0}," -"," -",{"$f":"'[10]2019'!P31","v":118000},{"$f":"'[10]2019'!Q31","v":0},{"$f":"'[10]2019'!R31","v":0},0," -",153000,0,0,0," -","16. Paz, justicia e instituciones sólidas","Fortalecimiento insitucional",{"$f":"'[1]LÍNEA 1'!AQ138","v":"Asesor TIC"}]
[null,null,null,null,null,null,null,null,null,null,null,null,null,null,null,null,null,null,null,null,null,null,null,null,null,null,null,null,null,null,null,null,null,null,null,null,null,null,null,null,null,null,"Lograr y mantener el 100% de la implementación del componente TIC gestión.",{"$f":"'[1]LÍNEA 1'!P139","v":2210237},"Porcentaje de avance de la implementación del componente TIC gestión.",0.43,{"$f":"'[1]LÍNEA 1'!S139","v":1},{"$f":"'[1]LÍNEA 1'!T139","v":0.3},0.25,{"$f":"'[1]LÍNEA 1'!U139","v":0.2},0.25,{"$f":"'[1]LÍNEA 1'!V139","v":0.2},0.25,{"$f":"'[1]LÍNEA 1'!W139","v":0.3},0.25,{"$f":"'[10]2016'!K32","v":0.37},{"$f":"'[10]2017'!K32","v":0.13},{"$f":"'[10]2018'!K32","v":0.57999999999999996},{"$f":"'[10]2019'!K32","v":0},1.2333333333333334,1,0.65,0.65,2.8999999999999995,1,0,0,{"$f":"+SUM(BD139:BG139)/AU139","v":1.08},1,1,{"$f":"'[10]2016'!P32","v":0},{"$f":"'[10]2016'!Q32","v":0},{"$f":"'[10]2016'!R32","v":0}," -"," -",{"$f":"'[10]2017'!P32","v":0},{"$f":"'[10]2017'!Q32","v":0},{"$f":"'[10]2017'!R32","v":0}," -"," -",{"$f":"'[10]2018'!P32","v":0},{"$f":"'[10]2018'!Q32","v":0},{"$f":"'[10]2018'!R32","v":0}," -"," -",{"$f":"'[10]2019'!P32","v":0},{"$f":"'[10]2019'!Q32","v":0},{"$f":"'[10]2019'!R32","v":0}," -"," -",0,0,0," -"," -","16. Paz, justicia e instituciones sólidas","Fortalecimiento insitucional",{"$f":"'[1]LÍNEA 1'!AQ139","v":"Asesor TIC"}]
[null,null,null,null,null,null,null,null,null,null,null,null,null,null,null,null,null,null,null,null,null,null,null,null,null,null,null,null,null,null,null,null,null,null,null,null,null,null,null,null,null,null,"Lograr y mantener el 100% de la implementación del componente seguridad de la información y protección de datos.",{"$f":"'[1]LÍNEA 1'!P140","v":2210237},"Porcentaje de avance de la implementación del componente seguridad de la información y protección de datos.",0.15,{"$f":"'[1]LÍNEA 1'!S140","v":1},{"$f":"'[1]LÍNEA 1'!T140","v":0.3},0.25,{"$f":"'[1]LÍNEA 1'!U140","v":0.2},0.25,{"$f":"'[1]LÍNEA 1'!V140","v":0.3},0.25,{"$f":"'[1]LÍNEA 1'!W140","v":0.2},0.25,{"$f":"'[10]2016'!K33","v":0.3},{"$f":"'[10]2017'!K33","v":0.55000000000000004},{"$f":"'[10]2018'!K33","v":0.876},{"$f":"'[10]2019'!K33","v":0},{"$f":"IF(AV140=0,\" -\",BD140/AV140)","v":1},{"$f":"IF(AV140=0,\" -\",IF(BH140>100%,100%,BH140))","v":1},{"$f":"IF(AX140=0,\" -\",BE140/AX140)","v":2.75},{"$f":"IF(AX140=0,\" -\",IF(BJ140>100%,100%,BJ140))","v":1},{"$f":"IF(AZ140=0,\" -\",BF140/AZ140)","v":2.92},{"$f":"IF(AZ140=0,\" -\",IF(BL140>100%,100%,BL140))","v":1},{"$f":"IF(BB140=0,\" -\",BG140/BB140)","v":0},{"$f":"IF(BB140=0,\" -\",IF(BN140>100%,100%,BN140))","v":0},1.726,{"$f":"+IF(BP140>100%,100%,BP140)","v":1},{"$f":"+BQ140","v":1},{"$f":"'[10]2016'!P33","v":0},{"$f":"'[10]2016'!Q33","v":0},{"$f":"'[10]2016'!R33","v":0}," -"," -",{"$f":"'[10]2017'!P33","v":0},{"$f":"'[10]2017'!Q33","v":0},{"$f":"'[10]2017'!R33","v":0}," -"," -",{"$f":"'[10]2018'!P33","v":0},{"$f":"'[10]2018'!Q33","v":0},{"$f":"'[10]2018'!R33","v":0}," -"," -",{"$f":"'[10]2019'!P33","v":240000},{"$f":"'[10]2019'!Q33","v":0},{"$f":"'[10]2019'!R33","v":0},0," -",240000,0,0,0," -","16. Paz, justicia e instituciones sólidas","Fortalecimiento insitucional",{"$f":"'[1]LÍNEA 1'!AQ140","v":"Asesor TIC"}]
[null,null,null,null,null,null,null,null,null,null,null,null,null,null,null,null,null,null,null,null,null,null,null,null,null,null,null,null,null,null,null,null,null,null,null,null,null,null,null,null,{"$f":"+RESUMEN!J29","v":0.7},"VIVE DIGITAL PARA LAS CIUDADANAS Y CIUDADANOS","Adecuar y mantener en funcionamiento los 8 puntos VIVE DIGITAL.",{"$f":"'[1]LÍNEA 1'!P141","v":" -"},"Número de puntos VIVE DIGITAL adecuados y mantenidos en funcionamiento.",8,{"$f":"'[1]LÍNEA 1'!S141","v":8},{"$f":"'[1]LÍNEA 1'!T141","v":8},0.25,{"$f":"'[1]LÍNEA 1'!U141","v":8},0.25,{"$f":"'[1]LÍNEA 1'!V141","v":8},0.25,{"$f":"'[1]LÍNEA 1'!W141","v":8},0.25,{"$f":"'[10]2016'!K34","v":8},{"$f":"'[10]2017'!K34","v":8},{"$f":"'[10]2018'!K34","v":8},{"$f":"'[10]2019'!K34","v":0},1,1,1,1,1,1,0,0,{"$f":"+AVERAGE(BD141:BG141)/AU141","v":0.75},0.75,0.75,{"$f":"'[10]2016'!P34","v":0},{"$f":"'[10]2016'!Q34","v":0},{"$f":"'[10]2016'!R34","v":0},{"$f":"IF(BS141=0,\" -\",BT141/BS141)","v":" -"},{"$f":"IF(BU141=0,\" -\",IF(BT141=0,100%,BU141/BT141))","v":" -"},{"$f":"'[10]2017'!P34","v":0},{"$f":"'[10]2017'!Q34","v":0},{"$f":"'[10]2017'!R34","v":0},{"$f":"IF(BX141=0,\" -\",BY141/BX141)","v":" -"},{"$f":"IF(BZ141=0,\" -\",IF(BY141=0,100%,BZ141/BY141))","v":" -"},{"$f":"'[10]2018'!P34","v":0},{"$f":"'[10]2018'!Q34","v":0},{"$f":"'[10]2018'!R34","v":0},{"$f":"IF(CC141=0,\" -\",CD141/CC141)","v":" -"},{"$f":"IF(CE141=0,\" -\",IF(CD141=0,100%,CE141/CD141))","v":" -"},{"$f":"'[10]2019'!P34","v":0},{"$f":"'[10]2019'!Q34","v":0},{"$f":"'[10]2019'!R34","v":0},{"$f":"IF(CH141=0,\" -\",CI141/CH141)","v":" -"},{"$f":"IF(CJ141=0,\" -\",IF(CI141=0,100%,CJ141/CI141))","v":" -"},{"$f":"+BS141+BX141+CC141+CH141","v":0},{"$f":"+BT141+BY141+CD141+CI141","v":0},{"$f":"+BU141+BZ141+CE141+CJ141","v":0},{"$f":"IF(CM141=0,\" -\",CN141/CM141)","v":" -"},{"$f":"IF(CO141=0,\" -\",IF(CN141=0,100%,CO141/CN141))","v":" -"},"9. Industria, innovación e infraestructura","Fortalecimiento insitucional",{"$f":"'[1]LÍNEA 1'!AQ141","v":"Asesor TIC"}]
[null,null,null,null,null,"Lograr que 10.000 ciudadanos usen datos públicos y participen por redes electrónicas.",0,10000,{"$f":"+H142-G142","v":10000},2500,{"$f":"+J142-G142","v":2500},null,5000,{"$f":"+M142-K142","v":2500},null,7500,{"$f":"+P142-M142","v":2500},null,10000,{"$f":"+S142-P142","v":2500},null,null,{"$f":"+IF(V142=0,0,V142-G142)","v":0},null,{"$f":"+IF(X142=0,0,X142-V142)","v":0},null,{"$f":"+IF(Z142=0,0,Z142-X142)","v":0},null,{"$f":"+IF(AB142=0,0,AB142-Z142)","v":0},{"$f":"+IF(K142=0,\" -\",W142/K142)","v":0},{"$f":"+IF(K142=0,\" -\",IF(AD142>100%,100%,AD142))","v":0},{"$f":"+IF(N142=0,\" -\",Y142/N142)","v":0},{"$f":"+IF(N142=0,\" -\",IF(AF142>100%,100%,AF142))","v":0},{"$f":"+IF(Q142=0,\" -\",AA142/Q142)","v":0},{"$f":"+IF(Q142=0,\" -\",IF(AH142>100%,100%,AH142))","v":0},{"$f":"+IF(T142=0,\" -\",AC142/T142)","v":0},{"$f":"+IF(T142=0,\" -\",IF(AJ142>100%,100%,AJ142))","v":0},{"$f":"+SUM(AC142,AA142,Y142,W142)/I142","v":0},{"$f":"+IF(AL142>100%,100%,IF(AL142<0%,0%,AL142))","v":0},null,null,null,"Mantener en funcionamiento el VIVE LAB.",{"$f":"'[1]LÍNEA 1'!P142","v":" -"},"Número de VIVE LABS mantenidos en funcionamiento.",1,{"$f":"'[1]LÍNEA 1'!S142","v":1},{"$f":"'[1]LÍNEA 1'!T142","v":1},0.25,{"$f":"'[1]LÍNEA 1'!U142","v":1},0.25,{"$f":"'[1]LÍNEA 1'!V142","v":1},0.25,{"$f":"'[1]LÍNEA 1'!W142","v":1},0.25,{"$f":"'[10]2016'!K35","v":1},{"$f":"'[10]2017'!K35","v":1},{"$f":"'[10]2018'!K35","v":1},{"$f":"'[10]2019'!K35","v":0},1,1,1,1,1,1,0,0,0.75,0.75,0.75,{"$f":"'[10]2016'!P35","v":0},{"$f":"'[10]2016'!Q35","v":0},{"$f":"'[10]2016'!R35","v":0}," -"," -",{"$f":"'[10]2017'!P35","v":0},{"$f":"'[10]2017'!Q35","v":0},{"$f":"'[10]2017'!R35","v":0}," -"," -",{"$f":"'[10]2018'!P35","v":0},{"$f":"'[10]2018'!Q35","v":0},{"$f":"'[10]2018'!R35","v":0}," -"," -",{"$f":"'[10]2019'!P35","v":0},{"$f":"'[10]2019'!Q35","v":0},{"$f":"'[10]2019'!R35","v":0}," -"," -",0,0,0," -"," -","16. Paz, justicia e instituciones sólidas","Fortalecimiento insitucional",{"$f":"'[1]LÍNEA 1'!AQ142","v":"Asesor TIC"}]
[null,null,null,null,null,null,null,null,null,null,null,null,null,null,null,null,null,null,null,null,null,null,null,null,null,null,null,null,null,null,null,null,null,null,null,null,null,null,null,null,null,null,"Capacitar 5.000 ciudadanos en los puntos  VIVE DIGITAL y VIVE LAB.",{"$f":"'[1]LÍNEA 1'!P143","v":" -"},"Número de ciudadanos capacitados en los puntos  VIVE DIGITAL y VIVE LAB.",0,{"$f":"'[1]LÍNEA 1'!S143","v":5000},{"$f":"'[1]LÍNEA 1'!T143","v":250},{"$f":"+AV143/AU143","v":0.05},{"$f":"'[1]LÍNEA 1'!U143","v":1550},{"$f":"+AX143/AU143","v":0.31},{"$f":"'[1]LÍNEA 1'!V143","v":1600},{"$f":"+AZ143/AU143","v":0.32},{"$f":"'[1]LÍNEA 1'!W143","v":1600},{"$f":"+BB143/AU143","v":0.32},{"$f":"'[10]2016'!K36","v":702},{"$f":"'[10]2017'!K36","v":8618},{"$f":"'[10]2018'!K36","v":6142},{"$f":"'[10]2019'!K36","v":0},2.8079999999999998,1,5.56,1,3.8387500000000001,1,0,0,{"$f":"+SUM(BD143:BG143)/AU143","v":3.0924},1,1,{"$f":"'[10]2016'!P36","v":0},{"$f":"'[10]2016'!Q36","v":0},{"$f":"'[10]2016'!R36","v":0}," -"," -",{"$f":"'[10]2017'!P36","v":0},{"$f":"'[10]2017'!Q36","v":0},{"$f":"'[10]2017'!R36","v":0}," -"," -",{"$f":"'[10]2018'!P36","v":0},{"$f":"'[10]2018'!Q36","v":0},{"$f":"'[10]2018'!R36","v":0}," -"," -",{"$f":"'[10]2019'!P36","v":0},{"$f":"'[10]2019'!Q36","v":0},{"$f":"'[10]2019'!R36","v":0}," -"," -",0,0,0," -"," -","16. Paz, justicia e instituciones sólidas","Fortalecimiento insitucional",{"$f":"'[1]LÍNEA 1'!AQ143","v":"Asesor TIC"}]
[null,null,null,null,null,null,null,null,null,null,null,null,null,null,null,null,null,null,null,null,null,null,null,null,null,null,null,null,null,null,null,null,null,null,null,null,null,null,null,null,null,null,"Atender 30.000 ciudadanos en los puntos  VIVE DIGITAL y VIVE LAB.",{"$f":"'[1]LÍNEA 1'!P144","v":" -"},"Número de ciudadanos atendidos en los puntos  VIVE DIGITAL y VIVE LAB.",0,{"$f":"'[1]LÍNEA 1'!S144","v":30000},{"$f":"'[1]LÍNEA 1'!T144","v":3750},0.125,{"$f":"'[1]LÍNEA 1'!U144","v":8750},0.29166666666666669,{"$f":"'[1]LÍNEA 1'!V144","v":8750},0.29166666666666669,{"$f":"'[1]LÍNEA 1'!W144","v":8750},0.29166666666666669,{"$f":"'[10]2016'!K37","v":29973},{"$f":"'[10]2017'!K37","v":90155},{"$f":"'[10]2018'!K37","v":50172},{"$f":"'[10]2019'!K37","v":0},7.9927999999999999,1,10.303428571428572,1,5.733942857142857,1,0,0,5.6766666666666667,1,1,{"$f":"'[10]2016'!P37","v":0},{"$f":"'[10]2016'!Q37","v":0},{"$f":"'[10]2016'!R37","v":0}," -"," -",{"$f":"'[10]2017'!P37","v":0},{"$f":"'[10]2017'!Q37","v":0},{"$f":"'[10]2017'!R37","v":0}," -"," -",{"$f":"'[10]2018'!P37","v":0},{"$f":"'[10]2018'!Q37","v":0},{"$f":"'[10]2018'!R37","v":0}," -"," -",{"$f":"'[10]2019'!P37","v":0},{"$f":"'[10]2019'!Q37","v":0},{"$f":"'[10]2019'!R37","v":0}," -"," -",0,0,0," -"," -","16. Paz, justicia e instituciones sólidas","Fortalecimiento insitucional",{"$f":"'[1]LÍNEA 1'!AQ144","v":"Asesor TIC"}]
[null,null,null,null,null,null,null,null,null,null,null,null,null,null,null,null,null,null,null,null,null,null,null,null,null,null,null,null,null,null,null,null,null,null,null,null,null,null,null,null,null,null,"Construir y mantener 1 punto VIVE DIGITAL.",{"$f":"'[1]LÍNEA 1'!P145","v":2210198},"Número de puntos vive DIGITAL construidos y mantenidos.",8,{"$f":"'[1]LÍNEA 1'!S145","v":1},{"$f":"'[1]LÍNEA 1'!T145","v":0},0.25,{"$f":"'[1]LÍNEA 1'!U145","v":0},0.25,{"$f":"'[1]LÍNEA 1'!V145","v":1},0.25,{"$f":"'[1]LÍNEA 1'!W145","v":1},0.25,{"$f":"'[7]2016'!$K$17","v":0},{"$f":"'[7]2017'!$K$16","v":0},{"$f":"'[7]2018'!$K$16","v":0},{"$f":"'[7]2019'!$K$16","v":0}," -"," -"," -"," -",0,0,0,0,0,0,0,{"$f":"'[7]2016'!P17","v":0},{"$f":"'[7]2016'!Q17","v":0},{"$f":"'[7]2016'!R17","v":0}," -"," -",{"$f":"'[7]2017'!P16","v":0},{"$f":"'[7]2017'!Q16","v":0},{"$f":"'[7]2017'!R16","v":0}," -"," -",{"$f":"'[7]2018'!P16","v":0},{"$f":"'[7]2018'!Q16","v":0},{"$f":"'[7]2018'!R16","v":0}," -"," -",{"$f":"'[7]2019'!P16","v":0},{"$f":"'[7]2019'!Q16","v":0},{"$f":"'[7]2019'!R16","v":0}," -"," -",0,0,0," -"," -","9. Industria, innovación e infraestructura","Promoción del Desarrollo",{"$f":"'[1]LÍNEA 1'!AQ145","v":"Sec. Infraestructura"}]
[null,null,null,null,null,null,null,null,null,null,null,null,null,null,null,null,null,null,null,null,null,null,null,null,null,null,null,null,null,null,null,null,null,null,null,null,null,null,null,null,{"$f":"+RESUMEN!J30","v":0.76249999999999996},"GESTIÓN Y MEJORAMIENTO DE LOS SISTEMAS DE INFORMACIÓN","Crear y/o documentar 4 sistemas de información pertenecientes al Core de la Alcaldía.",{"$f":"'[1]LÍNEA 1'!P146","v":0},"Número de sistemas de información creados y/o documentados pertenecientes al Core de la Alcaldía.",1,{"$f":"'[1]LÍNEA 1'!S146","v":4},{"$f":"'[1]LÍNEA 1'!T146","v":0},0,{"$f":"'[1]LÍNEA 1'!U146","v":2},0.5,{"$f":"'[1]LÍNEA 1'!V146","v":1},0.25,{"$f":"'[1]LÍNEA 1'!W146","v":1},0.25,{"$f":"'[10]2016'!K38","v":0.3},{"$f":"'[10]2017'!K38","v":0.8},{"$f":"'[10]2018'!K38","v":1},{"$f":"'[10]2019'!K38","v":0}," -"," -",0.4,0.4,1,1,0,0,{"$f":"+SUM(BD146:BG146)/AU146","v":0.52500000000000002},0.52500000000000002,0.52500000000000002,{"$f":"'[10]2016'!P38","v":0},{"$f":"'[10]2016'!Q38","v":0},{"$f":"'[10]2016'!R38","v":0}," -"," -",{"$f":"'[10]2017'!P38","v":0},{"$f":"'[10]2017'!Q38","v":0},{"$f":"'[10]2017'!R38","v":0}," -"," -",{"$f":"'[10]2018'!P38","v":0},{"$f":"'[10]2018'!Q38","v":0},{"$f":"'[10]2018'!R38","v":0}," -"," -",{"$f":"'[10]2019'!P38","v":0},{"$f":"'[10]2019'!Q38","v":0},{"$f":"'[10]2019'!R38","v":0}," -"," -",0,0,0," -"," -","16. Paz, justicia e instituciones sólidas","Fortalecimiento insitucional",{"$f":"'[1]LÍNEA 1'!AQ146","v":"Asesor TIC"}]
[null,null,null,null,null,"Lograr una calificación de 90 en el Índice de Gobierno Abierto - IGA.",77,90,{"$f":"+H147-G147","v":13},80,{"$f":"+J147-G147","v":3},null,85,{"$f":"+M147-J147","v":5},null,90,{"$f":"+P147-M147","v":5},null,90,{"$f":"+S147-P147","v":0},null,71.8,{"$f":"+IF(V147=0,0,V147-G147)","v":-5.2000000000000028},null,{"$f":"+IF(X147=0,0,X147-V147)","v":0},null,{"$f":"+IF(Z147=0,0,Z147-X147)","v":0},null,{"$f":"+IF(AB147=0,0,AB147-Z147)","v":0},{"$f":"+IF(K147=0,\" -\",W147/K147)","v":-1.7333333333333343},{"$f":"+IF(K147=0,\" -\",IF(AD147>100%,100%,AD147))","v":-1.7333333333333343},{"$f":"+IF(N147=0,\" -\",Y147/N147)","v":0},{"$f":"+IF(N147=0,\" -\",IF(AF147>100%,100%,AF147))","v":0},{"$f":"+IF(Q147=0,\" -\",AA147/Q147)","v":0},{"$f":"+IF(Q147=0,\" -\",IF(AH147>100%,100%,AH147))","v":0},{"$f":"+IF(T147=0,\" -\",AC147/T147)","v":" -"},{"$f":"+IF(T147=0,\" -\",IF(AJ147>100%,100%,AJ147))","v":" -"},{"$f":"+SUM(AC147,AA147,Y147,W147)/I147","v":-0.40000000000000024},{"$f":"+IF(AL147>100%,100%,IF(AL147<0%,0%,AL147))","v":0},null,null,null,"Implementar 1 ambiente de desarrollo y prueba para los sistemas de información de la Alcaldía.",{"$f":"'[1]LÍNEA 1'!P147","v":0},"Porcentaje de avance en la implementación del ambiente de desarrollo y prueba para los sistemas de información de la Alcaldía.",0,{"$f":"'[1]LÍNEA 1'!S147","v":1},{"$f":"'[1]LÍNEA 1'!T147","v":0},0,{"$f":"'[1]LÍNEA 1'!U147","v":0},0,{"$f":"'[1]LÍNEA 1'!V147","v":0.5},0.5,{"$f":"'[1]LÍNEA 1'!W147","v":0.5},0.5,{"$f":"'[10]2016'!K39","v":0},{"$f":"'[10]2017'!K39","v":0},{"$f":"'[10]2018'!K39","v":1},{"$f":"'[10]2019'!K39","v":0}," -"," -"," -"," -",2,1,0,0,1,1,1,{"$f":"'[10]2016'!P39","v":0},{"$f":"'[10]2016'!Q39","v":0},{"$f":"'[10]2016'!R39","v":0}," -"," -",{"$f":"'[10]2017'!P39","v":0},{"$f":"'[10]2017'!Q39","v":0},{"$f":"'[10]2017'!R39","v":0}," -"," -",{"$f":"'[10]2018'!P39","v":0},{"$f":"'[10]2018'!Q39","v":0},{"$f":"'[10]2018'!R39","v":0}," -"," -",{"$f":"'[10]2019'!P39","v":0},{"$f":"'[10]2019'!Q39","v":0},{"$f":"'[10]2019'!R39","v":0}," -"," -",0,0,0," -"," -","16. Paz, justicia e instituciones sólidas","Fortalecimiento insitucional",{"$f":"'[1]LÍNEA 1'!AQ147","v":"Asesor TIC"}]
[null,null,null,null,null,null,null,null,null,null,null,null,null,null,null,null,null,null,null,null,null,null,null,null,null,null,null,null,null,null,null,null,null,null,null,null,null,null,null,null,{"$f":"+RESUMEN!J31","v":0.69222222222222218},"TECNOLOGÍA PARA LA INTERACCIÓN CIUDADANA","Mantener actualizados 10 grupos de contenidos de información pública en el portal web.",{"$f":"'[1]LÍNEA 1'!P148","v":0},"Número de grupos de contenidos de información pública en el portal web mantenidos.",10,{"$f":"'[1]LÍNEA 1'!S148","v":10},{"$f":"'[1]LÍNEA 1'!T148","v":10},0.25,{"$f":"'[1]LÍNEA 1'!U148","v":10},0.25,{"$f":"'[1]LÍNEA 1'!V148","v":10},0.25,{"$f":"'[1]LÍNEA 1'!W148","v":10},0.25,{"$f":"'[10]2016'!K40","v":10},{"$f":"'[10]2017'!K40","v":10},{"$f":"'[10]2018'!K40","v":10},{"$f":"'[10]2019'!K40","v":0},1,1,1,1,1,1,0,0,0.75,0.75,0.75,{"$f":"'[10]2016'!P40","v":0},{"$f":"'[10]2016'!Q40","v":0},{"$f":"'[10]2016'!R40","v":0}," -"," -",{"$f":"'[10]2017'!P40","v":0},{"$f":"'[10]2017'!Q40","v":0},{"$f":"'[10]2017'!R40","v":0}," -"," -",{"$f":"'[10]2018'!P40","v":0},{"$f":"'[10]2018'!Q40","v":0},{"$f":"'[10]2018'!R40","v":0}," -"," -",{"$f":"'[10]2019'!P40","v":17000},{"$f":"'[10]2019'!Q40","v":0},{"$f":"'[10]2019'!R40","v":0},0," -",17000,0,0,0," -","16. Paz, justicia e instituciones sólidas","Fortalecimiento insitucional",{"$f":"'[1]LÍNEA 1'!AQ148","v":"Asesor TIC"}]
[null,null,null,null,null,null,null,null,null,null,null,null,null,null,null,null,null,null,null,null,null,null,null,null,null,null,null,null,null,null,null,null,null,null,null,null,null,null,null,null,null,null,"Formular y mantener 2 planes de implementación de Gobierno en Línea de los Institutos Descentralizados y las Instituciones Educativas Oficiales.",{"$f":"'[1]LÍNEA 1'!P149","v":0},"Número de planes de implementación de Gobierno en Línea formulados e implementados de los institutos descentralizados y las Instituciones Educativas Oficiales.",0,{"$f":"'[1]LÍNEA 1'!S149","v":2},{"$f":"'[1]LÍNEA 1'!T149","v":0},0,{"$f":"'[1]LÍNEA 1'!U149","v":2},0.33,{"$f":"'[1]LÍNEA 1'!V149","v":2},0.33,{"$f":"'[1]LÍNEA 1'!W149","v":2},0.34,{"$f":"'[10]2016'!K41","v":0},{"$f":"'[10]2017'!K41","v":0.96},{"$f":"'[10]2018'!K41","v":1},{"$f":"'[10]2019'!K41","v":0}," -"," -",0.48,0.48,0.5,0.5,0,0,{"$f":"+AVERAGE(BE149:BG149)/AU149","v":0.32666666666666666},0.32666666666666666,0.32666666666666666,{"$f":"'[10]2016'!P41","v":0},{"$f":"'[10]2016'!Q41","v":0},{"$f":"'[10]2016'!R41","v":0}," -"," -",{"$f":"'[10]2017'!P41","v":0},{"$f":"'[10]2017'!Q41","v":0},{"$f":"'[10]2017'!R41","v":0}," -"," -",{"$f":"'[10]2018'!P41","v":0},{"$f":"'[10]2018'!Q41","v":0},{"$f":"'[10]2018'!R41","v":0}," -"," -",{"$f":"'[10]2019'!P41","v":17000},{"$f":"'[10]2019'!Q41","v":0},{"$f":"'[10]2019'!R41","v":0},0," -",17000,0,0,0," -","16. Paz, justicia e instituciones sólidas","Fortalecimiento insitucional",{"$f":"'[1]LÍNEA 1'!AQ149","v":"Asesor TIC"}]
[null,null,null,null,null,null,null,null,null,null,null,null,null,null,null,null,null,null,null,null,null,null,null,null,null,null,null,null,null,null,null,null,null,null,null,null,null,null,null,null,null,null,"Rediseñar la web de portales web.",{"$f":"'[1]LÍNEA 1'!P150","v":" -"},"Número de portales web rediseñadas.",0,{"$f":"'[1]LÍNEA 1'!S150","v":1},{"$f":"'[1]LÍNEA 1'!T150","v":1},1,{"$f":"'[1]LÍNEA 1'!U150","v":0},0,{"$f":"'[1]LÍNEA 1'!V150","v":0},0,{"$f":"'[1]LÍNEA 1'!W150","v":0},0,{"$f":"'[10]2016'!K42","v":1},{"$f":"'[10]2017'!K42","v":0},{"$f":"'[10]2018'!K42","v":0},{"$f":"'[10]2019'!K42","v":0},1,1," -"," -"," -"," -"," -"," -",{"$f":"+SUM(BD150:BG150)/AU150","v":1},1,1,{"$f":"'[10]2016'!P42","v":0},{"$f":"'[10]2016'!Q42","v":0},{"$f":"'[10]2016'!R42","v":0}," -"," -",{"$f":"'[10]2017'!P42","v":0},{"$f":"'[10]2017'!Q42","v":0},{"$f":"'[10]2017'!R42","v":0}," -"," -",{"$f":"'[10]2018'!P42","v":0},{"$f":"'[10]2018'!Q42","v":0},{"$f":"'[10]2018'!R42","v":0}," -"," -",{"$f":"'[10]2019'!P42","v":0},{"$f":"'[10]2019'!Q42","v":0},{"$f":"'[10]2019'!R42","v":0}," -"," -",0,0,0," -"," -","16. Paz, justicia e instituciones sólidas","Promoción del Desarrollo",{"$f":"'[1]LÍNEA 1'!AQ150","v":"Asesor TIC"}]
[null,null,null,null,null,null,null,null,null,null,null,null,null,null,null,null,null,null,null,null,null,null,null,null,null,null,null,null,null,null,null,null,null,null,null,null,null,null,null,null,null,null,null,null,null,null,{"$f":"'[1]LÍNEA 1'!S151","v":0},{"$f":"'[1]LÍNEA 1'!T151","v":0},{"$f":"+AVERAGE(AW137:AW150)","v":0.22678571428571428},{"$f":"'[1]LÍNEA 1'!U151","v":0},{"$f":"+AVERAGE(AY137:AY150)","v":0.24511904761904763},{"$f":"'[1]LÍNEA 1'!V151","v":0},0.2636904761904762,{"$f":"'[1]LÍNEA 1'!W151","v":0},0.26440476190476192,null,null,null,null,null,{"$f":"+AVERAGE(BI137:BI150)","v":0.9966666666666667},null,0.74363636363636365,null,0.88461538461538458,null,0,null,{"$f":"+AVERAGE(BQ137:BQ150)","v":0.77290476190476187}]
[null,null,null,{"$f":"+RESUMEN!J32","v":0.58599999999999997},"GOBERNANZA URBANA","Disminuir a 1.400 número de quejas presentadas por las obras que se ejecutan.",1536,1400,{"$f":"+H152-G152","v":-136},1526,{"$f":"+J152-G152","v":-10},null,1500,{"$f":"+M152-J152","v":-26},null,1450,{"$f":"+P152-M152","v":-50},null,1400,{"$f":"+S152-P152","v":-50},null,2705,{"$f":"+IF(V152=0,0,V152-G152)","v":1169},null,{"$f":"+IF(X152=0,0,X152-V152)","v":0},null,{"$f":"+IF(Z152=0,0,Z152-X152)","v":0},null,{"$f":"+IF(AB152=0,0,AB152-Z152)","v":0},{"$f":"+IF(K152=0,\" -\",W152/K152)","v":-116.9},{"$f":"+IF(K152=0,\" -\",IF(AD152>100%,100%,AD152))","v":-116.9},{"$f":"+IF(N152=0,\" -\",Y152/N152)","v":0},{"$f":"+IF(N152=0,\" -\",IF(AF152>100%,100%,AF152))","v":0},{"$f":"+IF(Q152=0,\" -\",AA152/Q152)","v":0},{"$f":"+IF(Q152=0,\" -\",IF(AH152>100%,100%,AH152))","v":0},{"$f":"+IF(T152=0,\" -\",AC152/T152)","v":0},{"$f":"+IF(T152=0,\" -\",IF(AJ152>100%,100%,AJ152))","v":0},{"$f":"+SUM(AC152,AA152,Y152,W152)/I152","v":-8.5955882352941178},{"$f":"+IF(AL152>100%,100%,IF(AL152<0%,0%,AL152))","v":0},null,{"$f":"+RESUMEN!J33","v":0.66861111111111116},"ORDENAMIENTO TERRITORIAL EN MARHA","Realizar visita de control de obra al 100% de las obras licenciadas por los curadores urbanos.",{"$f":"'[1]LÍNEA 1'!P152","v":2210987},"Porcentaje de la obras licenciadas por los curadores urbanos con control de obra.",0.9,{"$f":"'[1]LÍNEA 1'!S152","v":1},{"$f":"'[1]LÍNEA 1'!T152","v":1},0.25,{"$f":"'[1]LÍNEA 1'!U152","v":1},0.25,{"$f":"'[1]LÍNEA 1'!V152","v":1},0.25,{"$f":"'[1]LÍNEA 1'!W152","v":1},0.25,{"$f":"'[6]2016'!K27","v":0.85},{"$f":"'[6]2017'!K27","v":0.14000000000000001},{"$f":"'[6]2018'!K27","v":0.09},{"$f":"'[6]2019'!K27","v":0},0.85,0.85,0.14000000000000001,0.14000000000000001,0.09,0.09,0,0,0.27,0.27,0.27,{"$f":"'[6]2016'!P27","v":740333},{"$f":"'[6]2016'!Q27","v":222835},{"$f":"'[6]2016'!R27","v":0},0.30099293155917672," -",{"$f":"'[6]2017'!P27","v":0},{"$f":"'[6]2017'!Q27","v":0},{"$f":"'[6]2017'!R27","v":0}," -"," -",{"$f":"'[6]2018'!P27","v":124100},{"$f":"'[6]2018'!Q27","v":69921},{"$f":"'[6]2018'!R27","v":0},0.56342465753424653," -",{"$f":"'[6]2019'!P27","v":0},{"$f":"'[6]2019'!Q27","v":0},{"$f":"'[6]2019'!R27","v":0}," -"," -",864433,292756,0,0.33866823686740327," -","16. Paz, justicia e instituciones sólidas","Fortalecimiento insitucional",{"$f":"'[1]LÍNEA 1'!AQ152","v":"Sec. Planeación"}]
[null,null,null,null,null,null,null,null,null,null,null,null,null,null,null,null,null,null,null,null,null,null,null,null,null,null,null,null,null,null,null,null,null,null,null,null,null,null,null,null,null,null,"Realizar visita de control de obra al 100% de las obras sin licencia.",{"$f":"'[1]LÍNEA 1'!P153","v":"2210987\r2210158"},"Porcentaje de obras sin licencia con visita de control de obra.",0.7,{"$f":"'[1]LÍNEA 1'!S153","v":1},{"$f":"'[1]LÍNEA 1'!T153","v":1},0.25,{"$f":"'[1]LÍNEA 1'!U153","v":1},0.25,{"$f":"'[1]LÍNEA 1'!V153","v":1},0.25,{"$f":"'[1]LÍNEA 1'!W153","v":1},0.25,{"$f":"'[6]2016'!K28","v":0.9},{"$f":"'[6]2017'!K28","v":0.93},{"$f":"'[6]2018'!K28","v":0.5},{"$f":"'[6]2019'!K28","v":0},0.9,0.9,0.93,0.93,0.5,0.5,0,0,0.58250000000000002,0.58250000000000002,0.58250000000000002,{"$f":"'[6]2016'!P28","v":740333},{"$f":"'[6]2016'!Q28","v":222835},{"$f":"'[6]2016'!R28","v":0},0.30099293155917672," -",{"$f":"'[6]2017'!P28","v":462325},{"$f":"'[6]2017'!Q28","v":442180},{"$f":"'[6]2017'!R28","v":0},0.95642675606986427," -",{"$f":"'[6]2018'!P28","v":124000},{"$f":"'[6]2018'!Q28","v":69921},{"$f":"'[6]2018'!R28","v":0},0.56387903225806446," -",{"$f":"'[6]2019'!P28","v":0},{"$f":"'[6]2019'!Q28","v":0},{"$f":"'[6]2019'!R28","v":0}," -"," -",1326658,734936,0,0.55397547823176729," -","16. Paz, justicia e instituciones sólidas","Fortalecimiento insitucional",{"$f":"'[1]LÍNEA 1'!AQ153","v":"Sec. Planeación"}]
[null,null,null,null,null,null,null,null,null,null,null,null,null,null,null,null,null,null,null,null,null,null,null,null,null,null,null,null,null,null,null,null,null,null,null,null,null,null,null,null,null,null,"Realizar visita de control de obra al 100% de las obras que presenten queja o solicitud.",{"$f":"'[1]LÍNEA 1'!P154","v":"2210987\r2210158"},"Porcentaje de obras con visita de control de obra por queja o solicitud.",0.7,{"$f":"'[1]LÍNEA 1'!S154","v":1},{"$f":"'[1]LÍNEA 1'!T154","v":1},0.25,{"$f":"'[1]LÍNEA 1'!U154","v":1},0.25,{"$f":"'[1]LÍNEA 1'!V154","v":1},0.25,{"$f":"'[1]LÍNEA 1'!W154","v":1},0.25,{"$f":"'[6]2016'!K29","v":0.95},{"$f":"'[6]2017'!K29","v":0.93},{"$f":"'[6]2018'!K29","v":0.78},{"$f":"'[6]2019'!K29","v":0},0.95,0.95,0.93,0.93,0.78,0.78,0,0,0.66500000000000004,0.66500000000000004,0.66500000000000004,{"$f":"'[6]2016'!P29","v":740333},{"$f":"'[6]2016'!Q29","v":222835},{"$f":"'[6]2016'!R29","v":0},0.30099293155917672," -",{"$f":"'[6]2017'!P29","v":462325},{"$f":"'[6]2017'!Q29","v":442180},{"$f":"'[6]2017'!R29","v":0},0.95642675606986427," -",{"$f":"'[6]2018'!P29","v":124000},{"$f":"'[6]2018'!Q29","v":69921},{"$f":"'[6]2018'!R29","v":0},0.56387903225806446," -",{"$f":"'[6]2019'!P29","v":0},{"$f":"'[6]2019'!Q29","v":0},{"$f":"'[6]2019'!R29","v":0}," -"," -",1326658,734936,0,0.55397547823176729," -","16. Paz, justicia e instituciones sólidas","Fortalecimiento insitucional",{"$f":"'[1]LÍNEA 1'!AQ154","v":"Sec. Planeación"}]
[null,null,null,null,null,null,null,null,null,null,null,null,null,null,null,null,null,null,null,null,null,null,null,null,null,null,null,null,null,null,null,null,null,null,null,null,null,null,null,null,null,null,"Elaborar 1 documento guía para la aplicación de los elementos relevantes del POT.",{"$f":"'[1]LÍNEA 1'!P155","v":2210906},"Número de documentos guías elaborados para la aplicación de los elementos relevantes del POT.",0,{"$f":"'[1]LÍNEA 1'!S155","v":1},{"$f":"'[1]LÍNEA 1'!T155","v":0},0,{"$f":"'[1]LÍNEA 1'!U155","v":1},1,{"$f":"'[1]LÍNEA 1'!V155","v":0},0,{"$f":"'[1]LÍNEA 1'!W155","v":0},0,{"$f":"'[6]2016'!K30","v":0},{"$f":"'[6]2017'!K30","v":1},{"$f":"'[6]2018'!K30","v":0},{"$f":"'[6]2019'!K30","v":0}," -"," -",1,1," -"," -"," -"," -",{"$f":"+SUM(BD155:BG155)/AU155","v":1},1,1,{"$f":"'[6]2016'!P30","v":0},{"$f":"'[6]2016'!Q30","v":0},{"$f":"'[6]2016'!R30","v":0}," -"," -",{"$f":"'[6]2017'!P30","v":0},{"$f":"'[6]2017'!Q30","v":0},{"$f":"'[6]2017'!R30","v":0}," -"," -",{"$f":"'[6]2018'!P30","v":0},{"$f":"'[6]2018'!Q30","v":0},{"$f":"'[6]2018'!R30","v":0}," -"," -",{"$f":"'[6]2019'!P30","v":0},{"$f":"'[6]2019'!Q30","v":0},{"$f":"'[6]2019'!R30","v":0}," -"," -",0,0,0," -"," -","16. Paz, justicia e instituciones sólidas","Promoción del Desarrollo",{"$f":"'[1]LÍNEA 1'!AQ155","v":"Sec. Planeación"}]
[null,null,null,null,null,null,null,null,null,null,null,null,null,null,null,null,null,null,null,null,null,null,null,null,null,null,null,null,null,null,null,null,null,null,null,null,null,null,null,null,null,null,"Desarrollar el plug-in para el POT on-line.",{"$f":"'[1]LÍNEA 1'!P156","v":2210158},"Número de plugs-in para el POT on-line desarrollados.",0,{"$f":"'[1]LÍNEA 1'!S156","v":1},{"$f":"'[1]LÍNEA 1'!T156","v":1},1,{"$f":"'[1]LÍNEA 1'!U156","v":0},0,{"$f":"'[1]LÍNEA 1'!V156","v":0},0,{"$f":"'[1]LÍNEA 1'!W156","v":0},0,{"$f":"'[6]2016'!K31","v":1},{"$f":"'[6]2017'!K31","v":1},{"$f":"'[6]2018'!K31","v":0},{"$f":"'[6]2019'!K31","v":0},1,1," -"," -"," -"," -"," -"," -",2,1,1,{"$f":"'[6]2016'!P31","v":0},{"$f":"'[6]2016'!Q31","v":0},{"$f":"'[6]2016'!R31","v":0}," -"," -",{"$f":"'[6]2017'!P31","v":44000},{"$f":"'[6]2017'!Q31","v":44000},{"$f":"'[6]2017'!R31","v":0},1," -",{"$f":"'[6]2018'!P31","v":0},{"$f":"'[6]2018'!Q31","v":0},{"$f":"'[6]2018'!R31","v":0}," -"," -",{"$f":"'[6]2019'!P31","v":0},{"$f":"'[6]2019'!Q31","v":0},{"$f":"'[6]2019'!R31","v":0}," -"," -",44000,44000,0,1," -","16. Paz, justicia e instituciones sólidas","Promoción del Desarrollo",{"$f":"'[1]LÍNEA 1'!AQ156","v":"Sec. Planeación"}]
[null,null,null,null,null,null,null,null,null,null,null,null,null,null,null,null,null,null,null,null,null,null,null,null,null,null,null,null,null,null,null,null,null,null,null,null,null,null,null,null,null,null,"Realizar 1 estudio para aplicar la plusvalía en el municipio.",{"$f":"'[1]LÍNEA 1'!P157","v":2210158},"Porcentaje de avance en la realización del estudio para aplicar la plusvalía en el municipio.",0,{"$f":"'[1]LÍNEA 1'!S157","v":1},{"$f":"'[1]LÍNEA 1'!T157","v":0},0,{"$f":"'[1]LÍNEA 1'!U157","v":1},1,{"$f":"'[1]LÍNEA 1'!V157","v":0},0,{"$f":"'[1]LÍNEA 1'!W157","v":0},0,{"$f":"'[6]2016'!K32","v":0},{"$f":"'[6]2017'!K32","v":0.8},{"$f":"'[6]2018'!K32","v":0.05},{"$f":"'[6]2019'!K32","v":0}," -"," -",0.8,0.8," -"," -"," -"," -",0.85000000000000009,0.85000000000000009,0.85000000000000009,{"$f":"'[6]2016'!P32","v":0},{"$f":"'[6]2016'!Q32","v":0},{"$f":"'[6]2016'!R32","v":0}," -"," -",{"$f":"'[6]2017'!P32","v":62000},{"$f":"'[6]2017'!Q32","v":61999},{"$f":"'[6]2017'!R32","v":0},0.99998387096774188," -",{"$f":"'[6]2018'!P32","v":0},{"$f":"'[6]2018'!Q32","v":0},{"$f":"'[6]2018'!R32","v":0}," -"," -",{"$f":"'[6]2019'!P32","v":0},{"$f":"'[6]2019'!Q32","v":0},{"$f":"'[6]2019'!R32","v":0}," -"," -",62000,61999,0,0.99998387096774188," -","16. Paz, justicia e instituciones sólidas","Promoción del Desarrollo",{"$f":"'[1]LÍNEA 1'!AQ157","v":"Sec. Planeación"}]
[null,null,null,null,null,"Lograr 10.000 M2 de espacio público efectivo por aportes de deberes urbanísticos.",0,10000,{"$f":"+H158-G158","v":10000},2500,{"$f":"+J158-G158","v":2500},null,5000,{"$f":"+M158-J158","v":2500},null,7500,{"$f":"+P158-M158","v":2500},null,10000,{"$f":"+S158-P158","v":2500},null,8510,{"$f":"+IF(V158=0,0,V158-G158)","v":8510},null,{"$f":"+IF(X158=0,0,X158-V158)","v":0},null,{"$f":"+IF(Z158=0,0,Z158-X158)","v":0},null,{"$f":"+IF(AB158=0,0,AB158-Z158)","v":0},{"$f":"+IF(K158=0,\" -\",W158/K158)","v":3.4039999999999999},{"$f":"+IF(K158=0,\" -\",IF(AD158>100%,100%,AD158))","v":1},{"$f":"+IF(N158=0,\" -\",Y158/N158)","v":0},{"$f":"+IF(N158=0,\" -\",IF(AF158>100%,100%,AF158))","v":0},{"$f":"+IF(Q158=0,\" -\",AA158/Q158)","v":0},{"$f":"+IF(Q158=0,\" -\",IF(AH158>100%,100%,AH158))","v":0},{"$f":"+IF(T158=0,\" -\",AC158/T158)","v":0},{"$f":"+IF(T158=0,\" -\",IF(AJ158>100%,100%,AJ158))","v":0},{"$f":"+SUM(AC158,AA158,Y158,W158)/I158","v":0.85099999999999998},{"$f":"+IF(AL158>100%,100%,IF(AL158<0%,0%,AL158))","v":0.85099999999999998},null,null,null,"Realizar 1 estudios de estructuración zonal.",{"$f":"'[1]LÍNEA 1'!P158","v":2210158},"Porcentaje de avance en la realización del estudio de estructuración zonal.",0,{"$f":"'[1]LÍNEA 1'!S158","v":1},{"$f":"'[1]LÍNEA 1'!T158","v":0},0,{"$f":"'[1]LÍNEA 1'!U158","v":0.6},0.6,{"$f":"'[1]LÍNEA 1'!V158","v":0.4},0.4,{"$f":"'[1]LÍNEA 1'!W158","v":0},0,{"$f":"'[6]2016'!K33","v":0},{"$f":"'[6]2017'!K33","v":0.6},{"$f":"'[6]2018'!K33","v":0.3},{"$f":"'[6]2019'!K33","v":0}," -"," -",1,1,0.74999999999999989,0.74999999999999989," -"," -",0.89999999999999991,0.89999999999999991,0.89999999999999991,{"$f":"'[6]2016'!P33","v":0},{"$f":"'[6]2016'!Q33","v":0},{"$f":"'[6]2016'!R33","v":0}," -"," -",{"$f":"'[6]2017'!P33","v":0},{"$f":"'[6]2017'!Q33","v":0},{"$f":"'[6]2017'!R33","v":0}," -"," -",{"$f":"'[6]2018'!P33","v":0},{"$f":"'[6]2018'!Q33","v":0},{"$f":"'[6]2018'!R33","v":0}," -"," -",{"$f":"'[6]2019'!P33","v":0},{"$f":"'[6]2019'!Q33","v":0},{"$f":"'[6]2019'!R33","v":0}," -"," -",0,0,0," -"," -","16. Paz, justicia e instituciones sólidas","Promoción del Desarrollo",{"$f":"'[1]LÍNEA 1'!AQ158","v":"Sec. Planeación"}]
[null,null,null,null,null,null,null,null,null,null,null,null,null,null,null,null,null,null,null,null,null,null,null,null,null,null,null,null,null,null,null,null,null,null,null,null,null,null,null,null,null,null,"Mantener actualizado el expediente municipal.",{"$f":"'[1]LÍNEA 1'!P159","v":2210158},"Número de expedientes municipales actualizados.",1,{"$f":"'[1]LÍNEA 1'!S159","v":1},{"$f":"'[1]LÍNEA 1'!T159","v":1},0.25,{"$f":"'[1]LÍNEA 1'!U159","v":1},0.25,{"$f":"'[1]LÍNEA 1'!V159","v":1},0.25,{"$f":"'[1]LÍNEA 1'!W159","v":1},0.25,{"$f":"'[6]2016'!K34","v":1},{"$f":"'[6]2017'!K34","v":1},{"$f":"'[6]2018'!K34","v":1},{"$f":"'[6]2019'!K34","v":0},1,1,1,1,1,1,0,0,0.75,0.75,0.75,{"$f":"'[6]2016'!P34","v":32500},{"$f":"'[6]2016'!Q34","v":32500},{"$f":"'[6]2016'!R34","v":0},1," -",{"$f":"'[6]2017'!P34","v":241000},{"$f":"'[6]2017'!Q34","v":241000},{"$f":"'[6]2017'!R34","v":0},1," -",{"$f":"'[6]2018'!P34","v":304500},{"$f":"'[6]2018'!Q34","v":162000},{"$f":"'[6]2018'!R34","v":0},0.53201970443349755," -",{"$f":"'[6]2019'!P34","v":0},{"$f":"'[6]2019'!Q34","v":0},{"$f":"'[6]2019'!R34","v":0}," -"," -",578000,435500,0,0.7534602076124568," -","16. Paz, justicia e instituciones sólidas","Promoción del Desarrollo",{"$f":"'[1]LÍNEA 1'!AQ159","v":"Sec. Planeación"}]
[null,null,null,null,null,null,null,null,null,null,null,null,null,null,null,null,null,null,null,null,null,null,null,null,null,null,null,null,null,null,null,null,null,null,null,null,null,null,null,null,null,null,"Actualizar la lista indicativa de Bienes de Interés Cultural - BIC.",{"$f":"'[1]LÍNEA 1'!P160","v":" -"},"Número de listas indicativas de bienes de interés cultural actualizadas.",1,{"$f":"'[1]LÍNEA 1'!S160","v":1},{"$f":"'[1]LÍNEA 1'!T160","v":0},0,{"$f":"'[1]LÍNEA 1'!U160","v":0},0,{"$f":"'[1]LÍNEA 1'!V160","v":0},0,{"$f":"'[1]LÍNEA 1'!W160","v":1},1,{"$f":"'[6]2016'!K35","v":0},{"$f":"'[6]2017'!K35","v":0},{"$f":"'[6]2018'!K35","v":0},{"$f":"'[6]2019'!K35","v":0}," -"," -"," -"," -"," -"," -",0,0,{"$f":"+SUM(BD160:BG160)/AU160","v":0},0,0,{"$f":"'[6]2016'!P35","v":0},{"$f":"'[6]2016'!Q35","v":0},{"$f":"'[6]2016'!R35","v":0}," -"," -",{"$f":"'[6]2017'!P35","v":0},{"$f":"'[6]2017'!Q35","v":0},{"$f":"'[6]2017'!R35","v":0}," -"," -",{"$f":"'[6]2018'!P35","v":0},{"$f":"'[6]2018'!Q35","v":0},{"$f":"'[6]2018'!R35","v":0}," -"," -",{"$f":"'[6]2019'!P35","v":0},{"$f":"'[6]2019'!Q35","v":0},{"$f":"'[6]2019'!R35","v":0}," -"," -",0,0,0," -"," -","16. Paz, justicia e instituciones sólidas","Promoción del Desarrollo",{"$f":"'[1]LÍNEA 1'!AQ160","v":"Sec. Planeación"}]
[null,null,null,null,null,null,null,null,null,null,null,null,null,null,null,null,null,null,null,null,null,null,null,null,null,null,null,null,null,null,null,null,null,null,null,null,null,null,null,null,{"$f":"+RESUMEN!J34","v":0.54166666666666663},"DISEÑO URBANO INTELIGENTE Y SUSTENTABLE","Conformar y mantener el equipo de diseño del taller de arquitectura.",{"$f":"'[1]LÍNEA 1'!P161","v":2210269},"Número de equipos de diseño del taller de arquitectura conformados y mantenidos.",0,{"$f":"'[1]LÍNEA 1'!S161","v":1},{"$f":"'[1]LÍNEA 1'!T161","v":1},0.25,{"$f":"'[1]LÍNEA 1'!U161","v":1},0.25,{"$f":"'[1]LÍNEA 1'!V161","v":1},0.25,{"$f":"'[1]LÍNEA 1'!W161","v":1},0.25,{"$f":"'[6]2016'!K36","v":1},{"$f":"'[7]2017'!K18","v":1},{"$f":"'[7]2018'!K18","v":1},{"$f":"'[7]2019'!K18","v":0},1,1,1,1,1,1,0,0,0.75,0.75,0.75,{"$f":"'[6]2016'!P36","v":1000000},{"$f":"'[6]2016'!Q36","v":241300},{"$f":"'[6]2016'!R36","v":0},0.24129999999999999," -",{"$f":"'[7]2017'!P18","v":700156},{"$f":"'[7]2017'!Q18","v":670807},{"$f":"'[7]2017'!R18","v":0},0.95808219882426204," -",{"$f":"'[7]2018'!P18","v":461880},{"$f":"'[7]2018'!Q18","v":461880},{"$f":"'[7]2018'!R18","v":0},1," -",{"$f":"'[7]2019'!P18","v":400000},{"$f":"'[7]2019'!Q18","v":0},{"$f":"'[7]2019'!R18","v":0},0," -",2562036,1373987,0,0.53628715599624677," -","16. Paz, justicia e instituciones sólidas","Promoción del Desarrollo",{"$f":"'[1]LÍNEA 1'!AQ161","v":"Sec. Infraestructura"}]
[null,null,null,null,null,null,null,null,null,null,null,null,null,null,null,null,null,null,null,null,null,null,null,null,null,null,null,null,null,null,null,null,null,null,null,null,null,null,null,null,null,null,"Realizar 150 propuestas para proyectos básicos que contengan los lineamientos de diseño urbano.",{"$f":"'[1]LÍNEA 1'!P162","v":2210905},"Número de propuestas para proyectos básicos realizados que contengan los lineamientos de diseño urbano.",0,{"$f":"'[1]LÍNEA 1'!S162","v":150},{"$f":"'[1]LÍNEA 1'!T162","v":15},0.1,{"$f":"'[1]LÍNEA 1'!U162","v":60},0.4,{"$f":"'[1]LÍNEA 1'!V162","v":50},0.33333333333333331,{"$f":"'[1]LÍNEA 1'!W162","v":25},0.16666666666666666,{"$f":"'[6]2016'!K37","v":15},{"$f":"'[7]2017'!K19","v":35},{"$f":"'[7]2018'!K19","v":0},{"$f":"'[7]2019'!K19","v":0},1,1,0.58333333333333337,0.58333333333333337,0,0,0,0,{"$f":"+SUM(BD162:BG162)/AU162","v":0.33333333333333331},0.33333333333333331,0.33333333333333331,{"$f":"'[6]2016'!P37","v":0},{"$f":"'[6]2016'!Q37","v":0},{"$f":"'[6]2016'!R37","v":0}," -"," -",{"$f":"'[7]2017'!P19","v":0},{"$f":"'[7]2017'!Q19","v":0},{"$f":"'[7]2017'!R19","v":0}," -"," -",{"$f":"'[7]2018'!P19","v":200000},{"$f":"'[7]2018'!Q19","v":0},{"$f":"'[7]2018'!R19","v":0},0," -",{"$f":"'[7]2019'!P19","v":0},{"$f":"'[7]2019'!Q19","v":0},{"$f":"'[7]2019'!R19","v":0}," -"," -",200000,0,0,0," -","11. Ciudades y comunidades sostenibles","Promoción del Desarrollo",{"$f":"'[1]LÍNEA 1'!AQ162","v":"Sec. Infraestructura"}]
[null,null,null,null,null,null,null,null,null,null,null,null,null,null,null,null,null,null,null,null,null,null,null,null,null,null,null,null,null,null,null,null,null,null,null,null,null,null,null,null,{"$f":"+RESUMEN!J35","v":0.76249999999999996},"UNA CIUDAD QUE HACE Y EJECUTA PLANES","Estructurar 1 Plan Integral Zonal - PIZ.",{"$f":"'[1]LÍNEA 1'!P163","v":2210158},"Porcentaje de avance de la estructuración del Plan Integral Zonal - PIZ.",0,{"$f":"'[1]LÍNEA 1'!S163","v":1},{"$f":"'[1]LÍNEA 1'!T163","v":0},0,{"$f":"'[1]LÍNEA 1'!U163","v":1},1,{"$f":"'[1]LÍNEA 1'!V163","v":0},0,{"$f":"'[1]LÍNEA 1'!W163","v":0},0,{"$f":"'[6]2016'!K38","v":0},{"$f":"'[6]2017'!K36","v":0.9},{"$f":"'[6]2018'!K36","v":0.1},{"$f":"'[6]2019'!K36","v":0}," -"," -",0.9,0.9," -"," -"," -"," -",1,1,1,{"$f":"'[6]2016'!P38","v":0},{"$f":"'[6]2016'!Q38","v":0},{"$f":"'[6]2016'!R38","v":0}," -"," -",{"$f":"'[6]2017'!P36","v":1035842},{"$f":"'[6]2017'!Q36","v":1035842},{"$f":"'[6]2017'!R36","v":259672},1,0.25068688081773088,{"$f":"'[6]2018'!P36","v":0},{"$f":"'[6]2018'!Q36","v":0},{"$f":"'[6]2018'!R36","v":0}," -"," -",{"$f":"'[6]2019'!P36","v":0},{"$f":"'[6]2019'!Q36","v":0},{"$f":"'[6]2019'!R36","v":0}," -"," -",1035842,1035842,259672,1,0.25068688081773088,"11. Ciudades y comunidades sostenibles","Promoción del Desarrollo",{"$f":"'[1]LÍNEA 1'!AQ163","v":"Sec. Planeación"}]
[null,null,null,null,null,"Lograr la evaluación del 100% del modelo territorial planteado en el Plan de Ordenamiento Territorial - POT.",0.3,1,{"$f":"+H164-G164","v":0.7},0.3,{"$f":"+J164-G164","v":0},null,0.6,{"$f":"+M164-J164","v":0.3},null,0.9,{"$f":"+P164-M164","v":0.30000000000000004},null,1,{"$f":"+S164-P164","v":9.9999999999999978E-2},null,0.9,{"$f":"+IF(V164=0,0,V164-G164)","v":0.60000000000000009},null,{"$f":"+IF(X164=0,0,X164-V164)","v":0},null,{"$f":"+IF(Z164=0,0,Z164-X164)","v":0},null,{"$f":"+IF(AB164=0,0,AB164-Z164)","v":0},{"$f":"+IF(K164=0,\" -\",W164/K164)","v":" -"},{"$f":"+IF(K164=0,\" -\",IF(AD164>100%,100%,AD164))","v":" -"},{"$f":"+IF(N164=0,\" -\",Y164/N164)","v":0},{"$f":"+IF(N164=0,\" -\",IF(AF164>100%,100%,AF164))","v":0},{"$f":"+IF(Q164=0,\" -\",AA164/Q164)","v":0},{"$f":"+IF(Q164=0,\" -\",IF(AH164>100%,100%,AH164))","v":0},{"$f":"+IF(T164=0,\" -\",AC164/T164)","v":0},{"$f":"+IF(T164=0,\" -\",IF(AJ164>100%,100%,AJ164))","v":0},{"$f":"+SUM(AC164,AA164,Y164,W164)/I164","v":0.85714285714285732},{"$f":"+IF(AL164>100%,100%,IF(AL164<0%,0%,AL164))","v":0.85714285714285732},null,null,null,"Ejecutar 1 Plan Integral Zonal.",{"$f":"'[1]LÍNEA 1'!P164","v":2210158},"Porcentaje de avance en la ejecución del Plan Integral Zonal - PIZ.",0,{"$f":"'[1]LÍNEA 1'!S164","v":1},{"$f":"'[1]LÍNEA 1'!T164","v":0},0,{"$f":"'[1]LÍNEA 1'!U164","v":0},0,{"$f":"'[1]LÍNEA 1'!V164","v":0.25},0.25,{"$f":"'[1]LÍNEA 1'!W164","v":0.75},0.75,{"$f":"'[6]2016'!K39","v":0},{"$f":"'[6]2017'!K37","v":0},{"$f":"'[6]2018'!K37","v":0},{"$f":"'[6]2019'!K37","v":0}," -"," -"," -"," -",0,0,0,0,0,0,0,{"$f":"'[6]2016'!P39","v":0},{"$f":"'[6]2016'!Q39","v":0},{"$f":"'[6]2016'!R39","v":0}," -"," -",{"$f":"'[6]2017'!P37","v":0},{"$f":"'[6]2017'!Q37","v":0},{"$f":"'[6]2017'!R37","v":0}," -"," -",{"$f":"'[6]2018'!P37","v":0},{"$f":"'[6]2018'!Q37","v":0},{"$f":"'[6]2018'!R37","v":0}," -"," -",{"$f":"'[6]2019'!P37","v":100000},{"$f":"'[6]2019'!Q37","v":0},{"$f":"'[6]2019'!R37","v":0},0," -",100000,0,0,0," -","11. Ciudades y comunidades sostenibles","Promoción del Desarrollo",{"$f":"'[1]LÍNEA 1'!AQ164","v":"Sec. Planeación"}]
[null,null,null,null,null,null,null,null,null,null,null,null,null,null,null,null,null,null,null,null,null,null,null,null,null,null,null,null,null,null,null,null,null,null,null,null,null,null,null,null,null,null,"Realizar 1 estudio que contenga los lineamientos y directrices generales del gran bosque de los cerros orientales de escala metropolitana.",{"$f":"'[1]LÍNEA 1'!P165","v":2210270},"Porcentaje de avance de la realización del estudio que contenga los lineamientos y directrices generales del gran bosque de los cerros orientales de escala metropolitana.",0,{"$f":"'[1]LÍNEA 1'!S165","v":1},{"$f":"'[1]LÍNEA 1'!T165","v":0},0,{"$f":"'[1]LÍNEA 1'!U165","v":1},1,{"$f":"'[1]LÍNEA 1'!V165","v":0},0,{"$f":"'[1]LÍNEA 1'!W165","v":0},0,{"$f":"'[6]2016'!$K$40","v":0},{"$f":"'[7]2017'!$K$20","v":1},{"$f":"'[7]2018'!$K$20","v":0},{"$f":"'[7]2019'!$K$20","v":0}," -"," -",1,1," -"," -"," -"," -",1,1,1,{"$f":"'[6]2016'!P40","v":0},{"$f":"'[6]2016'!Q40","v":0},{"$f":"'[6]2016'!R40","v":0}," -"," -",{"$f":"'[7]2017'!P20","v":0},{"$f":"'[7]2017'!Q20","v":0},{"$f":"'[7]2017'!R20","v":0}," -"," -",{"$f":"'[7]2018'!P20","v":0},{"$f":"'[7]2018'!Q20","v":0},{"$f":"'[7]2018'!R20","v":0}," -"," -",{"$f":"'[7]2019'!P20","v":0},{"$f":"'[7]2019'!Q20","v":0},{"$f":"'[7]2019'!R20","v":0}," -"," -",0,0,0," -"," -","11. Ciudades y comunidades sostenibles","Equipamiento",{"$f":"'[1]LÍNEA 1'!AQ165","v":"Sec. Infraestructura"}]
[null,null,null,null,null,null,null,null,null,null,null,null,null,null,null,null,null,null,null,null,null,null,null,null,null,null,null,null,null,null,null,null,null,null,null,null,null,null,null,null,null,null,"Formular el Plan Maestro de Espacio Público.",{"$f":"'[1]LÍNEA 1'!P166","v":2210158},"Porcentaje de avance de la formulación del Plan Maestro de Espacio Público.",0,{"$f":"'[1]LÍNEA 1'!S166","v":1},{"$f":"'[1]LÍNEA 1'!T166","v":0},0,{"$f":"'[1]LÍNEA 1'!U166","v":1},1,{"$f":"'[1]LÍNEA 1'!V166","v":0},0,{"$f":"'[1]LÍNEA 1'!W166","v":0},0,{"$f":"'[6]2016'!$K$41","v":0},{"$f":"'[6]2017'!$K$38","v":0.95},{"$f":"'[6]2018'!$K$38","v":0.05},{"$f":"'[6]2019'!$K$38","v":0}," -"," -",0.95,0.95," -"," -"," -"," -",1,1,1,{"$f":"'[6]2016'!P41","v":0},{"$f":"'[6]2016'!Q41","v":0},{"$f":"'[6]2016'!R41","v":0}," -"," -",{"$f":"'[6]2017'!P38","v":1014000},{"$f":"'[6]2017'!Q38","v":1014000},{"$f":"'[6]2017'!R38","v":243800},1,0.24043392504930966,{"$f":"'[6]2018'!P38","v":0},{"$f":"'[6]2018'!Q38","v":0},{"$f":"'[6]2018'!R38","v":0}," -"," -",{"$f":"'[6]2019'!P38","v":0},{"$f":"'[6]2019'!Q38","v":0},{"$f":"'[6]2019'!R38","v":0}," -"," -",1014000,1014000,243800,1,0.24043392504930966,"11. Ciudades y comunidades sostenibles","Promoción del Desarrollo",{"$f":"'[1]LÍNEA 1'!AQ166","v":"Sec. Planeación"}]
[null,null,null,null,null,null,null,null,null,null,null,null,null,null,null,null,null,null,null,null,null,null,null,null,null,null,null,null,null,null,null,null,null,null,null,null,null,null,null,null,null,null,"Realizar el 100% de los diseños, estudios, consultorías e interventorías para ejecutar los proyectos y las obras del Plan de Desarrollo 2016 - 2019 y otros planes de ciudad.",{"$f":"'[1]LÍNEA 1'!P167","v":2210271},"Porcentaje de diseños, estudios, consultorías e interventorias realizadas para para ejecutar los proyectos y las obras del Plan de Desarrollo 2016 - 2019 y otros planes de ciudad.",1,{"$f":"'[1]LÍNEA 1'!S167","v":1},{"$f":"'[1]LÍNEA 1'!T167","v":1},0.25,{"$f":"'[1]LÍNEA 1'!U167","v":1},0.25,{"$f":"'[1]LÍNEA 1'!V167","v":1},0.25,{"$f":"'[1]LÍNEA 1'!W167","v":1},0.25,{"$f":"'[7]2016'!$K$19","v":1},{"$f":"'[7]2017'!$K$21","v":1},{"$f":"'[7]2018'!$K$21","v":1},{"$f":"'[7]2019'!$K$21","v":0},1,1,1,1,1,1,0,0,0.75,0.75,0.75,{"$f":"'[7]2016'!P19","v":385956},{"$f":"'[7]2016'!Q19","v":302350},{"$f":"'[7]2016'!R19","v":0},0.7833794525800869," -",{"$f":"'[7]2017'!P21","v":3874264},{"$f":"'[7]2017'!Q21","v":3859550},{"$f":"'[7]2017'!R21","v":0},0.99620211735699993," -",{"$f":"'[7]2018'!P21","v":2839655},{"$f":"'[7]2018'!Q21","v":1242467},{"$f":"'[7]2018'!R21","v":0},0.43754153233403353," -",{"$f":"'[7]2019'!P21","v":0},{"$f":"'[7]2019'!Q21","v":0},{"$f":"'[7]2019'!R21","v":0}," -"," -",7099875,5404367,0,0.76119185196922479," -","16. Paz, justicia e instituciones sólidas","Promoción del Desarrollo",{"$f":"'[1]LÍNEA 1'!AQ167","v":"Sec. Infraestructura"}]
[null,null,null,null,null,null,null,null,null,null,null,null,null,null,null,null,null,null,null,null,null,null,null,null,null,null,null,null,null,null,null,null,null,null,null,null,null,null,null,null,null,null,"Ajustar el Plan Local de Seguridad Vial.",{"$f":"'[1]LÍNEA 1'!P168","v":" -"},"Número de ajustes al Plan Local de Seguridad Vial realizados.",1,{"$f":"'[1]LÍNEA 1'!S168","v":1},{"$f":"'[1]LÍNEA 1'!T168","v":1},1,{"$f":"'[1]LÍNEA 1'!U168","v":0},0,{"$f":"'[1]LÍNEA 1'!V168","v":0},0,{"$f":"'[1]LÍNEA 1'!W168","v":0},0,{"$f":"'[16]2016'!$K$14","v":1},{"$f":"'[16]2017'!$K$14","v":0},{"$f":"'[16]2018'!$K$14","v":"-"},{"$f":"'[16]2019'!$K$14","v":0},1,1," -"," -"," -"," -"," -"," -",{"$f":"+SUM(BD168:BG168)/AU168","v":1},1,1,{"$f":"'[16]2016'!P14","v":0},{"$f":"'[16]2016'!Q14","v":0},{"$f":"'[16]2016'!R14","v":0}," -"," -",{"$f":"'[16]2017'!P14","v":0},{"$f":"'[16]2017'!Q14","v":0},{"$f":"'[16]2017'!R14","v":0}," -"," -",{"$f":"'[16]2018'!P14","v":0},{"$f":"'[16]2018'!Q14","v":0},{"$f":"'[16]2018'!R14","v":0}," -"," -",{"$f":"'[16]2019'!P14","v":0},{"$f":"'[16]2019'!Q14","v":0},{"$f":"'[16]2019'!R14","v":0}," -"," -",0,0,0," -"," -","11. Ciudades y comunidades sostenibles","Promoción del Desarrollo",{"$f":"'[1]LÍNEA 1'!AQ168","v":"Dir. Tránsito"}]
[null,null,null,null,null,null,null,null,null,null,null,null,null,null,null,null,null,null,null,null,null,null,null,null,null,null,null,null,null,null,null,null,null,null,null,null,null,null,null,null,null,null,"Formular e implementar el Plan Estratégico de Seguridad Vial en METROLÍNEA.",{"$f":"'[1]LÍNEA 1'!P169","v":21032501},"Número de Planes Estratégicos de Seguridad Vial en METROLÍNEA formulados e implementados.",0.01,{"$f":"'[1]LÍNEA 1'!S169","v":1},{"$f":"'[1]LÍNEA 1'!T169","v":1},0.25,{"$f":"'[1]LÍNEA 1'!U169","v":1},0.25,{"$f":"'[1]LÍNEA 1'!V169","v":1},0.25,{"$f":"'[1]LÍNEA 1'!W169","v":1},0.25,{"$f":"'[21]2016'!$K$12","v":0.4},{"$f":"'[21]2017'!$K$12","v":1},{"$f":"'[21]2018'!$K$12","v":1},{"$f":"'[21]2019'!$K$12","v":0},0.4,0.4,1,1,1,1,0,0,0.6,0.6,0.6,{"$f":"'[21]2016'!P12","v":0},{"$f":"'[21]2016'!Q12","v":0},{"$f":"'[21]2016'!R12","v":0}," -"," -",{"$f":"'[21]2017'!P12","v":0},{"$f":"'[21]2017'!Q12","v":0},{"$f":"'[21]2017'!R12","v":0}," -"," -",{"$f":"'[21]2018'!P12","v":50000},{"$f":"'[21]2018'!Q12","v":0},{"$f":"'[21]2018'!R12","v":0},0," -",{"$f":"'[21]2019'!P12","v":50000},{"$f":"'[21]2019'!Q12","v":0},{"$f":"'[21]2019'!R12","v":0},0," -",100000,0,0,0," -","11. Ciudades y comunidades sostenibles","Transporte",{"$f":"'[1]LÍNEA 1'!AQ169","v":"METROLÍNEA"}]
[null,null,null,null,null,"Construir 20 obras de infraestructura de espacio público ideadas por el taller de arquitectura.",0,20,{"$f":"+H170-G170","v":20},2,{"$f":"+J170-G170","v":2},null,8,{"$f":"+M170-J170","v":6},null,14,{"$f":"+P170-M170","v":6},null,20,{"$f":"+S170-P170","v":6},null,3,{"$f":"+IF(V170=0,0,V170-G170)","v":3},null,{"$f":"+IF(X170=0,0,X170-V170)","v":0},null,{"$f":"+IF(Z170=0,0,Z170-X170)","v":0},null,{"$f":"+IF(AB170=0,0,AB170-Z170)","v":0},{"$f":"+IF(K170=0,\" -\",W170/K170)","v":1.5},{"$f":"+IF(K170=0,\" -\",IF(AD170>100%,100%,AD170))","v":1},{"$f":"+IF(N170=0,\" -\",Y170/N170)","v":0},{"$f":"+IF(N170=0,\" -\",IF(AF170>100%,100%,AF170))","v":0},{"$f":"+IF(Q170=0,\" -\",AA170/Q170)","v":0},{"$f":"+IF(Q170=0,\" -\",IF(AH170>100%,100%,AH170))","v":0},{"$f":"+IF(T170=0,\" -\",AC170/T170)","v":0},{"$f":"+IF(T170=0,\" -\",IF(AJ170>100%,100%,AJ170))","v":0},{"$f":"+SUM(AC170,AA170,Y170,W170)/I170","v":0.15},{"$f":"+IF(AL170>100%,100%,IF(AL170<0%,0%,AL170))","v":0.15},null,null,null,"Apoyar el proceso de formulación y ejecución del Plan Maestro Santander Life en coordinación con el Área Metropolitana de Bucaramanga.",{"$f":"'[1]LÍNEA 1'!P170","v":"0542900401"},"Número de Planes Maestros Santander Life apoyados en su proceso de formulación y ejecución  en coordinación con el Área Metropolitana de Bucaramanga.",0,{"$f":"'[1]LÍNEA 1'!S170","v":1},{"$f":"'[1]LÍNEA 1'!T170","v":1},0.25,{"$f":"'[1]LÍNEA 1'!U170","v":1},0.25,{"$f":"'[1]LÍNEA 1'!V170","v":1},0.25,{"$f":"'[1]LÍNEA 1'!W170","v":1},0.25,{"$f":"'[22]2016'!$K$12","v":1},{"$f":"'[22]2017'!$K$12","v":1},{"$f":"'[22]2018'!$K$12","v":1},{"$f":"'[22]2019'!$K$12","v":0},1,1,1,1,1,1,0,0,0.75,0.75,0.75,{"$f":"'[22]2016'!P12","v":0},{"$f":"'[22]2016'!Q12","v":0},{"$f":"'[22]2016'!R12","v":0}," -"," -",{"$f":"'[22]2017'!P12","v":0},{"$f":"'[22]2017'!Q12","v":0},{"$f":"'[22]2017'!R12","v":0}," -"," -",{"$f":"'[22]2018'!P12","v":0},{"$f":"'[22]2018'!Q12","v":0},{"$f":"'[22]2018'!R12","v":0}," -"," -",{"$f":"'[22]2019'!P12","v":0},{"$f":"'[22]2019'!Q12","v":0},{"$f":"'[22]2019'!R12","v":0}," -"," -",0,0,0," -"," -","11. Ciudades y comunidades sostenibles","Promoción del Desarrollo",{"$f":"'[1]LÍNEA 1'!AQ170","v":"IMEBU"}]
[null,null,null,null,null,null,null,null,null,null,null,null,null,null,null,null,null,null,null,null,null,null,null,null,null,null,null,null,null,null,null,null,null,null,null,null,null,null,null,null,{"$f":"+RESUMEN!J36","v":0.56000000000000005},"TERRITORIOS VULNERABLES, TERRITORIOS VISIBLES","Elaborar 1 documento guía que contenga la norma, lineamientos y procesos para la legalización de asentamientos.",{"$f":"'[1]LÍNEA 1'!P171","v":2210159},"Porcentaje de avance en la elaboración del documento guía que contenga la norma, lineamientos y procesos para la legalización de asentamientos.",0,{"$f":"'[1]LÍNEA 1'!S171","v":1},{"$f":"'[1]LÍNEA 1'!T171","v":0.1},0.1,{"$f":"'[1]LÍNEA 1'!U171","v":0.9},0.9,{"$f":"'[1]LÍNEA 1'!V171","v":0},0,{"$f":"'[1]LÍNEA 1'!W171","v":0},0,{"$f":"'[6]2016'!K42","v":0.15},{"$f":"'[6]2017'!K39","v":0.5},{"$f":"'[6]2018'!K39","v":0.15},{"$f":"'[6]2019'!K39","v":0},1.4999999999999998,1,0.55555555555555558,0.55555555555555558," -"," -"," -"," -",{"$f":"+SUM(BD171:BG171)/AU171","v":0.8},0.8,0.8,{"$f":"'[6]2016'!P42","v":36750},{"$f":"'[6]2016'!Q42","v":36750},{"$f":"'[6]2016'!R42","v":0},1," -",{"$f":"'[6]2017'!P39","v":0},{"$f":"'[6]2017'!Q39","v":0},{"$f":"'[6]2017'!R39","v":0}," -"," -",{"$f":"'[6]2018'!P39","v":93500},{"$f":"'[6]2018'!Q39","v":76200},{"$f":"'[6]2018'!R39","v":0},0.81497326203208553," -",{"$f":"'[6]2019'!P39","v":0},{"$f":"'[6]2019'!Q39","v":0},{"$f":"'[6]2019'!R39","v":0}," -"," -",130250,112950,0,0.86717850287907872," -","11. Ciudades y comunidades sostenibles","Promoción del Desarrollo",{"$f":"'[1]LÍNEA 1'!AQ171","v":"Sec. Planeación"}]
[null,null,null,null,null,null,null,null,null,null,null,null,null,null,null,null,null,null,null,null,null,null,null,null,null,null,null,null,null,null,null,null,null,null,null,null,null,null,null,null,null,null,"Elaborar 1 documento guía que contenga el proceso para obtener la titularidad del predio en barrios legalizados.",{"$f":"'[1]LÍNEA 1'!P172","v":2210159},"Porcentaje de avance en la elaboración del documento guía que contenga el proceso para obtener la titularidad del predio en barrios legalizados.",0,{"$f":"'[1]LÍNEA 1'!S172","v":1},{"$f":"'[1]LÍNEA 1'!T172","v":0.1},0.1,{"$f":"'[1]LÍNEA 1'!U172","v":0.9},0.9,{"$f":"'[1]LÍNEA 1'!V172","v":0},0,{"$f":"'[1]LÍNEA 1'!W172","v":0},0,{"$f":"'[6]2016'!K43","v":0.15},{"$f":"'[6]2017'!K40","v":0.5},{"$f":"'[6]2018'!K40","v":0.15},{"$f":"'[6]2019'!K40","v":0},1.4999999999999998,1,0.55555555555555558,0.55555555555555558," -"," -"," -"," -",0.8,0.8,0.8,{"$f":"'[6]2016'!P43","v":0},{"$f":"'[6]2016'!Q43","v":0},{"$f":"'[6]2016'!R43","v":0}," -"," -",{"$f":"'[6]2017'!P40","v":0},{"$f":"'[6]2017'!Q40","v":0},{"$f":"'[6]2017'!R40","v":0}," -"," -",{"$f":"'[6]2018'!P40","v":93500},{"$f":"'[6]2018'!Q40","v":76200},{"$f":"'[6]2018'!R40","v":0},0.81497326203208553," -",{"$f":"'[6]2019'!P40","v":0},{"$f":"'[6]2019'!Q40","v":0},{"$f":"'[6]2019'!R40","v":0}," -"," -",93500,76200,0,0.81497326203208553," -","11. Ciudades y comunidades sostenibles","Promoción del Desarrollo",{"$f":"'[1]LÍNEA 1'!AQ172","v":"Sec. Planeación"}]
[null,null,null,null,null,null,null,null,null,null,null,null,null,null,null,null,null,null,null,null,null,null,null,null,null,null,null,null,null,null,null,null,null,null,null,null,null,null,null,null,null,null,"Revisar y asignar las nomenclaturas de 10 barrios legalizados.",{"$f":"'[1]LÍNEA 1'!P173","v":2210159},"Número de barrios legalizados con la revisión y asignación de nomenclaturas.",0,{"$f":"'[1]LÍNEA 1'!S173","v":10},{"$f":"'[1]LÍNEA 1'!T173","v":1},0.1,{"$f":"'[1]LÍNEA 1'!U173","v":3},0.3,{"$f":"'[1]LÍNEA 1'!V173","v":4},0.4,{"$f":"'[1]LÍNEA 1'!W173","v":2},0.2,{"$f":"'[6]2016'!K44","v":0.5},{"$f":"'[6]2017'!K41","v":5},{"$f":"'[6]2018'!K41","v":2},{"$f":"'[6]2019'!K41","v":0},0.5,0.5,1.6666666666666667,1,0.5,0.5,0,0,0.75,0.75,0.75,{"$f":"'[6]2016'!P44","v":0},{"$f":"'[6]2016'!Q44","v":0},{"$f":"'[6]2016'!R44","v":0}," -"," -",{"$f":"'[6]2017'!P41","v":0},{"$f":"'[6]2017'!Q41","v":0},{"$f":"'[6]2017'!R41","v":0}," -"," -",{"$f":"'[6]2018'!P41","v":0},{"$f":"'[6]2018'!Q41","v":0},{"$f":"'[6]2018'!R41","v":0}," -"," -",{"$f":"'[6]2019'!P41","v":80000},{"$f":"'[6]2019'!Q41","v":0},{"$f":"'[6]2019'!R41","v":0},0," -",80000,0,0,0," -","11. Ciudades y comunidades sostenibles","Promoción del Desarrollo",{"$f":"'[1]LÍNEA 1'!AQ173","v":"Sec. Planeación"}]
[null,null,null,null,null,null,null,null,null,null,null,null,null,null,null,null,null,null,null,null,null,null,null,null,null,null,null,null,null,null,null,null,null,null,null,null,null,null,null,null,null,null,"Implementar y mantener 1 capítulo especial dentro del observatorio metropolitano para estudiar los territorios vulnerables y generar información sobre sus condiciones y problemáticas.",{"$f":"'[1]LÍNEA 1'!P174","v":" -"},"Número de capítulos especiales implementados y mantenidos dentro del observatorio metropolitano para estudiar los territorios vulnerables y generar información sobre sus condiciones y problemáticas.",0,{"$f":"'[1]LÍNEA 1'!S174","v":1},{"$f":"'[1]LÍNEA 1'!T174","v":0},0,{"$f":"'[1]LÍNEA 1'!U174","v":1},0.33,{"$f":"'[1]LÍNEA 1'!V174","v":1},0.33,{"$f":"'[1]LÍNEA 1'!W174","v":1},0.34,{"$f":"'[6]2016'!K45","v":0},{"$f":"'[6]2017'!K42","v":0},{"$f":"'[6]2018'!K42","v":0},{"$f":"'[6]2019'!K42","v":0}," -"," -",0,0,0,0,0,0,{"$f":"+AVERAGE(BE174:BG174)/AU174","v":0},0,0,{"$f":"'[6]2016'!P45","v":0},{"$f":"'[6]2016'!Q45","v":0},{"$f":"'[6]2016'!R45","v":0}," -"," -",{"$f":"'[6]2017'!P42","v":0},{"$f":"'[6]2017'!Q42","v":0},{"$f":"'[6]2017'!R42","v":0}," -"," -",{"$f":"'[6]2018'!P42","v":0},{"$f":"'[6]2018'!Q42","v":0},{"$f":"'[6]2018'!R42","v":0}," -"," -",{"$f":"'[6]2019'!P42","v":0},{"$f":"'[6]2019'!Q42","v":0},{"$f":"'[6]2019'!R42","v":0}," -"," -",0,0,0," -"," -","11. Ciudades y comunidades sostenibles","Atención a grupos vulnerables - Promoción Social",{"$f":"'[1]LÍNEA 1'!AQ174","v":"Sec. Planeación"}]
[null,null,null,null,null,null,null,null,null,null,null,null,null,null,null,null,null,null,null,null,null,null,null,null,null,null,null,null,null,null,null,null,null,null,null,null,null,null,null,null,null,null,"Realizar 20 audiencias con representantes de las fuerzas vivas de la ciudad, la comunidad afectada y los medios de comunicación para dar a conocer y discutir la realidad de los territorios vulnerables.",{"$f":"'[1]LÍNEA 1'!P175","v":" -"},"Número de audiencias realizadas con representantes de las fuerzas vivas de la ciudad, la comunidad afectada y los medios de comunicación para dar a conocer y discutir la realidad de los territorios vulnerables.",0,{"$f":"'[1]LÍNEA 1'!S175","v":20},{"$f":"'[1]LÍNEA 1'!T175","v":0},0,{"$f":"'[1]LÍNEA 1'!U175","v":7},0.35,{"$f":"'[1]LÍNEA 1'!V175","v":7},0.35,{"$f":"'[1]LÍNEA 1'!W175","v":6},0.3,{"$f":"'[6]2016'!K46","v":0},{"$f":"'[6]2017'!K43","v":8},{"$f":"'[6]2018'!K43","v":1},{"$f":"'[6]2019'!K43","v":0}," -"," -",1.1428571428571428,1,0.14285714285714285,0.14285714285714285,0,0,{"$f":"+SUM(BD175:BG175)/AU175","v":0.45},0.45,0.45,{"$f":"'[6]2016'!P46","v":0},{"$f":"'[6]2016'!Q46","v":0},{"$f":"'[6]2016'!R46","v":0}," -"," -",{"$f":"'[6]2017'!P43","v":0},{"$f":"'[6]2017'!Q43","v":0},{"$f":"'[6]2017'!R43","v":0}," -"," -",{"$f":"'[6]2018'!P43","v":0},{"$f":"'[6]2018'!Q43","v":0},{"$f":"'[6]2018'!R43","v":0}," -"," -",{"$f":"'[6]2019'!P43","v":0},{"$f":"'[6]2019'!Q43","v":0},{"$f":"'[6]2019'!R43","v":0}," -"," -",0,0,0," -"," -","16. Paz, justicia e instituciones sólidas","Atención a grupos vulnerables - Promoción Social",{"$f":"'[1]LÍNEA 1'!AQ175","v":"Sec. Planeación"}]
[null,null,null,null,null,"Construir 10 obras o proyectos de infraestructura pública en territorios limítrofes concertados con el Área.",0,10,{"$f":"+H176-G176","v":10},1,{"$f":"+J176-G176","v":1},null,4,{"$f":"+M176-J176","v":3},null,7,{"$f":"+P176-M176","v":3},null,10,{"$f":"+S176-P176","v":3},null,0,{"$f":"+IF(V176=0,0,V176-G176)","v":0},null,{"$f":"+IF(X176=0,0,X176-V176)","v":0},null,{"$f":"+IF(Z176=0,0,Z176-X176)","v":0},null,{"$f":"+IF(AB176=0,0,AB176-Z176)","v":0},{"$f":"+IF(K176=0,\" -\",W176/K176)","v":0},{"$f":"+IF(K176=0,\" -\",IF(AD176>100%,100%,AD176))","v":0},{"$f":"+IF(N176=0,\" -\",Y176/N176)","v":0},{"$f":"+IF(N176=0,\" -\",IF(AF176>100%,100%,AF176))","v":0},{"$f":"+IF(Q176=0,\" -\",AA176/Q176)","v":0},{"$f":"+IF(Q176=0,\" -\",IF(AH176>100%,100%,AH176))","v":0},{"$f":"+IF(T176=0,\" -\",AC176/T176)","v":0},{"$f":"+IF(T176=0,\" -\",IF(AJ176>100%,100%,AJ176))","v":0},{"$f":"+SUM(AC176,AA176,Y176,W176)/I176","v":0},{"$f":"+IF(AL176>100%,100%,IF(AL176<0%,0%,AL176))","v":0},null,{"$f":"+RESUMEN!J37","v":0.39722222222222214},"TERRITORIOS METROPOLITANOS, PLANES CONJUNTOS","Realizar el Plan Maestro Conjunto para el desarrollo del Valle del Río de Oro en coordinación con el Área Metropolitana de Bucaramanga y el municipio de Girón.",{"$f":"'[1]LÍNEA 1'!P176","v":" -"},"Número de Planes Maestros Conjuntos realizados para el desarrollo del Valle del Río de Oro en coordinación con el Área Metropolitana de Bucaramanga y el municipio de Girón.",0,{"$f":"'[1]LÍNEA 1'!S176","v":1},{"$f":"'[1]LÍNEA 1'!T176","v":0},0,{"$f":"'[1]LÍNEA 1'!U176","v":0},0,{"$f":"'[1]LÍNEA 1'!V176","v":0},0,{"$f":"'[1]LÍNEA 1'!W176","v":1},1,{"$f":"'[6]2016'!K47","v":0},{"$f":"'[6]2017'!K44","v":0},{"$f":"'[6]2018'!K44","v":0},{"$f":"'[6]2019'!K44","v":0}," -"," -"," -"," -"," -"," -",0,0,0,0,0,{"$f":"'[6]2016'!P47","v":0},{"$f":"'[6]2016'!Q47","v":0},{"$f":"'[6]2016'!R47","v":0}," -"," -",{"$f":"'[6]2017'!P44","v":0},{"$f":"'[6]2017'!Q44","v":0},{"$f":"'[6]2017'!R44","v":0}," -"," -",{"$f":"'[6]2018'!P44","v":0},{"$f":"'[6]2018'!Q44","v":0},{"$f":"'[6]2018'!R44","v":0}," -"," -",{"$f":"'[6]2019'!P44","v":0},{"$f":"'[6]2019'!Q44","v":0},{"$f":"'[6]2019'!R44","v":0}," -"," -",0,0,0," -"," -","11. Ciudades y comunidades sostenibles","Ambiental",{"$f":"'[1]LÍNEA 1'!AQ176","v":"Sec. Planeación"}]
[null,null,null,null,null,null,null,null,null,null,null,null,null,null,null,null,null,null,null,null,null,null,null,null,null,null,null,null,null,null,null,null,null,null,null,null,null,null,null,null,null,null,"Formular 1 plan de acción conjunto para el desarrollo y el mejoramiento de la infraestructura pública en el sur de Bucaramanga, norte de Floridablanca en coordinación con el Área Metropolitana y la Alcaldía de dicho municipio.",{"$f":"'[1]LÍNEA 1'!P177","v":0},"Número de planes de acción formulados para el desarrollo y el mejoramiento de la infraestructura pública en el sur de Bucaramanga, norte de Floridablanca en coordinación con el Área Metropolitana y la Alcaldía de dicho municipio.",0,{"$f":"'[1]LÍNEA 1'!S177","v":1},{"$f":"'[1]LÍNEA 1'!T177","v":0},0,{"$f":"'[1]LÍNEA 1'!U177","v":1},1,{"$f":"'[1]LÍNEA 1'!V177","v":0},0,{"$f":"'[1]LÍNEA 1'!W177","v":0},0,{"$f":"'[13]2016'!K17","v":0.25},{"$f":"'[13]2017'!K17","v":0.8},{"$f":"'[13]2018'!K17","v":1},{"$f":"'[13]2019'!K17","v":0}," -"," -",0.8,0.8," -"," -"," -"," -",2.0499999999999998,1,1,{"$f":"'[13]2016'!P17","v":505440},{"$f":"'[13]2016'!Q17","v":505440},{"$f":"'[13]2016'!R17","v":0},1," -",{"$f":"'[13]2017'!P17","v":505440},{"$f":"'[13]2017'!Q17","v":505440},{"$f":"'[13]2017'!R17","v":0},1," -",{"$f":"'[13]2018'!P17","v":505440},{"$f":"'[13]2018'!Q17","v":505440},{"$f":"'[13]2018'!R17","v":0},1," -",{"$f":"'[13]2019'!P17","v":0},{"$f":"'[13]2019'!Q17","v":0},{"$f":"'[13]2019'!R17","v":0}," -"," -",1516320,1516320,0,1," -","11. Ciudades y comunidades sostenibles","Equipamiento",{"$f":"'[1]LÍNEA 1'!AQ177","v":"AMB"}]
[null,null,null,null,null,null,null,null,null,null,null,null,null,null,null,null,null,null,null,null,null,null,null,null,null,null,null,null,null,null,null,null,null,null,null,null,null,null,null,null,null,null,"Implementar y mantener 1 estrategia de mejoramiento del ornato en sectores limítrofes con los municipios de Girón y Floridablanca en coordinación con el Área Metropolitana de Bucaramanga.",{"$f":"'[1]LÍNEA 1'!P178","v":" -"},"Número de estrategias de mejoramiento del ornato implementadas y mantenidas en sectores limítrofes con los municipios de Girón y Floridablanca en coordinación con el Área Metropolitana de Bucaramanga.",0,{"$f":"'[1]LÍNEA 1'!S178","v":1},{"$f":"'[1]LÍNEA 1'!T178","v":0},0,{"$f":"'[1]LÍNEA 1'!U178","v":1},0.33,{"$f":"'[1]LÍNEA 1'!V178","v":1},0.33,{"$f":"'[1]LÍNEA 1'!W178","v":1},0.34,{"$f":"'[13]2016'!K18","v":0.25},{"$f":"'[13]2017'!K18","v":0.8},{"$f":"'[13]2018'!K18","v":0.85},{"$f":"'[13]2019'!K18","v":0}," -"," -",0.8,0.8,0.85,0.85,0,0,{"$f":"+AVERAGE(BE178:BG178)/AU178","v":0.54999999999999993},0.54999999999999993,0.54999999999999993,{"$f":"'[13]2016'!P18","v":505440},{"$f":"'[13]2016'!Q18","v":505440},{"$f":"'[13]2016'!R18","v":0},1," -",{"$f":"'[13]2017'!P18","v":505440},{"$f":"'[13]2017'!Q18","v":505440},{"$f":"'[13]2017'!R18","v":0},1," -",{"$f":"'[13]2018'!P18","v":505440},{"$f":"'[13]2018'!Q18","v":505440},{"$f":"'[13]2018'!R18","v":0},1," -",{"$f":"'[13]2019'!P18","v":0},{"$f":"'[13]2019'!Q18","v":0},{"$f":"'[13]2019'!R18","v":0}," -"," -",1516320,1516320,0,1," -","11. Ciudades y comunidades sostenibles","Promoción del Desarrollo",{"$f":"'[1]LÍNEA 1'!AQ178","v":"AMB"}]
[null,null,null,null,null,null,null,null,null,null,null,null,null,null,null,null,null,null,null,null,null,null,null,null,null,null,null,null,null,null,null,null,null,null,null,null,null,null,null,null,null,null,"Crear y mantener 1 centro de estudios urbanos y territoriales en el Área Metropolitana de Bucaramanga.",{"$f":"'[1]LÍNEA 1'!P179","v":" -"},"Número de centros de estudios urbanos y territoriales creados y mantenidos en el Área Metropolitana de Bucaramanga.",0,{"$f":"'[1]LÍNEA 1'!S179","v":1},{"$f":"'[1]LÍNEA 1'!T179","v":0},0,{"$f":"'[1]LÍNEA 1'!U179","v":1},0.33,{"$f":"'[1]LÍNEA 1'!V179","v":1},0.33,{"$f":"'[1]LÍNEA 1'!W179","v":1},0.34,{"$f":"'[13]2016'!K19","v":0},{"$f":"'[13]2017'!K19","v":0},{"$f":"'[13]2018'!K19","v":0.25},{"$f":"'[13]2019'!K19","v":0}," -"," -",0,0,0.25,0.25,0,0,{"$f":"+AVERAGE(BE179:BG179)/AU179","v":8.3333333333333329E-2},8.3333333333333329E-2,8.3333333333333329E-2,{"$f":"'[13]2016'!P19","v":0},{"$f":"'[13]2016'!Q19","v":0},{"$f":"'[13]2016'!R19","v":0}," -"," -",{"$f":"'[13]2017'!P19","v":0},{"$f":"'[13]2017'!Q19","v":0},{"$f":"'[13]2017'!R19","v":0}," -"," -",{"$f":"'[13]2018'!P19","v":500000},{"$f":"'[13]2018'!Q19","v":500000},{"$f":"'[13]2018'!R19","v":0},1," -",{"$f":"'[13]2019'!P19","v":0},{"$f":"'[13]2019'!Q19","v":0},{"$f":"'[13]2019'!R19","v":0}," -"," -",500000,500000,0,1," -","11. Ciudades y comunidades sostenibles","Promoción del Desarrollo",{"$f":"'[1]LÍNEA 1'!AQ179","v":"AMB"}]
[null,null,null,null,null,null,null,null,null,null,null,null,null,null,null,null,null,null,null,null,null,null,null,null,null,null,null,null,null,null,null,null,null,null,null,null,null,null,null,null,null,null,"Generar 8 espacios de encuentro entre gabinetes para el diálogo y coordinación institucional con el gobierno del municipio de Girón.",{"$f":"'[1]LÍNEA 1'!P180","v":" -"},"Número de espacios de encuentro generados entre gabinetes para el diálogo y coordinación institucional con el gobierno del municipio de Girón.",0,{"$f":"'[1]LÍNEA 1'!S180","v":8},{"$f":"'[1]LÍNEA 1'!T180","v":0},0,{"$f":"'[1]LÍNEA 1'!U180","v":2},0.25,{"$f":"'[1]LÍNEA 1'!V180","v":3},0.375,{"$f":"'[1]LÍNEA 1'!W180","v":3},0.375,{"$f":"'[13]2016'!K20","v":0},{"$f":"'[13]2017'!K20","v":2},{"$f":"'[13]2018'!K20","v":1},{"$f":"'[13]2019'!K20","v":0}," -"," -",1,1,0.33333333333333331,0.33333333333333331,0,0,{"$f":"+SUM(BD180:BG180)/AU180","v":0.375},0.375,0.375,{"$f":"'[13]2016'!P20","v":0},{"$f":"'[13]2016'!Q20","v":0},{"$f":"'[13]2016'!R20","v":0}," -"," -",{"$f":"'[13]2017'!P20","v":5000},{"$f":"'[13]2017'!Q20","v":5000},{"$f":"'[13]2017'!R20","v":0},1," -",{"$f":"'[13]2018'!P20","v":0},{"$f":"'[13]2018'!Q20","v":0},{"$f":"'[13]2018'!R20","v":0}," -"," -",{"$f":"'[13]2019'!P20","v":0},{"$f":"'[13]2019'!Q20","v":0},{"$f":"'[13]2019'!R20","v":0}," -"," -",5000,5000,0,1," -","16. Paz, justicia e instituciones sólidas","Fortalecimiento insitucional",{"$f":"'[1]LÍNEA 1'!AQ180","v":"AMB"}]
[null,null,null,null,null,null,null,null,null,null,null,null,null,null,null,null,null,null,null,null,null,null,null,null,null,null,null,null,null,null,null,null,null,null,null,null,null,null,null,null,null,null,"Generar 8 espacios de encuentro entre gabinetes para el diálogo y coordinación institucional con el gobierno del municipio de Floridablanca.",{"$f":"'[1]LÍNEA 1'!P181","v":" -"},"Número de espacios de encuentro generados entre gabinetes para el diálogo y coordinación institucional con el gobierno del municipio de Floridablanca.",0,{"$f":"'[1]LÍNEA 1'!S181","v":8},{"$f":"'[1]LÍNEA 1'!T181","v":0},0,{"$f":"'[1]LÍNEA 1'!U181","v":2},0.25,{"$f":"'[1]LÍNEA 1'!V181","v":3},0.375,{"$f":"'[1]LÍNEA 1'!W181","v":3},0.375,{"$f":"'[13]2016'!K21","v":0},{"$f":"'[13]2017'!K21","v":2},{"$f":"'[13]2018'!K21","v":1},{"$f":"'[13]2019'!K21","v":0}," -"," -",1,1,0.33333333333333331,0.33333333333333331,0,0,0.375,0.375,0.375,{"$f":"'[13]2016'!P21","v":0},{"$f":"'[13]2016'!Q21","v":0},{"$f":"'[13]2016'!R21","v":0}," -"," -",{"$f":"'[13]2017'!P21","v":5000},{"$f":"'[13]2017'!Q21","v":5000},{"$f":"'[13]2017'!R21","v":0},1," -",{"$f":"'[13]2018'!P21","v":0},{"$f":"'[13]2018'!Q21","v":0},{"$f":"'[13]2018'!R21","v":0}," -"," -",{"$f":"'[13]2019'!P21","v":0},{"$f":"'[13]2019'!Q21","v":0},{"$f":"'[13]2019'!R21","v":0}," -"," -",5000,5000,0,1," -","16. Paz, justicia e instituciones sólidas","Fortalecimiento insitucional",{"$f":"'[1]LÍNEA 1'!AQ181","v":"AMB"}]
[null,null,null,null,null,null,null,null,null,null,null,null,null,null,null,null,null,null,null,null,null,null,null,null,null,null,null,null,null,null,null,null,null,null,null,null,null,null,null,null,null,null,null,null,null,null,null,null,{"$f":"+AVERAGE(AW152:AW181)","v":0.14666666666666661},null,{"$f":"+AVERAGE(AY152:AY181)","v":0.4313333333333334},null,0.18244444444444446,null,0.23955555555555552,null,null,null,null,null,{"$f":"+AVERAGE(BI152:BI181)","v":0.9},null,0.7977777777777777,null,0.52941798941798945,null,0,null,{"$f":"+AVERAGE(BQ152:BQ181)","v":0.6128055555555556}]
[]
[]
[]
[null,null,null,null,null,null,null,null,null,null,null,null,null,null,null,null,null,null,null,null,null,null,null,null,null,null,null,null,null,null,null,null,null,null,null,null,null,null,null,null,null,null,null,null,null,null,null,null,null,null,null,null,null,null,null,2016,2017,2018,2019,"CA"]
[null,null,null,null,null,null,null,null,null,null,null,null,null,null,null,null,null,null,null,null,null,null,null,null,null,null,null,null,null,null,null,null,null,null,null,null,null,null,null,null,null,null,null,null,null,null,null,null,null,null,null,"Administrativa",null,null,null,{"$f":"+AVERAGE(BI30:BI31,BI67:BI68,BI75,BI78:BI81,BI85:BI93)","v":1},{"$f":"+AVERAGE(BK30:BK31,BK67:BK68,BK75,BK78:BK81,BK85:BK93)","v":0.70588235294117652},{"$f":"+AVERAGE(BM30:BM31,BM67:BM68,BM75,BM78:BM81,BM85:BM93)","v":0.67272727272727273},{"$f":"+AVERAGE(BO30:BO31,BO67:BO68,BO75,BO78:BO81,BO85:BO93)","v":0},{"$f":"+AVERAGE(BQ30:BQ31,BQ67:BQ68,BQ75,BQ78:BQ81,BQ85:BQ93)","v":0.51111111111111107}]
[null,null,null,null,null,null,null,null,null,null,null,null,null,null,null,null,null,null,null,null,null,null,null,null,null,null,null,null,null,null,null,null,null,null,null,null,null,null,null,null,null,null,null,null,null,null,null,null,null,null,null,"AMB",null,null,null,{"$f":"+AVERAGE(BI57:BI60,BI177:BI181)","v":{"$error":"#DIV/0!"}},{"$f":"+AVERAGE(BK57:BK60,BK177:BK181)","v":0.71666666666666667},{"$f":"+AVERAGE(BM57:BM60,BM177:BM181)","v":0.47083333333333338},{"$f":"+AVERAGE(BO57:BO60,BO177:BO181)","v":0},{"$f":"+AVERAGE(BQ57:BQ60,BQ177:BQ181)","v":0.5175925925925926}]
[null,null,null,null,null,null,null,null,null,null,null,null,null,null,null,null,null,null,null,null,null,null,null,null,null,null,null,null,null,null,null,null,null,null,null,null,null,null,null,null,null,null,null,null,null,null,null,null,null,null,null,"Bomberos",null,null,null,{"$f":"+BI97","v":" -"},{"$f":"+BK97","v":1},{"$f":"+BM97","v":0.3},{"$f":"+BO97","v":0},{"$f":"+BQ97","v":0.43333333333333335}]
[null,null,null,null,null,null,null,null,null,null,null,null,null,null,null,null,null,null,null,null,null,null,null,null,null,null,null,null,null,null,null,null,null,null,null,null,null,null,null,null,null,null,null,null,null,null,null,null,null,null,null,"Control Interno",null,null,null,{"$f":"+BI132","v":1},{"$f":"+BK132","v":1},{"$f":"+BM132","v":1},{"$f":"+BO132","v":0},{"$f":"+BQ132","v":0.81578947368421051}]
[null,null,null,null,null,null,null,null,null,null,null,null,null,null,null,null,null,null,null,null,null,null,null,null,null,null,null,null,null,null,null,null,null,null,null,null,null,null,null,null,null,null,null,null,null,null,null,null,null,null,null,"Control Interno Disciplinario",null,null,null,{"$f":"+AVERAGE(BI130:BI131)","v":1},{"$f":"+AVERAGE(BK130:BK131)","v":1},{"$f":"+AVERAGE(BM130:BM131)","v":1},{"$f":"+AVERAGE(BO130:BO131)","v":0},{"$f":"+AVERAGE(BQ130:BQ131)","v":0.875}]
[null,null,null,null,null,null,null,null,null,null,null,null,null,null,null,null,null,null,null,null,null,null,null,null,null,null,null,null,null,null,null,null,null,null,null,null,null,null,null,null,null,null,null,null,null,null,null,null,null,null,null,"DADEP",null,null,null,{"$f":"+AVERAGE(BI118:BI119)","v":0.85},{"$f":"+AVERAGE(BK118:BK119)","v":0.53600000000000003},{"$f":"+AVERAGE(BM118:BM119)","v":0.33499999999999996},{"$f":"+AVERAGE(BO118:BO119)","v":0},{"$f":"+AVERAGE(BQ118:BQ119)","v":0.26700000000000002}]
[null,null,null,null,null,null,null,null,null,null,null,null,null,null,null,null,null,null,null,null,null,null,null,null,null,null,null,null,null,null,null,null,null,null,null,null,null,null,null,null,null,null,null,null,null,null,null,null,null,null,null,"Desarrollo Social",null,null,null,{"$f":"+AVERAGE(BI12,BI18,BI25:BI29,BI35:BI43,BI96)","v":0.69230769230769229},{"$f":"+AVERAGE(BK12,BK18,BK25:BK29,BK35:BK43,BK96)","v":0.85124999999999995},{"$f":"+AVERAGE(BM12,BM18,BM25:BM29,BM35:BM43,BM96)","v":0.67333333333333334},{"$f":"+AVERAGE(BO12,BO18,BO25:BO29,BO35:BO43,BO96)","v":0},{"$f":"+AVERAGE(BQ12,BQ18,BQ25:BQ29,BQ35:BQ43,BQ96)","v":0.65862745098039222}]
[null,null,null,null,null,null,null,null,null,null,null,null,null,null,null,null,null,null,null,null,null,null,null,null,null,null,null,null,null,null,null,null,null,null,null,null,null,null,null,null,null,null,null,null,null,null,null,null,null,null,null,"Educación",null,null,null,{"$f":"+BI13","v":1},{"$f":"+BK13","v":1},{"$f":"+BM13","v":0.4},{"$f":"+BO13","v":0},{"$f":"+BQ13","v":0.54285714285714282}]
[null,null,null,null,null,null,null,null,null,null,null,null,null,null,null,null,null,null,null,null,null,null,null,null,null,null,null,null,null,null,null,null,null,null,null,null,null,null,null,null,null,null,null,null,null,null,null,null,null,null,null,"Hacienda",null,null,null,{"$f":"+AVERAGE(BI16,BI55,BI94,BI113:BI117)","v":0.82857142857142851},{"$f":"+AVERAGE(BK16,BK55,BK94,BK113:BK117)","v":0.9375},{"$f":"+AVERAGE(BM16,BM55,BM94,BM113:BM117)","v":0.60277777777777775},{"$f":"+AVERAGE(BO16,BO55,BO94,BO113:BO117)","v":0},{"$f":"+AVERAGE(BQ16,BQ55,BQ94,BQ113:BQ117)","v":0.72284226190476186}]
[null,null,null,null,null,null,null,null,null,null,null,null,null,null,null,null,null,null,null,null,null,null,null,null,null,null,null,null,null,null,null,null,null,null,null,null,null,null,null,null,null,null,null,null,null,null,null,null,null,null,null,"IMCT",null,null,null,{"$f":"+AVERAGE(BI56,BI110:BI112)","v":0},{"$f":"+AVERAGE(BK56,BK110:BK112)","v":0.5},{"$f":"+AVERAGE(BM56,BM110:BM112)","v":0.75},{"$f":"+AVERAGE(BO56,BO110:BO112)","v":0},{"$f":"+AVERAGE(BQ56,BQ110:BQ112)","v":0.3125}]
[null,null,null,null,null,null,null,null,null,null,null,null,null,null,null,null,null,null,null,null,null,null,null,null,null,null,null,null,null,null,null,null,null,null,null,null,null,null,null,null,null,null,null,null,null,null,null,null,null,null,null,"IMEBU",null,null,null,{"$f":"+BI170","v":1},{"$f":"+BK170","v":1},{"$f":"+BM170","v":1},{"$f":"+BO170","v":0},{"$f":"+BQ170","v":0.75}]
[null,null,null,null,null,null,null,null,null,null,null,null,null,null,null,null,null,null,null,null,null,null,null,null,null,null,null,null,null,null,null,null,null,null,null,null,null,null,null,null,null,null,null,null,null,null,null,null,null,null,null,"Infraestructura",null,null,null,{"$f":"+AVERAGE(BI19,BI45,BI120,BI145,BI167)","v":0.66666666666666663},{"$f":"+AVERAGE(BK19,BK45,BK120,BK145,BK167)","v":0.8529411764705882},{"$f":"+AVERAGE(BM19,BM45,BM120,BM145,BM167)","v":0.5},{"$f":"+AVERAGE(BO19,BO45,BO120,BO145,BO167)","v":0},{"$f":"+AVERAGE(BQ19,BQ45,BQ120,BQ145,BQ167)","v":0.52058823529411768}]
[null,null,null,null,null,null,null,null,null,null,null,null,null,null,null,null,null,null,null,null,null,null,null,null,null,null,null,null,null,null,null,null,null,null,null,null,null,null,null,null,null,null,null,null,null,null,null,null,null,null,null,"Interior",null,null,null,{"$f":"+AVERAGE(BI11,BI32,BI121:BI129)","v":0.95},{"$f":"+AVERAGE(BK11,BK32,BK121:BK129)","v":0.83968253968253981},{"$f":"+AVERAGE(BM11,BM32,BM121:BM129)","v":0.96124999999999994},{"$f":"+AVERAGE(BO11,BO32,BO121:BO129)","v":0},{"$f":"+AVERAGE(BQ11,BQ32,BQ121:BQ129)","v":0.68787878787878798}]
[null,null,null,null,null,null,null,null,null,null,null,null,null,null,null,null,null,null,null,null,null,null,null,null,null,null,null,null,null,null,null,null,null,null,null,null,null,null,null,null,null,null,null,null,null,null,null,null,null,null,null,"Jurídica",null,null,null,{"$f":"+AVERAGE(BI62:BI66,BI82:BI84,BI133:BI135)","v":0.84499999999999997},{"$f":"+AVERAGE(BK62:BK66,BK82:BK84,BK133:BK135)","v":1},{"$f":"+AVERAGE(BM62:BM66,BM82:BM84,BM133:BM135)","v":0.57000000000000006},{"$f":"+AVERAGE(BO62:BO66,BO82:BO84,BO133:BO135)","v":0},{"$f":"+AVERAGE(BQ62:BQ66,BQ82:BQ84,BQ133:BQ135)","v":0.67386363636363633}]
[null,null,null,null,null,null,null,null,null,null,null,null,null,null,null,null,null,null,null,null,null,null,null,null,null,null,null,null,null,null,null,null,null,null,null,null,null,null,null,null,null,null,null,null,null,null,null,null,null,null,null,"Metrolínea",null,null,null,{"$f":"+BI169","v":0.4},{"$f":"+BK169","v":1},{"$f":"+BM169","v":1},{"$f":"+BO169","v":0},{"$f":"+BQ169","v":0.6}]
[null,null,null,null,null,null,null,null,null,null,null,null,null,null,null,null,null,null,null,null,null,null,null,null,null,null,null,null,null,null,null,null,null,null,null,null,null,null,null,null,null,null,null,null,null,null,null,null,null,null,null,"Planeación",null,null,null,{"$f":"+AVERAGE(BI17,BI44,BI71,BI95,BI100:BI108,BI152:BI166,BI171:BI176)","v":0.95294117647058818},{"$f":"+AVERAGE(BK17,BK44,BK71,BK95,BK100:BK108,BK152:BK166,BK171:BK176)","v":0.72676587301587314},{"$f":"+AVERAGE(BM17,BM44,BM71,BM95,BM100:BM108,BM152:BM166,BM171:BM176)","v":0.56314285714285706},{"$f":"+AVERAGE(BO17,BO44,BO71,BO95,BO100:BO108,BO152:BO166,BO171:BO176)","v":0},{"$f":"+AVERAGE(BQ17,BQ44,BQ71,BQ95,BQ100:BQ108,BQ152:BQ166,BQ171:BQ176)","v":0.54003431372549016}]
[null,null,null,null,null,null,null,null,null,null,null,null,null,null,null,null,null,null,null,null,null,null,null,null,null,null,null,null,null,null,null,null,null,null,null,null,null,null,null,null,null,null,null,null,null,null,null,null,null,null,null,"Prensa",null,null,null,{"$f":"+AVERAGE(BI20:BI24,BI61,BI76)","v":1},{"$f":"+AVERAGE(BK20:BK24,BK61,BK76)","v":1},{"$f":"+AVERAGE(BM20:BM24,BM61,BM76)","v":0.65476190476190488},{"$f":"+AVERAGE(BO20:BO24,BO61,BO76)","v":0},{"$f":"+AVERAGE(BQ20:BQ24,BQ61,BQ76)","v":0.7142857142857143}]
[null,null,null,null,null,null,null,null,null,null,null,null,null,null,null,null,null,null,null,null,null,null,null,null,null,null,null,null,null,null,null,null,null,null,null,null,null,null,null,null,null,null,null,null,null,null,null,null,null,null,null,"Salud y Ambiente",null,null,null,{"$f":"+BI109","v":" -"},{"$f":"+BK109","v":0.25},{"$f":"+BM109","v":1},{"$f":"+BO109","v":0},{"$f":"+BQ109","v":0.3125}]
[null,null,null,null,null,null,null,null,null,null,null,null,null,null,null,null,null,null,null,null,null,null,null,null,null,null,null,null,null,null,null,null,null,null,null,null,null,null,null,null,null,null,null,null,null,null,null,null,null,null,null,"Sistemas",null,null,null,{"$f":"+AVERAGE(BI33:BI34,BI46,BI48:BI70,BI72:BI74,BI98,BI137:BI144,BI146:BI150)","v":0.9572222222222222},{"$f":"+AVERAGE(BK33:BK34,BK46,BK48:BK70,BK72:BK74,BK98,BK137:BK144,BK146:BK150)","v":0.85824999999999996},{"$f":"+AVERAGE(BM33:BM34,BM46,BM48:BM70,BM72:BM74,BM98,BM137:BM144,BM146:BM150)","v":0.85812500000000003},{"$f":"+AVERAGE(BO33:BO34,BO46,BO48:BO70,BO72:BO74,BO98,BO137:BO144,BO146:BO150)","v":0},{"$f":"+AVERAGE(BQ33:BQ34,BQ46,BQ48:BQ70,BQ72:BQ74,BQ98,BQ137:BQ144,BQ146:BQ150)","v":0.71151328903654487}]
[null,null,null,null,null,null,null,null,null,null,null,null,null,null,null,null,null,null,null,null,null,null,null,null,null,null,null,null,null,null,null,null,null,null,null,null,null,null,null,null,null,null,null,null,null,null,null,null,null,null,null,"Tránsito",null,null,null,{"$f":"+AVERAGE(BI99,BI168)","v":1},{"$f":"+AVERAGE(BK99,BK168)","v":1},{"$f":"+AVERAGE(BM99,BM168)","v":1},{"$f":"+AVERAGE(BO99,BO168)","v":0},{"$f":"+AVERAGE(BQ99,BQ168)","v":0.875}]
[null,null,null,null,null,null,null,null,null,null,null,null,null,null,null,null,null,null,null,null,null,null,null,null,null,null,null,null,null,null,null,null,null,null,null,null,null,null,null,null,null,null,null,null,null,null,null,null,null,null,null,"UTSP",null,null,null,{"$f":"+BI47","v":1},{"$f":"+BK47","v":1},{"$f":"+BM47","v":1},{"$f":"+BO47","v":0},{"$f":"+BQ47","v":0.75}]

{"sheet":"LÍNEA 2","index":2,"n_rows":179,"n_cols":98,"rows_kept":179,"cut":false,"hidden":false,"merged":[[7,95,9,95],[10,1,165,1],[10,2,165,2],[113,18,119,18],[120,6,126,6],[120,7,126,7],[120,9,126,9],[120,12,126,12],[120,15,126,15],[120,18,126,18],[106,7,112,7],[106,9,112,9],[106,12,112,12],[106,15,112,15],[106,18,112,18],[113,6,119,6],[113,7,119,7],[113,9,119,9],[113,12,119,12],[113,15,119,15],[93,7,98,7],[93,9,98,9],[93,12,98,12],[93,15,98,15],[81,7,86,7],[81,9,86,9],[81,12,86,12],[81,15,86,15],[81,18,86,18],[87,7,92,7],[87,9,92,9],[87,12,92,12],[87,15,92,15],[87,18,92,18],[87,8,92,8],[87,10,92,10],[87,11,92,11],[87,13,92,13],[87,14,92,14],[87,16,92,16],[87,17,92,17],[81,8,86,8],[81,10,86,10],[67,7,73,7],[67,9,73,9],[67,12,73,12],[67,15,73,15],[67,18,73,18],[74,6,80,6],[74,7,80,7],[74,9,80,9],[74,12,80,12],[74,15,80,15],[74,18,80,18],[67,8,73,8],[74,8,80,8],[67,10,73,10],[67,11,73,11],[74,10,80,10],[74,11,80,11],[67,13,73,13],[67,14,73,14],[67,16,73,16],[67,17,73,17],[74,16,80,16],[74,17,80,17],[128,7,149,7],[128,9,149,9],[128,12,149,12],[128,15,149,15],[128,18,149,18],[128,8,149,8],[128,10,149,10],[128,11,149,11],[93,10,98,10],[93,18,98,18],[99,7,105,7],[99,9,105,9],[99,12,105,12],[99,15,105,15],[99,18,105,18],[93,8,98,8],[93,11,98,11],[93,13,98,13],[93,14,98,14],[93,16,98,16],[93,17,98,17],[99,8,105,8],[99,14,105,14],[99,16,105,16],[151,4,164,4],[151,3,164,3],[151,5,157,5],[158,5,164,5],[151,6,157,6],[151,7,157,7],[151,9,157,9],[151,12,157,12],[151,15,157,15],[158,6,164,6],[158,7,164,7],[158,9,164,9],[158,12,164,12],[158,15,164,15],[151,8,157,8],[158,8,164,8],[151,10,157,10],[151,11,157,11],[158,10,164,10],[158,11,164,11],[151,13,157,13],[151,14,157,14],[158,13,164,13],[158,14,164,14],[151,22,157,22],[151,23,157,23],[151,24,157,24],[128,13,149,13],[161,41,164,41],[161,40,164,40],[159,40,160,40],[159,41,160,41],[157,41,158,41],[157,40,158,40],[151,40,156,40],[151,41,156,41],[144,40,149,40],[144,41,149,41],[137,40,143,40],[137,41,143,41],[128,40,136,40],[128,41,136,41],[151,18,157,18],[158,18,164,18],[128,35,149,35],[128,36,149,36],[128,37,149,37],[128,25,149,25],[128,29,149,29],[128,30,149,30],[128,31,149,31],[128,32,149,32],[128,33,149,33],[128,34,149,34],[128,39,149,39],[128,26,149,26],[128,27,149,27],[128,28,149,28],[128,38,149,38],[67,4,126,4],[67,3,126,3],[128,4,149,4],[128,3,149,3],[128,5,149,5],[128,6,149,6],[67,5,73,5],[74,5,80,5],[81,5,86,5],[87,5,92,5],[93,5,98,5],[99,5,105,5],[106,5,112,5],[113,5,119,5],[120,5,126,5],[67,6,73,6],[87,6,92,6],[106,6,112,6],[81,6,86,6],[93,6,98,6],[99,6,105,6],[67,40,80,40],[67,41,80,41],[61,40,65,40],[61,41,65,41],[58,40,60,40],[58,41,60,41],[67,19,73,19],[67,20,73,20],[74,19,80,19],[74,20,80,20],[47,33,65,33],[47,34,65,34],[47,35,65,35],[47,36,65,36],[47,37,65,37],[47,38,65,38],[47,39,65,39],[67,21,73,21],[67,22,73,22],[67,23,73,23],[67,24,73,24],[67,25,73,25],[67,26,73,26],[67,27,73,27],[110,40,126,40],[110,41,126,41],[105,41,109,41],[105,40,109,40],[98,41,104,41],[98,40,104,40],[90,41,97,41],[90,40,97,40],[81,40,89,40],[81,41,89,41],[29,6,46,6],[29,7,46,7],[10,3,65,3],[10,4,65,4],[10,5,28,5],[29,9,46,9],[29,12,46,12],[29,15,46,15],[29,5,46,5],[47,5,65,5],[10,6,28,6],[10,7,28,7],[10,9,28,9],[10,12,28,12],[47,6,65,6],[47,7,65,7],[47,9,65,9],[47,12,65,12],[47,15,65,15],[29,8,46,8],[29,10,46,10],[29,11,46,11],[29,13,46,13],[29,14,46,14],[32,41,34,41],[32,40,34,40],[30,40,31,40],[30,41,31,41],[16,40,29,40],[16,41,29,41],[10,40,15,40],[10,41,15,41],[10,15,28,15],[10,18,28,18],[29,18,46,18],[42,40,57,40],[42,41,57,41],[38,40,41,40],[38,41,41,41],[35,41,37,41],[35,40,37,40],[29,16,46,16],[29,17,46,17],[29,19,46,19],[29,20,46,20],[10,21,28,21],[10,22,28,22],[10,23,28,23],[2,1,2,97],[3,1,3,97],[4,1,4,97],[7,1,9,1],[7,2,9,2],[7,3,9,3],[7,4,9,4],[7,5,9,5],[7,6,9,6],[7,40,9,40],[7,41,9,41],[7,42,9,42],[7,43,9,43],[7,70,7,94],[7,96,9,96],[8,70,8,74],[8,75,8,79],[8,80,8,84],[8,85,8,89],[7,9,8,20],[9,9,9,11],[9,12,9,14],[9,15,9,17],[9,18,9,20],[7,7,9,8],[10,24,28,24],[10,25,28,25],[10,26,28,26],[10,27,28,27],[10,28,28,28],[10,29,28,29],[10,30,28,30],[10,31,28,31],[10,13,28,13],[10,14,28,14],[10,8,28,8],[10,10,28,10],[10,11,28,11],[10,16,28,16],[10,17,28,17],[10,19,28,19],[10,20,28,20],[10,32,28,32],[10,33,28,33],[10,34,28,34],[10,35,28,35],[10,36,28,36],[10,37,28,37],[10,38,28,38],[10,39,28,39],[29,21,46,21],[29,22,46,22],[29,23,46,23],[29,24,46,24],[29,25,46,25],[29,26,46,26],[29,27,46,27],[29,28,46,28],[29,29,46,29],[29,30,46,30],[29,31,46,31],[29,32,46,32],[29,33,46,33],[29,34,46,34],[29,35,46,35],[29,36,46,36],[29,38,46,38],[29,39,46,39],[47,8,65,8],[47,10,65,10],[47,11,65,11],[47,13,65,13],[47,14,65,14],[47,16,65,16],[47,17,65,17],[47,19,65,19],[47,20,65,20],[47,21,65,21],[47,22,65,22],[47,23,65,23],[47,24,65,24],[47,25,65,25],[47,26,65,26],[47,27,65,27],[47,28,65,28],[47,29,65,29],[47,30,65,30],[47,31,65,31],[47,32,65,32],[29,37,46,37],[47,18,65,18],[81,20,86,20],[67,30,73,30],[67,31,73,31],[67,32,73,32],[67,33,73,33],[67,34,73,34],[67,35,73,35],[67,36,73,36],[81,34,86,34],[81,35,86,35],[81,36,86,36],[67,28,73,28],[67,29,73,29],[81,28,86,28],[81,29,86,29],[93,19,98,19],[93,20,98,20],[74,14,80,14],[87,19,92,19],[87,20,92,20],[81,11,86,11],[81,13,86,13],[81,14,86,14],[81,16,86,16],[81,17,86,17],[81,19,86,19],[74,13,80,13],[120,8,126,8],[120,10,126,10],[120,11,126,11],[120,13,126,13],[120,14,126,14],[120,16,126,16],[120,17,126,17],[120,19,126,19],[120,20,126,20],[99,17,105,17],[99,19,105,19],[99,20,105,20],[106,8,112,8],[113,8,119,8],[113,10,119,10],[113,11,119,11],[106,10,112,10],[106,11,112,11],[99,10,105,10],[99,11,105,11],[99,13,105,13],[106,19,112,19],[106,20,112,20],[106,16,112,16],[106,17,112,17],[106,13,112,13],[106,14,112,14],[113,13,119,13],[113,14,119,14],[113,16,119,16],[113,17,119,17],[113,19,119,19],[113,20,119,20],[67,37,73,37],[67,38,73,38],[67,39,73,39],[74,21,80,21],[74,22,80,22],[74,23,80,23],[74,24,80,24],[74,25,80,25],[74,26,80,26],[74,27,80,27],[74,28,80,28],[74,29,80,29],[74,30,80,30],[74,31,80,31],[74,32,80,32],[74,33,80,33],[74,34,80,34],[74,35,80,35],[74,36,80,36],[74,37,80,37],[74,38,80,38],[74,39,80,39],[81,39,86,39],[87,21,92,21],[87,22,92,22],[87,23,92,23],[87,24,92,24],[87,25,92,25],[87,26,92,26],[87,27,92,27],[87,28,92,28],[87,29,92,29],[87,39,92,39],[81,30,86,30],[81,31,86,31],[81,32,86,32],[81,33,86,33],[81,37,86,37],[81,38,86,38],[81,21,86,21],[81,22,86,22],[81,23,86,23],[81,24,86,24],[81,25,86,25],[81,26,86,26],[81,27,86,27],[93,38,98,38],[93,39,98,39],[87,30,92,30],[87,31,92,31],[87,32,92,32],[87,33,92,33],[87,34,92,34],[87,35,92,35],[87,36,92,36],[87,37,92,37],[87,38,92,38],[93,21,98,21],[93,22,98,22],[93,23,98,23],[93,24,98,24],[93,25,98,25],[93,26,98,26],[93,27,98,27],[93,28,98,28],[93,29,98,29],[99,21,105,21],[99,22,105,22],[99,23,105,23],[99,24,105,24],[99,25,105,25],[99,26,105,26],[99,27,105,27],[99,28,105,28],[99,29,105,29],[99,39,105,39],[93,30,98,30],[93,31,98,31],[93,32,98,32],[93,33,98,33],[106,34,112,34],[106,35,112,35],[106,36,112,36],[106,37,112,37],[106,38,112,38],[106,39,112,39],[99,30,105,30],[99,31,105,31],[99,32,105,32],[99,33,105,33],[99,34,105,34],[99,35,105,35],[99,36,105,36],[99,37,105,37],[99,38,105,38],[93,34,98,34],[93,35,98,35],[93,36,98,36],[93,37,98,37],[106,21,112,21],[106,22,112,22],[106,23,112,23],[106,24,112,24],[106,25,112,25],[106,26,112,26],[106,27,112,27],[106,28,112,28],[106,29,112,29],[113,21,119,21],[113,22,119,22],[113,23,119,23],[113,24,119,24],[113,25,119,25],[113,26,119,26],[113,27,119,27],[113,28,119,28],[113,29,119,29],[113,30,119,30],[113,31,119,31],[113,32,119,32],[113,33,119,33],[113,34,119,34],[113,35,119,35],[113,36,119,36],[113,37,119,37],[113,38,119,38],[113,39,119,39],[106,30,112,30],[106,31,112,31],[106,32,112,32],[106,33,112,33],[120,21,126,21],[120,22,126,22],[120,23,126,23],[120,24,126,24],[120,25,126,25],[120,26,126,26],[120,27,126,27],[120,28,126,28],[120,29,126,29],[120,30,126,30],[120,31,126,31],[120,32,126,32],[120,33,126,33],[120,34,126,34],[120,35,126,35],[120,36,126,36],[120,37,126,37],[120,38,126,38],[120,39,126,39],[128,14,149,14],[128,16,149,16],[128,17,149,17],[128,19,149,19],[128,20,149,20],[128,21,149,21],[128,22,149,22],[128,23,149,23],[128,24,149,24],[151,16,157,16],[151,17,157,17],[158,16,164,16],[158,17,164,17],[151,19,157,19],[151,20,157,20],[158,19,164,19],[158,20,164,20],[151,21,157,21],[158,37,164,37],[158,38,164,38],[151,25,157,25],[151,26,157,26],[151,27,157,27],[151,28,157,28],[151,29,157,29],[151,30,157,30],[151,31,157,31],[151,32,157,32],[151,33,157,33],[158,27,164,27],[158,28,164,28],[158,29,164,29],[158,30,164,30],[158,31,164,31],[158,32,164,32],[158,33,164,33],[158,34,164,34],[158,35,164,35],[158,36,164,36],[158,39,164,39],[7,21,8,28],[7,29,8,39],[9,21,9,22],[9,23,9,24],[9,25,9,26],[9,27,9,28],[9,29,9,30],[9,31,9,32],[9,33,9,34],[9,35,9,36],[9,37,9,39],[151,34,157,34],[151,35,157,35],[151,36,157,36],[151,37,157,37],[151,38,157,38],[151,39,157,39],[158,21,164,21],[158,22,164,22],[158,23,164,23],[158,24,164,24],[158,25,164,25],[158,26,164,26],[8,90,8,94],[7,44,8,54],[9,47,9,48],[9,49,9,50],[9,51,9,52],[9,53,9,54],[7,55,8,58],[7,59,8,69],[9,59,9,60],[9,61,9,62],[9,63,9,64],[9,65,9,66],[9,67,9,69],[178,51,178,54],[177,51,177,54],[176,51,176,54],[175,51,175,54],[173,51,173,54],[174,51,174,54],[172,51,172,54],[171,51,171,54],[170,51,170,54]]}
[]
[]
[null,"ALCALDÍA DE BUCARAMANGA"]
[null,"PLAN DE DESARROLLO 2016 - 2019 \"GOBIERNO DE LAS CIUDADANAS Y LOS CIUDADANOS\""]
[null,"LÍNEA ESTRATÉGICA 2: INCLUSIÓN SOCIAL"]
[]
[]
[null,"POND","LÍNEA ESTRATÉGICA","POND","COMPONENTE","META DE RESULTADO","LÍNEA BASE","RESULTADO CUATRIENIO",null,"META POR VIGENCIA",null,null,null,null,null,null,null,null,null,null,null,"LOGRO POR VIGENCIA",null,null,null,null,null,null,null,"PORCENTAJE DE CUMPLIMIENTO",null,null,null,null,null,null,null,null,null,null,"POND","PROGRAMA","META DE PRODUCTO","RUBRO PPTAL","INDICADOR DE PRODUCTO",null,null,null,null,null,null,null,null,null,null,"LOGRO POR VIGENCIA",null,null,null,"PORCENTAJE DE CUMPLIMIENTO",null,null,null,null,null,null,null,null,null,null,"RECURSOS POR FUENTE DE FINANCIACIÓN PARA CADA VIGENCIA (Cifras en Miles de Pesos)",null,null,null,null,null,null,null,null,null,null,null,null,null,null,null,null,null,null,null,null,null,null,null,null,"ODS","SECTOR"]
[null,null,null,null,null,null,null,null,null,null,null,null,null,null,null,null,null,null,null,null,null,null,null,null,null,null,null,null,null,null,null,null,null,null,null,null,null,null,null,null,null,null,null,null,null,null,null,null,null,null,null,null,null,null,null,null,null,null,null,null,null,null,null,null,null,null,null,null,null,null,2016,null,null,null,null,2017,null,null,null,null,2018,null,null,null,null,2019,null,null,null,null,"2016 - 2019"]
[null,null,null,null,null,null,null,null,null,2016,null,null,2017,null,null,2018,null,null,2019,null,null,2016,null,2017,null,2018,null,2019,null,2016,null,2017,null,2018,null,2019,null,"2016 - 2019",null,null,null,null,null,null,"NOMBRE INDICADOR","LÍNEA BASE","ESPERADO CUATRIENIO",2016,null,2017,null,2018,null,2019,null,2016,2017,2018,2019,2016,null,2017,null,2018,null,2019,null,"2016 - 2019",null,null,"RECURSOS PROGRAMADOS","RECURSOS EJECUTADOS","RECURSOS GESTIONADOS","PORCENTAJE EJECUCIÓN","NIVEL DE GESTIÓN","RECURSOS PROGRAMADOS","RECURSOS EJECUTADOS","RECURSOS GESTIONADOS","PORCENTAJE EJECUCIÓN","NIVEL DE GESTIÓN","RECURSOS PROGRAMADOS","RECURSOS EJECUTADOS","RECURSOS GESTIONADOS","PORCENTAJE EJECUCIÓN","NIVEL DE GESTIÓN","RECURSOS PROGRAMADOS","RECURSOS EJECUTADOS","RECURSOS GESTIONADOS","PORCENTAJE EJECUCIÓN","NIVEL DE GESTIÓN","RECURSOS PROGRAMADOS","RECURSOS EJECUTADOS","RECURSOS GESTIONADOS","PORCENTAJE EJECUCIÓN","NIVEL DE GESTIÓN",null,null,"RESPONSABLE"]
[null,{"$f":"+RESUMEN!J38","v":0.55760735326538025},"2 - INCLUSIÓN SOCIAL",{"$f":"+RESUMEN!J39","v":0.52502948633156976},"ATENCIÓN PRIORITARIA Y FOCALIZADA A GRUPOS DE POBLACIÓN VULNERABLE","Disminuir a 1,2% el índice de pobreza extrema.",1.2999999999999999E-2,1.2E-2,{"$f":"+H11-G11","v":-9.9999999999999915E-4},1.2999999999999999E-2,{"$f":"+J11-G11","v":0},null,1.2999999999999999E-2,{"$f":"+M11-J11","v":0},null,1.2999999999999999E-2,{"$f":"+P11-M11","v":0},null,1.2E-2,{"$f":"+S11-P11","v":-9.9999999999999915E-4},null,1.2E-2,{"$f":"+IF(V11=0,0,V11-G11)","v":-9.9999999999999915E-4},null,{"$f":"+IF(X11=0,0,X11-V11)","v":0},null,{"$f":"+IF(Z11=0,0,Z11-X11)","v":0},null,{"$f":"+IF(AB11=0,0,AB11-Z11)","v":0},{"$f":"+IF(K11=0,\" -\",W11/K11)","v":" -"},{"$f":"+IF(K11=0,\" -\",IF(AD11>100%,100%,AD11))","v":" -"},{"$f":"+IF(N11=0,\" -\",Y11/N11)","v":" -"},{"$f":"+IF(N11=0,\" -\",IF(AF11>100%,100%,AF11))","v":" -"},{"$f":"+IF(Q11=0,\" -\",AA11/Q11)","v":" -"},{"$f":"+IF(Q11=0,\" -\",IF(AH11>100%,100%,AH11))","v":" -"},{"$f":"+IF(T11=0,\" -\",AC11/T11)","v":0},{"$f":"+IF(T11=0,\" -\",IF(AJ11>100%,100%,AJ11))","v":0},{"$f":"+SUM(AC11,AA11,Y11,W11)/I11","v":1},{"$f":"+IF(AL11>100%,100%,IF(AL11<0%,0%,AL11))","v":1},null,{"$f":"+RESUMEN!J40","v":0.78125},"HABITANTE DE CALLE","Realizar 16 brigadas extramurales de atención al habitante de calle.",{"$f":"'[1]LÍNEA 2'!P11","v":2210713},"Número de brigadas extramurales de atención al habitante de calle realizadas.",9,{"$f":"'[1]LÍNEA 2'!S11","v":16},{"$f":"'[1]LÍNEA 2'!T11","v":4},{"$f":"+AV11/AU11","v":0.25},{"$f":"'[1]LÍNEA 2'!U11","v":4},{"$f":"+AX11/AU11","v":0.25},{"$f":"'[1]LÍNEA 2'!V11","v":4},{"$f":"+AZ11/AU11","v":0.25},{"$f":"'[1]LÍNEA 2'!W11","v":4},{"$f":"+BB11/AU11","v":0.25},{"$f":"'[3]2016'!K31","v":8},{"$f":"'[3]2017'!K32","v":4},{"$f":"'[3]2018'!K32","v":1},{"$f":"'[3]2019'!K32","v":0},{"$f":"IF(AV11=0,\" -\",BD11/AV11)","v":2},{"$f":"IF(AV11=0,\" -\",IF(BH11>100%,100%,BH11))","v":1},{"$f":"IF(AX11=0,\" -\",BE11/AX11)","v":1},{"$f":"IF(AX11=0,\" -\",IF(BJ11>100%,100%,BJ11))","v":1},{"$f":"IF(AZ11=0,\" -\",BF11/AZ11)","v":0.25},{"$f":"IF(AZ11=0,\" -\",IF(BL11>100%,100%,BL11))","v":0.25},{"$f":"IF(BB11=0,\" -\",BG11/BB11)","v":0},{"$f":"IF(BB11=0,\" -\",IF(BN11>100%,100%,BN11))","v":0},{"$f":"+SUM(BD11:BG11)/AU11","v":0.8125},{"$f":"+IF(BP11>100%,100%,BP11)","v":0.8125},{"$f":"+BQ11","v":0.8125},{"$f":"'[3]2016'!P31","v":188000},{"$f":"'[3]2016'!Q31","v":18535},{"$f":"'[3]2016'!R31","v":0},{"$f":"IF(BS11=0,\" -\",BT11/BS11)","v":9.8590425531914896E-2},{"$f":"IF(BU11=0,\" -\",IF(BT11=0,100%,BU11/BT11))","v":" -"},{"$f":"'[3]2017'!P32","v":0},{"$f":"'[3]2017'!Q32","v":0},{"$f":"'[3]2017'!R32","v":0},{"$f":"IF(BX11=0,\" -\",BY11/BX11)","v":" -"},{"$f":"IF(BZ11=0,\" -\",IF(BY11=0,100%,BZ11/BY11))","v":" -"},{"$f":"'[3]2018'!P32","v":119000},{"$f":"'[3]2018'!Q32","v":118320},{"$f":"'[3]2018'!R32","v":33480},{"$f":"IF(CC11=0,\" -\",CD11/CC11)","v":0.99428571428571433},{"$f":"IF(CE11=0,\" -\",IF(CD11=0,100%,CE11/CD11))","v":0.28296146044624748},{"$f":"'[3]2019'!P32","v":40000},{"$f":"'[3]2019'!Q32","v":0},{"$f":"'[3]2019'!R32","v":0},{"$f":"IF(CH11=0,\" -\",CI11/CH11)","v":0},{"$f":"IF(CJ11=0,\" -\",IF(CI11=0,100%,CJ11/CI11))","v":" -"},{"$f":"+BS11+BX11+CC11+CH11","v":347000},136855,33480,{"$f":"IF(CM11=0,\" -\",CN11/CM11)","v":0.39439481268011528},{"$f":"IF(CO11=0,\" -\",IF(CN11=0,100%,CO11/CN11))","v":0.24463848598882029},"2. Hambre cero","Atención a grupos vulnerables - Promoción Social",{"$f":"'[1]LÍNEA 2'!AQ11","v":"Sec. Desarrollo Social"}]
[null,null,null,null,null,null,null,null,null,null,null,null,null,null,null,null,null,null,null,null,null,null,null,null,null,null,null,null,null,null,null,null,null,null,null,null,null,null,null,null,null,null,"Mantener 500 cupos de servicios integrales intramurales y/o extramurales para habitantes de calle.",{"$f":"'[1]LÍNEA 2'!P12","v":2210713},"Número de cupos de servicios integrales intramurales y/o extramurales mantenidos para habitantes de calle.",321,{"$f":"'[1]LÍNEA 2'!S12","v":500},{"$f":"'[1]LÍNEA 2'!T12","v":500},0.25,{"$f":"'[1]LÍNEA 2'!U12","v":500},0.25,{"$f":"'[1]LÍNEA 2'!V12","v":500},0.25,{"$f":"'[1]LÍNEA 2'!W12","v":500},0.25,{"$f":"'[3]2016'!K32","v":5346},{"$f":"'[3]2017'!K33","v":272},{"$f":"'[3]2018'!K33","v":552},{"$f":"'[3]2019'!K33","v":0},{"$f":"IF(AV12=0,\" -\",BD12/AV12)","v":10.692},{"$f":"IF(AV12=0,\" -\",IF(BH12>100%,100%,BH12))","v":1},{"$f":"IF(AX12=0,\" -\",BE12/AX12)","v":0.54400000000000004},{"$f":"IF(AX12=0,\" -\",IF(BJ12>100%,100%,BJ12))","v":0.54400000000000004},{"$f":"IF(AZ12=0,\" -\",BF12/AZ12)","v":1.1040000000000001},{"$f":"IF(AZ12=0,\" -\",IF(BL12>100%,100%,BL12))","v":1},{"$f":"IF(BB12=0,\" -\",BG12/BB12)","v":0},{"$f":"IF(BB12=0,\" -\",IF(BN12>100%,100%,BN12))","v":0},{"$f":"+AVERAGE(BD12:BG12)/AU12","v":3.085},{"$f":"+IF(BP12>100%,100%,BP12)","v":1},{"$f":"+BQ12","v":1},{"$f":"'[3]2016'!P32","v":433000},{"$f":"'[3]2016'!Q32","v":350000},{"$f":"'[3]2016'!R32","v":0},{"$f":"IF(BS12=0,\" -\",BT12/BS12)","v":0.80831408775981528},{"$f":"IF(BU12=0,\" -\",IF(BT12=0,100%,BU12/BT12))","v":" -"},{"$f":"'[3]2017'!P33","v":889885},{"$f":"'[3]2017'!Q33","v":882733},{"$f":"'[3]2017'!R33","v":0},{"$f":"IF(BX12=0,\" -\",BY12/BX12)","v":0.99196300645589042},{"$f":"IF(BZ12=0,\" -\",IF(BY12=0,100%,BZ12/BY12))","v":" -"},{"$f":"'[3]2018'!P33","v":913200},{"$f":"'[3]2018'!Q33","v":861880},{"$f":"'[3]2018'!R33","v":374406},{"$f":"IF(CC12=0,\" -\",CD12/CC12)","v":0.94380201489268511},{"$f":"IF(CE12=0,\" -\",IF(CD12=0,100%,CE12/CD12))","v":0.43440618183505825},{"$f":"'[3]2019'!P33","v":646012},{"$f":"'[3]2019'!Q33","v":0},{"$f":"'[3]2019'!R33","v":0},{"$f":"IF(CH12=0,\" -\",CI12/CH12)","v":0},{"$f":"IF(CJ12=0,\" -\",IF(CI12=0,100%,CJ12/CI12))","v":" -"},2882097,2094613,374406,{"$f":"IF(CM12=0,\" -\",CN12/CM12)","v":0.72676700333125499},{"$f":"IF(CO12=0,\" -\",IF(CN12=0,100%,CO12/CN12))","v":0.1787471002996735},"2. Hambre cero","Atención a grupos vulnerables - Promoción Social",{"$f":"'[1]LÍNEA 2'!AQ12","v":"Sec. Desarrollo Social"}]
[null,null,null,null,null,null,null,null,null,null,null,null,null,null,null,null,null,null,null,null,null,null,null,null,null,null,null,null,null,null,null,null,null,null,null,null,null,null,null,null,null,null,"Brindar asistencia exequial al 100% de los habitantes de calle que se encuentran dentro del censo.",{"$f":"'[1]LÍNEA 2'!P13","v":2210092},"Porcentaje de habitantes de calle con asistencia exequial que se encuentran dentro del censo.",0.41,{"$f":"'[1]LÍNEA 2'!S13","v":1},{"$f":"'[1]LÍNEA 2'!T13","v":1},0.25,{"$f":"'[1]LÍNEA 2'!U13","v":1},0.25,{"$f":"'[1]LÍNEA 2'!V13","v":1},0.25,{"$f":"'[1]LÍNEA 2'!W13","v":1},0.25,{"$f":"'[3]2016'!K33","v":0.5},{"$f":"'[3]2017'!K34","v":1},{"$f":"'[3]2018'!K34","v":1},{"$f":"'[3]2019'!K34","v":0},0.5,0.5,1,1,1,1,0,0,0.625,0.625,0.625,{"$f":"'[3]2016'!P33","v":26000},{"$f":"'[3]2016'!Q33","v":7500},{"$f":"'[3]2016'!R33","v":0},{"$f":"IF(BS13=0,\" -\",BT13/BS13)","v":0.28846153846153844},{"$f":"IF(BU13=0,\" -\",IF(BT13=0,100%,BU13/BT13))","v":" -"},{"$f":"'[3]2017'!P34","v":48000},{"$f":"'[3]2017'!Q34","v":48000},{"$f":"'[3]2017'!R34","v":0},{"$f":"IF(BX13=0,\" -\",BY13/BX13)","v":1},{"$f":"IF(BZ13=0,\" -\",IF(BY13=0,100%,BZ13/BY13))","v":" -"},{"$f":"'[3]2018'!P34","v":94000},{"$f":"'[3]2018'!Q34","v":94000},{"$f":"'[3]2018'!R34","v":0},{"$f":"IF(CC13=0,\" -\",CD13/CC13)","v":1},{"$f":"IF(CE13=0,\" -\",IF(CD13=0,100%,CE13/CD13))","v":" -"},{"$f":"'[3]2019'!P34","v":30000},{"$f":"'[3]2019'!Q34","v":0},{"$f":"'[3]2019'!R34","v":0},{"$f":"IF(CH13=0,\" -\",CI13/CH13)","v":0},{"$f":"IF(CJ13=0,\" -\",IF(CI13=0,100%,CJ13/CI13))","v":" -"},{"$f":"+BS13+BX13+CC13+CH13","v":198000},{"$f":"+BT13+BY13+CD13+CI13","v":149500},{"$f":"+BU13+BZ13+CE13+CJ13","v":0},{"$f":"IF(CM13=0,\" -\",CN13/CM13)","v":0.75505050505050508},{"$f":"IF(CO13=0,\" -\",IF(CN13=0,100%,CO13/CN13))","v":" -"},"2. Hambre cero","Atención a grupos vulnerables - Promoción Social",{"$f":"'[1]LÍNEA 2'!AQ13","v":"Sec. Desarrollo Social"}]
[null,null,null,null,null,null,null,null,null,null,null,null,null,null,null,null,null,null,null,null,null,null,null,null,null,null,null,null,null,null,null,null,null,null,null,null,null,null,null,null,null,null,"Implementar y mantener 1 estrategia en salud, alimentación y aseo para el habitante de calle.",{"$f":"'[1]LÍNEA 2'!P14","v":2210713},"Número de estrategias en salud, alimentación y aseo, implementadas y mantenidas para el habitante de calle.",1,{"$f":"'[1]LÍNEA 2'!S14","v":1},{"$f":"'[1]LÍNEA 2'!T14","v":1},0.25,{"$f":"'[1]LÍNEA 2'!U14","v":1},0.25,{"$f":"'[1]LÍNEA 2'!V14","v":1},0.25,{"$f":"'[1]LÍNEA 2'!W14","v":1},0.25,{"$f":"'[3]2016'!K34","v":1},{"$f":"'[3]2017'!K35","v":1},{"$f":"'[3]2018'!K35","v":1},{"$f":"'[3]2019'!K35","v":0},1,1,1,1,1,1,0,0,0.75,0.75,0.75,{"$f":"'[3]2016'!P34","v":149000},{"$f":"'[3]2016'!Q34","v":133715},{"$f":"'[3]2016'!R34","v":0},0.89741610738255029," -",{"$f":"'[3]2017'!P35","v":88525},{"$f":"'[3]2017'!Q35","v":88525},{"$f":"'[3]2017'!R35","v":0},1," -",{"$f":"'[3]2018'!P35","v":90000},{"$f":"'[3]2018'!Q35","v":90000},{"$f":"'[3]2018'!R35","v":38571},1,0.42856666666666665,{"$f":"'[3]2019'!P35","v":25000},{"$f":"'[3]2019'!Q35","v":0},{"$f":"'[3]2019'!R35","v":0},0," -",352525,312240,38571,0.88572441670803492,0.12352997694081476,"2. Hambre cero","Atención a grupos vulnerables - Promoción Social",{"$f":"'[1]LÍNEA 2'!AQ14","v":"Sec. Desarrollo Social"}]
[null,null,null,null,null,null,null,null,null,null,null,null,null,null,null,null,null,null,null,null,null,null,null,null,null,null,null,null,null,null,null,null,null,null,null,null,null,null,null,null,null,null,"Fortalecer la estrategia para la caracterización, atención y seguimiento de la situación de los habitantes de calle.",{"$f":"'[1]LÍNEA 2'!P15","v":2210713},"Número de estrategias fortalecidas para la caracterización, atención y seguimiento de la situación de los habitantes de calle.",1,{"$f":"'[1]LÍNEA 2'!S15","v":1},{"$f":"'[1]LÍNEA 2'!T15","v":1},0.25,{"$f":"'[1]LÍNEA 2'!U15","v":1},0.25,{"$f":"'[1]LÍNEA 2'!V15","v":1},0.25,{"$f":"'[1]LÍNEA 2'!W15","v":1},0.25,{"$f":"'[3]2016'!K35","v":1},{"$f":"'[3]2017'!K36","v":1},{"$f":"'[3]2018'!K36","v":1},{"$f":"'[3]2019'!K36","v":0},1,1,1,1,1,1,0,0,0.75,0.75,0.75,{"$f":"'[3]2016'!P35","v":80000},{"$f":"'[3]2016'!Q35","v":77900},{"$f":"'[3]2016'!R35","v":0},0.97375," -",{"$f":"'[3]2017'!P36","v":40350},{"$f":"'[3]2017'!Q36","v":40350},{"$f":"'[3]2017'!R36","v":0},1," -",{"$f":"'[3]2018'!P36","v":34200},{"$f":"'[3]2018'!Q36","v":34200},{"$f":"'[3]2018'!R36","v":0},1," -",{"$f":"'[3]2019'!P36","v":0},{"$f":"'[3]2019'!Q36","v":0},{"$f":"'[3]2019'!R36","v":0}," -"," -",154550,152450,0,0.98641216434810741," -","2. Hambre cero","Atención a grupos vulnerables - Promoción Social",{"$f":"'[1]LÍNEA 2'!AQ15","v":"Sec. Desarrollo Social"}]
[null,null,null,null,null,null,null,null,null,null,null,null,null,null,null,null,null,null,null,null,null,null,null,null,null,null,null,null,null,null,null,null,null,null,null,null,null,null,null,null,null,null,"Mantener 1 programa de plan retorno para habitante de calle.",{"$f":"'[1]LÍNEA 2'!P16","v":2210713},"Número de programas de plan retorno mantenidos para habitante de calle.",1,{"$f":"'[1]LÍNEA 2'!S16","v":1},{"$f":"'[1]LÍNEA 2'!T16","v":1},0.25,{"$f":"'[1]LÍNEA 2'!U16","v":1},0.25,{"$f":"'[1]LÍNEA 2'!V16","v":1},0.25,{"$f":"'[1]LÍNEA 2'!W16","v":1},0.25,{"$f":"'[3]2016'!K36","v":1},{"$f":"'[3]2017'!K37","v":1},{"$f":"'[3]2018'!K37","v":1},{"$f":"'[3]2019'!K37","v":0},1,1,1,1,1,1,0,0,0.75,0.75,0.75,{"$f":"'[3]2016'!P36","v":20000},{"$f":"'[3]2016'!Q36","v":15000},{"$f":"'[3]2016'!R36","v":0},0.75," -",{"$f":"'[3]2017'!P37","v":20000},{"$f":"'[3]2017'!Q37","v":20000},{"$f":"'[3]2017'!R37","v":0},1," -",{"$f":"'[3]2018'!P37","v":60000},{"$f":"'[3]2018'!Q37","v":60000},{"$f":"'[3]2018'!R37","v":25714},1,0.42856666666666665,{"$f":"'[3]2019'!P37","v":28529},{"$f":"'[3]2019'!Q37","v":0},{"$f":"'[3]2019'!R37","v":0},0," -",128529,95000,25714,0.73913280271378445,0.27067368421052629,"2. Hambre cero","Atención a grupos vulnerables - Promoción Social",{"$f":"'[1]LÍNEA 2'!AQ16","v":"Sec. Desarrollo Social"}]
[null,null,null,null,null,null,null,null,null,null,null,null,null,null,null,null,null,null,null,null,null,null,null,null,null,null,null,null,null,null,null,null,null,null,null,null,null,null,null,null,{"$f":"+RESUMEN!J41","v":0.52032738095238096},"POBLACIÓN CON DISCAPACIDAD","Garantizar y mantener 200 cupos de atención integral en procesos de habilitación y rehabilitación a niñas, niños y adolescentes con discapacidad en extrema vulnerabilidad.",{"$f":"'[1]LÍNEA 2'!P17","v":2210709},"Número de cupos de atención integral garantizados en procesos de habilitación y rehabilitación a niñas, niños y adolescentes con discapacidad en extrema vulnerabilidad.",0,{"$f":"'[1]LÍNEA 2'!S17","v":200},{"$f":"'[1]LÍNEA 2'!T17","v":200},0.25,{"$f":"'[1]LÍNEA 2'!U17","v":200},0.25,{"$f":"'[1]LÍNEA 2'!V17","v":200},0.25,{"$f":"'[1]LÍNEA 2'!W17","v":200},0.25,{"$f":"'[3]2016'!K37","v":186},{"$f":"'[3]2017'!K38","v":200},{"$f":"'[3]2018'!K38","v":203},{"$f":"'[3]2019'!K38","v":0},0.93,0.93,1,1,1.0149999999999999,1,0,0,0.73624999999999996,0.73624999999999996,0.73624999999999996,{"$f":"'[3]2016'!P37","v":516700},{"$f":"'[3]2016'!Q37","v":273200},{"$f":"'[3]2016'!R37","v":46400},0.52874008128507843,0.1698389458272328,{"$f":"'[3]2017'!P38","v":549000},{"$f":"'[3]2017'!Q38","v":543500},{"$f":"'[3]2017'!R38","v":0},0.98998178506375223," -",{"$f":"'[3]2018'!P38","v":617807},{"$f":"'[3]2018'!Q38","v":614400},{"$f":"'[3]2018'!R38","v":232163},0.9944853327981068,0.37786946614583333,{"$f":"'[3]2019'!P38","v":167098},{"$f":"'[3]2019'!Q38","v":0},{"$f":"'[3]2019'!R38","v":0},0," -",1850605,1431100,278563,0.77331467276917554,0.19464957026063867,"10. Reducción de las desigualdades","Atención a grupos vulnerables - Promoción Social",{"$f":"'[1]LÍNEA 2'!AQ17","v":"Sec. Desarrollo Social"}]
[null,null,null,null,null,null,null,null,null,null,null,null,null,null,null,null,null,null,null,null,null,null,null,null,null,null,null,null,null,null,null,null,null,null,null,null,null,null,null,null,null,null,"Garantizar 210 cupos en programas de rehabilitación integral a personas adultas en extrema vulnerabilidad con discapacidad, física, visual, auditiva, cognitiva, psicosocial y múltiple.",{"$f":"'[1]LÍNEA 2'!P18","v":2210709},"Número de cupos garantizados en programas de rehabilitación integral a personas adultas en extrema vulnerabilidad con discapacidad, física, visual, auditiva, cognitiva, psicosocial y múltiple.",6,{"$f":"'[1]LÍNEA 2'!S18","v":210},{"$f":"'[1]LÍNEA 2'!T18","v":210},0.25,{"$f":"'[1]LÍNEA 2'!U18","v":210},0.25,{"$f":"'[1]LÍNEA 2'!V18","v":210},0.25,{"$f":"'[1]LÍNEA 2'!W18","v":210},0.25,{"$f":"'[3]2016'!K38","v":0},{"$f":"'[3]2017'!K39","v":0},{"$f":"'[3]2018'!K39","v":0},{"$f":"'[3]2019'!K39","v":0},0,0,0,0,0,0,0,0,0,0,0,{"$f":"'[3]2016'!P38","v":70000},{"$f":"'[3]2016'!Q38","v":0},{"$f":"'[3]2016'!R38","v":0},0," -",{"$f":"'[3]2017'!P39","v":0},{"$f":"'[3]2017'!Q39","v":0},{"$f":"'[3]2017'!R39","v":0}," -"," -",{"$f":"'[3]2018'!P39","v":100000},{"$f":"'[3]2018'!Q39","v":0},{"$f":"'[3]2018'!R39","v":0},0," -",{"$f":"'[3]2019'!P39","v":231276},{"$f":"'[3]2019'!Q39","v":0},{"$f":"'[3]2019'!R39","v":0},0," -",401276,0,0,0," -","10. Reducción de las desigualdades","Atención a grupos vulnerables - Promoción Social",{"$f":"'[1]LÍNEA 2'!AQ18","v":"Sec. Desarrollo Social"}]
[null,null,null,null,null,null,null,null,null,null,null,null,null,null,null,null,null,null,null,null,null,null,null,null,null,null,null,null,null,null,null,null,null,null,null,null,null,null,null,null,null,null,"Crear y mantener 1 unidad generadora de datos que realice el registro de localización y caracterización de las personas con discapacidad.",{"$f":"'[1]LÍNEA 2'!P19","v":2210709},"Número de unidades generadoras de datos que realice el registro de localización y caracterización de las personas con discapacidad creados y mantenidos.",1,{"$f":"'[1]LÍNEA 2'!S19","v":1},{"$f":"'[1]LÍNEA 2'!T19","v":1},0.25,{"$f":"'[1]LÍNEA 2'!U19","v":1},0.25,{"$f":"'[1]LÍNEA 2'!V19","v":1},0.25,{"$f":"'[1]LÍNEA 2'!W19","v":1},0.25,{"$f":"'[3]2016'!K39","v":1},{"$f":"'[3]2017'!K40","v":1},{"$f":"'[3]2018'!K40","v":1},{"$f":"'[3]2019'!K40","v":0},1,1,1,1,1,1,0,0,0.75,0.75,0.75,{"$f":"'[3]2016'!P39","v":51900},{"$f":"'[3]2016'!Q39","v":51900},{"$f":"'[3]2016'!R39","v":0},1," -",{"$f":"'[3]2017'!P40","v":68250},{"$f":"'[3]2017'!Q40","v":68250},{"$f":"'[3]2017'!R40","v":31500},1,0.46153846153846156,{"$f":"'[3]2018'!P40","v":0},{"$f":"'[3]2018'!Q40","v":0},{"$f":"'[3]2018'!R40","v":0}," -"," -",{"$f":"'[3]2019'!P40","v":0},{"$f":"'[3]2019'!Q40","v":0},{"$f":"'[3]2019'!R40","v":0}," -"," -",120150,120150,31500,1,0.26217228464419473,"10. Reducción de las desigualdades","Atención a grupos vulnerables - Promoción Social",{"$f":"'[1]LÍNEA 2'!AQ19","v":"Sec. Desarrollo Social"}]
[null,null,null,null,null,null,null,null,null,null,null,null,null,null,null,null,null,null,null,null,null,null,null,null,null,null,null,null,null,null,null,null,null,null,null,null,null,null,null,null,null,null,"Implementar y mantener la estrategia de rehabilitación basada en la comunidad en las instituciones que ofrecen los servicios de habilitación y rehabilitación a través del Comité Local de RBC.",{"$f":"'[1]LÍNEA 2'!P20","v":" -"},"Número de estrategias de rehabilitación basada en la comunidad en las instituciones que ofrecen los servicios de habilitación y rehabilitación a través del Comité Local de RBC implementadas y mantenidas.",0,{"$f":"'[1]LÍNEA 2'!S20","v":1},{"$f":"'[1]LÍNEA 2'!T20","v":0},0,{"$f":"'[1]LÍNEA 2'!U20","v":1},0.33,{"$f":"'[1]LÍNEA 2'!V20","v":1},0.33,{"$f":"'[1]LÍNEA 2'!W20","v":1},0.34,{"$f":"'[3]2016'!K40","v":0},{"$f":"'[3]2017'!K41","v":0},{"$f":"'[3]2018'!K41","v":1},{"$f":"'[3]2019'!K41","v":0}," -"," -",0,0,1,1,0,0,{"$f":"+AVERAGE(BE20:BG20)/AU20","v":0.33333333333333331},0.33333333333333331,0.33333333333333331,{"$f":"'[3]2016'!P40","v":0},{"$f":"'[3]2016'!Q40","v":0},{"$f":"'[3]2016'!R40","v":0}," -"," -",{"$f":"'[3]2017'!P41","v":0},{"$f":"'[3]2017'!Q41","v":0},{"$f":"'[3]2017'!R41","v":0}," -"," -",{"$f":"'[3]2018'!P41","v":60000},{"$f":"'[3]2018'!Q41","v":40000},{"$f":"'[3]2018'!R41","v":17143},0.66666666666666663,0.42857499999999998,{"$f":"'[3]2019'!P41","v":0},{"$f":"'[3]2019'!Q41","v":0},{"$f":"'[3]2019'!R41","v":0}," -"," -",60000,40000,17143,0.66666666666666663,0.42857499999999998,"10. Reducción de las desigualdades","Atención a grupos vulnerables - Promoción Social",{"$f":"'[1]LÍNEA 2'!AQ20","v":"Sec. Desarrollo Social"}]
[null,null,null,null,null,null,null,null,null,null,null,null,null,null,null,null,null,null,null,null,null,null,null,null,null,null,null,null,null,null,null,null,null,null,null,null,null,null,null,null,null,null,"Mantener el banco de ayudas técnicas, tecnológicas e informáticas BATI.",{"$f":"'[1]LÍNEA 2'!P21","v":2210709},"Número de bancos de ayudas técnicas, tecnológicas e informáticas BATI mantenidos.",1,{"$f":"'[1]LÍNEA 2'!S21","v":1},{"$f":"'[1]LÍNEA 2'!T21","v":1},0.25,{"$f":"'[1]LÍNEA 2'!U21","v":1},0.25,{"$f":"'[1]LÍNEA 2'!V21","v":1},0.25,{"$f":"'[1]LÍNEA 2'!W21","v":1},0.25,{"$f":"'[3]2016'!K41","v":1},{"$f":"'[3]2017'!K42","v":1},{"$f":"'[3]2018'!K42","v":0},{"$f":"'[3]2019'!K42","v":0},1,1,1,1,0,0,0,0,0.5,0.5,0.5,{"$f":"'[3]2016'!P41","v":284400},{"$f":"'[3]2016'!Q41","v":51900},{"$f":"'[3]2016'!R41","v":0},0.18248945147679324," -",{"$f":"'[3]2017'!P42","v":123500},{"$f":"'[3]2017'!Q42","v":123020},{"$f":"'[3]2017'!R42","v":0},0.99611336032388664," -",{"$f":"'[3]2018'!P42","v":104000},{"$f":"'[3]2018'!Q42","v":0},{"$f":"'[3]2018'!R42","v":0},0," -",{"$f":"'[3]2019'!P42","v":285291},{"$f":"'[3]2019'!Q42","v":0},{"$f":"'[3]2019'!R42","v":0},0," -",797191,174920,0,0.21942044002002029," -","10. Reducción de las desigualdades","Atención a grupos vulnerables - Promoción Social",{"$f":"'[1]LÍNEA 2'!AQ21","v":"Sec. Desarrollo Social"}]
[null,null,null,null,null,null,null,null,null,null,null,null,null,null,null,null,null,null,null,null,null,null,null,null,null,null,null,null,null,null,null,null,null,null,null,null,null,null,null,null,null,null,"Implementar y mantener 1 programa de  orientación ocupacional y proyecto de vida a personas con discapacidad física, auditiva, visual, cognitiva, psicosocial y múltiple.",{"$f":"'[1]LÍNEA 2'!P22","v":2210709},"Número de programas de orientación ocupacional y proyecto de vida implementadas y mantenidas a personas con discapacidad física, auditiva, visual, cognitiva, psicosocial y múltiple.",0,{"$f":"'[1]LÍNEA 2'!S22","v":1},{"$f":"'[1]LÍNEA 2'!T22","v":1},0.25,{"$f":"'[1]LÍNEA 2'!U22","v":1},0.25,{"$f":"'[1]LÍNEA 2'!V22","v":1},0.25,{"$f":"'[1]LÍNEA 2'!W22","v":1},0.25,{"$f":"'[3]2016'!K42","v":1},{"$f":"'[3]2017'!K43","v":1},{"$f":"'[3]2018'!K43","v":1},{"$f":"'[3]2019'!K43","v":0},1,1,1,1,1,1,0,0,0.75,0.75,0.75,{"$f":"'[3]2016'!P42","v":70000},{"$f":"'[3]2016'!Q42","v":70000},{"$f":"'[3]2016'!R42","v":14000},1,0.2,{"$f":"'[3]2017'!P43","v":126750},{"$f":"'[3]2017'!Q43","v":126750},{"$f":"'[3]2017'!R43","v":0},1," -",{"$f":"'[3]2018'!P43","v":199000},{"$f":"'[3]2018'!Q43","v":148800},{"$f":"'[3]2018'!R43","v":51429},0.74773869346733668,0.34562500000000002,{"$f":"'[3]2019'!P43","v":0},{"$f":"'[3]2019'!Q43","v":0},{"$f":"'[3]2019'!R43","v":0}," -"," -",395750,345550,65429,0.87315224257738466,0.18934741716104761,"10. Reducción de las desigualdades","Atención a grupos vulnerables - Promoción Social",{"$f":"'[1]LÍNEA 2'!AQ22","v":"Sec. Desarrollo Social"}]
[null,null,null,null,null,null,null,null,null,null,null,null,null,null,null,null,null,null,null,null,null,null,null,null,null,null,null,null,null,null,null,null,null,null,null,null,null,null,null,null,null,null,"Mantener 1 intérprete de lengua de señas colombiana que garantice a la población con discapacidad auditiva el acceso a la información, las comunicaciones y los servicios que ofrece la administración municipal.",{"$f":"'[1]LÍNEA 2'!P23","v":2210709},"Número de intérpretes de lengua de señas colombianas mantenidas que garantice a la población con discapacidad auditiva el acceso a la información, las comunicaciones y los servicios que ofrece la administración municipal.",0,{"$f":"'[1]LÍNEA 2'!S23","v":1},{"$f":"'[1]LÍNEA 2'!T23","v":1},0.25,{"$f":"'[1]LÍNEA 2'!U23","v":1},0.25,{"$f":"'[1]LÍNEA 2'!V23","v":1},0.25,{"$f":"'[1]LÍNEA 2'!W23","v":1},0.25,{"$f":"'[3]2016'!K43","v":1},{"$f":"'[3]2017'!K44","v":1},{"$f":"'[3]2018'!K44","v":0},{"$f":"'[3]2019'!K44","v":0},1,1,1,1,0,0,0,0,0.5,0.5,0.5,{"$f":"'[3]2016'!P43","v":0},{"$f":"'[3]2016'!Q43","v":0},{"$f":"'[3]2016'!R43","v":0}," -"," -",{"$f":"'[3]2017'!P44","v":15750},{"$f":"'[3]2017'!Q44","v":15750},{"$f":"'[3]2017'!R44","v":0},1," -",{"$f":"'[3]2018'!P44","v":0},{"$f":"'[3]2018'!Q44","v":0},{"$f":"'[3]2018'!R44","v":0}," -"," -",{"$f":"'[3]2019'!P44","v":0},{"$f":"'[3]2019'!Q44","v":0},{"$f":"'[3]2019'!R44","v":0}," -"," -",15750,15750,0,1," -","10. Reducción de las desigualdades","Atención a grupos vulnerables - Promoción Social",{"$f":"'[1]LÍNEA 2'!AQ23","v":"Sec. Desarrollo Social"}]
[null,null,null,null,null,null,null,null,null,null,null,null,null,null,null,null,null,null,null,null,null,null,null,null,null,null,null,null,null,null,null,null,null,null,null,null,null,null,null,null,null,null,"Realizar 4 conmemoraciones del día nacional de las personas con discapacidad.",{"$f":"'[1]LÍNEA 2'!P24","v":2210709},"Número de conmemoraciones del día nacional de las personas con discapacidad realizados.",4,{"$f":"'[1]LÍNEA 2'!S24","v":4},{"$f":"'[1]LÍNEA 2'!T24","v":1},{"$f":"+AV24/AU24","v":0.25},{"$f":"'[1]LÍNEA 2'!U24","v":1},{"$f":"+AX24/AU24","v":0.25},{"$f":"'[1]LÍNEA 2'!V24","v":1},{"$f":"+AZ24/AU24","v":0.25},{"$f":"'[1]LÍNEA 2'!W24","v":1},{"$f":"+BB24/AU24","v":0.25},{"$f":"'[3]2016'!K44","v":0},{"$f":"'[3]2017'!K45","v":1},{"$f":"'[3]2018'!K45","v":0.1},{"$f":"'[3]2019'!K45","v":0},0,0,1,1,0.1,0.1,0,0,{"$f":"+SUM(BD24:BG24)/AU24","v":0.27500000000000002},0.27500000000000002,0.27500000000000002,{"$f":"'[3]2016'!P44","v":12000},{"$f":"'[3]2016'!Q44","v":0},{"$f":"'[3]2016'!R44","v":0},0," -",{"$f":"'[3]2017'!P45","v":0},{"$f":"'[3]2017'!Q45","v":0},{"$f":"'[3]2017'!R45","v":0}," -"," -",{"$f":"'[3]2018'!P45","v":10000},{"$f":"'[3]2018'!Q45","v":10000},{"$f":"'[3]2018'!R45","v":0},1," -",{"$f":"'[3]2019'!P45","v":10920},{"$f":"'[3]2019'!Q45","v":0},{"$f":"'[3]2019'!R45","v":0},0," -",32920,10000,0,0.30376670716889431," -","10. Reducción de las desigualdades","Atención a grupos vulnerables - Promoción Social",{"$f":"'[1]LÍNEA 2'!AQ24","v":"Sec. Desarrollo Social"}]
[null,null,null,null,null,null,null,null,null,null,null,null,null,null,null,null,null,null,null,null,null,null,null,null,null,null,null,null,null,null,null,null,null,null,null,null,null,null,null,null,null,null,"Brindar 24.000 entradas a personas con discapacidad a espacios de recreación, deporte y cultura.",{"$f":"'[1]LÍNEA 2'!P25","v":" -"},"Número de entradas brindadas a personas con discapacidad espacios de recreación, deporte y cultura.",8666,{"$f":"'[1]LÍNEA 2'!S25","v":24000},{"$f":"'[1]LÍNEA 2'!T25","v":6000},0.25,{"$f":"'[1]LÍNEA 2'!U25","v":6000},0.25,{"$f":"'[1]LÍNEA 2'!V25","v":6000},0.25,{"$f":"'[1]LÍNEA 2'!W25","v":6000},0.25,{"$f":"'[3]2016'!K45","v":10000},{"$f":"'[3]2017'!K46","v":6000},{"$f":"'[3]2018'!K46","v":9784},{"$f":"'[3]2019'!K46","v":0},1.6666666666666667,1,1,1,1.6306666666666667,1,0,0,{"$f":"+SUM(BD25:BG25)/AU25","v":1.0743333333333334},1,1,{"$f":"'[3]2016'!P45","v":50000},{"$f":"'[3]2016'!Q45","v":50000},{"$f":"'[3]2016'!R45","v":15000},1,0.3,{"$f":"'[3]2017'!P46","v":30000},{"$f":"'[3]2017'!Q46","v":30000},{"$f":"'[3]2017'!R46","v":0},1," -",{"$f":"'[3]2018'!P46","v":50000},{"$f":"'[3]2018'!Q46","v":49996},{"$f":"'[3]2018'!R46","v":21427},0.99992000000000003,0.42857428594287544,{"$f":"'[3]2019'!P46","v":0},{"$f":"'[3]2019'!Q46","v":0},{"$f":"'[3]2019'!R46","v":0}," -"," -",130000,129996,36427,0.99996923076923072,0.28021631434813377,"10. Reducción de las desigualdades","Atención a grupos vulnerables - Promoción Social",{"$f":"'[1]LÍNEA 2'!AQ25","v":"Sec. Desarrollo Social"}]
[null,null,null,null,null,null,null,null,null,null,null,null,null,null,null,null,null,null,null,null,null,null,null,null,null,null,null,null,null,null,null,null,null,null,null,null,null,null,null,null,null,null,"Mantener a 400 niñas, niños y adolescentes con discapacidad cognitiva, visual, física, auditiva y múltiple, que no se encuentran incluidos en instituciones educativas oficiales con atención integral en habilitación y rehabilitación.",{"$f":"'[1]LÍNEA 2'!P26","v":" -"},"Número de niñas, niños y adolescentes con discapacidad cognitiva, visual, física, auditiva y múltiple que no se encuentran incluidos en instituciones educativas oficiales con atención integral en habilitación y rehabilitación.",1500,{"$f":"'[1]LÍNEA 2'!S26","v":400},{"$f":"'[1]LÍNEA 2'!T26","v":400},0.25,{"$f":"'[1]LÍNEA 2'!U26","v":400},0.25,{"$f":"'[1]LÍNEA 2'!V26","v":400},0.25,{"$f":"'[1]LÍNEA 2'!W26","v":400},0.25,{"$f":"'[3]2016'!K46","v":186},{"$f":"'[3]2017'!K47","v":139},{"$f":"'[3]2018'!K47","v":139},{"$f":"'[3]2019'!K47","v":0},0.46500000000000002,0.46500000000000002,0.34749999999999998,0.34749999999999998,0.34749999999999998,0.34749999999999998,0,0,0.28999999999999998,0.28999999999999998,0.28999999999999998,{"$f":"'[3]2016'!P46","v":0},{"$f":"'[3]2016'!Q46","v":0},{"$f":"'[3]2016'!R46","v":0}," -"," -",{"$f":"'[3]2017'!P47","v":0},{"$f":"'[3]2017'!Q47","v":0},{"$f":"'[3]2017'!R47","v":0}," -"," -",{"$f":"'[3]2018'!P47","v":0},{"$f":"'[3]2018'!Q47","v":0},{"$f":"'[3]2018'!R47","v":0}," -"," -",{"$f":"'[3]2019'!P47","v":0},{"$f":"'[3]2019'!Q47","v":0},{"$f":"'[3]2019'!R47","v":0}," -"," -",0,0,0," -"," -","10. Reducción de las desigualdades","Atención a grupos vulnerables - Promoción Social",{"$f":"'[1]LÍNEA 2'!AQ26","v":"Sec. Desarrollo Social"}]
[null,null,null,null,null,null,null,null,null,null,null,null,null,null,null,null,null,null,null,null,null,null,null,null,null,null,null,null,null,null,null,null,null,null,null,null,null,null,null,null,null,null,"Mantener 11 personas como apoyos de modelo lingüístico e intérpretes de lengua de señas colombiana en instituciones educativas oficiales para la atención de niñas, niños y adolescentes con discapacidad auditiva.",{"$f":"'[1]LÍNEA 2'!P27","v":2210709},"Número de personas como apoyo de modelo lingüístico e intérpretes de lengua de señas colombiana en instituciones educativas oficiales mantenidos para la atención de niñas, niños y adolescentes con discapacidad auditiva.",11,{"$f":"'[1]LÍNEA 2'!S27","v":11},{"$f":"'[1]LÍNEA 2'!T27","v":11},0.25,{"$f":"'[1]LÍNEA 2'!U27","v":11},0.25,{"$f":"'[1]LÍNEA 2'!V27","v":11},0.25,{"$f":"'[1]LÍNEA 2'!W27","v":11},0.25,{"$f":"'[3]2016'!K47","v":11},{"$f":"'[3]2017'!K48","v":11},{"$f":"'[3]2018'!K48","v":11},{"$f":"'[3]2019'!K48","v":0},1,1,1,1,1,1,0,0,0.75,0.75,0.75,{"$f":"'[3]2016'!P47","v":102500},{"$f":"'[3]2016'!Q47","v":88833},{"$f":"'[3]2016'!R47","v":0},0.86666341463414631," -",{"$f":"'[3]2017'!P48","v":135000},{"$f":"'[3]2017'!Q48","v":135000},{"$f":"'[3]2017'!R48","v":0},1," -",{"$f":"'[3]2018'!P48","v":0},{"$f":"'[3]2018'!Q48","v":0},{"$f":"'[3]2018'!R48","v":0}," -"," -",{"$f":"'[3]2019'!P48","v":0},{"$f":"'[3]2019'!Q48","v":0},{"$f":"'[3]2019'!R48","v":0}," -"," -",237500,223833,0,0.94245473684210523," -","10. Reducción de las desigualdades","Atención a grupos vulnerables - Promoción Social",{"$f":"'[1]LÍNEA 2'!AQ27","v":"Sec. Desarrollo Social"}]
[null,null,null,null,null,null,null,null,null,null,null,null,null,null,null,null,null,null,null,null,null,null,null,null,null,null,null,null,null,null,null,null,null,null,null,null,null,null,null,null,null,null,"Mantener la atención a 300 niñas, niños y adolescentes en condición de discapacidad auditiva mediante los apoyos del modelo lingüísticos e intérpretes en lenguas de señas Colombiana.",{"$f":"'[1]LÍNEA 2'!P28","v":" -"},"Número de niñas, niños y adolescentes en condición de discapacidad auditiva mantenidos mediante los apoyos del modelo lingüísticos e intérpretes en lenguas de señas Colombiana.",300,{"$f":"'[1]LÍNEA 2'!S28","v":300},{"$f":"'[1]LÍNEA 2'!T28","v":300},0.25,{"$f":"'[1]LÍNEA 2'!U28","v":300},0.25,{"$f":"'[1]LÍNEA 2'!V28","v":300},0.25,{"$f":"'[1]LÍNEA 2'!W28","v":300},0.25,{"$f":"'[3]2016'!K48","v":62},{"$f":"'[3]2017'!K49","v":62},{"$f":"'[3]2018'!K49","v":56},{"$f":"'[3]2019'!K49","v":0},0.20666666666666667,0.20666666666666667,0.20666666666666667,0.20666666666666667,0.18666666666666668,0.18666666666666668,0,0,0.15,0.15,0.15,{"$f":"'[3]2016'!P48","v":0},{"$f":"'[3]2016'!Q48","v":0},{"$f":"'[3]2016'!R48","v":0}," -"," -",{"$f":"'[3]2017'!P49","v":0},{"$f":"'[3]2017'!Q49","v":0},{"$f":"'[3]2017'!R49","v":0}," -"," -",{"$f":"'[3]2018'!P49","v":0},{"$f":"'[3]2018'!Q49","v":0},{"$f":"'[3]2018'!R49","v":0}," -"," -",{"$f":"'[3]2019'!P49","v":0},{"$f":"'[3]2019'!Q49","v":0},{"$f":"'[3]2019'!R49","v":0}," -"," -",0,0,0," -"," -","10. Reducción de las desigualdades","Atención a grupos vulnerables - Promoción Social",{"$f":"'[1]LÍNEA 2'!AQ28","v":"Sec. Desarrollo Social"}]
[null,null,null,null,null,null,null,null,null,null,null,null,null,null,null,null,null,null,null,null,null,null,null,null,null,null,null,null,null,null,null,null,null,null,null,null,null,null,null,null,null,null,"Mantener el Plan Municipal de Discapacidad.",{"$f":"'[1]LÍNEA 2'!P29","v":2210273},"Número de Planes Municipales de Discapacidad mantenidos.",1,{"$f":"'[1]LÍNEA 2'!S29","v":1},{"$f":"'[1]LÍNEA 2'!T29","v":1},0.25,{"$f":"'[1]LÍNEA 2'!U29","v":1},0.25,{"$f":"'[1]LÍNEA 2'!V29","v":1},0.25,{"$f":"'[1]LÍNEA 2'!W29","v":1},0.25,{"$f":"'[17]2016'!$K$14","v":1},{"$f":"'[17]2017'!$K$14","v":1},{"$f":"'[17]2018'!$K$14","v":1},{"$f":"'[17]2019'!$K$14","v":0},1,1,1,1,1,1,0,0,0.75,0.75,0.75,{"$f":"'[17]2016'!P14","v":168750},{"$f":"'[17]2016'!Q14","v":93986},{"$f":"'[17]2016'!R14","v":0},0.55695407407407405," -",{"$f":"'[17]2017'!P14","v":168750},{"$f":"'[17]2017'!Q14","v":138750},{"$f":"'[17]2017'!R14","v":0},0.82222222222222219," -",{"$f":"'[17]2018'!P14","v":145000},{"$f":"'[17]2018'!Q14","v":88000},{"$f":"'[17]2018'!R14","v":0},0.60689655172413792," -",{"$f":"'[17]2019'!P14","v":224810},{"$f":"'[17]2019'!Q14","v":0},{"$f":"'[17]2019'!R14","v":0},0," -",707310,320736,0,0.45345887941638036," -","10. Reducción de las desigualdades","Atención a grupos vulnerables - Promoción Social",{"$f":"'[1]LÍNEA 2'!AQ29","v":"Sec. Salud y Ambiente"}]
[null,null,null,null,null,"Disminuir a 0,397 el coeficiente de Gini.",0.40699999999999997,0.39700000000000002,{"$f":"+H30-G30","v":-9.9999999999999534E-3},0.40699999999999997,{"$f":"+J30-G30","v":0},null,0.40699999999999997,{"$f":"+M30-J30","v":0},null,0.40300000000000002,{"$f":"+P30-M30","v":-3.999999999999948E-3},null,0.39700000000000002,{"$f":"+S30-P30","v":-6.0000000000000053E-3},null,0.39900000000000002,{"$f":"+IF(V30=0,0,V30-G30)","v":-7.9999999999999516E-3},null,{"$f":"+IF(X30=0,0,X30-V30)","v":0},null,{"$f":"+IF(Z30=0,0,Z30-X30)","v":0},null,{"$f":"+IF(AB30=0,0,AB30-Z30)","v":0},{"$f":"+IF(K30=0,\" -\",W30/K30)","v":" -"},{"$f":"+IF(K30=0,\" -\",IF(AD30>100%,100%,AD30))","v":" -"},{"$f":"+IF(N30=0,\" -\",Y30/N30)","v":" -"},{"$f":"+IF(N30=0,\" -\",IF(AF30>100%,100%,AF30))","v":" -"},{"$f":"+IF(Q30=0,\" -\",AA30/Q30)","v":0},{"$f":"+IF(Q30=0,\" -\",IF(AH30>100%,100%,AH30))","v":0},{"$f":"+IF(T30=0,\" -\",AC30/T30)","v":0},{"$f":"+IF(T30=0,\" -\",IF(AJ30>100%,100%,AJ30))","v":0},{"$f":"+SUM(AC30,AA30,Y30,W30)/I30","v":0.79999999999999893},{"$f":"+IF(AL30>100%,100%,IF(AL30<0%,0%,AL30))","v":0.79999999999999893},null,null,null,"Desarrollar 4 eventos deportivos y recreativos dirigido a población con discapacidad.",{"$f":"'[1]LÍNEA 2'!P30","v":"2.4.1.2.1.1"},"Número de eventos deportivos y recreativos desarrollados dirigidos a población con discapacidad.",4,{"$f":"'[1]LÍNEA 2'!S30","v":4},{"$f":"'[1]LÍNEA 2'!T30","v":1},0.25,{"$f":"'[1]LÍNEA 2'!U30","v":1},0.25,{"$f":"'[1]LÍNEA 2'!V30","v":1},0.25,{"$f":"'[1]LÍNEA 2'!W30","v":1},0.25,{"$f":"'[23]2016'!$K$12","v":1},{"$f":"'[23]2017'!$K$12","v":1},{"$f":"'[23]2018'!$K$12","v":0},{"$f":"'[23]2019'!$K$12","v":0},1,1,1,1,0,0,0,0,{"$f":"+SUM(BD30:BG30)/AU30","v":0.5},0.5,0.5,{"$f":"'[23]2016'!P12","v":35000},{"$f":"'[23]2016'!Q12","v":34000},{"$f":"'[23]2016'!R12","v":0},0.97142857142857142," -",{"$f":"'[23]2017'!P12","v":104500},{"$f":"'[23]2017'!Q12","v":104500},{"$f":"'[23]2017'!R12","v":0},1," -",{"$f":"'[23]2018'!P12","v":109201},{"$f":"'[23]2018'!Q12","v":0},{"$f":"'[23]2018'!R12","v":0},0," -",{"$f":"'[23]2019'!P12","v":114117},{"$f":"'[23]2019'!Q12","v":0},{"$f":"'[23]2019'!R12","v":0},0," -",362818,138500,0,0.3817340925753408," -","10. Reducción de las desigualdades","Deporte y recreación",{"$f":"'[1]LÍNEA 2'!AQ30","v":"INDERBU"}]
[null,null,null,null,null,null,null,null,null,null,null,null,null,null,null,null,null,null,null,null,null,null,null,null,null,null,null,null,null,null,null,null,null,null,null,null,null,null,null,null,{"$f":"+RESUMEN!J42","v":0.375},"MINORÍAS ÉTNICAS","Implementar y mantener 1 sistema de orientación, capacitación, apoyo y asesoría con enfoque diferencial para minorías étnicas.",{"$f":"'[1]LÍNEA 2'!P31","v":" -"},"Número de sistemas de orientación, capacitación, apoyo y asesoría implementados con enfoque diferencial para minorías étnicas.",0,{"$f":"'[1]LÍNEA 2'!S31","v":1},{"$f":"'[1]LÍNEA 2'!T31","v":1},0.25,{"$f":"'[1]LÍNEA 2'!U31","v":1},0.25,{"$f":"'[1]LÍNEA 2'!V31","v":1},0.25,{"$f":"'[1]LÍNEA 2'!W31","v":1},0.25,{"$f":"'[3]2016'!K49","v":1},{"$f":"'[3]2017'!K50","v":1},{"$f":"'[3]2018'!K50","v":0},{"$f":"'[3]2019'!K50","v":0},1,1,1,1,0,0,0,0,0.5,0.5,0.5,{"$f":"'[3]2016'!P49","v":0},{"$f":"'[3]2016'!Q49","v":0},{"$f":"'[3]2016'!R49","v":0}," -"," -",{"$f":"'[3]2017'!P50","v":0},{"$f":"'[3]2017'!Q50","v":0},{"$f":"'[3]2017'!R50","v":0}," -"," -",{"$f":"'[3]2018'!P50","v":0},{"$f":"'[3]2018'!Q50","v":0},{"$f":"'[3]2018'!R50","v":0}," -"," -",{"$f":"'[3]2019'!P50","v":0},{"$f":"'[3]2019'!Q50","v":0},{"$f":"'[3]2019'!R50","v":0}," -"," -",0,0,0," -"," -","10. Reducción de las desigualdades","Atención a grupos vulnerables - Promoción Social",{"$f":"'[1]LÍNEA 2'!AQ31","v":"Sec. Desarrollo Social"}]
[null,null,null,null,null,null,null,null,null,null,null,null,null,null,null,null,null,null,null,null,null,null,null,null,null,null,null,null,null,null,null,null,null,null,null,null,null,null,null,null,null,null,"Apoyar 4 campañas de sensibilización social contra la discriminación étnica.",{"$f":"'[1]LÍNEA 2'!P32","v":0},"Número de campañas de sensibilización social contra la discriminación étnica apoyadas.",0,{"$f":"'[1]LÍNEA 2'!S32","v":4},{"$f":"'[1]LÍNEA 2'!T32","v":1},0.25,{"$f":"'[1]LÍNEA 2'!U32","v":1},0.25,{"$f":"'[1]LÍNEA 2'!V32","v":1},0.25,{"$f":"'[1]LÍNEA 2'!W32","v":1},0.25,{"$f":"'[3]2016'!K50","v":0},{"$f":"'[3]2017'!K51","v":1},{"$f":"'[3]2018'!K51","v":0},{"$f":"'[3]2019'!K51","v":0},0,0,1,1,0,0,0,0,{"$f":"+SUM(BD32:BG32)/AU32","v":0.25},0.25,0.25,{"$f":"'[3]2016'!P50","v":0},{"$f":"'[3]2016'!Q50","v":0},{"$f":"'[3]2016'!R50","v":0}," -"," -",{"$f":"'[3]2017'!P51","v":0},{"$f":"'[3]2017'!Q51","v":0},{"$f":"'[3]2017'!R51","v":0}," -"," -",{"$f":"'[3]2018'!P51","v":0},{"$f":"'[3]2018'!Q51","v":0},{"$f":"'[3]2018'!R51","v":0}," -"," -",{"$f":"'[3]2019'!P51","v":28529},{"$f":"'[3]2019'!Q51","v":0},{"$f":"'[3]2019'!R51","v":0},0," -",28529,0,0,0," -","10. Reducción de las desigualdades","Atención a grupos vulnerables - Promoción Social",{"$f":"'[1]LÍNEA 2'!AQ32","v":"Sec. Desarrollo Social"}]
[null,null,null,null,null,null,null,null,null,null,null,null,null,null,null,null,null,null,null,null,null,null,null,null,null,null,null,null,null,null,null,null,null,null,null,null,null,null,null,null,{"$f":"+RESUMEN!J43","v":0.62777777777777777},"COMUNIDADES LGTBI","Desarrollar 4 campañas de sensibilización social contra la discriminación social y para la prevención de infecciones de transmisión sexual.",{"$f":"'[1]LÍNEA 2'!P33","v":2210247},"Número de campañas de sensibilización social desarrolladas contra la discriminación social y para la prevención de infecciones de transmisión sexual.",1,{"$f":"'[1]LÍNEA 2'!S33","v":4},{"$f":"'[1]LÍNEA 2'!T33","v":1},0.25,{"$f":"'[1]LÍNEA 2'!U33","v":1},0.25,{"$f":"'[1]LÍNEA 2'!V33","v":1},0.25,{"$f":"'[1]LÍNEA 2'!W33","v":1},0.25,{"$f":"'[17]2016'!$K$15","v":1},{"$f":"'[17]2017'!$K$15","v":1},{"$f":"'[17]2018'!$K$15","v":1},{"$f":"'[17]2019'!$K$15","v":0},1,1,1,1,1,1,0,0,{"$f":"+SUM(BD33:BG33)/AU33","v":0.75},0.75,0.75,{"$f":"'[17]2016'!P15","v":5000},{"$f":"'[17]2016'!Q15","v":3265},{"$f":"'[17]2016'!R15","v":0},0.65300000000000002," -",{"$f":"'[17]2017'!P15","v":50000},{"$f":"'[17]2017'!Q15","v":50000},{"$f":"'[17]2017'!R15","v":0},1," -",{"$f":"'[17]2018'!P15","v":50000},{"$f":"'[17]2018'!Q15","v":50000},{"$f":"'[17]2018'!R15","v":0},1," -",{"$f":"'[17]2019'!P15","v":0},{"$f":"'[17]2019'!Q15","v":0},{"$f":"'[17]2019'!R15","v":0}," -"," -",105000,103265,0,0.9834761904761905," -","10. Reducción de las desigualdades","Atención a grupos vulnerables - Promoción Social",{"$f":"'[1]LÍNEA 2'!AQ33","v":"Sec. Salud y Ambiente"}]
[null,null,null,null,null,null,null,null,null,null,null,null,null,null,null,null,null,null,null,null,null,null,null,null,null,null,null,null,null,null,null,null,null,null,null,null,null,null,null,null,null,null,"Realizar 4 mesas de trabajo con comunidades LGTBI para determinar el diagnóstico poblacional.",{"$f":"'[1]LÍNEA 2'!P34","v":0},"Número de mesas de trabajo realizadas con comunidades LGTBI para determinar el diagnóstico poblacional.",2,{"$f":"'[1]LÍNEA 2'!S34","v":4},{"$f":"'[1]LÍNEA 2'!T34","v":1},0.25,{"$f":"'[1]LÍNEA 2'!U34","v":1},0.25,{"$f":"'[1]LÍNEA 2'!V34","v":1},0.25,{"$f":"'[1]LÍNEA 2'!W34","v":1},0.25,{"$f":"'[3]2016'!K51","v":1},{"$f":"'[3]2017'!K52","v":3},{"$f":"'[3]2018'!K52","v":1},{"$f":"'[3]2019'!K52","v":0},1,1,3,1,1,1,0,0,{"$f":"+SUM(BD34:BG34)/AU34","v":1.25},1,1,{"$f":"'[3]2016'!P51","v":0},{"$f":"'[3]2016'!Q51","v":0},{"$f":"'[3]2016'!R51","v":0}," -"," -",{"$f":"'[3]2017'!P52","v":0},{"$f":"'[3]2017'!Q52","v":0},{"$f":"'[3]2017'!R52","v":0}," -"," -",{"$f":"'[3]2018'!P52","v":0},{"$f":"'[3]2018'!Q52","v":0},{"$f":"'[3]2018'!R52","v":0}," -"," -",{"$f":"'[3]2019'!P52","v":5706},{"$f":"'[3]2019'!Q52","v":0},{"$f":"'[3]2019'!R52","v":0},0," -",5706,0,0,0," -","10. Reducción de las desigualdades","Atención a grupos vulnerables - Promoción Social",{"$f":"'[1]LÍNEA 2'!AQ34","v":"Sec. Desarrollo Social"}]
[null,null,null,null,null,null,null,null,null,null,null,null,null,null,null,null,null,null,null,null,null,null,null,null,null,null,null,null,null,null,null,null,null,null,null,null,null,null,null,null,null,null,"Formular e implementar 1 Política Pública para las comunidades LGTBI.",{"$f":"'[1]LÍNEA 2'!P35","v":" -"},"Número de Políticas Públicas formuladas e implementadas para las comunidades LGTBI.",0,{"$f":"'[1]LÍNEA 2'!S35","v":1},{"$f":"'[1]LÍNEA 2'!T35","v":0},0,{"$f":"'[1]LÍNEA 2'!U35","v":1},0.33,{"$f":"'[1]LÍNEA 2'!V35","v":1},0.33,{"$f":"'[1]LÍNEA 2'!W35","v":1},0.34,{"$f":"'[3]2016'!K52","v":0},{"$f":"'[3]2017'!K53","v":0.2},{"$f":"'[3]2018'!K53","v":0.2},{"$f":"'[3]2019'!K53","v":0}," -"," -",0.2,0.2,0.2,0.2,0,0,{"$f":"+AVERAGE(BE35:BG35)/AU35","v":0.13333333333333333},0.13333333333333333,0.13333333333333333,{"$f":"'[3]2016'!P52","v":0},{"$f":"'[3]2016'!Q52","v":0},{"$f":"'[3]2016'!R52","v":0}," -"," -",{"$f":"'[3]2017'!P53","v":0},{"$f":"'[3]2017'!Q53","v":0},{"$f":"'[3]2017'!R53","v":0}," -"," -",{"$f":"'[3]2018'!P53","v":0},{"$f":"'[3]2018'!Q53","v":0},{"$f":"'[3]2018'!R53","v":0}," -"," -",{"$f":"'[3]2019'!P53","v":0},{"$f":"'[3]2019'!Q53","v":0},{"$f":"'[3]2019'!R53","v":0}," -"," -",0,0,0," -"," -","10. Reducción de las desigualdades","Atención a grupos vulnerables - Promoción Social",{"$f":"'[1]LÍNEA 2'!AQ35","v":"Sec. Desarrollo Social"}]
[null,null,null,null,null,null,null,null,null,null,null,null,null,null,null,null,null,null,null,null,null,null,null,null,null,null,null,null,null,null,null,null,null,null,null,null,null,null,null,null,{"$f":"+RESUMEN!J44","v":0.52388888888888896},"PREVENCIÓN Y ATENCIÓN A POBLACIÓN EN CONDICIÓN DE ADICCIÓN A SUSTANCIAS PSICOACTIVAS","Realizar 4 campaña de prevención del consumo de sustancias psicoactivas con énfasis en población escolar.",{"$f":"'[1]LÍNEA 2'!P36","v":2210262},"Número de campañas de prevención del consumo de sustancias psicoactivas con énfasis en población escolar realizadas.",0,{"$f":"'[1]LÍNEA 2'!S36","v":4},{"$f":"'[1]LÍNEA 2'!T36","v":1},0.25,{"$f":"'[1]LÍNEA 2'!U36","v":1},0.25,{"$f":"'[1]LÍNEA 2'!V36","v":1},0.25,{"$f":"'[1]LÍNEA 2'!W36","v":1},0.25,{"$f":"'[3]2016'!K53","v":0},{"$f":"'[3]2017'!K54","v":1},{"$f":"'[3]2018'!K54","v":0.62},{"$f":"'[3]2019'!K54","v":0},0,0,1,1,0.62,0.62,0,0,{"$f":"+SUM(BD36:BG36)/AU36","v":0.40500000000000003},0.40500000000000003,0.40500000000000003,{"$f":"'[3]2016'!P53","v":40000},{"$f":"'[3]2016'!Q53","v":0},{"$f":"'[3]2016'!R53","v":0},0," -",{"$f":"'[3]2017'!P54","v":59539},{"$f":"'[3]2017'!Q54","v":53385},{"$f":"'[3]2017'!R54","v":0},0.89663917768185564," -",{"$f":"'[3]2018'!P54","v":43609},{"$f":"'[3]2018'!Q54","v":43609},{"$f":"'[3]2018'!R54","v":0},1," -",{"$f":"'[3]2019'!P54","v":131043},{"$f":"'[3]2019'!Q54","v":0},{"$f":"'[3]2019'!R54","v":0},0," -",274191,96994,0,0.35374611128738725," -","3. Salud y bienestar","Atención a grupos vulnerables - Promoción Social",{"$f":"'[1]LÍNEA 2'!AQ36","v":"Sec. Desarrollo Social"}]
[null,null,null,null,null,null,null,null,null,null,null,null,null,null,null,null,null,null,null,null,null,null,null,null,null,null,null,null,null,null,null,null,null,null,null,null,null,null,null,null,null,null,"Implementar y mantener 1 estrategia basada en grupos de apoyo de pares en los colegios para acompañar a los jóvenes en condición de adicción a sustancias psicoactivas.",{"$f":"'[1]LÍNEA 2'!P37","v":2210262},"Número de estrategias basadas en grupos de apoyo de pares implementadas y mantenidas en los colegios para acompañar a los jóvenes en condición de adicción a sustancias psicoactivas.",0,{"$f":"'[1]LÍNEA 2'!S37","v":1},{"$f":"'[1]LÍNEA 2'!T37","v":1},0.25,{"$f":"'[1]LÍNEA 2'!U37","v":1},0.25,{"$f":"'[1]LÍNEA 2'!V37","v":1},0.25,{"$f":"'[1]LÍNEA 2'!W37","v":1},0.25,{"$f":"'[3]2016'!K54","v":0},{"$f":"'[3]2017'!K55","v":1},{"$f":"'[3]2018'!K55","v":1},{"$f":"'[3]2019'!K55","v":0},0,0,1,1,1,1,0,0,0.5,0.5,0.5,{"$f":"'[3]2016'!P54","v":30000},{"$f":"'[3]2016'!Q54","v":0},{"$f":"'[3]2016'!R54","v":0},0," -",{"$f":"'[3]2017'!P55","v":0},{"$f":"'[3]2017'!Q55","v":0},{"$f":"'[3]2017'!R55","v":0}," -"," -",{"$f":"'[3]2018'!P55","v":30000},{"$f":"'[3]2018'!Q55","v":30000},{"$f":"'[3]2018'!R55","v":0},1," -",{"$f":"'[3]2019'!P55","v":32760},{"$f":"'[3]2019'!Q55","v":0},{"$f":"'[3]2019'!R55","v":0},0," -",92760,30000,0,0.32341526520051744," -","3. Salud y bienestar","Atención a grupos vulnerables - Promoción Social",{"$f":"'[1]LÍNEA 2'!AQ37","v":"Sec. Desarrollo Social"}]
[null,null,null,null,null,null,null,null,null,null,null,null,null,null,null,null,null,null,null,null,null,null,null,null,null,null,null,null,null,null,null,null,null,null,null,null,null,null,null,null,null,null,"Implementar y mantener 1 programa de atención inicial virtual y/o presencial con apoyo terapéutico para la población en condición de adicción a sustancias psicoactivas.",{"$f":"'[1]LÍNEA 2'!P38","v":2210262},"Número de programas de atención inicial virtual y/o presencial con apoyo terapéutico implementadas y mantenidas para la población en condición de adicción a sustancias psicoactivas.",0,{"$f":"'[1]LÍNEA 2'!S38","v":1},{"$f":"'[1]LÍNEA 2'!T38","v":0},0,{"$f":"'[1]LÍNEA 2'!U38","v":1},0.33,{"$f":"'[1]LÍNEA 2'!V38","v":1},0.33,{"$f":"'[1]LÍNEA 2'!W38","v":1},0.34,{"$f":"'[3]2016'!K55","v":0},{"$f":"'[3]2017'!K56","v":1},{"$f":"'[3]2018'!K56","v":1},{"$f":"'[3]2019'!K56","v":0}," -"," -",1,1,1,1,0,0,{"$f":"+AVERAGE(BE38:BG38)/AU38","v":0.66666666666666663},0.66666666666666663,0.66666666666666663,{"$f":"'[3]2016'!P55","v":15000},{"$f":"'[3]2016'!Q55","v":0},{"$f":"'[3]2016'!R55","v":0},0," -",{"$f":"'[3]2017'!P56","v":0},{"$f":"'[3]2017'!Q56","v":0},{"$f":"'[3]2017'!R56","v":0}," -"," -",{"$f":"'[3]2018'!P56","v":0},{"$f":"'[3]2018'!Q56","v":0},{"$f":"'[3]2018'!R56","v":0}," -"," -",{"$f":"'[3]2019'!P56","v":54601},{"$f":"'[3]2019'!Q56","v":0},{"$f":"'[3]2019'!R56","v":0},0," -",69601,0,0,0," -","3. Salud y bienestar","Atención a grupos vulnerables - Promoción Social",{"$f":"'[1]LÍNEA 2'!AQ38","v":"Sec. Desarrollo Social"}]
[null,null,null,null,null,null,null,null,null,null,null,null,null,null,null,null,null,null,null,null,null,null,null,null,null,null,null,null,null,null,null,null,null,null,null,null,null,null,null,null,{"$f":"+RESUMEN!J45","v":0.15476190476190477},"TRABAJADORAS Y TRABAJADORES SEXUALES","Realizar 7 jornadas de promoción de la salud, prevención de infecciones de transmisión sexual en trabajadoras y trabajadores sexuales.",{"$f":"'[1]LÍNEA 2'!P39","v":2210263},"Número de jornadas de promoción de la salud, prevención de infecciones de transmisión sexual realizadas en trabajadoras y trabajadores sexuales.",0,{"$f":"'[1]LÍNEA 2'!S39","v":7},{"$f":"'[1]LÍNEA 2'!T39","v":1},0.14285714285714285,{"$f":"'[1]LÍNEA 2'!U39","v":2},0.2857142857142857,{"$f":"'[1]LÍNEA 2'!V39","v":2},0.2857142857142857,{"$f":"'[1]LÍNEA 2'!W39","v":2},0.2857142857142857,{"$f":"'[3]2016'!K56","v":0},{"$f":"'[3]2017'!K57","v":2},{"$f":"'[3]2018'!K57","v":0},{"$f":"'[3]2019'!K57","v":0},0,0,1,1,0,0,0,0,{"$f":"+SUM(BD39:BG39)/AU39","v":0.2857142857142857},0.2857142857142857,0.2857142857142857,{"$f":"'[3]2016'!P56","v":10000},{"$f":"'[3]2016'!Q56","v":0},{"$f":"'[3]2016'!R56","v":0},0," -",{"$f":"'[3]2017'!P57","v":0},{"$f":"'[3]2017'!Q57","v":0},{"$f":"'[3]2017'!R57","v":0}," -"," -",{"$f":"'[3]2018'!P57","v":0},{"$f":"'[3]2018'!Q57","v":0},{"$f":"'[3]2018'!R57","v":0}," -"," -",{"$f":"'[3]2019'!P57","v":5000},{"$f":"'[3]2019'!Q57","v":0},{"$f":"'[3]2019'!R57","v":0},0," -",15000,0,0,0," -","10. Reducción de las desigualdades","Atención a grupos vulnerables - Promoción Social",{"$f":"'[1]LÍNEA 2'!AQ39","v":"Sec. Desarrollo Social"}]
[null,null,null,null,null,null,null,null,null,null,null,null,null,null,null,null,null,null,null,null,null,null,null,null,null,null,null,null,null,null,null,null,null,null,null,null,null,null,null,null,null,null,"Realizar 1 censo de la población trabajadora sexual.",{"$f":"'[1]LÍNEA 2'!P40","v":2210263},"Número de censos de la población trabajadora sexual realizados.",0,{"$f":"'[1]LÍNEA 2'!S40","v":1},{"$f":"'[1]LÍNEA 2'!T40","v":0},0,{"$f":"'[1]LÍNEA 2'!U40","v":1},1,{"$f":"'[1]LÍNEA 2'!V40","v":0},0,{"$f":"'[1]LÍNEA 2'!W40","v":0},0,{"$f":"'[3]2016'!K57","v":0},{"$f":"'[3]2017'!K58","v":0},{"$f":"'[3]2018'!K58","v":0},{"$f":"'[3]2019'!K58","v":0}," -"," -",0,0," -"," -"," -"," -",{"$f":"+SUM(BD40:BG40)/AU40","v":0},0,0,{"$f":"'[3]2016'!P57","v":20000},{"$f":"'[3]2016'!Q57","v":0},{"$f":"'[3]2016'!R57","v":0},0," -",{"$f":"'[3]2017'!P58","v":0},{"$f":"'[3]2017'!Q58","v":0},{"$f":"'[3]2017'!R58","v":0}," -"," -",{"$f":"'[3]2018'!P58","v":0},{"$f":"'[3]2018'!Q58","v":0},{"$f":"'[3]2018'!R58","v":0}," -"," -",{"$f":"'[3]2019'!P58","v":0},{"$f":"'[3]2019'!Q58","v":0},{"$f":"'[3]2019'!R58","v":0}," -"," -",20000,0,0,0," -","10. Reducción de las desigualdades","Atención a grupos vulnerables - Promoción Social",{"$f":"'[1]LÍNEA 2'!AQ40","v":"Sec. Desarrollo Social"}]
[null,null,null,null,null,null,null,null,null,null,null,null,null,null,null,null,null,null,null,null,null,null,null,null,null,null,null,null,null,null,null,null,null,null,null,null,null,null,null,null,null,null,"Implementar y mantener la ruta de atención a la población trabajadora sexual.",{"$f":"'[1]LÍNEA 2'!P41","v":" -"},"Número de rutas de atención a la población trabajadora sexual implementadas y mantenidas.",0,{"$f":"'[1]LÍNEA 2'!S41","v":1},{"$f":"'[1]LÍNEA 2'!T41","v":0},0,{"$f":"'[1]LÍNEA 2'!U41","v":1},0.33,{"$f":"'[1]LÍNEA 2'!V41","v":1},0.33,{"$f":"'[1]LÍNEA 2'!W41","v":1},0.34,{"$f":"'[3]2016'!K58","v":0},{"$f":"'[3]2017'!K59","v":1},{"$f":"'[3]2018'!K59","v":0},{"$f":"'[3]2019'!K59","v":0}," -"," -",1,1,0,0,0,0,{"$f":"+AVERAGE(BE41:BG41)/AU41","v":0.33333333333333331},0.33333333333333331,0.33333333333333331,{"$f":"'[3]2016'!P58","v":0},{"$f":"'[3]2016'!Q58","v":0},{"$f":"'[3]2016'!R58","v":0}," -"," -",{"$f":"'[3]2017'!P59","v":0},{"$f":"'[3]2017'!Q59","v":0},{"$f":"'[3]2017'!R59","v":0}," -"," -",{"$f":"'[3]2018'!P59","v":0},{"$f":"'[3]2018'!Q59","v":0},{"$f":"'[3]2018'!R59","v":0}," -"," -",{"$f":"'[3]2019'!P59","v":0},{"$f":"'[3]2019'!Q59","v":0},{"$f":"'[3]2019'!R59","v":0}," -"," -",0,0,0," -"," -","10. Reducción de las desigualdades","Atención a grupos vulnerables - Promoción Social",{"$f":"'[1]LÍNEA 2'!AQ41","v":"Sec. Desarrollo Social"}]
[null,null,null,null,null,null,null,null,null,null,null,null,null,null,null,null,null,null,null,null,null,null,null,null,null,null,null,null,null,null,null,null,null,null,null,null,null,null,null,null,null,null,"Formular e implementar la Política Pública para la población trabajadora sexual.",{"$f":"'[1]LÍNEA 2'!P42","v":" -"},"Número de Políticas Públicas para la población trabajadora sexual formuladas e implementadas.",0,{"$f":"'[1]LÍNEA 2'!S42","v":1},{"$f":"'[1]LÍNEA 2'!T42","v":0},0,{"$f":"'[1]LÍNEA 2'!U42","v":1},0.33,{"$f":"'[1]LÍNEA 2'!V42","v":1},0.33,{"$f":"'[1]LÍNEA 2'!W42","v":1},0.34,{"$f":"'[3]2016'!K59","v":0},{"$f":"'[3]2017'!K60","v":0},{"$f":"'[3]2018'!K60","v":0},{"$f":"'[3]2019'!K60","v":0}," -"," -",0,0,0,0,0,0,{"$f":"+AVERAGE(BE42:BG42)/AU42","v":0},0,0,{"$f":"'[3]2016'!P59","v":0},{"$f":"'[3]2016'!Q59","v":0},{"$f":"'[3]2016'!R59","v":0}," -"," -",{"$f":"'[3]2017'!P60","v":0},{"$f":"'[3]2017'!Q60","v":0},{"$f":"'[3]2017'!R60","v":0}," -"," -",{"$f":"'[3]2018'!P60","v":0},{"$f":"'[3]2018'!Q60","v":0},{"$f":"'[3]2018'!R60","v":0}," -"," -",{"$f":"'[3]2019'!P60","v":0},{"$f":"'[3]2019'!Q60","v":0},{"$f":"'[3]2019'!R60","v":0}," -"," -",0,0,0," -"," -","10. Reducción de las desigualdades","Atención a grupos vulnerables - Promoción Social",{"$f":"'[1]LÍNEA 2'!AQ42","v":"Sec. Desarrollo Social"}]
[null,null,null,null,null,null,null,null,null,null,null,null,null,null,null,null,null,null,null,null,null,null,null,null,null,null,null,null,null,null,null,null,null,null,null,null,null,null,null,null,{"$f":"+RESUMEN!J46","v":0.52503720238095242},"VÍCTIMAS DEL CONFLICTO INTERNO ARMADO","Mantener la ruta de seguridad para prevenir riesgos y proteger a víctimas del conflicto interno armado.",{"$f":"'[1]LÍNEA 2'!P43","v":2210979},"Número de rutas de seguridad para prevenir riesgos y proteger a víctimas del conflicto interno armado.",1,{"$f":"'[1]LÍNEA 2'!S43","v":1},{"$f":"'[1]LÍNEA 2'!T43","v":1},0.25,{"$f":"'[1]LÍNEA 2'!U43","v":1},0.25,{"$f":"'[1]LÍNEA 2'!V43","v":1},0.25,{"$f":"'[1]LÍNEA 2'!W43","v":1},0.25,{"$f":"'[2]2016'!K25","v":1},{"$f":"'[2]2017'!K25","v":1},{"$f":"'[2]2018'!K25","v":1},{"$f":"'[2]2019'!K25","v":0},1,1,1,1,1,1,0,0,0.75,0.75,0.75,{"$f":"'[2]2016'!P25","v":130000},{"$f":"'[2]2016'!Q25","v":130000},{"$f":"'[2]2016'!R25","v":0},1," -",{"$f":"'[2]2017'!P25","v":58500},{"$f":"'[2]2017'!Q25","v":0},{"$f":"'[2]2017'!R25","v":0},0," -",{"$f":"'[2]2018'!P25","v":40000},{"$f":"'[2]2018'!Q25","v":2146},{"$f":"'[2]2018'!R25","v":0},5.3650000000000003E-2," -",{"$f":"'[2]2019'!P25","v":50000},{"$f":"'[2]2019'!Q25","v":0},{"$f":"'[2]2019'!R25","v":0},0," -",278500,132146,0,0.47449192100538601," -","10. Reducción de las desigualdades","Atención a grupos vulnerables - Promoción Social",{"$f":"'[1]LÍNEA 2'!AQ43","v":"Sec. Interior"}]
[null,null,null,null,null,null,null,null,null,null,null,null,null,null,null,null,null,null,null,null,null,null,null,null,null,null,null,null,null,null,null,null,null,null,null,null,null,null,null,null,null,null,"Mantener actualizado el PAT, mapa de riesgos, plan de prevención y protección y el plan de contingencia.",{"$f":"'[1]LÍNEA 2'!P44","v":0},"Número de PAT, mapa de riesgos, plan de prevención y protección y el plan de contingencia mantenidos actualizados.",4,{"$f":"'[1]LÍNEA 2'!S44","v":4},{"$f":"'[1]LÍNEA 2'!T44","v":4},0.25,{"$f":"'[1]LÍNEA 2'!U44","v":4},0.25,{"$f":"'[1]LÍNEA 2'!V44","v":4},0.25,{"$f":"'[1]LÍNEA 2'!W44","v":4},0.25,{"$f":"'[2]2016'!K26","v":3},{"$f":"'[2]2017'!K26","v":4},{"$f":"'[2]2018'!K26","v":4},{"$f":"'[2]2019'!K26","v":0},0.75,0.75,1,1,1,1,0,0,0.6875,0.6875,0.6875,{"$f":"'[2]2016'!P26","v":270000},{"$f":"'[2]2016'!Q26","v":166350},{"$f":"'[2]2016'!R26","v":0},0.61611111111111116," -",{"$f":"'[2]2017'!P26","v":0},{"$f":"'[2]2017'!Q26","v":0},{"$f":"'[2]2017'!R26","v":0}," -"," -",{"$f":"'[2]2018'!P26","v":0},{"$f":"'[2]2018'!Q26","v":0},{"$f":"'[2]2018'!R26","v":0}," -"," -",{"$f":"'[2]2019'!P26","v":35000},{"$f":"'[2]2019'!Q26","v":0},{"$f":"'[2]2019'!R26","v":0},0," -",305000,166350,0,0.54540983606557381," -","10. Reducción de las desigualdades","Atención a grupos vulnerables - Promoción Social",{"$f":"'[1]LÍNEA 2'!AQ44","v":"Sec. Interior"}]
[null,null,null,null,null,null,null,null,null,null,null,null,null,null,null,null,null,null,null,null,null,null,null,null,null,null,null,null,null,null,null,null,null,null,null,null,null,null,null,null,null,null,"Realizar y mantener actualizada la caracterización de las víctimas.",{"$f":"'[1]LÍNEA 2'!P45","v":2210979},"Número de caracterizaciones de las víctimas realizadas y mantenidas actualizadas.",1,{"$f":"'[1]LÍNEA 2'!S45","v":1},{"$f":"'[1]LÍNEA 2'!T45","v":1},0.25,{"$f":"'[1]LÍNEA 2'!U45","v":1},0.25,{"$f":"'[1]LÍNEA 2'!V45","v":1},0.25,{"$f":"'[1]LÍNEA 2'!W45","v":1},0.25,{"$f":"'[2]2016'!K27","v":1},{"$f":"'[2]2017'!K27","v":1},{"$f":"'[2]2018'!K27","v":1},{"$f":"'[2]2019'!K27","v":0},1,1,1,1,1,1,0,0,0.75,0.75,0.75,{"$f":"'[2]2016'!P27","v":0},{"$f":"'[2]2016'!Q27","v":0},{"$f":"'[2]2016'!R27","v":0}," -"," -",{"$f":"'[2]2017'!P27","v":73000},{"$f":"'[2]2017'!Q27","v":0},{"$f":"'[2]2017'!R27","v":0},0," -",{"$f":"'[2]2018'!P27","v":103600},{"$f":"'[2]2018'!Q27","v":28200},{"$f":"'[2]2018'!R27","v":0},0.27220077220077221," -",{"$f":"'[2]2019'!P27","v":150000},{"$f":"'[2]2019'!Q27","v":0},{"$f":"'[2]2019'!R27","v":0},0," -",326600,28200,0,8.6344151867728106E-2," -","10. Reducción de las desigualdades","Atención a grupos vulnerables - Promoción Social",{"$f":"'[1]LÍNEA 2'!AQ45","v":"Sec. Interior"}]
[null,null,null,null,null,null,null,null,null,null,null,null,null,null,null,null,null,null,null,null,null,null,null,null,null,null,null,null,null,null,null,null,null,null,null,null,null,null,null,null,null,null,"Mantener el fortalecimiento a la mesa de participación de víctimas.",{"$f":"'[1]LÍNEA 2'!P46","v":2210979},"Número de mesas de participación a víctimas con el fortalecimiento mantenido.",1,{"$f":"'[1]LÍNEA 2'!S46","v":1},{"$f":"'[1]LÍNEA 2'!T46","v":1},0.25,{"$f":"'[1]LÍNEA 2'!U46","v":1},0.25,{"$f":"'[1]LÍNEA 2'!V46","v":1},0.25,{"$f":"'[1]LÍNEA 2'!W46","v":1},0.25,{"$f":"'[2]2016'!K28","v":1},{"$f":"'[2]2017'!K28","v":1},{"$f":"'[2]2018'!K28","v":0.5},{"$f":"'[2]2019'!K28","v":0},1,1,1,1,0.5,0.5,0,0,0.625,0.625,0.625,{"$f":"'[2]2016'!P28","v":100000},{"$f":"'[2]2016'!Q28","v":3994},{"$f":"'[2]2016'!R28","v":0},3.9940000000000003E-2," -",{"$f":"'[2]2017'!P28","v":50000},{"$f":"'[2]2017'!Q28","v":12799},{"$f":"'[2]2017'!R28","v":0},0.25597999999999999," -",{"$f":"'[2]2018'!P28","v":85000},{"$f":"'[2]2018'!Q28","v":8108},{"$f":"'[2]2018'!R28","v":0},9.5388235294117649E-2," -",{"$f":"'[2]2019'!P28","v":65000},{"$f":"'[2]2019'!Q28","v":0},{"$f":"'[2]2019'!R28","v":0},0," -",300000,24901,0,8.3003333333333332E-2," -","10. Reducción de las desigualdades","Atención a grupos vulnerables - Promoción Social",{"$f":"'[1]LÍNEA 2'!AQ46","v":"Sec. Interior"}]
[null,null,null,null,null,null,null,null,null,null,null,null,null,null,null,null,null,null,null,null,null,null,null,null,null,null,null,null,null,null,null,null,null,null,null,null,null,null,null,null,null,null,"Mantener la ayuda humanitaria de urgencia y en transición incluyendo asistencia exequial al 100% de la población víctima del conflicto interno armado según requisitos de ley.",{"$f":"'[1]LÍNEA 2'!P47","v":2210979},"Porcentaje de población víctima del conflicto interno armado que cumpla con los requisitos de ley con ayuda humanitaria de urgencia y en transición incluyendo asistencia exequial garantizada.",1,{"$f":"'[1]LÍNEA 2'!S47","v":1},{"$f":"'[1]LÍNEA 2'!T47","v":1},0.25,{"$f":"'[1]LÍNEA 2'!U47","v":1},0.25,{"$f":"'[1]LÍNEA 2'!V47","v":1},0.25,{"$f":"'[1]LÍNEA 2'!W47","v":1},0.25,{"$f":"'[2]2016'!K29","v":1},{"$f":"'[2]2017'!K29","v":1},{"$f":"'[2]2018'!K29","v":1},{"$f":"'[2]2019'!K29","v":0},1,1,1,1,1,1,0,0,0.75,0.75,0.75,{"$f":"'[2]2016'!P29","v":570000},{"$f":"'[2]2016'!Q29","v":352788},{"$f":"'[2]2016'!R29","v":0},0.61892631578947366," -",{"$f":"'[2]2017'!P29","v":285500},{"$f":"'[2]2017'!Q29","v":280878},{"$f":"'[2]2017'!R29","v":0},0.98381085814360769," -",{"$f":"'[2]2018'!P29","v":310000},{"$f":"'[2]2018'!Q29","v":183614},{"$f":"'[2]2018'!R29","v":0},0.59230322580645156," -",{"$f":"'[2]2019'!P29","v":435000},{"$f":"'[2]2019'!Q29","v":0},{"$f":"'[2]2019'!R29","v":0},0," -",1600500,817280,0,0.51064042486722894," -","10. Reducción de las desigualdades","Atención a grupos vulnerables - Promoción Social",{"$f":"'[1]LÍNEA 2'!AQ47","v":"Sec. Interior"}]
[null,null,null,null,null,"Mantener al 100% la cobertura en salud a la población víctima del conflicto interno armado.",1,1,{"$f":"+H48","v":1},1,{"$f":"+J48","v":1},null,1,{"$f":"+M48","v":1},null,1,{"$f":"+P48","v":1},null,1,{"$f":"+S48","v":1},null,0.997,{"$f":"+V48","v":0.997},null,{"$f":"+X48","v":0},null,{"$f":"+Z48","v":0},null,{"$f":"+AB48","v":0},{"$f":"+IF(K48=0,\" -\",W48/K48)","v":0.997},{"$f":"+IF(K48=0,\" -\",IF(AD48>100%,100%,AD48))","v":0.997},{"$f":"+IF(N48=0,\" -\",Y48/N48)","v":0},{"$f":"+IF(N48=0,\" -\",IF(AF48>100%,100%,AF48))","v":0},{"$f":"+IF(Q48=0,\" -\",AA48/Q48)","v":0},{"$f":"+IF(Q48=0,\" -\",IF(AH48>100%,100%,AH48))","v":0},{"$f":"+IF(T48=0,\" -\",AC48/T48)","v":0},{"$f":"+IF(T48=0,\" -\",IF(AJ48>100%,100%,AJ48))","v":0},{"$f":"+AVERAGE(W48,Y48,AA48,AC48)","v":0.24925},{"$f":"+IF(AL48>100%,100%,IF(AL48<0%,0%,AL48))","v":0.24925},null,null,null,"Mantener el 100% de los procesos de retorno y reubicación a la población víctima del conflicto interno armado que se presente.",{"$f":"'[1]LÍNEA 2'!P48","v":2210979},"Porcentaje de procesos de retorno y reubicación a la población víctima del conflicto interno armado mantenidos.",1,{"$f":"'[1]LÍNEA 2'!S48","v":1},{"$f":"'[1]LÍNEA 2'!T48","v":1},0.25,{"$f":"'[1]LÍNEA 2'!U48","v":1},0.25,{"$f":"'[1]LÍNEA 2'!V48","v":1},0.25,{"$f":"'[1]LÍNEA 2'!W48","v":1},0.25,{"$f":"'[2]2016'!K30","v":0},{"$f":"'[2]2017'!K30","v":1},{"$f":"'[2]2018'!K30","v":0},{"$f":"'[2]2019'!K30","v":0},0,0,1,1,0,0,0,0,0.25,0.25,0.25,{"$f":"'[2]2016'!P30","v":0},{"$f":"'[2]2016'!Q30","v":0},{"$f":"'[2]2016'!R30","v":0}," -"," -",{"$f":"'[2]2017'!P30","v":187530},{"$f":"'[2]2017'!Q30","v":0},{"$f":"'[2]2017'!R30","v":0},0," -",{"$f":"'[2]2018'!P30","v":200000},{"$f":"'[2]2018'!Q30","v":0},{"$f":"'[2]2018'!R30","v":0},0," -",{"$f":"'[2]2019'!P30","v":30000},{"$f":"'[2]2019'!Q30","v":0},{"$f":"'[2]2019'!R30","v":0},0," -",417530,0,0,0," -","10. Reducción de las desigualdades","Atención a grupos vulnerables - Promoción Social",{"$f":"'[1]LÍNEA 2'!AQ48","v":"Sec. Interior"}]
[null,null,null,null,null,null,null,null,null,null,null,null,null,null,null,null,null,null,null,null,null,null,null,null,null,null,null,null,null,null,null,null,null,null,null,null,null,null,null,null,null,null,"Apoyar 7 iniciativas encaminadas a generar garantías de no repetición y reparación simbólica a víctimas del conflicto interno armado.",{"$f":"'[1]LÍNEA 2'!P49","v":2210979},"Número de iniciativas encaminadas a generar garantías de no repetición y reparación simbólica a víctimas del conflicto interno armado apoyados.",0,{"$f":"'[1]LÍNEA 2'!S49","v":7},{"$f":"'[1]LÍNEA 2'!T49","v":0},0,{"$f":"'[1]LÍNEA 2'!U49","v":3},0.42857142857142855,{"$f":"'[1]LÍNEA 2'!V49","v":2},0.2857142857142857,{"$f":"'[1]LÍNEA 2'!W49","v":2},0.2857142857142857,{"$f":"'[2]2016'!K31","v":0},{"$f":"'[2]2017'!K31","v":2},{"$f":"'[2]2018'!K31","v":1},{"$f":"'[2]2019'!K31","v":0}," -"," -",0.66666666666666663,0.66666666666666663,0.5,0.5,0,0,{"$f":"+SUM(BD49:BG49)/AU49","v":0.42857142857142855},0.42857142857142855,0.42857142857142855,{"$f":"'[2]2016'!P31","v":0},{"$f":"'[2]2016'!Q31","v":0},{"$f":"'[2]2016'!R31","v":0}," -"," -",{"$f":"'[2]2017'!P31","v":40000},{"$f":"'[2]2017'!Q31","v":0},{"$f":"'[2]2017'!R31","v":0},0," -",{"$f":"'[2]2018'!P31","v":50000},{"$f":"'[2]2018'!Q31","v":0},{"$f":"'[2]2018'!R31","v":0},0," -",{"$f":"'[2]2019'!P31","v":50000},{"$f":"'[2]2019'!Q31","v":0},{"$f":"'[2]2019'!R31","v":0},0," -",140000,0,0,0," -","10. Reducción de las desigualdades","Atención a grupos vulnerables - Promoción Social",{"$f":"'[1]LÍNEA 2'!AQ49","v":"Sec. Interior"}]
[null,null,null,null,null,null,null,null,null,null,null,null,null,null,null,null,null,null,null,null,null,null,null,null,null,null,null,null,null,null,null,null,null,null,null,null,null,null,null,null,null,null,"Conmemorar el día de memoria y de solidaridad con las víctimas del conflicto interno armado.",{"$f":"'[1]LÍNEA 2'!P50","v":2210979},"Número de días de memoria y de solidaridad con las víctimas del conflicto interno armado conmemorados.",4,{"$f":"'[1]LÍNEA 2'!S50","v":1},{"$f":"'[1]LÍNEA 2'!T50","v":1},0.25,{"$f":"'[1]LÍNEA 2'!U50","v":1},0.25,{"$f":"'[1]LÍNEA 2'!V50","v":1},0.25,{"$f":"'[1]LÍNEA 2'!W50","v":1},0.25,{"$f":"'[2]2016'!K32","v":1},{"$f":"'[2]2017'!K32","v":3},{"$f":"'[2]2018'!K32","v":0.5},{"$f":"'[2]2019'!K32","v":0},1,1,3,1,0.5,0.5,0,0,1.125,1,1,{"$f":"'[2]2016'!P32","v":0},{"$f":"'[2]2016'!Q32","v":0},{"$f":"'[2]2016'!R32","v":1500}," -",1,{"$f":"'[2]2017'!P32","v":30000},{"$f":"'[2]2017'!Q32","v":30000},{"$f":"'[2]2017'!R32","v":0},1," -",{"$f":"'[2]2018'!P32","v":40000},{"$f":"'[2]2018'!Q32","v":39917},{"$f":"'[2]2018'!R32","v":0},0.99792499999999995," -",{"$f":"'[2]2019'!P32","v":10000},{"$f":"'[2]2019'!Q32","v":0},{"$f":"'[2]2019'!R32","v":0},0," -",80000,69917,1500,0.87396249999999998,2.14540097544231E-2,"10. Reducción de las desigualdades","Atención a grupos vulnerables - Promoción Social",{"$f":"'[1]LÍNEA 2'!AQ50","v":"Sec. Interior"}]
[null,null,null,null,null,null,null,null,null,null,null,null,null,null,null,null,null,null,null,null,null,null,null,null,null,null,null,null,null,null,null,null,null,null,null,null,null,null,null,null,null,null,"Mantener el apoyo logístico para la realización del comité territorial de justicia transicional con sus mesas temáticas.",{"$f":"'[1]LÍNEA 2'!P51","v":2210979},"Número de apoyo logístico mantenidos para la realización del comité territorial de justicia transicional con sus mesas temáticas.",1,{"$f":"'[1]LÍNEA 2'!S51","v":1},{"$f":"'[1]LÍNEA 2'!T51","v":0},0,{"$f":"'[1]LÍNEA 2'!U51","v":1},0.33,{"$f":"'[1]LÍNEA 2'!V51","v":1},0.33,{"$f":"'[1]LÍNEA 2'!W51","v":1},0.34,{"$f":"'[2]2016'!K33","v":0},{"$f":"'[2]2017'!K33","v":1},{"$f":"'[2]2018'!K33","v":1},{"$f":"'[2]2019'!K33","v":0}," -"," -",1,1,1,1,0,0,{"$f":"+AVERAGE(BE51:BG51)/AU51","v":0.66666666666666663},0.66666666666666663,0.66666666666666663,{"$f":"'[2]2016'!P33","v":20000},{"$f":"'[2]2016'!Q33","v":0},{"$f":"'[2]2016'!R33","v":0},0," -",{"$f":"'[2]2017'!P33","v":34717},{"$f":"'[2]2017'!Q33","v":31863},{"$f":"'[2]2017'!R33","v":0},0.9177924359823717," -",{"$f":"'[2]2018'!P33","v":10000},{"$f":"'[2]2018'!Q33","v":0},{"$f":"'[2]2018'!R33","v":0},0," -",{"$f":"'[2]2019'!P33","v":50000},{"$f":"'[2]2019'!Q33","v":0},{"$f":"'[2]2019'!R33","v":0},0," -",114717,31863,0,0.27775307931692772," -","10. Reducción de las desigualdades","Atención a grupos vulnerables - Promoción Social",{"$f":"'[1]LÍNEA 2'!AQ51","v":"Sec. Interior"}]
[null,null,null,null,null,null,null,null,null,null,null,null,null,null,null,null,null,null,null,null,null,null,null,null,null,null,null,null,null,null,null,null,null,null,null,null,null,null,null,null,null,null,"Mantener y mejorar el Centro de Atención Integral para las Víctimas del conflicto interno.",{"$f":"'[1]LÍNEA 2'!P52","v":2210979},"Número de Centros de Atención Integral para las Víctimas del conflicto interno mantenidos y mejorados.",1,{"$f":"'[1]LÍNEA 2'!S52","v":1},{"$f":"'[1]LÍNEA 2'!T52","v":1},0.25,{"$f":"'[1]LÍNEA 2'!U52","v":1},0.25,{"$f":"'[1]LÍNEA 2'!V52","v":1},0.25,{"$f":"'[1]LÍNEA 2'!W52","v":1},0.25,{"$f":"'[2]2016'!K34","v":1},{"$f":"'[2]2017'!K34","v":1},{"$f":"'[2]2018'!K34","v":1},{"$f":"'[2]2019'!K34","v":0},1,1,1,1,1,1,0,0,0.75,0.75,0.75,{"$f":"'[2]2016'!P34","v":5000},{"$f":"'[2]2016'!Q34","v":0},{"$f":"'[2]2016'!R34","v":0},0," -",{"$f":"'[2]2017'!P34","v":365264},{"$f":"'[2]2017'!Q34","v":361536},{"$f":"'[2]2017'!R34","v":0},0.98979368347277585," -",{"$f":"'[2]2018'!P34","v":271400},{"$f":"'[2]2018'!Q34","v":167400},{"$f":"'[2]2018'!R34","v":0},0.6168017686072218," -",{"$f":"'[2]2019'!P34","v":0},{"$f":"'[2]2019'!Q34","v":0},{"$f":"'[2]2019'!R34","v":0}," -"," -",641664,528936,0,0.82431926989826454," -","10. Reducción de las desigualdades","Atención a grupos vulnerables - Promoción Social",{"$f":"'[1]LÍNEA 2'!AQ52","v":"Sec. Interior"}]
[null,null,null,null,null,null,null,null,null,null,null,null,null,null,null,null,null,null,null,null,null,null,null,null,null,null,null,null,null,null,null,null,null,null,null,null,null,null,null,null,null,null,"Crear, dotar y mantener 1 Oficina para la Paz.",{"$f":"'[1]LÍNEA 2'!P53","v":2210979},"Número de oficinas para la Paz creada, dotadas y mantenidas.",0,{"$f":"'[1]LÍNEA 2'!S53","v":1},{"$f":"'[1]LÍNEA 2'!T53","v":0},0,{"$f":"'[1]LÍNEA 2'!U53","v":1},0.33,{"$f":"'[1]LÍNEA 2'!V53","v":1},0.33,{"$f":"'[1]LÍNEA 2'!W53","v":1},0.34,{"$f":"'[2]2016'!K35","v":0},{"$f":"'[2]2017'!K35","v":0.2},{"$f":"'[2]2018'!K35","v":0},{"$f":"'[2]2019'!K35","v":0}," -"," -",0.2,0.2,0,0,0,0,{"$f":"+AVERAGE(BE53:BG53)/AU53","v":6.6666666666666666E-2},6.6666666666666666E-2,6.6666666666666666E-2,{"$f":"'[2]2016'!P35","v":0},{"$f":"'[2]2016'!Q35","v":0},{"$f":"'[2]2016'!R35","v":0}," -"," -",{"$f":"'[2]2017'!P35","v":0},{"$f":"'[2]2017'!Q35","v":0},{"$f":"'[2]2017'!R35","v":0}," -"," -",{"$f":"'[2]2018'!P35","v":0},{"$f":"'[2]2018'!Q35","v":0},{"$f":"'[2]2018'!R35","v":0}," -"," -",{"$f":"'[2]2019'!P35","v":50000},{"$f":"'[2]2019'!Q35","v":0},{"$f":"'[2]2019'!R35","v":0},0," -",50000,0,0,0," -","10. Reducción de las desigualdades","Atención a grupos vulnerables - Promoción Social",{"$f":"'[1]LÍNEA 2'!AQ53","v":"Sec. Interior"}]
[null,null,null,null,null,null,null,null,null,null,null,null,null,null,null,null,null,null,null,null,null,null,null,null,null,null,null,null,null,null,null,null,null,null,null,null,null,null,null,null,null,null,"Realizar 1 actividad enfocada a la participación de las organizaciones sociales de víctimas en torno a la agenda de paz y la reparación integral.",{"$f":"'[1]LÍNEA 2'!P54","v":2210979},"Número de actividades enfocadas a la organización y participación de las organizaciones sociales de víctimas realizadas en torno a la agenda de paz y la reparación integral.",0,{"$f":"'[1]LÍNEA 2'!S54","v":1},{"$f":"'[1]LÍNEA 2'!T54","v":0},0,{"$f":"'[1]LÍNEA 2'!U54","v":1},1,{"$f":"'[1]LÍNEA 2'!V54","v":0},0,{"$f":"'[1]LÍNEA 2'!W54","v":0},0,{"$f":"'[2]2016'!K36","v":0},{"$f":"'[2]2017'!K36","v":0},{"$f":"'[2]2018'!K36","v":0},{"$f":"'[2]2019'!K36","v":0}," -"," -",0,0," -"," -"," -"," -",{"$f":"+SUM(BD54:BG54)/AU54","v":0},0,0,{"$f":"'[2]2016'!P36","v":0},{"$f":"'[2]2016'!Q36","v":0},{"$f":"'[2]2016'!R36","v":0}," -"," -",{"$f":"'[2]2017'!P36","v":50000},{"$f":"'[2]2017'!Q36","v":0},{"$f":"'[2]2017'!R36","v":0},0," -",{"$f":"'[2]2018'!P36","v":10000},{"$f":"'[2]2018'!Q36","v":0},{"$f":"'[2]2018'!R36","v":0},0," -",{"$f":"'[2]2019'!P36","v":0},{"$f":"'[2]2019'!Q36","v":0},{"$f":"'[2]2019'!R36","v":0}," -"," -",60000,0,0,0," -","10. Reducción de las desigualdades","Atención a grupos vulnerables - Promoción Social",{"$f":"'[1]LÍNEA 2'!AQ54","v":"Sec. Interior"}]
[null,null,null,null,null,null,null,null,null,null,null,null,null,null,null,null,null,null,null,null,null,null,null,null,null,null,null,null,null,null,null,null,null,null,null,null,null,null,null,null,null,null,"Realizar 6 encuentros para la participación de mujeres víctimas del conflicto interno armado como sujetos de derechos en entornos familiares y escenarios de decisión.",{"$f":"'[1]LÍNEA 2'!P55","v":0},"Número de encuentros realizados para la participación de mujeres víctimas del conflicto interno armado como sujetos de derechos en entornos familiares y escenarios de decisión.",0,{"$f":"'[1]LÍNEA 2'!S55","v":6},{"$f":"'[1]LÍNEA 2'!T55","v":0},0,{"$f":"'[1]LÍNEA 2'!U55","v":2},0.33333333333333331,{"$f":"'[1]LÍNEA 2'!V55","v":2},0.33333333333333331,{"$f":"'[1]LÍNEA 2'!W55","v":2},0.33333333333333331,{"$f":"'[3]2016'!$K$60","v":0},{"$f":"'[3]2017'!$K$61","v":1},{"$f":"'[3]2018'!$K$61","v":1},{"$f":"'[3]2019'!$K$61","v":0}," -"," -",0.5,0.5,0.5,0.5,0,0,{"$f":"+SUM(BD55:BG55)/AU55","v":0.33333333333333331},0.33333333333333331,0.33333333333333331,{"$f":"'[3]2016'!P60","v":0},{"$f":"'[3]2016'!Q60","v":0},{"$f":"'[3]2016'!R60","v":0}," -"," -",{"$f":"'[3]2017'!P61","v":0},{"$f":"'[3]2017'!Q61","v":0},{"$f":"'[3]2017'!R61","v":0}," -"," -",{"$f":"'[3]2018'!P61","v":0},{"$f":"'[3]2018'!Q61","v":0},{"$f":"'[3]2018'!R61","v":0}," -"," -",{"$f":"'[3]2019'!P61","v":10000},{"$f":"'[3]2019'!Q61","v":0},{"$f":"'[3]2019'!R61","v":0},0," -",10000,0,0,0," -","10. Reducción de las desigualdades","Atención a grupos vulnerables - Promoción Social",{"$f":"'[1]LÍNEA 2'!AQ55","v":"Sec. Desarrollo Social"}]
[null,null,null,null,null,null,null,null,null,null,null,null,null,null,null,null,null,null,null,null,null,null,null,null,null,null,null,null,null,null,null,null,null,null,null,null,null,null,null,null,null,null,"Formular e implementar el Plan de acción intersectorial de entornos saludables PAIE con población víctima del conflicto interno armado.",{"$f":"'[1]LÍNEA 2'!P56","v":"2210917\r2210244"},"Número de Planes de acción intersectoriales de entornos saludables PAIE formulados e implementados con población víctima del conflicto interno armado.",1,{"$f":"'[1]LÍNEA 2'!S56","v":1},{"$f":"'[1]LÍNEA 2'!T56","v":1},0.25,{"$f":"'[1]LÍNEA 2'!U56","v":1},0.25,{"$f":"'[1]LÍNEA 2'!V56","v":1},0.25,{"$f":"'[1]LÍNEA 2'!W56","v":1},0.25,{"$f":"'[17]2016'!$K$16","v":0.8},{"$f":"'[17]2017'!$K$16","v":1},{"$f":"'[17]2018'!$K$16","v":1},{"$f":"'[17]2019'!$K$16","v":0},0.8,0.8,1,1,1,1,0,0,0.7,0.7,0.7,{"$f":"'[17]2016'!P16","v":363230},{"$f":"'[17]2016'!Q16","v":254380},{"$f":"'[17]2016'!R16","v":0},0.70032761611100403," -",{"$f":"'[17]2017'!P16","v":427306},{"$f":"'[17]2017'!Q16","v":410566},{"$f":"'[17]2017'!R16","v":0},0.96082432729706579," -",{"$f":"'[17]2018'!P16","v":443000},{"$f":"'[17]2018'!Q16","v":382600},{"$f":"'[17]2018'!R16","v":0},0.86365688487584646," -",{"$f":"'[17]2019'!P16","v":415385},{"$f":"'[17]2019'!Q16","v":0},{"$f":"'[17]2019'!R16","v":0},0," -",1648921,1047546,0,0.63529180597493751," -","10. Reducción de las desigualdades","Atención a grupos vulnerables - Promoción Social",{"$f":"'[1]LÍNEA 2'!AQ56","v":"Sec. Salud y Ambiente"}]
[null,null,null,null,null,null,null,null,null,null,null,null,null,null,null,null,null,null,null,null,null,null,null,null,null,null,null,null,null,null,null,null,null,null,null,null,null,null,null,null,null,null,"Desarrollar 4 eventos deportivos y recreativos dirigidos a la población víctimas del conflicto interno armado.",{"$f":"'[1]LÍNEA 2'!P57","v":"2.4.1.2.3.1"},"Número de eventos deportivos y recreativos desarrollados dirigidos a la población víctimas del conflicto interno armado.",4,{"$f":"'[1]LÍNEA 2'!S57","v":4},{"$f":"'[1]LÍNEA 2'!T57","v":1},0.25,{"$f":"'[1]LÍNEA 2'!U57","v":1},0.25,{"$f":"'[1]LÍNEA 2'!V57","v":1},0.25,{"$f":"'[1]LÍNEA 2'!W57","v":1},0.25,{"$f":"'[23]2016'!$K$13","v":1},{"$f":"'[23]2017'!$K$13","v":1},{"$f":"'[23]2018'!$K$13","v":0},{"$f":"'[23]2019'!$K$13","v":0},1,1,1,1,0,0,0,0,{"$f":"+SUM(BD57:BG57)/AU57","v":0.5},0.5,0.5,{"$f":"'[23]2016'!P13","v":0},{"$f":"'[23]2016'!Q13","v":0},{"$f":"'[23]2016'!R13","v":0}," -"," -",{"$f":"'[23]2017'!P13","v":46350},{"$f":"'[23]2017'!Q13","v":42164},{"$f":"'[23]2017'!R13","v":0},0.90968716289104634," -",{"$f":"'[23]2018'!P13","v":32760},{"$f":"'[23]2018'!Q13","v":0},{"$f":"'[23]2018'!R13","v":0},0," -",{"$f":"'[23]2019'!P13","v":34235},{"$f":"'[23]2019'!Q13","v":0},{"$f":"'[23]2019'!R13","v":0},0," -",113345,42164,0,0.37199700030879174," -","10. Reducción de las desigualdades","Deporte y recreación",{"$f":"'[1]LÍNEA 2'!AQ57","v":"INDERBU"}]
[null,null,null,null,null,null,null,null,null,null,null,null,null,null,null,null,null,null,null,null,null,null,null,null,null,null,null,null,null,null,null,null,null,null,null,null,null,null,null,null,null,null,"Apoyar 7 proyectos productivos para generación de ingresos en población víctimas del conflicto interno armado.",{"$f":"'[1]LÍNEA 2'!P58","v":0},"Número de proyectos productivos para generación de ingresos en población víctimas del conflicto interno armado apoyados.",0,{"$f":"'[1]LÍNEA 2'!S58","v":7},{"$f":"'[1]LÍNEA 2'!T58","v":0},0,{"$f":"'[1]LÍNEA 2'!U58","v":1},0.14285714285714285,{"$f":"'[1]LÍNEA 2'!V58","v":0},0,{"$f":"'[1]LÍNEA 2'!W58","v":6},0.8571428571428571,{"$f":"'[22]2016'!$K$14","v":0},{"$f":"'[22]2017'!$K$14","v":1},{"$f":"'[22]2018'!$K$14","v":0},{"$f":"'[22]2019'!$K$14","v":0}," -"," -",1,1," -"," -",0,0,{"$f":"+SUM(BD58:BG58)/AU58","v":0.14285714285714285},0.14285714285714285,0.14285714285714285,{"$f":"'[22]2016'!P14","v":0},{"$f":"'[22]2016'!Q14","v":0},{"$f":"'[22]2016'!R14","v":0}," -"," -",{"$f":"'[22]2017'!P14","v":36886},{"$f":"'[22]2017'!Q14","v":36750},{"$f":"'[22]2017'!R14","v":187520},0.99631296426828608,5.1025850340136056,{"$f":"'[22]2018'!P14","v":0},{"$f":"'[22]2018'!Q14","v":0},{"$f":"'[22]2018'!R14","v":0}," -"," -",{"$f":"'[22]2019'!P14","v":400000},{"$f":"'[22]2019'!Q14","v":0},{"$f":"'[22]2019'!R14","v":0},0," -",436886,36750,187520,8.4118053679907351E-2,5.1025850340136056,"10. Reducción de las desigualdades","Atención a grupos vulnerables - Promoción Social",{"$f":"'[1]LÍNEA 2'!AQ58","v":"IMEBU"}]
[null,null,null,null,null,null,null,null,null,null,null,null,null,null,null,null,null,null,null,null,null,null,null,null,null,null,null,null,null,null,null,null,null,null,null,null,null,null,null,null,{"$f":"+RESUMEN!J47","v":0.53888888888888886},"POBLACIÓN EN PROCESO DE REINTEGRACIÓN","Mantener 1 programa de temas de emprendimiento a personas en proceso de reintegración.",{"$f":"'[1]LÍNEA 2'!P59","v":0},"Número de programas mantenidos en temas de emprendimiento a personas en procesos de reintegración.",1,{"$f":"'[1]LÍNEA 2'!S59","v":1},{"$f":"'[1]LÍNEA 2'!T59","v":1},0.25,{"$f":"'[1]LÍNEA 2'!U59","v":1},0.25,{"$f":"'[1]LÍNEA 2'!V59","v":1},0.25,{"$f":"'[1]LÍNEA 2'!W59","v":1},0.25,{"$f":"'[2]2016'!K37","v":1},{"$f":"'[2]2017'!K37","v":1},{"$f":"'[2]2018'!K37","v":0.2},{"$f":"'[2]2019'!K37","v":0},1,1,1,1,0.2,0.2,0,0,0.55000000000000004,0.55000000000000004,0.55000000000000004,{"$f":"'[2]2016'!P37","v":0},{"$f":"'[2]2016'!Q37","v":0},{"$f":"'[2]2016'!R37","v":0}," -"," -",{"$f":"'[2]2017'!P37","v":0},{"$f":"'[2]2017'!Q37","v":0},{"$f":"'[2]2017'!R37","v":0}," -"," -",{"$f":"'[2]2018'!P37","v":0},{"$f":"'[2]2018'!Q37","v":0},{"$f":"'[2]2018'!R37","v":0}," -"," -",{"$f":"'[2]2019'!P37","v":78000},{"$f":"'[2]2019'!Q37","v":0},{"$f":"'[2]2019'!R37","v":0},0," -",78000,0,0,0," -","10. Reducción de las desigualdades","Atención a grupos vulnerables - Promoción Social",{"$f":"'[1]LÍNEA 2'!AQ59","v":"Sec. Interior"}]
[null,null,null,null,null,null,null,null,null,null,null,null,null,null,null,null,null,null,null,null,null,null,null,null,null,null,null,null,null,null,null,null,null,null,null,null,null,null,null,null,null,null,"Implementar y mantener 1 estrategia de apoyo a las iniciativas y programas de la Agencia Colombiana para la Reintegración - ACR.",{"$f":"'[1]LÍNEA 2'!P60","v":0},"Número de estrategias de apoyo a las iniciativas y programas de la Agencia Colombiana para la Reintegración - ACR implementadas y mantenidas.",1,{"$f":"'[1]LÍNEA 2'!S60","v":1},{"$f":"'[1]LÍNEA 2'!T60","v":0},0,{"$f":"'[1]LÍNEA 2'!U60","v":1},0.33,{"$f":"'[1]LÍNEA 2'!V60","v":1},0.33,{"$f":"'[1]LÍNEA 2'!W60","v":1},0.34,{"$f":"'[2]2016'!K38","v":0},{"$f":"'[2]2017'!K38","v":1},{"$f":"'[2]2018'!K38","v":0.2},{"$f":"'[2]2019'!K38","v":0}," -"," -",1,1,0.2,0.2,0,0,{"$f":"+AVERAGE(BE60:BG60)/AU60","v":0.39999999999999997},0.39999999999999997,0.39999999999999997,{"$f":"'[2]2016'!P38","v":0},{"$f":"'[2]2016'!Q38","v":0},{"$f":"'[2]2016'!R38","v":0}," -"," -",{"$f":"'[2]2017'!P38","v":0},{"$f":"'[2]2017'!Q38","v":0},{"$f":"'[2]2017'!R38","v":0}," -"," -",{"$f":"'[2]2018'!P38","v":0},{"$f":"'[2]2018'!Q38","v":0},{"$f":"'[2]2018'!R38","v":0}," -"," -",{"$f":"'[2]2019'!P38","v":0},{"$f":"'[2]2019'!Q38","v":0},{"$f":"'[2]2019'!R38","v":0}," -"," -",0,0,0," -"," -","10. Reducción de las desigualdades","Atención a grupos vulnerables - Promoción Social",{"$f":"'[1]LÍNEA 2'!AQ60","v":"Sec. Interior"}]
[null,null,null,null,null,null,null,null,null,null,null,null,null,null,null,null,null,null,null,null,null,null,null,null,null,null,null,null,null,null,null,null,null,null,null,null,null,null,null,null,null,null,"Implementar y mantener 1 estrategia para la inclusión laboral de actores del conflicto.",{"$f":"'[1]LÍNEA 2'!P61","v":" -"},"Número de estrategias implementadas y mantenidas para la inclusión laboral de actores del conflicto.",0,{"$f":"'[1]LÍNEA 2'!S61","v":1},{"$f":"'[1]LÍNEA 2'!T61","v":0},0,{"$f":"'[1]LÍNEA 2'!U61","v":1},0.33,{"$f":"'[1]LÍNEA 2'!V61","v":1},0.33,{"$f":"'[1]LÍNEA 2'!W61","v":1},0.34,{"$f":"'[22]2016'!$K$15","v":0},{"$f":"'[22]2017'!$K$15","v":1},{"$f":"'[22]2018'!$K$15","v":1},{"$f":"'[22]2019'!$K$15","v":0}," -"," -",1,1,1,1,0,0,{"$f":"+AVERAGE(BE61:BG61)/AU61","v":0.66666666666666663},0.66666666666666663,0.66666666666666663,{"$f":"'[22]2016'!P15","v":0},{"$f":"'[22]2016'!Q15","v":0},{"$f":"'[22]2016'!R15","v":0}," -"," -",{"$f":"'[22]2017'!P15","v":0},{"$f":"'[22]2017'!Q15","v":0},{"$f":"'[22]2017'!R15","v":0}," -"," -",{"$f":"'[22]2018'!P15","v":0},{"$f":"'[22]2018'!Q15","v":0},{"$f":"'[22]2018'!R15","v":0}," -"," -",{"$f":"'[22]2019'!P15","v":0},{"$f":"'[22]2019'!Q15","v":0},{"$f":"'[22]2019'!R15","v":0}," -"," -",0,0,0," -"," -","10. Reducción de las desigualdades","Atención a grupos vulnerables - Promoción Social",{"$f":"'[1]LÍNEA 2'!AQ61","v":"IMEBU"}]
[null,null,null,null,null,null,null,null,null,null,null,null,null,null,null,null,null,null,null,null,null,null,null,null,null,null,null,null,null,null,null,null,null,null,null,null,null,null,null,null,{"$f":"+RESUMEN!J48","v":0.67833333333333334},"POBLACIÓN CARCELARIA Y POSPENADOS","Mantener el apoyo dotacional a los 2 centros de reclusión.",{"$f":"'[1]LÍNEA 2'!P62","v":2210813},"Número de centros de reclusión con apoyo dotacional mantenido.",2,{"$f":"'[1]LÍNEA 2'!S62","v":2},{"$f":"'[1]LÍNEA 2'!T62","v":2},0.25,{"$f":"'[1]LÍNEA 2'!U62","v":2},0.25,{"$f":"'[1]LÍNEA 2'!V62","v":2},0.25,{"$f":"'[1]LÍNEA 2'!W62","v":2},0.25,{"$f":"'[3]2016'!K61","v":1},{"$f":"'[3]2017'!K62","v":2},{"$f":"'[3]2018'!K62","v":0},{"$f":"'[3]2019'!K62","v":0},0.5,0.5,1,1,0,0,0,0,0.375,0.375,0.375,{"$f":"'[3]2016'!P61","v":100000},{"$f":"'[3]2016'!Q61","v":27000},{"$f":"'[3]2016'!R61","v":0},0.27," -",{"$f":"'[3]2017'!P62","v":99730},{"$f":"'[3]2017'!Q62","v":58927},{"$f":"'[3]2017'!R62","v":0},0.59086533640830241," -",{"$f":"'[3]2018'!P62","v":0},{"$f":"'[3]2018'!Q62","v":0},{"$f":"'[3]2018'!R62","v":0}," -"," -",{"$f":"'[3]2019'!P62","v":108891},{"$f":"'[3]2019'!Q62","v":0},{"$f":"'[3]2019'!R62","v":0},0," -",308621,85927,0,0.27842240158641179," -","10. Reducción de las desigualdades","Centros de Reclusión",{"$f":"'[1]LÍNEA 2'!AQ62","v":"Sec. Desarrollo Social"}]
[null,null,null,null,null,null,null,null,null,null,null,null,null,null,null,null,null,null,null,null,null,null,null,null,null,null,null,null,null,null,null,null,null,null,null,null,null,null,null,null,null,null,"Implementar y mantener 1 estrategia basadas en valores para apoyar a la población carcelaria en el proceso de resocialización social y familiar.",{"$f":"'[1]LÍNEA 2'!P63","v":2210813},"Número de estrategias basadas en valores implementadas y mantenidas para apoyar a la población carcelaria en el proceso de resocialización social y familiar.",0,{"$f":"'[1]LÍNEA 2'!S63","v":1},{"$f":"'[1]LÍNEA 2'!T63","v":1},0.25,{"$f":"'[1]LÍNEA 2'!U63","v":1},0.25,{"$f":"'[1]LÍNEA 2'!V63","v":1},0.25,{"$f":"'[1]LÍNEA 2'!W63","v":1},0.25,{"$f":"'[3]2016'!K62","v":1},{"$f":"'[3]2017'!K63","v":0.9},{"$f":"'[3]2018'!K63","v":1},{"$f":"'[3]2019'!K63","v":0},1,1,0.9,0.9,1,1,0,0,{"$f":"+AVERAGE(BD63:BG63)/AU63","v":0.72499999999999998},0.72499999999999998,0.72499999999999998,{"$f":"'[3]2016'!P62","v":65000},{"$f":"'[3]2016'!Q62","v":65000},{"$f":"'[3]2016'!R62","v":0},1," -",{"$f":"'[3]2017'!P63","v":0},{"$f":"'[3]2017'!Q63","v":0},{"$f":"'[3]2017'!R63","v":0}," -"," -",{"$f":"'[3]2018'!P63","v":30000},{"$f":"'[3]2018'!Q63","v":29996},{"$f":"'[3]2018'!R63","v":14855},0.99986666666666668,0.49523269769302575,{"$f":"'[3]2019'!P63","v":0},{"$f":"'[3]2019'!Q63","v":0},{"$f":"'[3]2019'!R63","v":0}," -"," -",95000,94996,14855,0.99995789473684216,0.15637500526337952,"10. Reducción de las desigualdades","Centros de Reclusión",{"$f":"'[1]LÍNEA 2'!AQ63","v":"Sec. Desarrollo Social"}]
[null,null,null,null,null,null,null,null,null,null,null,null,null,null,null,null,null,null,null,null,null,null,null,null,null,null,null,null,null,null,null,null,null,null,null,null,null,null,null,null,null,null,"Realizar 3 brigadas de ayuda humanitaria dirigida a la población carcelaria en los diferentes centros de reclusión.",{"$f":"'[1]LÍNEA 2'!P64","v":2210813},"Número de brigadas de ayuda humanitaria realizadas dirigidas a la población carcelaria en los diferentes centros de reclusión.",1,{"$f":"'[1]LÍNEA 2'!S64","v":3},{"$f":"'[1]LÍNEA 2'!T64","v":0},0,{"$f":"'[1]LÍNEA 2'!U64","v":1},0.33333333333333331,{"$f":"'[1]LÍNEA 2'!V64","v":1},0.33333333333333331,{"$f":"'[1]LÍNEA 2'!W64","v":1},0.33333333333333331,{"$f":"'[2]2016'!K39","v":0},{"$f":"'[2]2017'!K39","v":2},{"$f":"'[2]2018'!K39","v":1},{"$f":"'[2]2019'!K39","v":0}," -"," -",2,1,1,1,0,0,{"$f":"+SUM(BD64:BG64)/AU64","v":1},1,1,{"$f":"'[2]2016'!P39","v":60000},{"$f":"'[2]2016'!Q39","v":0},{"$f":"'[2]2016'!R39","v":0},0," -",{"$f":"'[2]2017'!P39","v":0},{"$f":"'[2]2017'!Q39","v":0},{"$f":"'[2]2017'!R39","v":73104}," -",1,{"$f":"'[2]2018'!P39","v":175000},{"$f":"'[2]2018'!Q39","v":30000},{"$f":"'[2]2018'!R39","v":0},0.17142857142857143," -",{"$f":"'[2]2019'!P39","v":200000},{"$f":"'[2]2019'!Q39","v":0},{"$f":"'[2]2019'!R39","v":0},0," -",435000,30000,73104,6.8965517241379309E-2,2.4367999999999999,"10. Reducción de las desigualdades","Centros de Reclusión",{"$f":"'[1]LÍNEA 2'!AQ64","v":"Sec. Interior"}]
[null,null,null,null,null,null,null,null,null,null,null,null,null,null,null,null,null,null,null,null,null,null,null,null,null,null,null,null,null,null,null,null,null,null,null,null,null,null,null,null,null,null,"Implementar y mantener 1 estrategia de apoyo a la generación de ingresos para pospenados.",{"$f":"'[1]LÍNEA 2'!P65","v":2210813},"Número de estrategias de apoyo a la generación de ingresos  para pospenados implementadas y mantenidas.",0,{"$f":"'[1]LÍNEA 2'!S65","v":1},{"$f":"'[1]LÍNEA 2'!T65","v":0},0,{"$f":"'[1]LÍNEA 2'!U65","v":1},0.33,{"$f":"'[1]LÍNEA 2'!V65","v":1},0.33,{"$f":"'[1]LÍNEA 2'!W65","v":1},0.34,{"$f":"'[2]2016'!K40","v":0},{"$f":"'[2]2017'!K40","v":1},{"$f":"'[2]2018'!K40","v":1},{"$f":"'[2]2019'!K40","v":0}," -"," -",1,1,1,1,0,0,{"$f":"+AVERAGE(BE65:BG65)/AU65","v":0.66666666666666663},0.66666666666666663,0.66666666666666663,{"$f":"'[2]2016'!P40","v":40000},{"$f":"'[2]2016'!Q40","v":0},{"$f":"'[2]2016'!R40","v":0},0," -",{"$f":"'[2]2017'!P40","v":120000},{"$f":"'[2]2017'!Q40","v":27833},{"$f":"'[2]2017'!R40","v":0},0.23194166666666666," -",{"$f":"'[2]2018'!P40","v":25000},{"$f":"'[2]2018'!Q40","v":15000},{"$f":"'[2]2018'!R40","v":0},0.6," -",{"$f":"'[2]2019'!P40","v":0},{"$f":"'[2]2019'!Q40","v":0},{"$f":"'[2]2019'!R40","v":0}," -"," -",185000,42833,0,0.23152972972972974," -","10. Reducción de las desigualdades","Centros de Reclusión",{"$f":"'[1]LÍNEA 2'!AQ65","v":"Sec. Interior"}]
[null,null,null,null,null,null,null,null,null,null,null,null,null,null,null,null,null,null,null,null,null,null,null,null,null,null,null,null,null,null,null,null,null,null,null,null,null,null,null,null,null,null,"Desarrollar 8 eventos deportivos y recreativos dirigidos a la población carcelaria.",{"$f":"'[1]LÍNEA 2'!P66","v":"2.4.1.2.2.1"},"Número de eventos deportivos y recreativos desarrollados dirigidos a la población carcelaria.",8,{"$f":"'[1]LÍNEA 2'!S66","v":8},{"$f":"'[1]LÍNEA 2'!T66","v":2},0.25,{"$f":"'[1]LÍNEA 2'!U66","v":2},0.25,{"$f":"'[1]LÍNEA 2'!V66","v":2},0.25,{"$f":"'[1]LÍNEA 2'!W66","v":2},0.25,{"$f":"'[23]2016'!$K$14","v":2},{"$f":"'[23]2017'!$K$14","v":2},{"$f":"'[23]2018'!$K$14","v":1},{"$f":"'[23]2019'!$K$14","v":0},1,1,1,1,0.5,0.5,0,0,{"$f":"+SUM(BD66:BG66)/AU66","v":0.625},0.625,0.625,{"$f":"'[23]2016'!P14","v":22000},{"$f":"'[23]2016'!Q14","v":22000},{"$f":"'[23]2016'!R14","v":0},1," -",{"$f":"'[23]2017'!P14","v":49890},{"$f":"'[23]2017'!Q14","v":48223},{"$f":"'[23]2017'!R14","v":0},0.96658649027861299," -",{"$f":"'[23]2018'!P14","v":45864},{"$f":"'[23]2018'!Q14","v":13248},{"$f":"'[23]2018'!R14","v":0},0.28885400313971743," -",{"$f":"'[23]2019'!P14","v":47928},{"$f":"'[23]2019'!Q14","v":0},{"$f":"'[23]2019'!R14","v":0},0," -",165682,83471,0,0.50380246496300141," -","10. Reducción de las desigualdades","Deporte y recreación",{"$f":"'[1]LÍNEA 2'!AQ66","v":"INDERBU"}]
[null,null,null,null,null,null,null,null,null,null,null,null,null,null,null,null,null,null,null,null,null,null,null,null,null,null,null,null,null,null,null,null,null,null,null,null,null,null,null,null,null,null,null,null,null,null,null,null,null,null,null,null,null,null,{"$f":"+AVERAGE(BC11:BC66)","v":0.27223639455782317},null,null,null,null,null,{"$f":"+AVERAGE(BI11:BI66)","v":0.75379166666666664},null,0.83151488095238091,null,0.59630503144654079,null,0,null,{"$f":"+AVERAGE(BQ11:BQ66)","v":0.53937606292517004}]
[null,null,null,{"$f":"+RESUMEN!J49","v":0.57756337859217766},"LOS CAMINOS DE LA VIDA","Mantener por debajo de 10 la tasa de mortalidad en niñas y niños menores de 5 años.",10.5,10,{"$f":"+H68-G68","v":-0.5},10,{"$f":"+J68-G68","v":-0.5},null,10,{"$f":"+M68-J68","v":0},null,10,{"$f":"+P68-M68","v":0},null,10,{"$f":"+S68-P68","v":0},null,3.8,{"$f":"+V68","v":3.8},null,{"$f":"+X68","v":0},null,{"$f":"+Z68","v":0},null,{"$f":"+AB68","v":0},null,{"$f":"+AD68","v":0},null,{"$f":"+AF68","v":0},null,{"$f":"+AH68","v":0},null,{"$f":"+AJ68","v":0},null,{"$f":"+AL68","v":0},null,{"$f":"+RESUMEN!J49+RESUMEN!J50","v":1.2138729024017016},"INICIO FELIZ (PRIMERA INFANCIA)","Fortalecer 1.500 padres, madres y otros cuidadores en capacidades para la crianza, la construcción de vínculos afectivos y su ejercicio de corresponsabilidad.",{"$f":"'[1]LÍNEA 2'!P68","v":2210707},"Número de padres, madres y otros cuidadores fortalecidos en capacidades para la crianza, la construcción de vínculos afectivos y su ejercicio de corresponsabilidad.",600,{"$f":"'[1]LÍNEA 2'!S68","v":1500},{"$f":"'[1]LÍNEA 2'!T68","v":300},0.2,{"$f":"'[1]LÍNEA 2'!U68","v":400},0.26666666666666666,{"$f":"'[1]LÍNEA 2'!V68","v":400},0.26666666666666666,{"$f":"'[1]LÍNEA 2'!W68","v":400},0.26666666666666666,{"$f":"'[3]2016'!K64","v":1300},{"$f":"'[3]2017'!K65","v":2000},{"$f":"'[3]2018'!K65","v":559},{"$f":"'[3]2019'!K65","v":0},4.333333333333333,1,5,1,1.3975,1,0,0,{"$f":"+SUM(BD68:BG68)/AU68","v":2.5726666666666667},1,1,{"$f":"'[3]2016'!P64","v":273000},{"$f":"'[3]2016'!Q64","v":113249},{"$f":"'[3]2016'!R64","v":0},0.41483150183150186," -",{"$f":"'[3]2017'!P65","v":195306},{"$f":"'[3]2017'!Q65","v":169306},{"$f":"'[3]2017'!R65","v":0},0.86687556961895695," -",{"$f":"'[3]2018'!P65","v":588000},{"$f":"'[3]2018'!Q65","v":450727},{"$f":"'[3]2018'!R65","v":86640},0.76654251700680276,0.19222278674230742,{"$f":"'[3]2019'!P65","v":104500},{"$f":"'[3]2019'!Q65","v":0},{"$f":"'[3]2019'!R65","v":0},0," -",1160806,733282,86640,0.63170073207753918,0.11815372530622598,"1. Fin de la pobreza","Atención a grupos vulnerables - Promoción Social",{"$f":"'[1]LÍNEA 2'!AQ68","v":"Sec. Desarrollo Social"}]
[null,null,null,null,null,null,null,null,null,null,null,null,null,null,null,null,null,null,null,null,null,null,null,null,null,null,null,null,null,null,null,null,null,null,null,null,null,null,null,null,null,null,"Realizar el acompañamiento al 30% de las adolescentes gestantes y madres adolescentes.",{"$f":"'[1]LÍNEA 2'!P69","v":"2210707\r2210205"},"Porcentaje de las adolescentes gestantes y madres adolescentes con acompañamiento.",0.3,{"$f":"'[1]LÍNEA 2'!S69","v":0.3},{"$f":"'[1]LÍNEA 2'!T69","v":0.3},0.25,{"$f":"'[1]LÍNEA 2'!U69","v":0.3},0.25,{"$f":"'[1]LÍNEA 2'!V69","v":0.3},0.25,{"$f":"'[1]LÍNEA 2'!W69","v":0.3},0.25,{"$f":"'[3]2016'!K65","v":0.05},{"$f":"'[3]2017'!K66","v":1},{"$f":"'[3]2018'!K66","v":0.05},{"$f":"'[3]2019'!K66","v":0},0.16666666666666669,0.16666666666666669,3.3333333333333335,1,0.16666666666666669,0.16666666666666669,0,0,0.91666666666666674,0.91666666666666674,0.91666666666666674,{"$f":"'[3]2016'!P65","v":85000},{"$f":"'[3]2016'!Q65","v":0},{"$f":"'[3]2016'!R65","v":0},0," -",{"$f":"'[3]2017'!P66","v":111250},{"$f":"'[3]2017'!Q66","v":111250},{"$f":"'[3]2017'!R66","v":0},1," -",{"$f":"'[3]2018'!P66","v":77000},{"$f":"'[3]2018'!Q66","v":12000},{"$f":"'[3]2018'!R66","v":0},0.15584415584415584," -",{"$f":"'[3]2019'!P66","v":70000},{"$f":"'[3]2019'!Q66","v":0},{"$f":"'[3]2019'!R66","v":0},0," -",343250,123250,0,0.35906773488710853," -","1. Fin de la pobreza","Atención a grupos vulnerables - Promoción Social",{"$f":"'[1]LÍNEA 2'!AQ69","v":"Sec. Desarrollo Social"}]
[null,null,null,null,null,null,null,null,null,null,null,null,null,null,null,null,null,null,null,null,null,null,null,null,null,null,null,null,null,null,null,null,null,null,null,null,null,null,null,null,null,null,"Brindar atención psicosocial especializada al 100% de las familias en condiciones de vulnerabilidad con niñas y niños con enfermedades crónicas y terminales que lo requieran.",{"$f":"'[1]LÍNEA 2'!P70","v":2210707},"Porcentaje de familias en condiciones de vulnerabilidad con niñas y niños con enfermedades crónicas y terminales con atención psicosocial especializada de acuerdo a lo requerido.",1,{"$f":"'[1]LÍNEA 2'!S70","v":1},{"$f":"'[1]LÍNEA 2'!T70","v":1},0.25,{"$f":"'[1]LÍNEA 2'!U70","v":1},0.25,{"$f":"'[1]LÍNEA 2'!V70","v":1},0.25,{"$f":"'[1]LÍNEA 2'!W70","v":1},0.25,{"$f":"'[3]2016'!K66","v":1},{"$f":"'[3]2017'!K67","v":1},{"$f":"'[3]2018'!K67","v":1},{"$f":"'[3]2019'!K67","v":0},1,1,1,1,1,1,0,0,0.75,0.75,0.75,{"$f":"'[3]2016'!P66","v":90000},{"$f":"'[3]2016'!Q66","v":50000},{"$f":"'[3]2016'!R66","v":0},0.55555555555555558," -",{"$f":"'[3]2017'!P67","v":215797},{"$f":"'[3]2017'!Q67","v":122000},{"$f":"'[3]2017'!R67","v":0},0.56534613548844515," -",{"$f":"'[3]2018'!P67","v":80000},{"$f":"'[3]2018'!Q67","v":80000},{"$f":"'[3]2018'!R67","v":0},1," -",{"$f":"'[3]2019'!P67","v":125400},{"$f":"'[3]2019'!Q67","v":0},{"$f":"'[3]2019'!R67","v":0},0," -",511197,252000,0,0.49296063944037233," -","1. Fin de la pobreza","Atención a grupos vulnerables - Promoción Social",{"$f":"'[1]LÍNEA 2'!AQ70","v":"Sec. Desarrollo Social"}]
[null,null,null,null,null,null,null,null,null,null,null,null,null,null,null,null,null,null,null,null,null,null,null,null,null,null,null,null,null,null,null,null,null,null,null,null,null,null,null,null,null,null,"Realizar 4 jornadas de conmemoración del día de la niñez",{"$f":"'[1]LÍNEA 2'!P71","v":2210707},"Número de jornadas de conmemoración del día de la niñez realizadas.",4,{"$f":"'[1]LÍNEA 2'!S71","v":4},{"$f":"'[1]LÍNEA 2'!T71","v":1},0.25,{"$f":"'[1]LÍNEA 2'!U71","v":1},0.25,{"$f":"'[1]LÍNEA 2'!V71","v":1},0.25,{"$f":"'[1]LÍNEA 2'!W71","v":1},0.25,{"$f":"'[3]2016'!K67","v":1},{"$f":"'[3]2017'!K68","v":1},{"$f":"'[3]2018'!K68","v":1},{"$f":"'[3]2019'!K68","v":0},1,1,1,1,1,1,0,0,{"$f":"+SUM(BD71:BG71)/AU71","v":0.75},0.75,0.75,{"$f":"'[3]2016'!P67","v":66000},{"$f":"'[3]2016'!Q67","v":66000},{"$f":"'[3]2016'!R67","v":0},1," -",{"$f":"'[3]2017'!P68","v":266753},{"$f":"'[3]2017'!Q68","v":266753},{"$f":"'[3]2017'!R68","v":0},1," -",{"$f":"'[3]2018'!P68","v":289750},{"$f":"'[3]2018'!Q68","v":289738},{"$f":"'[3]2018'!R68","v":100309},0.99995858498705781,0.34620588255596435,{"$f":"'[3]2019'!P68","v":125400},{"$f":"'[3]2019'!Q68","v":0},{"$f":"'[3]2019'!R68","v":0},0," -",747903,622491,100309,0.83231515316825844,0.16114128557681959,"1. Fin de la pobreza","Atención a grupos vulnerables - Promoción Social",{"$f":"'[1]LÍNEA 2'!AQ71","v":"Sec. Desarrollo Social"}]
[null,null,null,null,null,null,null,null,null,null,null,null,null,null,null,null,null,null,null,null,null,null,null,null,null,null,null,null,null,null,null,null,null,null,null,null,null,null,null,null,null,null,"Realizar 8  jornadas \"Mi nombre - mi ciudadanía\" para la garantía del derecho a la identidad en alianza con la Registraduría.",{"$f":"'[1]LÍNEA 2'!P72","v":2210707},"Número de jornadas \"Mi nombre - mi ciudadanía\" realizadas para la garantía del derecho a la identidad en alianza con la Registraduría.",4,{"$f":"'[1]LÍNEA 2'!S72","v":8},{"$f":"'[1]LÍNEA 2'!T72","v":1},0.125,{"$f":"'[1]LÍNEA 2'!U72","v":2},0.25,{"$f":"'[1]LÍNEA 2'!V72","v":2},0.25,{"$f":"'[1]LÍNEA 2'!W72","v":3},0.375,{"$f":"'[3]2016'!K68","v":0},{"$f":"'[3]2017'!K69","v":3},{"$f":"'[3]2018'!K69","v":0},{"$f":"'[3]2019'!K69","v":0},0,0,1.5,1,0,0,0,0,{"$f":"+SUM(BD72:BG72)/AU72","v":0.375},0.375,0.375,{"$f":"'[3]2016'!P68","v":10000},{"$f":"'[3]2016'!Q68","v":0},{"$f":"'[3]2016'!R68","v":0},0," -",{"$f":"'[3]2017'!P69","v":3000},{"$f":"'[3]2017'!Q69","v":2995},{"$f":"'[3]2017'!R69","v":0},0.99833333333333329," -",{"$f":"'[3]2018'!P69","v":0},{"$f":"'[3]2018'!Q69","v":0},{"$f":"'[3]2018'!R69","v":0}," -"," -",{"$f":"'[3]2019'!P69","v":22823},{"$f":"'[3]2019'!Q69","v":0},{"$f":"'[3]2019'!R69","v":0},0," -",35823,2995,0,8.3605504843257128E-2," -","1. Fin de la pobreza","Atención a grupos vulnerables - Promoción Social",{"$f":"'[1]LÍNEA 2'!AQ72","v":"Sec. Desarrollo Social"}]
[null,null,null,null,null,null,null,null,null,null,null,null,null,null,null,null,null,null,null,null,null,null,null,null,null,null,null,null,null,null,null,null,null,null,null,null,null,null,null,null,null,null,"Realizar 4 dotaciones de material pedagógico, didáctico y lúdico a programas y/o centros de atención de primera infancia.",{"$f":"'[1]LÍNEA 2'!P73","v":"2210707\r2210205"},"Número de dotaciones de material pedagógica, didáctico y lúdico realizados a programas y/o centros de atención de primera infancia.",0,{"$f":"'[1]LÍNEA 2'!S73","v":4},{"$f":"'[1]LÍNEA 2'!T73","v":1},0.25,{"$f":"'[1]LÍNEA 2'!U73","v":1},0.25,{"$f":"'[1]LÍNEA 2'!V73","v":1},0.25,{"$f":"'[1]LÍNEA 2'!W73","v":1},0.25,{"$f":"'[3]2016'!K69","v":1},{"$f":"'[3]2017'!K70","v":1},{"$f":"'[3]2018'!K70","v":1},{"$f":"'[3]2019'!K70","v":0},1,1,1,1,1,1,0,0,{"$f":"+SUM(BD73:BG73)/AU73","v":0.75},0.75,0.75,{"$f":"'[3]2016'!P69","v":267337},{"$f":"'[3]2016'!Q69","v":267337},{"$f":"'[3]2016'!R69","v":0},1," -",{"$f":"'[3]2017'!P70","v":1224442},{"$f":"'[3]2017'!Q70","v":1031128},{"$f":"'[3]2017'!R70","v":0},0.84212073744611826," -",{"$f":"'[3]2018'!P70","v":909973},{"$f":"'[3]2018'!Q70","v":119464},{"$f":"'[3]2018'!R70","v":0},0.13128301608948836," -",{"$f":"'[3]2019'!P70","v":188100},{"$f":"'[3]2019'!Q70","v":0},{"$f":"'[3]2019'!R70","v":0},0," -",2589852,1417929,0,0.54749421974691992," -","1. Fin de la pobreza","Atención a grupos vulnerables - Promoción Social",{"$f":"'[1]LÍNEA 2'!AQ73","v":"Sec. Desarrollo Social"}]
[null,null,null,null,null,null,null,null,null,null,null,null,null,null,null,null,null,null,null,null,null,null,null,null,null,null,null,null,null,null,null,null,null,null,null,null,null,null,null,null,null,null,"Activar las rutas de atención para garantizar la inclusión social del 100% niñas y niños en situación de vulnerabilidad y/o riesgo con enfoque diferencial (discapacidad, víctimas, minorías étnicas, afrodescendientes). ",{"$f":"'[1]LÍNEA 2'!P74","v":"2210707\r2210205"},"Porcentaje de niñas y niños en situación de vulnerabilidad y/o riesgo con enfoque diferencial (discapacidad, víctimas, minorías étnicas, afrodescendientes) con rutas de atención activadas.",0,{"$f":"'[1]LÍNEA 2'!S74","v":1},{"$f":"'[1]LÍNEA 2'!T74","v":1},0.25,{"$f":"'[1]LÍNEA 2'!U74","v":1},0.25,{"$f":"'[1]LÍNEA 2'!V74","v":1},0.25,{"$f":"'[1]LÍNEA 2'!W74","v":1},0.25,{"$f":"'[3]2016'!K70","v":0.5},{"$f":"'[3]2017'!K71","v":1},{"$f":"'[3]2018'!K71","v":0.5},{"$f":"'[3]2019'!K71","v":0},0.5,0.5,1,1,0.5,0.5,0,0,0.5,0.5,0.5,{"$f":"'[3]2016'!P70","v":232166},{"$f":"'[3]2016'!Q70","v":232166},{"$f":"'[3]2016'!R70","v":0},1," -",{"$f":"'[3]2017'!P71","v":85900},{"$f":"'[3]2017'!Q71","v":85900},{"$f":"'[3]2017'!R71","v":0},1," -",{"$f":"'[3]2018'!P71","v":87000},{"$f":"'[3]2018'!Q71","v":69980},{"$f":"'[3]2018'!R71","v":0},0.80436781609195407," -",{"$f":"'[3]2019'!P71","v":0},{"$f":"'[3]2019'!Q71","v":0},{"$f":"'[3]2019'!R71","v":0}," -"," -",405066,388046,0,0.95798215599433179," -","1. Fin de la pobreza","Atención a grupos vulnerables - Promoción Social",{"$f":"'[1]LÍNEA 2'!AQ74","v":"Sec. Desarrollo Social"}]
[null,null,null,null,null,"Mantener por debajo de 10 la tasa de mortalidad en niñas y niños menores de 1 años.",10.3,10,{"$f":"+H75-G75","v":-0.30000000000000071},10,{"$f":"+J75-G75","v":-0.30000000000000071},null,10,{"$f":"+M75-J75","v":0},null,10,{"$f":"+P75-M75","v":0},null,10,{"$f":"+S75-P75","v":0},null,9.1999999999999993,{"$f":"+V75","v":9.1999999999999993},null,null,null,null,null,{"$f":"+AB75","v":0},null,{"$f":"+AD75","v":0},null,{"$f":"+AF75","v":0},null,{"$f":"+AH75","v":0},null,{"$f":"+AJ75","v":0},null,{"$f":"+AL75","v":0},null,null,null,"Implementar y mantener 1 centro de atención integral nocturno \"Casa búho\" para niñas y niños de 0 a 5 años.",{"$f":"'[1]LÍNEA 2'!P75","v":2210707},"Número de centros de atención integral nocturno \"Casa búho\" implementadas y mantenidas para niñas y niños de 0 a 5 años.",0,{"$f":"'[1]LÍNEA 2'!S75","v":1},{"$f":"'[1]LÍNEA 2'!T75","v":0},0,{"$f":"'[1]LÍNEA 2'!U75","v":1},0.33,{"$f":"'[1]LÍNEA 2'!V75","v":1},0.33,{"$f":"'[1]LÍNEA 2'!W75","v":1},0.34,{"$f":"'[3]2016'!K71","v":0},{"$f":"'[3]2017'!K72","v":0},{"$f":"'[3]2018'!K72","v":0},{"$f":"'[3]2019'!K72","v":0}," -"," -",0,0,0,0,0,0,{"$f":"+AVERAGE(BE75:BG75)/AU75","v":0},0,0,{"$f":"'[3]2016'!P71","v":200000},{"$f":"'[3]2016'!Q71","v":0},{"$f":"'[3]2016'!R71","v":0},0," -",{"$f":"'[3]2017'!P72","v":176040},{"$f":"'[3]2017'!Q72","v":0},{"$f":"'[3]2017'!R72","v":0},0," -",{"$f":"'[3]2018'!P72","v":0},{"$f":"'[3]2018'!Q72","v":0},{"$f":"'[3]2018'!R72","v":0}," -"," -",{"$f":"'[3]2019'!P72","v":209000},{"$f":"'[3]2019'!Q72","v":0},{"$f":"'[3]2019'!R72","v":0},0," -",585040,0,0,0," -","1. Fin de la pobreza","Atención a grupos vulnerables - Promoción Social",{"$f":"'[1]LÍNEA 2'!AQ75","v":"Sec. Desarrollo Social"}]
[null,null,null,null,null,null,null,null,null,null,null,null,null,null,null,null,null,null,null,null,null,null,null,null,null,null,null,null,null,null,null,null,null,null,null,null,null,null,null,null,null,null,"Actualizar la política pública de primera infancia, infancia, adolescencia y fortalecimiento familiar.",{"$f":"'[1]LÍNEA 2'!P76","v":2210707},"Número de políticas públicas de primera infancia, infancia, adolescencia y fortalecimiento familiar actualizadas.",1,{"$f":"'[1]LÍNEA 2'!S76","v":1},{"$f":"'[1]LÍNEA 2'!T76","v":0},0,{"$f":"'[1]LÍNEA 2'!U76","v":1},1,{"$f":"'[1]LÍNEA 2'!V76","v":0},0,{"$f":"'[1]LÍNEA 2'!W76","v":0},0,{"$f":"'[3]2016'!K72","v":0},{"$f":"'[3]2017'!K73","v":0.5},{"$f":"'[3]2018'!K73","v":0.3},{"$f":"'[3]2019'!K73","v":0},{"$f":"IF(AV76=0,\" -\",BD76/AV76)","v":" -"},{"$f":"IF(AV76=0,\" -\",IF(BH76>100%,100%,BH76))","v":" -"},{"$f":"IF(AX76=0,\" -\",BE76/AX76)","v":0.5},{"$f":"IF(AX76=0,\" -\",IF(BJ76>100%,100%,BJ76))","v":0.5},{"$f":"IF(AZ76=0,\" -\",BF76/AZ76)","v":" -"},{"$f":"IF(AZ76=0,\" -\",IF(BL76>100%,100%,BL76))","v":" -"},{"$f":"IF(BB76=0,\" -\",BG76/BB76)","v":" -"},{"$f":"IF(BB76=0,\" -\",IF(BN76>100%,100%,BN76))","v":" -"},{"$f":"+SUM(BD76:BG76)/AU76","v":0.8},{"$f":"+IF(BP76>100%,100%,BP76)","v":0.8},{"$f":"+BQ76","v":0.8},{"$f":"'[3]2016'!P72","v":8000},{"$f":"'[3]2016'!Q72","v":0},{"$f":"'[3]2016'!R72","v":0},0," -",{"$f":"'[3]2017'!P73","v":10000},{"$f":"'[3]2017'!Q73","v":4000},{"$f":"'[3]2017'!R73","v":0},0.4," -",{"$f":"'[3]2018'!P73","v":25000},{"$f":"'[3]2018'!Q73","v":12600},{"$f":"'[3]2018'!R73","v":0},0.504," -",{"$f":"'[3]2019'!P73","v":0},{"$f":"'[3]2019'!Q73","v":0},{"$f":"'[3]2019'!R73","v":0}," -"," -",43000,16600,0,0.38604651162790699," -","1. Fin de la pobreza","Atención a grupos vulnerables - Promoción Social",{"$f":"'[1]LÍNEA 2'!AQ76","v":"Sec. Desarrollo Social"}]
[null,null,null,null,null,null,null,null,null,null,null,null,null,null,null,null,null,null,null,null,null,null,null,null,null,null,null,null,null,null,null,null,null,null,null,null,null,null,null,null,null,null,"Mantener el servicio exequial a niñas y niños de familias con extrema vulnerabilidad que así lo requieran.",{"$f":"'[1]LÍNEA 2'!P77","v":2210869},"Número de servicios exequiales a niñas y niños de familias con extrema vulnerabilidad mantenidos de acuerdo a lo requerido.",1,{"$f":"'[1]LÍNEA 2'!S77","v":1},{"$f":"'[1]LÍNEA 2'!T77","v":1},0.25,{"$f":"'[1]LÍNEA 2'!U77","v":1},0.25,{"$f":"'[1]LÍNEA 2'!V77","v":1},0.25,{"$f":"'[1]LÍNEA 2'!W77","v":1},0.25,{"$f":"'[3]2016'!K73","v":0},{"$f":"'[3]2017'!K74","v":1},{"$f":"'[3]2018'!K74","v":1},{"$f":"'[3]2019'!K74","v":0},0,0,1,1,1,1,0,0,{"$f":"+AVERAGE(BD77:BG77)/AU77","v":0.5},0.5,0.5,{"$f":"'[3]2016'!P73","v":20000},{"$f":"'[3]2016'!Q73","v":0},{"$f":"'[3]2016'!R73","v":0},{"$f":"IF(BS77=0,\" -\",BT77/BS77)","v":0},{"$f":"IF(BU77=0,\" -\",IF(BT77=0,100%,BU77/BT77))","v":" -"},{"$f":"'[3]2017'!P74","v":30000},{"$f":"'[3]2017'!Q74","v":30000},{"$f":"'[3]2017'!R74","v":0},{"$f":"IF(BX77=0,\" -\",BY77/BX77)","v":1},{"$f":"IF(BZ77=0,\" -\",IF(BY77=0,100%,BZ77/BY77))","v":" -"},{"$f":"'[3]2018'!P74","v":20000},{"$f":"'[3]2018'!Q74","v":20000},{"$f":"'[3]2018'!R74","v":0},{"$f":"IF(CC77=0,\" -\",CD77/CC77)","v":1},{"$f":"IF(CE77=0,\" -\",IF(CD77=0,100%,CE77/CD77))","v":" -"},{"$f":"'[3]2019'!P74","v":22823},{"$f":"'[3]2019'!Q74","v":0},{"$f":"'[3]2019'!R74","v":0},{"$f":"IF(CH77=0,\" -\",CI77/CH77)","v":0},{"$f":"IF(CJ77=0,\" -\",IF(CI77=0,100%,CJ77/CI77))","v":" -"},{"$f":"+BS77+BX77+CC77+CH77","v":92823},{"$f":"+BT77+BY77+CD77+CI77","v":50000},{"$f":"+BU77+BZ77+CE77+CJ77","v":0},{"$f":"IF(CM77=0,\" -\",CN77/CM77)","v":0.53865959945272179},{"$f":"IF(CO77=0,\" -\",IF(CN77=0,100%,CO77/CN77))","v":" -"},"1. Fin de la pobreza","Atención a grupos vulnerables - Promoción Social",{"$f":"'[1]LÍNEA 2'!AQ77","v":"Sec. Desarrollo Social"}]
[null,null,null,null,null,null,null,null,null,null,null,null,null,null,null,null,null,null,null,null,null,null,null,null,null,null,null,null,null,null,null,null,null,null,null,null,null,null,null,null,null,null,"Implementar y mantener la estrategia \"Mil días de vida\" en IPS de atención materno infantil.",{"$f":"'[1]LÍNEA 2'!P78","v":2210994},"Número de estrategias \"Mil días de vida\" implementadas y mantenidas en IPS de atención materno infantil.",0,{"$f":"'[1]LÍNEA 2'!S78","v":1},{"$f":"'[1]LÍNEA 2'!T78","v":0},0,{"$f":"'[1]LÍNEA 2'!U78","v":1},0.33,{"$f":"'[1]LÍNEA 2'!V78","v":1},0.33,{"$f":"'[1]LÍNEA 2'!W78","v":1},0.34,{"$f":"'[17]2016'!K18","v":0},{"$f":"'[17]2017'!K18","v":1},{"$f":"'[17]2018'!K18","v":0.1},{"$f":"'[17]2019'!K18","v":0}," -"," -",1,1,0.1,0.1,0,0,{"$f":"+AVERAGE(BE78:BG78)/AU78","v":0.3666666666666667},0.3666666666666667,0.3666666666666667,{"$f":"'[17]2016'!P18","v":6700},{"$f":"'[17]2016'!Q18","v":0},{"$f":"'[17]2016'!R18","v":0},0," -",{"$f":"'[17]2017'!P18","v":1081086},{"$f":"'[17]2017'!Q18","v":1081086},{"$f":"'[17]2017'!R18","v":0},1," -",{"$f":"'[17]2018'!P18","v":779855},{"$f":"'[17]2018'!Q18","v":0},{"$f":"'[17]2018'!R18","v":0},0," -",{"$f":"'[17]2019'!P18","v":68470},{"$f":"'[17]2019'!Q18","v":0},{"$f":"'[17]2019'!R18","v":0},0," -",1936111,1081086,0,0.55838017551679631," -","3. Salud y bienestar","Atención a grupos vulnerables - Promoción Social",{"$f":"'[1]LÍNEA 2'!AQ78","v":"Sec. Salud y Ambiente"}]
[null,null,null,null,null,null,null,null,null,null,null,null,null,null,null,null,null,null,null,null,null,null,null,null,null,null,null,null,null,null,null,null,null,null,null,null,null,null,null,null,null,null,"Implementar y mantener 5 salas ERA en IPS públicas.",{"$f":"'[1]LÍNEA 2'!P79","v":2210994},"Número de salas ERA implementadas y mantenidas en IPS públicas.",0,{"$f":"'[1]LÍNEA 2'!S79","v":5},{"$f":"'[1]LÍNEA 2'!T79","v":5},0.25,{"$f":"'[1]LÍNEA 2'!U79","v":5},0.25,{"$f":"'[1]LÍNEA 2'!V79","v":5},0.25,{"$f":"'[1]LÍNEA 2'!W79","v":5},0.25,{"$f":"'[17]2016'!K19","v":3},{"$f":"'[17]2017'!K19","v":5},{"$f":"'[17]2018'!K19","v":6},{"$f":"'[17]2019'!K19","v":0},0.6,0.6,1,1,1.2,1,0,0,0.7,0.7,0.7,{"$f":"'[17]2016'!P19","v":6400},{"$f":"'[17]2016'!Q19","v":1988},{"$f":"'[17]2016'!R19","v":0},0.31062499999999998," -",{"$f":"'[17]2017'!P19","v":10414},{"$f":"'[17]2017'!Q19","v":9386},{"$f":"'[17]2017'!R19","v":0},0.90128672940272714," -",{"$f":"'[17]2018'!P19","v":12728},{"$f":"'[17]2018'!Q19","v":6943},{"$f":"'[17]2018'!R19","v":0},0.54549025769956005," -",{"$f":"'[17]2019'!P19","v":148352},{"$f":"'[17]2019'!Q19","v":0},{"$f":"'[17]2019'!R19","v":0},0," -",177894,18317,0,0.10296581110099273," -","3. Salud y bienestar","Atención a grupos vulnerables - Promoción Social",{"$f":"'[1]LÍNEA 2'!AQ79","v":"Sec. Salud y Ambiente"}]
[null,null,null,null,null,null,null,null,null,null,null,null,null,null,null,null,null,null,null,null,null,null,null,null,null,null,null,null,null,null,null,null,null,null,null,null,null,null,null,null,null,null,"Mantener al 100% de los casos por desnutrición en la niñez unidad de análisis.",{"$f":"'[1]LÍNEA 2'!P80","v":2210994},"Porcentaje de casos por desnutrición en la niñez con unidad de análisis.",0,{"$f":"'[1]LÍNEA 2'!S80","v":1},{"$f":"'[1]LÍNEA 2'!T80","v":1},0.25,{"$f":"'[1]LÍNEA 2'!U80","v":1},0.25,{"$f":"'[1]LÍNEA 2'!V80","v":1},0.25,{"$f":"'[1]LÍNEA 2'!W80","v":1},0.25,{"$f":"'[17]2016'!K20","v":1},{"$f":"'[17]2017'!K20","v":1},{"$f":"'[17]2018'!K20","v":1},{"$f":"'[17]2019'!K20","v":0},1,1,1,1,1,1,0,0,0.75,0.75,0.75,{"$f":"'[17]2016'!P20","v":1742},{"$f":"'[17]2016'!Q20","v":1742},{"$f":"'[17]2016'!R20","v":0},1," -",{"$f":"'[17]2017'!P20","v":10414},{"$f":"'[17]2017'!Q20","v":9386},{"$f":"'[17]2017'!R20","v":0},0.90128672940272714," -",{"$f":"'[17]2018'!P20","v":17387},{"$f":"'[17]2018'!Q20","v":9484},{"$f":"'[17]2018'!R20","v":0},0.54546500258814057," -",{"$f":"'[17]2019'!P20","v":79881},{"$f":"'[17]2019'!Q20","v":0},{"$f":"'[17]2019'!R20","v":0},0," -",109424,20612,0,0.18836818248281911," -","3. Salud y bienestar","Atención a grupos vulnerables - Promoción Social",{"$f":"'[1]LÍNEA 2'!AQ80","v":"Sec. Salud y Ambiente"}]
[null,null,null,null,null,null,null,null,null,null,null,null,null,null,null,null,null,null,null,null,null,null,null,null,null,null,null,null,null,null,null,null,null,null,null,null,null,null,null,null,null,null,"Mantener la estrategia AIEPI e IAMI en las IPS materno infantil.",{"$f":"'[1]LÍNEA 2'!P81","v":2210994},"Número de estrategias AIEPI e IAMI mantenidas en las IPS materno infantil.",1,{"$f":"'[1]LÍNEA 2'!S81","v":1},{"$f":"'[1]LÍNEA 2'!T81","v":1},0.25,{"$f":"'[1]LÍNEA 2'!U81","v":1},0.25,{"$f":"'[1]LÍNEA 2'!V81","v":1},0.25,{"$f":"'[1]LÍNEA 2'!W81","v":1},0.25,{"$f":"'[17]2016'!K21","v":1},{"$f":"'[17]2017'!K21","v":1},{"$f":"'[17]2018'!K21","v":1},{"$f":"'[17]2019'!K21","v":0},1,1,1,1,1,1,0,0,0.75,0.75,0.75,{"$f":"'[17]2016'!P21","v":151884},{"$f":"'[17]2016'!Q21","v":127876},{"$f":"'[17]2016'!R21","v":0},0.84193200073740482," -",{"$f":"'[17]2017'!P21","v":264786},{"$f":"'[17]2017'!Q21","v":109643},{"$f":"'[17]2017'!R21","v":0},0.41408156020333403," -",{"$f":"'[17]2018'!P21","v":278018},{"$f":"'[17]2018'!Q21","v":96554},{"$f":"'[17]2018'!R21","v":0},0.34729406009682828," -",{"$f":"'[17]2019'!P21","v":168060},{"$f":"'[17]2019'!Q21","v":0},{"$f":"'[17]2019'!R21","v":0},0," -",862748,334073,0,0.3872196748065484," -","3. Salud y bienestar","Atención a grupos vulnerables - Promoción Social",{"$f":"'[1]LÍNEA 2'!AQ81","v":"Sec. Salud y Ambiente"}]
[null,null,null,null,null,"Lograr y mantener el 100% de la población pobre de niñas y niños afiliados al régimen subsidiado.",0.98,1,{"$f":"+H82-G82","v":2.0000000000000018E-2},1,{"$f":"+J82","v":1},null,1,{"$f":"+M82","v":1},null,1,{"$f":"+P82","v":1},null,1,{"$f":"+S82","v":1},null,0.997,{"$f":"+V82","v":0.997},null,{"$f":"+X82","v":0},null,{"$f":"+Z82","v":0},null,{"$f":"+AB82","v":0},{"$f":"+IF(K82=0,\" -\",W82/K82)","v":0.997},{"$f":"+IF(K82=0,\" -\",IF(AD82>100%,100%,AD82))","v":0.997},{"$f":"+IF(N82=0,\" -\",Y82/N82)","v":0},{"$f":"+IF(N82=0,\" -\",IF(AF82>100%,100%,AF82))","v":0},{"$f":"+IF(Q82=0,\" -\",AA82/Q82)","v":0},{"$f":"+IF(Q82=0,\" -\",IF(AH82>100%,100%,AH82))","v":0},{"$f":"+IF(T82=0,\" -\",AC82/T82)","v":0},{"$f":"+IF(T82=0,\" -\",IF(AJ82>100%,100%,AJ82))","v":0},{"$f":"+AVERAGE(W82,Y82,AA82,AC82)","v":0.24925},{"$f":"+IF(AL82>100%,100%,IF(AL82<0%,0%,AL82))","v":0.24925},null,{"$f":"+RESUMEN!J51","v":0.6900074074074074},"JUGANDO Y APRENDIENDO (INFANCIA)","Realizar 8 jornadas de promoción de los derechos de niñas, niños y adolescentes.",{"$f":"'[1]LÍNEA 2'!P82","v":0},"Número de jornadas de promoción de los derechos de niñas y niños y adolescentes realizados.",1,{"$f":"'[1]LÍNEA 2'!S82","v":8},{"$f":"'[1]LÍNEA 2'!T82","v":2},{"$f":"+AV82/AU82","v":0.25},{"$f":"'[1]LÍNEA 2'!U82","v":2},{"$f":"+AX82/AU82","v":0.25},{"$f":"'[1]LÍNEA 2'!V82","v":2},{"$f":"+AZ82/AU82","v":0.25},{"$f":"'[1]LÍNEA 2'!W82","v":2},{"$f":"+BB82/AU82","v":0.25},{"$f":"'[3]2016'!K74","v":1},{"$f":"'[3]2017'!K75","v":3},{"$f":"'[3]2018'!K75","v":2},{"$f":"'[3]2019'!K75","v":0},0.5,0.5,1.5,1,1,1,0,0,{"$f":"+SUM(BD82:BG82)/AU82","v":0.75},0.75,0.75,{"$f":"'[3]2016'!P74","v":20000},{"$f":"'[3]2016'!Q74","v":0},{"$f":"'[3]2016'!R74","v":0},0," -",{"$f":"'[3]2017'!P75","v":10000},{"$f":"'[3]2017'!Q75","v":7334},{"$f":"'[3]2017'!R75","v":0},0.73340000000000005," -",{"$f":"'[3]2018'!P75","v":67450},{"$f":"'[3]2018'!Q75","v":27450},{"$f":"'[3]2018'!R75","v":0},0.40696812453669384," -",{"$f":"'[3]2019'!P75","v":0},{"$f":"'[3]2019'!Q75","v":0},{"$f":"'[3]2019'!R75","v":0}," -"," -",97450,34784,0,0.35694202154951254," -","1. Fin de la pobreza","Atención a grupos vulnerables - Promoción Social",{"$f":"'[1]LÍNEA 2'!AQ82","v":"Sec. Desarrollo Social"}]
[null,null,null,null,null,null,null,null,null,null,null,null,null,null,null,null,null,null,null,null,null,null,null,null,null,null,null,null,null,null,null,null,null,null,null,null,null,null,null,null,null,null,"Brindar a 4.000 niñas y niños de 6 a 11 años programas para potenciar el desarrollo del aprendizaje,  juego,  desarrollo psicomotor, la creatividad y  las habilidades relacionales.",{"$f":"'[1]LÍNEA 2'!P83","v":2210255},"Número de niñas y niños de 6 a 11 años beneficiados con programas para potenciar el desarrollo del aprendizaje,  juego,  desarrollo psicomotor, la creatividad y  las habilidades relacionales.",2400,{"$f":"'[1]LÍNEA 2'!S83","v":4000},{"$f":"'[1]LÍNEA 2'!T83","v":1000},0.25,{"$f":"'[1]LÍNEA 2'!U83","v":1000},0.25,{"$f":"'[1]LÍNEA 2'!V83","v":1000},0.25,{"$f":"'[1]LÍNEA 2'!W83","v":1000},0.25,{"$f":"'[3]2016'!K75","v":1745},{"$f":"'[3]2017'!K76","v":2061},{"$f":"'[3]2018'!K76","v":1867},{"$f":"'[3]2019'!K76","v":0},1.7450000000000001,1,2.0609999999999999,1,1.867,1,0,0,{"$f":"+SUM(BD83:BG83)/AU83","v":1.41825},1,1,{"$f":"'[3]2016'!P75","v":100000},{"$f":"'[3]2016'!Q75","v":250000},{"$f":"'[3]2016'!R75","v":0},2.5," -",{"$f":"'[3]2017'!P76","v":711251},{"$f":"'[3]2017'!Q76","v":708207},{"$f":"'[3]2017'!R76","v":0},0.99572021691357904," -",{"$f":"'[3]2018'!P76","v":697554},{"$f":"'[3]2018'!Q76","v":697553},{"$f":"'[3]2018'!R76","v":0},0.99999856641923057," -",{"$f":"'[3]2019'!P76","v":104500},{"$f":"'[3]2019'!Q76","v":0},{"$f":"'[3]2019'!R76","v":0},0," -",1613305,1655760,0,1.026315544797791," -","1. Fin de la pobreza","Atención a grupos vulnerables - Promoción Social",{"$f":"'[1]LÍNEA 2'!AQ83","v":"Sec. Desarrollo Social"}]
[null,null,null,null,null,null,null,null,null,null,null,null,null,null,null,null,null,null,null,null,null,null,null,null,null,null,null,null,null,null,null,null,null,null,null,null,null,null,null,null,null,null,"Promover la participación y movilización social de 4.000 niñas,  niños y adolescentes dentro de la vida comunitaria.",{"$f":"'[1]LÍNEA 2'!P84","v":2210255},"Número de niñas, niños y adolescentes con participación y movilización promovidas dentro de la vida comunitaria.",2400,{"$f":"'[1]LÍNEA 2'!S84","v":4000},{"$f":"'[1]LÍNEA 2'!T84","v":600},0.15,{"$f":"'[1]LÍNEA 2'!U84","v":1000},0.25,{"$f":"'[1]LÍNEA 2'!V84","v":1200},0.3,{"$f":"'[1]LÍNEA 2'!W84","v":1200},0.3,{"$f":"'[3]2016'!K76","v":71},{"$f":"'[3]2017'!K77","v":1000},{"$f":"'[3]2018'!K77","v":1000},{"$f":"'[3]2019'!K77","v":0},0.11833333333333333,0.11833333333333333,1,1,0.83333333333333337,0.83333333333333337,0,0,{"$f":"+SUM(BD84:BG84)/AU84","v":0.51775000000000004},0.51775000000000004,0.51775000000000004,{"$f":"'[3]2016'!P76","v":100000},{"$f":"'[3]2016'!Q76","v":0},{"$f":"'[3]2016'!R76","v":0},0," -",{"$f":"'[3]2017'!P77","v":156000},{"$f":"'[3]2017'!Q77","v":156000},{"$f":"'[3]2017'!R77","v":0},1," -",{"$f":"'[3]2018'!P77","v":94000},{"$f":"'[3]2018'!Q77","v":94000},{"$f":"'[3]2018'!R77","v":0},1," -",{"$f":"'[3]2019'!P77","v":175596},{"$f":"'[3]2019'!Q77","v":0},{"$f":"'[3]2019'!R77","v":0},0," -",525596,250000,0,0.47565049962328482," -","1. Fin de la pobreza","Atención a grupos vulnerables - Promoción Social",{"$f":"'[1]LÍNEA 2'!AQ84","v":"Sec. Desarrollo Social"}]
[null,null,null,null,null,null,null,null,null,null,null,null,null,null,null,null,null,null,null,null,null,null,null,null,null,null,null,null,null,null,null,null,null,null,null,null,null,null,null,null,null,null,"Mantener 1 estrategia de prevención del maltrato infantil, violencia sexual y violencia intrafamiliar.",{"$f":"'[1]LÍNEA 2'!P85","v":2210155},"Número de estrategias de prevención del maltrato infantil, violencia sexual y violencia intrafamiliar implementadas y mantenidas.",1,{"$f":"'[1]LÍNEA 2'!S85","v":1},{"$f":"'[1]LÍNEA 2'!T85","v":1},0.25,{"$f":"'[1]LÍNEA 2'!U85","v":1},0.25,{"$f":"'[1]LÍNEA 2'!V85","v":1},0.25,{"$f":"'[1]LÍNEA 2'!W85","v":1},0.25,{"$f":"'[3]2016'!K77","v":1},{"$f":"'[3]2017'!K78","v":1},{"$f":"'[3]2018'!K78","v":0},{"$f":"'[3]2019'!K78","v":0},1,1,1,1,0,0,0,0,0.5,0.5,0.5,{"$f":"'[3]2016'!P77","v":200000},{"$f":"'[3]2016'!Q77","v":50000},{"$f":"'[3]2016'!R77","v":0},0.25," -",{"$f":"'[3]2017'!P78","v":80000},{"$f":"'[3]2017'!Q78","v":79260},{"$f":"'[3]2017'!R78","v":0},0.99075000000000002," -",{"$f":"'[3]2018'!P78","v":156539},{"$f":"'[3]2018'!Q78","v":18000},{"$f":"'[3]2018'!R78","v":0},0.114987319453938," -",{"$f":"'[3]2019'!P78","v":188100},{"$f":"'[3]2019'!Q78","v":0},{"$f":"'[3]2019'!R78","v":0},0," -",624639,147260,0,0.23575217045365404," -","1. Fin de la pobreza","Atención a grupos vulnerables - Promoción Social",{"$f":"'[1]LÍNEA 2'!AQ85","v":"Sec. Desarrollo Social"}]
[null,null,null,null,null,null,null,null,null,null,null,null,null,null,null,null,null,null,null,null,null,null,null,null,null,null,null,null,null,null,null,null,null,null,null,null,null,null,null,null,null,null,"Mantener actualizada y validada la base de datos  de identificación de niñas y niños  en situación o riesgo de trabajo infantil de acuerdo con los lineamientos de política nacional de erradicación del trabajo infantil. ",{"$f":"'[1]LÍNEA 2'!P86","v":2210155},"Número de bases de datos de identificación de niñas y niños en situación o riesgo de trabajo infantil mantenidos actualizados de acuerdo con los lineamientos de política nacional de erradicación del trabajo infantil.",1,{"$f":"'[1]LÍNEA 2'!S86","v":1},{"$f":"'[1]LÍNEA 2'!T86","v":1},0.25,{"$f":"'[1]LÍNEA 2'!U86","v":1},0.25,{"$f":"'[1]LÍNEA 2'!V86","v":1},0.25,{"$f":"'[1]LÍNEA 2'!W86","v":1},0.25,{"$f":"'[3]2016'!K78","v":1},{"$f":"'[3]2017'!K79","v":1},{"$f":"'[3]2018'!K79","v":1},{"$f":"'[3]2019'!K79","v":0},1,1,1,1,1,1,0,0,0.75,0.75,0.75,{"$f":"'[3]2016'!P78","v":100000},{"$f":"'[3]2016'!Q78","v":34500},{"$f":"'[3]2016'!R78","v":0},0.34499999999999997," -",{"$f":"'[3]2017'!P79","v":58000},{"$f":"'[3]2017'!Q79","v":58000},{"$f":"'[3]2017'!R79","v":0},1," -",{"$f":"'[3]2018'!P79","v":30000},{"$f":"'[3]2018'!Q79","v":0},{"$f":"'[3]2018'!R79","v":0},0," -",{"$f":"'[3]2019'!P79","v":114116},{"$f":"'[3]2019'!Q79","v":0},{"$f":"'[3]2019'!R79","v":0},0," -",302116,92500,0,0.3061737875518013," -","1. Fin de la pobreza","Atención a grupos vulnerables - Promoción Social",{"$f":"'[1]LÍNEA 2'!AQ86","v":"Sec. Desarrollo Social"}]
[null,null,null,null,null,null,null,null,null,null,null,null,null,null,null,null,null,null,null,null,null,null,null,null,null,null,null,null,null,null,null,null,null,null,null,null,null,null,null,null,null,null,"Mantener 1 estrategia  comunitaria y familiar  para la erradicación de trabajo infantil en niñas, niños y adolescentes caracterizados.",{"$f":"'[1]LÍNEA 2'!P87","v":2210292},"Número de estrategias comunitarias y familiares mantenidas para la erradicación de trabajo infantil en niñas, niños y adolescentes caracterizados.",1,{"$f":"'[1]LÍNEA 2'!S87","v":1},{"$f":"'[1]LÍNEA 2'!T87","v":1},0.25,{"$f":"'[1]LÍNEA 2'!U87","v":1},0.25,{"$f":"'[1]LÍNEA 2'!V87","v":1},0.25,{"$f":"'[1]LÍNEA 2'!W87","v":1},0.25,{"$f":"'[3]2016'!K79","v":1},{"$f":"'[3]2017'!K80","v":1},{"$f":"'[3]2018'!K80","v":0.25},{"$f":"'[3]2019'!K80","v":0},1,1,1,1,0.25,0.25,0,0,0.5625,0.5625,0.5625,{"$f":"'[3]2016'!P79","v":150000},{"$f":"'[3]2016'!Q79","v":120000},{"$f":"'[3]2016'!R79","v":500},0.8,4.1666666666666666E-3,{"$f":"'[3]2017'!P80","v":100000},{"$f":"'[3]2017'!Q80","v":91962},{"$f":"'[3]2017'!R80","v":0},0.91961999999999999," -",{"$f":"'[3]2018'!P80","v":163150},{"$f":"'[3]2018'!Q80","v":23150},{"$f":"'[3]2018'!R80","v":0},0.14189396261109408," -",{"$f":"'[3]2019'!P80","v":171174},{"$f":"'[3]2019'!Q80","v":0},{"$f":"'[3]2019'!R80","v":0},0," -",584324,235112,500,0.40236581074883115,2.1266460240225936E-3,"1. Fin de la pobreza","Atención a grupos vulnerables - Promoción Social",{"$f":"'[1]LÍNEA 2'!AQ87","v":"Sec. Desarrollo Social"}]
[null,null,null,null,null,"Mantener por debajo de 28 la razón de mortalidad materna por 1.000 nacidos vivos por causas directas e indirectas.",28,28,-0.1,28,{"$f":"+J88-G88","v":0},null,28,{"$f":"+M88-J88","v":0},null,28,{"$f":"+P88-M88","v":0},null,28,{"$f":"+S88-P88","v":0},null,43,{"$f":"+V88","v":43},null,{"$f":"+X88","v":0},null,{"$f":"+Z88","v":0},null,{"$f":"+AB88","v":0},null,{"$f":"+AD88","v":0},null,{"$f":"+AF88","v":0},null,{"$f":"+AH88","v":0},null,{"$f":"+AJ88","v":0},null,{"$f":"+AL88","v":0},null,null,null,"Mantener atención integral a 33 niños en la modalidad de semi-internado (refugio social).",{"$f":"'[1]LÍNEA 2'!P88","v":2210255},"Número de niños mantenidos con atención integral en la modalidad de semi-internado (refugio social).",33,{"$f":"'[1]LÍNEA 2'!S88","v":33},{"$f":"'[1]LÍNEA 2'!T88","v":33},0.25,{"$f":"'[1]LÍNEA 2'!U88","v":33},0.25,{"$f":"'[1]LÍNEA 2'!V88","v":33},0.25,{"$f":"'[1]LÍNEA 2'!W88","v":33},0.25,{"$f":"'[3]2016'!K80","v":18},{"$f":"'[3]2017'!K81","v":33},{"$f":"'[3]2018'!K81","v":26},{"$f":"'[3]2019'!K81","v":0},0.54545454545454541,0.54545454545454541,1,1,0.78787878787878785,0.78787878787878785,0,0,0.58333333333333337,0.58333333333333337,0.58333333333333337,{"$f":"'[3]2016'!P80","v":120000},{"$f":"'[3]2016'!Q80","v":60000},{"$f":"'[3]2016'!R80","v":0},0.5," -",{"$f":"'[3]2017'!P81","v":95000},{"$f":"'[3]2017'!Q81","v":95000},{"$f":"'[3]2017'!R81","v":0},1," -",{"$f":"'[3]2018'!P81","v":99000},{"$f":"'[3]2018'!Q81","v":98973},{"$f":"'[3]2018'!R81","v":42417},0.99972727272727269,0.42857142857142855,{"$f":"'[3]2019'!P81","v":100000},{"$f":"'[3]2019'!Q81","v":0},{"$f":"'[3]2019'!R81","v":0},0," -",414000,253973,42417,0.61346135265700485,0.16701381642930549,"1. Fin de la pobreza","Atención a grupos vulnerables - Promoción Social",{"$f":"'[1]LÍNEA 2'!AQ88","v":"Sec. Desarrollo Social"}]
[null,null,null,null,null,null,null,null,null,null,null,null,null,null,null,null,null,null,null,null,null,null,null,null,null,null,null,null,null,null,null,null,null,null,null,null,null,null,null,null,null,null,"Brindar y atender a 75.000 niñas, niños y adolescentes con acceso gratuito en espacios de recreación y cultura.",{"$f":"'[1]LÍNEA 2'!P89","v":2210255},"Número de niñas, niños y adolescentes con acceso gratuito en espacios de recreación y cultura mantenidos.",32427,{"$f":"'[1]LÍNEA 2'!S89","v":75000},{"$f":"'[1]LÍNEA 2'!T89","v":75000},0.25,{"$f":"'[1]LÍNEA 2'!U89","v":75000},0.25,{"$f":"'[1]LÍNEA 2'!V89","v":75000},0.25,{"$f":"'[1]LÍNEA 2'!W89","v":75000},0.25,{"$f":"'[3]2016'!K81","v":31000},{"$f":"'[3]2017'!K82","v":65000},{"$f":"'[3]2018'!K82","v":67945},{"$f":"'[3]2019'!K82","v":0},0.41333333333333333,0.41333333333333333,0.8666666666666667,0.8666666666666667,0.90593333333333337,0.90593333333333337,0,0,0.54648333333333332,0.54648333333333332,0.54648333333333332,{"$f":"'[3]2016'!P81","v":155000},{"$f":"'[3]2016'!Q81","v":155000},{"$f":"'[3]2016'!R81","v":46500},1,0.3,{"$f":"'[3]2017'!P82","v":1072522},{"$f":"'[3]2017'!Q82","v":1072522},{"$f":"'[3]2017'!R82","v":0},1," -",{"$f":"'[3]2018'!P82","v":851866},{"$f":"'[3]2018'!Q82","v":850560},{"$f":"'[3]2018'!R82","v":297842},0.99846689502809127,0.35017165161775771,{"$f":"'[3]2019'!P82","v":0},{"$f":"'[3]2019'!Q82","v":0},{"$f":"'[3]2019'!R82","v":0}," -"," -",2079388,2078082,344342,0.99937193058726892,0.16570183467254901,"1. Fin de la pobreza","Atención a grupos vulnerables - Promoción Social",{"$f":"'[1]LÍNEA 2'!AQ89","v":"Sec. Desarrollo Social"}]
[null,null,null,null,null,null,null,null,null,null,null,null,null,null,null,null,null,null,null,null,null,null,null,null,null,null,null,null,null,null,null,null,null,null,null,null,null,null,null,null,null,null,"Realizar 4 jornadas de promoción de los derechos humanos para prevenir la violencia contra niñas y niños.",{"$f":"'[1]LÍNEA 2'!P90","v":2210153},"Número de jornadas de promoción de los derechos humanos para prevenir la violencia contra niñas y niños realizadas.",4,{"$f":"'[1]LÍNEA 2'!S90","v":4},{"$f":"'[1]LÍNEA 2'!T90","v":0},0,{"$f":"'[1]LÍNEA 2'!U90","v":1},0.25,{"$f":"'[1]LÍNEA 2'!V90","v":1},0.25,{"$f":"'[1]LÍNEA 2'!W90","v":2},0.5,{"$f":"'[2]2016'!$K$42","v":0},{"$f":"'[2]2017'!$K$42","v":1},{"$f":"'[2]2018'!$K$42","v":3},{"$f":"'[2]2019'!$K$42","v":0}," -"," -",1,1,3,1,0,0,{"$f":"+SUM(BD90:BG90)/AU90","v":1},1,1,{"$f":"'[2]2016'!P42","v":0},{"$f":"'[2]2016'!Q42","v":0},{"$f":"'[2]2016'!R42","v":0}," -"," -",{"$f":"'[2]2017'!P42","v":0},{"$f":"'[2]2017'!Q42","v":0},{"$f":"'[2]2017'!R42","v":0}," -"," -",{"$f":"'[2]2018'!P42","v":0},{"$f":"'[2]2018'!Q42","v":0},{"$f":"'[2]2018'!R42","v":100}," -",1,{"$f":"'[2]2019'!P42","v":30000},{"$f":"'[2]2019'!Q42","v":0},{"$f":"'[2]2019'!R42","v":0},0," -",30000,0,100,0,1,"16. Paz, justicia e instituciones sólidas","Atención a grupos vulnerables - Promoción Social",{"$f":"'[1]LÍNEA 2'!AQ90","v":"Sec. Interior"}]
[null,null,null,null,null,null,null,null,null,null,null,null,null,null,null,null,null,null,null,null,null,null,null,null,null,null,null,null,null,null,null,null,null,null,null,null,null,null,null,null,{"$f":"+RESUMEN!J52","v":0.53281250000000002},"CRECIENDO Y CONSTRUYENDO (ADOLESCENCIA)","Implementar y mantener 1 estrategia para la promoción de habilidades para la vida  en el marco de la estrategia de atención integral a niños, niñas y adolescentes con énfasis en prevención de embarazo en adolescentes.",{"$f":"'[1]LÍNEA 2'!P91","v":2210260},"Número de estrategias implementadas y mantenidas para la promoción de habilidades para la vida  en el marco de la estrategia de atención integral a niños, niñas y adolescentes con énfasis en prevención de embarazo en adolescentes.",0,{"$f":"'[1]LÍNEA 2'!S91","v":1},{"$f":"'[1]LÍNEA 2'!T91","v":1},0.25,{"$f":"'[1]LÍNEA 2'!U91","v":1},0.25,{"$f":"'[1]LÍNEA 2'!V91","v":1},0.25,{"$f":"'[1]LÍNEA 2'!W91","v":1},0.25,{"$f":"'[3]2016'!K82","v":1},{"$f":"'[3]2017'!K83","v":1},{"$f":"'[3]2018'!K83","v":0.25},{"$f":"'[3]2019'!K83","v":0},1,1,1,1,0.25,0.25,0,0,0.5625,0.5625,0.5625,{"$f":"'[3]2016'!P82","v":93500},{"$f":"'[3]2016'!Q82","v":86000},{"$f":"'[3]2016'!R82","v":0},0.9197860962566845," -",{"$f":"'[3]2017'!P83","v":80000},{"$f":"'[3]2017'!Q83","v":73900},{"$f":"'[3]2017'!R83","v":0},0.92374999999999996," -",{"$f":"'[3]2018'!P83","v":248147},{"$f":"'[3]2018'!Q83","v":105700},{"$f":"'[3]2018'!R83","v":0},0.42595719472731891," -",{"$f":"'[3]2019'!P83","v":65520},{"$f":"'[3]2019'!Q83","v":0},{"$f":"'[3]2019'!R83","v":0},0," -",487167,265600,0,0.54519292152383059," -","16. Paz, justicia e instituciones sólidas","Atención a grupos vulnerables - Promoción Social",{"$f":"'[1]LÍNEA 2'!AQ91","v":"Sec. Desarrollo Social"}]
[null,null,null,null,null,null,null,null,null,null,null,null,null,null,null,null,null,null,null,null,null,null,null,null,null,null,null,null,null,null,null,null,null,null,null,null,null,null,null,null,null,null,"Implementar y mantener la estrategia \"Trayectos y proyectos\" para potenciar capacidades, proyectos de vida, emprendimientos juveniles.",{"$f":"'[1]LÍNEA 2'!P92","v":2210260},"Número de estrategias \"Trayectos y proyectos\" implementadas y mantenidas para potenciar capacidades, proyectos de vida, emprendimientos juveniles.",0,{"$f":"'[1]LÍNEA 2'!S92","v":1},{"$f":"'[1]LÍNEA 2'!T92","v":1},0.25,{"$f":"'[1]LÍNEA 2'!U92","v":1},0.25,{"$f":"'[1]LÍNEA 2'!V92","v":1},0.25,{"$f":"'[1]LÍNEA 2'!W92","v":1},0.25,{"$f":"'[3]2016'!K83","v":1},{"$f":"'[3]2017'!K84","v":1},{"$f":"'[3]2018'!K84","v":1},{"$f":"'[3]2019'!K84","v":0},1,1,1,1,1,1,0,0,0.75,0.75,0.75,{"$f":"'[3]2016'!P83","v":207000},{"$f":"'[3]2016'!Q83","v":207000},{"$f":"'[3]2016'!R83","v":0},1," -",{"$f":"'[3]2017'!P84","v":637436},{"$f":"'[3]2017'!Q84","v":626847},{"$f":"'[3]2017'!R84","v":0},0.98338813622073429," -",{"$f":"'[3]2018'!P84","v":583603},{"$f":"'[3]2018'!Q84","v":393603},{"$f":"'[3]2018'!R84","v":0},0.67443621777132745," -",{"$f":"'[3]2019'!P84","v":87362},{"$f":"'[3]2019'!Q84","v":0},{"$f":"'[3]2019'!R84","v":0},0," -",1515401,1227450,0,0.80998362809579771," -","16. Paz, justicia e instituciones sólidas","Atención a grupos vulnerables - Promoción Social",{"$f":"'[1]LÍNEA 2'!AQ92","v":"Sec. Desarrollo Social"}]
[null,null,null,null,null,null,null,null,null,null,null,null,null,null,null,null,null,null,null,null,null,null,null,null,null,null,null,null,null,null,null,null,null,null,null,null,null,null,null,null,null,null,"Implementar y mantener la estrategia \"Me protejo, me protegen\" rutas de acompañamiento y protección integral para adolescentes ante inobservancia, amenaza o vulneración de derechos.",{"$f":"'[1]LÍNEA 2'!P93","v":2210260},"Número de estrategias \"Me protejo, me protegen\" rutas de acompañamiento y protección integral implementadas y mantenidas para adolescentes ante inobservancia, amenaza o vulneración de derechos.",1,{"$f":"'[1]LÍNEA 2'!S93","v":1},{"$f":"'[1]LÍNEA 2'!T93","v":1},0.25,{"$f":"'[1]LÍNEA 2'!U93","v":1},0.25,{"$f":"'[1]LÍNEA 2'!V93","v":1},0.25,{"$f":"'[1]LÍNEA 2'!W93","v":1},0.25,{"$f":"'[3]2016'!K84","v":1},{"$f":"'[3]2017'!K85","v":1},{"$f":"'[3]2018'!K85","v":1},{"$f":"'[3]2019'!K85","v":0},1,1,1,1,1,1,0,0,0.75,0.75,0.75,{"$f":"'[3]2016'!P84","v":151000},{"$f":"'[3]2016'!Q84","v":151000},{"$f":"'[3]2016'!R84","v":0},1," -",{"$f":"'[3]2017'!P85","v":100000},{"$f":"'[3]2017'!Q85","v":96500},{"$f":"'[3]2017'!R85","v":0},0.96499999999999997," -",{"$f":"'[3]2018'!P85","v":290000},{"$f":"'[3]2018'!Q85","v":215000},{"$f":"'[3]2018'!R85","v":0},0.74137931034482762," -",{"$f":"'[3]2019'!P85","v":79881},{"$f":"'[3]2019'!Q85","v":0},{"$f":"'[3]2019'!R85","v":0},0," -",620881,462500,0,0.7449092499206772," -","16. Paz, justicia e instituciones sólidas","Atención a grupos vulnerables - Promoción Social",{"$f":"'[1]LÍNEA 2'!AQ93","v":"Sec. Desarrollo Social"}]
[null,null,null,null,null,"Aumentar al 98% la cobertura útil de vacunación.",0.95,0.98,{"$f":"+H94-G94","v":3.0000000000000027E-2},0.98,{"$f":"+J94-G94","v":3.0000000000000027E-2},null,0.98,{"$f":"+M94-J94","v":0},null,0.98,{"$f":"+P94-M94","v":0},null,0.98,{"$f":"+S94-P94","v":0},null,0.90300000000000002,{"$f":"+IF(V94=0,0,V94-G94)","v":-4.6999999999999931E-2},null,{"$f":"+IF(X94=0,0,X94-V94)","v":0},null,{"$f":"+IF(Z94=0,0,Z94-X94)","v":0},null,{"$f":"+IF(AB94=0,0,AB94-Z94)","v":0},{"$f":"+IF(K94=0,\" -\",W94/K94)","v":-1.5666666666666629},{"$f":"+IF(K94=0,\" -\",IF(AD94>100%,100%,AD94))","v":-1.5666666666666629},{"$f":"+IF(N94=0,\" -\",Y94/N94)","v":" -"},{"$f":"+IF(N94=0,\" -\",IF(AF94>100%,100%,AF94))","v":" -"},{"$f":"+IF(Q94=0,\" -\",AA94/Q94)","v":" -"},{"$f":"+IF(Q94=0,\" -\",IF(AH94>100%,100%,AH94))","v":" -"},{"$f":"+IF(T94=0,\" -\",AC94/T94)","v":" -"},{"$f":"+IF(T94=0,\" -\",IF(AJ94>100%,100%,AJ94))","v":" -"},{"$f":"+SUM(AC94,AA94,Y94,W94)/I94","v":-1.5666666666666629},{"$f":"+IF(AL94>100%,100%,IF(AL94<0%,0%,AL94))","v":0},null,null,null,"Mantener la atención integral al 100% de los menores infractores (SRPA).",{"$f":"'[1]LÍNEA 2'!P94","v":2210675},"Porcentaje de menores infractores con atención integral mantenida.",1,{"$f":"'[1]LÍNEA 2'!S94","v":1},{"$f":"'[1]LÍNEA 2'!T94","v":1},0.25,{"$f":"'[1]LÍNEA 2'!U94","v":1},0.25,{"$f":"'[1]LÍNEA 2'!V94","v":1},0.25,{"$f":"'[1]LÍNEA 2'!W94","v":1},0.25,{"$f":"'[2]2016'!K43","v":1},{"$f":"'[2]2017'!K43","v":1},{"$f":"'[2]2018'!K43","v":1},{"$f":"'[2]2019'!K43","v":0},1,1,1,1,1,1,0,0,0.75,0.75,0.75,{"$f":"'[2]2016'!P43","v":526944},{"$f":"'[2]2016'!Q43","v":526944},{"$f":"'[2]2016'!R43","v":47060},1,8.9307402684156198E-2,{"$f":"'[2]2017'!P43","v":1372976},{"$f":"'[2]2017'!Q43","v":1372976},{"$f":"'[2]2017'!R43","v":76152},1,5.5464917085222172E-2,{"$f":"'[2]2018'!P43","v":1523230},{"$f":"'[2]2018'!Q43","v":1523230},{"$f":"'[2]2018'!R43","v":0},1," -",{"$f":"'[2]2019'!P43","v":1000000},{"$f":"'[2]2019'!Q43","v":0},{"$f":"'[2]2019'!R43","v":0},0," -",4423150,3423150,123212,0.77391677876626386,3.599374844806684E-2,"16. Paz, justicia e instituciones sólidas","Atención a grupos vulnerables - Promoción Social",{"$f":"'[1]LÍNEA 2'!AQ94","v":"Sec. Interior"}]
[null,null,null,null,null,null,null,null,null,null,null,null,null,null,null,null,null,null,null,null,null,null,null,null,null,null,null,null,null,null,null,null,null,null,null,null,null,null,null,null,null,null,"Incluir al 100% de los jóvenes infractores del SRPA en la estrategia de justicia juvenil restaurativa.",{"$f":"'[1]LÍNEA 2'!P95","v":2210675},"Porcentaje de jóvenes infractores incluidos a la justicia juvenil restaurativa.",1,{"$f":"'[1]LÍNEA 2'!S95","v":1},{"$f":"'[1]LÍNEA 2'!T95","v":1},0.25,{"$f":"'[1]LÍNEA 2'!U95","v":1},0.25,{"$f":"'[1]LÍNEA 2'!V95","v":1},0.25,{"$f":"'[1]LÍNEA 2'!W95","v":1},0.25,{"$f":"'[2]2016'!K44","v":1},{"$f":"'[2]2017'!K44","v":1},{"$f":"'[2]2018'!K44","v":1},{"$f":"'[2]2019'!K44","v":0},1,1,1,1,1,1,0,0,0.75,0.75,0.75,{"$f":"'[2]2016'!P44","v":0},{"$f":"'[2]2016'!Q44","v":0},{"$f":"'[2]2016'!R44","v":0}," -"," -",{"$f":"'[2]2017'!P44","v":0},{"$f":"'[2]2017'!Q44","v":0},{"$f":"'[2]2017'!R44","v":0}," -"," -",{"$f":"'[2]2018'!P44","v":0},{"$f":"'[2]2018'!Q44","v":0},{"$f":"'[2]2018'!R44","v":0}," -"," -",{"$f":"'[2]2019'!P44","v":350000},{"$f":"'[2]2019'!Q44","v":0},{"$f":"'[2]2019'!R44","v":0},0," -",350000,0,0,0," -","16. Paz, justicia e instituciones sólidas","Atención a grupos vulnerables - Promoción Social",{"$f":"'[1]LÍNEA 2'!AQ95","v":"Sec. Interior"}]
[null,null,null,null,null,null,null,null,null,null,null,null,null,null,null,null,null,null,null,null,null,null,null,null,null,null,null,null,null,null,null,null,null,null,null,null,null,null,null,null,null,null,"Garantizar 1 hogar de paso para las niñas, niños y adolescentes en riesgo y/o vulnerabilidad.",{"$f":"'[1]LÍNEA 2'!P96","v":2210268},"Número de hogares de paso para las niñas, niños y adolescentes en riesgo garantizado.",1,{"$f":"'[1]LÍNEA 2'!S96","v":1},{"$f":"'[1]LÍNEA 2'!T96","v":1},0.25,{"$f":"'[1]LÍNEA 2'!U96","v":1},0.25,{"$f":"'[1]LÍNEA 2'!V96","v":1},0.25,{"$f":"'[1]LÍNEA 2'!W96","v":1},0.25,{"$f":"'[2]2016'!K45","v":0},{"$f":"'[2]2017'!K45","v":0},{"$f":"'[2]2018'!K45","v":1},{"$f":"'[2]2019'!K45","v":0},0,0,0,0,1,1,0,0,0.25,0.25,0.25,{"$f":"'[2]2016'!P45","v":80000},{"$f":"'[2]2016'!Q45","v":0},{"$f":"'[2]2016'!R45","v":0},0," -",{"$f":"'[2]2017'!P45","v":109000},{"$f":"'[2]2017'!Q45","v":0},{"$f":"'[2]2017'!R45","v":0},0," -",{"$f":"'[2]2018'!P45","v":280000},{"$f":"'[2]2018'!Q45","v":0},{"$f":"'[2]2018'!R45","v":0},0," -",{"$f":"'[2]2019'!P45","v":200000},{"$f":"'[2]2019'!Q45","v":0},{"$f":"'[2]2019'!R45","v":0},0," -",669000,0,0,0," -","16. Paz, justicia e instituciones sólidas","Atención a grupos vulnerables - Promoción Social",{"$f":"'[1]LÍNEA 2'!AQ96","v":"Sec. Interior"}]
[null,null,null,null,null,null,null,null,null,null,null,null,null,null,null,null,null,null,null,null,null,null,null,null,null,null,null,null,null,null,null,null,null,null,null,null,null,null,null,null,null,null,"Realizar 1 convenio interinstitucional para la construcción y dotación de un centro de atención especializado para la atención de los adolescentes en conflicto con la ley, acorde a los requerimientos de la ley de infancia y adolescencia.",{"$f":"'[1]LÍNEA 2'!P97","v":2210675},"Número de convenios realizados para la construcción y dotación de un centro de atención especializado para la atención de los adolescentes en conflicto con la ley, acorde a los requerimientos de la ley de infancia y adolescencia.",0,{"$f":"'[1]LÍNEA 2'!S97","v":1},{"$f":"'[1]LÍNEA 2'!T97","v":0},0.25,{"$f":"'[1]LÍNEA 2'!U97","v":1},0.25,{"$f":"'[1]LÍNEA 2'!V97","v":0},0.25,{"$f":"'[1]LÍNEA 2'!W97","v":0},0.25,{"$f":"'[2]2016'!K46","v":0},{"$f":"'[2]2017'!K46","v":1},{"$f":"'[2]2018'!K46","v":0},{"$f":"'[2]2019'!K46","v":0}," -"," -",1,1," -"," -"," -"," -",0.25,0.25,0.25,{"$f":"'[2]2016'!P46","v":0},{"$f":"'[2]2016'!Q46","v":0},{"$f":"'[2]2016'!R46","v":0}," -"," -",{"$f":"'[2]2017'!P46","v":110000},{"$f":"'[2]2017'!Q46","v":110000},{"$f":"'[2]2017'!R46","v":0},1," -",{"$f":"'[2]2018'!P46","v":196770},{"$f":"'[2]2018'!Q46","v":0},{"$f":"'[2]2018'!R46","v":0},0," -",{"$f":"'[2]2019'!P46","v":0},{"$f":"'[2]2019'!Q46","v":0},{"$f":"'[2]2019'!R46","v":0}," -"," -",306770,110000,0,0.35857482804707108," -","16. Paz, justicia e instituciones sólidas","Atención a grupos vulnerables - Promoción Social",{"$f":"'[1]LÍNEA 2'!AQ97","v":"Sec. Interior"}]
[null,null,null,null,null,null,null,null,null,null,null,null,null,null,null,null,null,null,null,null,null,null,null,null,null,null,null,null,null,null,null,null,null,null,null,null,null,null,null,null,null,null,"Implementar y mantener 1 estrategia en las instituciones educativas para el uso de internet de manera segura y responsable.",{"$f":"'[1]LÍNEA 2'!P98","v":" -"},"Número de estrategias implementadas y mantenidas en las instituciones educativas para el uso de internet de manera segura y responsable.",0,{"$f":"'[1]LÍNEA 2'!S98","v":1},{"$f":"'[1]LÍNEA 2'!T98","v":0},0,{"$f":"'[1]LÍNEA 2'!U98","v":1},0.33,{"$f":"'[1]LÍNEA 2'!V98","v":1},0.33,{"$f":"'[1]LÍNEA 2'!W98","v":1},0.34,{"$f":"'[4]2016'!$K$14","v":1},{"$f":"'[4]2017'!$K$14","v":0.6},{"$f":"'[4]2018'!$K$14","v":0},{"$f":"'[4]2019'!$K$14","v":0}," -"," -",0.6,0.6,0,0,0,0,{"$f":"+AVERAGE(BE98:BG98)/AU98","v":0.19999999999999998},0.19999999999999998,0.19999999999999998,{"$f":"'[4]2016'!P14","v":0},{"$f":"'[4]2016'!Q14","v":0},{"$f":"'[4]2016'!R14","v":0}," -"," -",{"$f":"'[4]2017'!P14","v":0},{"$f":"'[4]2017'!Q14","v":0},{"$f":"'[4]2017'!R14","v":0}," -"," -",{"$f":"'[4]2018'!P14","v":0},{"$f":"'[4]2018'!Q14","v":0},{"$f":"'[4]2018'!R14","v":0}," -"," -",{"$f":"'[4]2019'!P14","v":0},{"$f":"'[4]2019'!Q14","v":0},{"$f":"'[4]2019'!R14","v":0}," -"," -",0,0,0," -"," -","4. Educación de calidad ","Educación",{"$f":"'[1]LÍNEA 2'!AQ98","v":"Sec. Educación"}]
[null,null,null,null,null,null,null,null,null,null,null,null,null,null,null,null,null,null,null,null,null,null,null,null,null,null,null,null,null,null,null,null,null,null,null,null,null,null,null,null,{"$f":"+RESUMEN!J53","v":0.5521571428571429},"JÓVENES VITALES","Mantener las 6 casas de la juventud con una oferta programática del uso adecuado del tiempo libre.",{"$f":"'[1]LÍNEA 2'!P99","v":"2,4,1,3,1,1"},"Número de casas de la juventud mantenidas con una oferta programática del uso adecuado del tiempo libre.",6,{"$f":"'[1]LÍNEA 2'!S99","v":6},{"$f":"'[1]LÍNEA 2'!T99","v":6},0.25,{"$f":"'[1]LÍNEA 2'!U99","v":6},0.25,{"$f":"'[1]LÍNEA 2'!V99","v":6},0.25,{"$f":"'[1]LÍNEA 2'!W99","v":6},0.25,{"$f":"'[23]2016'!K16","v":6},{"$f":"'[23]2017'!K16","v":6},{"$f":"'[23]2018'!K16","v":6},{"$f":"'[23]2019'!K16","v":0},1,1,1,1,1,1,0,0,0.75,0.75,0.75,{"$f":"'[23]2016'!P16","v":85000},{"$f":"'[23]2016'!Q16","v":13493},{"$f":"'[23]2016'!R16","v":0},0.15874117647058825," -",{"$f":"'[23]2017'!P16","v":120384},{"$f":"'[23]2017'!Q16","v":93500},{"$f":"'[23]2017'!R16","v":0},0.77668128654970758," -",{"$f":"'[23]2018'!P16","v":125800},{"$f":"'[23]2018'!Q16","v":122500},{"$f":"'[23]2018'!R16","v":0},0.97376788553259142," -",{"$f":"'[23]2019'!P16","v":131461},{"$f":"'[23]2019'!Q16","v":0},{"$f":"'[23]2019'!R16","v":0},0," -",462645,229493,0,0.49604556409341938," -","16. Paz, justicia e instituciones sólidas","Deporte y recreación",{"$f":"'[1]LÍNEA 2'!AQ99","v":"INDERBU"}]
[null,null,null,null,null,"Reducir por debajo del 15% la proporción de madres - niñas, adolescentes (10 a 19 años).",0.17,0.15,{"$f":"+H100-G100","v":-2.0000000000000018E-2},0.17,{"$f":"+J100-G100","v":0},null,0.17,{"$f":"+M100-J100","v":0},null,0.16,{"$f":"+P100-M100","v":-1.0000000000000009E-2},null,0.15,{"$f":"+S100-P100","v":-1.0000000000000009E-2},null,0.155,{"$f":"+V100","v":0.155},null,{"$f":"+X100","v":0},null,{"$f":"+Z100","v":0},null,{"$f":"+AB100","v":0},null,{"$f":"+AD100","v":0},null,{"$f":"+AF100","v":0},null,{"$f":"+AH100","v":0},null,{"$f":"+AJ100","v":0},null,{"$f":"+AL100","v":0},null,null,null,"Vincular 3.000 jóvenes en los diferentes procesos democráticos de participación ciudadana.",{"$f":"'[1]LÍNEA 2'!P100","v":"2,4,1,3,1,2"},"Número de jóvenes vinculados en los diferentes procesos democráticos de participación ciudadana.",2000,{"$f":"'[1]LÍNEA 2'!S100","v":3000},{"$f":"'[1]LÍNEA 2'!T100","v":500},0.16666666666666666,{"$f":"'[1]LÍNEA 2'!U100","v":1000},0.33333333333333331,{"$f":"'[1]LÍNEA 2'!V100","v":1000},0.33333333333333331,{"$f":"'[1]LÍNEA 2'!W100","v":500},0.16666666666666666,{"$f":"'[23]2016'!K17","v":377},{"$f":"'[23]2017'!K17","v":1394},{"$f":"'[23]2018'!K17","v":828},{"$f":"'[23]2019'!K17","v":0},0.754,0.754,1.3939999999999999,1,0.82799999999999996,0.82799999999999996,0,0,{"$f":"+SUM(BD100:BG100)/AU100","v":0.86633333333333329},0.86633333333333329,0.86633333333333329,{"$f":"'[23]2016'!P17","v":39000},{"$f":"'[23]2016'!Q17","v":0},{"$f":"'[23]2016'!R17","v":0},0," -",{"$f":"'[23]2017'!P17","v":42221},{"$f":"'[23]2017'!Q17","v":34515},{"$f":"'[23]2017'!R17","v":0},0.8174841903318254," -",{"$f":"'[23]2018'!P17","v":66066},{"$f":"'[23]2018'!Q17","v":18000},{"$f":"'[23]2018'!R17","v":0},0.27245481790936338," -",{"$f":"'[23]2019'!P17","v":69039},{"$f":"'[23]2019'!Q17","v":0},{"$f":"'[23]2019'!R17","v":0},0," -",216326,52515,0,0.24275861431358228," -","16. Paz, justicia e instituciones sólidas","Deporte y recreación",{"$f":"'[1]LÍNEA 2'!AQ100","v":"INDERBU"}]
[null,null,null,null,null,null,null,null,null,null,null,null,null,null,null,null,null,null,null,null,null,null,null,null,null,null,null,null,null,null,null,null,null,null,null,null,null,null,null,null,null,null,"Vincular 5.000 jóvenes en procesos de formación en diferentes competencias de inclusión laboral, social, valores humanos, ambientales y organización juvenil.",{"$f":"'[1]LÍNEA 2'!P101","v":"2,4,1,3,1,3"},"Número de jóvenes vinculados en procesos de formación en diferentes competencias de inclusión laboral, social, valores humanos, ambientales y organización juvenil.",5000,{"$f":"'[1]LÍNEA 2'!S101","v":5000},{"$f":"'[1]LÍNEA 2'!T101","v":400},0.08,{"$f":"'[1]LÍNEA 2'!U101","v":2000},0.4,{"$f":"'[1]LÍNEA 2'!V101","v":2000},0.4,{"$f":"'[1]LÍNEA 2'!W101","v":600},0.12,{"$f":"'[23]2016'!K18","v":405},{"$f":"'[23]2017'!K18","v":2155},{"$f":"'[23]2018'!K18","v":813},{"$f":"'[23]2019'!K18","v":0},1.0125,1,1.0774999999999999,1,0.40649999999999997,0.40649999999999997,0,0,{"$f":"+SUM(BD101:BG101)/AU101","v":0.67459999999999998},0.67459999999999998,0.67459999999999998,{"$f":"'[23]2016'!P18","v":68000},{"$f":"'[23]2016'!Q18","v":0},{"$f":"'[23]2016'!R18","v":0},0," -",{"$f":"'[23]2017'!P18","v":183900},{"$f":"'[23]2017'!Q18","v":183900},{"$f":"'[23]2017'!R18","v":0},1," -",{"$f":"'[23]2018'!P18","v":233037},{"$f":"'[23]2018'!Q18","v":136750},{"$f":"'[23]2018'!R18","v":0},0.5868166857623468," -",{"$f":"'[23]2019'!P18","v":236208},{"$f":"'[23]2019'!Q18","v":0},{"$f":"'[23]2019'!R18","v":0},0," -",721145,320650,0,0.44464012091881661," -","8. Trabajo decente y crecimiento económico","Deporte y recreación",{"$f":"'[1]LÍNEA 2'!AQ101","v":"INDERBU"}]
[null,null,null,null,null,null,null,null,null,null,null,null,null,null,null,null,null,null,null,null,null,null,null,null,null,null,null,null,null,null,null,null,null,null,null,null,null,null,null,null,null,null,"Implementar 10 procesos de comunicación estratégica mediante campañas de innovación para la promoción y prevención de flagelos juveniles.",{"$f":"'[1]LÍNEA 2'!P102","v":"2,4,1,3,1,4"},"Número de procesos de comunicación estratégica implementados mediante campañas de innovación para la promoción y prevención de flagelos juveniles.",12,{"$f":"'[1]LÍNEA 2'!S102","v":10},{"$f":"'[1]LÍNEA 2'!T102","v":2},0.2,{"$f":"'[1]LÍNEA 2'!U102","v":3},0.3,{"$f":"'[1]LÍNEA 2'!V102","v":3},0.3,{"$f":"'[1]LÍNEA 2'!W102","v":2},0.2,{"$f":"'[23]2016'!K19","v":2},{"$f":"'[23]2017'!K19","v":3},{"$f":"'[23]2018'!K19","v":2},{"$f":"'[23]2019'!K19","v":0},1,1,1,1,0.66666666666666663,0.66666666666666663,0,0,{"$f":"+SUM(BD102:BG102)/AU102","v":0.7},0.7,0.7,{"$f":"'[23]2016'!P19","v":28000},{"$f":"'[23]2016'!Q19","v":7000},{"$f":"'[23]2016'!R19","v":0},0.25," -",{"$f":"'[23]2017'!P19","v":83135},{"$f":"'[23]2017'!Q19","v":69711},{"$f":"'[23]2017'!R19","v":0},0.83852769591628074," -",{"$f":"'[23]2018'!P19","v":204907},{"$f":"'[23]2018'!Q19","v":132517},{"$f":"'[23]2018'!R19","v":0},0.64671777928523677," -",{"$f":"'[23]2019'!P19","v":188839},{"$f":"'[23]2019'!Q19","v":0},{"$f":"'[23]2019'!R19","v":0},0," -",504881,209228,0,0.41441052446021936," -","16. Paz, justicia e instituciones sólidas","Deporte y recreación",{"$f":"'[1]LÍNEA 2'!AQ102","v":"INDERBU"}]
[null,null,null,null,null,null,null,null,null,null,null,null,null,null,null,null,null,null,null,null,null,null,null,null,null,null,null,null,null,null,null,null,null,null,null,null,null,null,null,null,null,null,"Reactivar y mantener el Consejo Municipal de Juventud.",{"$f":"'[1]LÍNEA 2'!P103","v":" -"},"Número de Consejos Municipales de Juventud reactivados y mantenidos.",0,{"$f":"'[1]LÍNEA 2'!S103","v":1},{"$f":"'[1]LÍNEA 2'!T103","v":0},0.25,{"$f":"'[1]LÍNEA 2'!U103","v":1},0.25,{"$f":"'[1]LÍNEA 2'!V103","v":1},0.25,{"$f":"'[1]LÍNEA 2'!W103","v":1},0.25,{"$f":"'[23]2016'!K20","v":0},{"$f":"'[23]2017'!K20","v":0},{"$f":"'[23]2018'!K20","v":0},{"$f":"'[23]2019'!K20","v":0}," -"," -",0,0,0,0,0,0,{"$f":"+AVERAGE(BE103:BG103)/AU103","v":0},0,0,{"$f":"'[23]2016'!P20","v":0},{"$f":"'[23]2016'!Q20","v":0},{"$f":"'[23]2016'!R20","v":0}," -"," -",{"$f":"'[23]2017'!P20","v":1000},{"$f":"'[23]2017'!Q20","v":0},{"$f":"'[23]2017'!R20","v":0},0," -",{"$f":"'[23]2018'!P20","v":0},{"$f":"'[23]2018'!Q20","v":0},{"$f":"'[23]2018'!R20","v":0}," -"," -",{"$f":"'[23]2019'!P20","v":0},{"$f":"'[23]2019'!Q20","v":0},{"$f":"'[23]2019'!R20","v":0}," -"," -",1000,0,0,0," -","16. Paz, justicia e instituciones sólidas","Deporte y recreación",{"$f":"'[1]LÍNEA 2'!AQ103","v":"INDERBU"}]
[null,null,null,null,null,null,null,null,null,null,null,null,null,null,null,null,null,null,null,null,null,null,null,null,null,null,null,null,null,null,null,null,null,null,null,null,null,null,null,null,null,null,"Actualizar y mantener la política pública de juventud.",{"$f":"'[1]LÍNEA 2'!P104","v":"2.4.1.3.1.6"},"Número de políticas públicas de  juventud  actualizadas y mantenidas.",1,{"$f":"'[1]LÍNEA 2'!S104","v":1},{"$f":"'[1]LÍNEA 2'!T104","v":1},0.25,{"$f":"'[1]LÍNEA 2'!U104","v":1},0.25,{"$f":"'[1]LÍNEA 2'!V104","v":1},0.25,{"$f":"'[1]LÍNEA 2'!W104","v":1},0.25,{"$f":"'[23]2016'!K21","v":0.33},{"$f":"'[23]2017'!K21","v":0.5},{"$f":"'[23]2018'!K21","v":0},{"$f":"'[23]2019'!K21","v":0},0.33,0.33,0.5,0.5,0,0,0,0,0.20750000000000002,0.20750000000000002,0.20750000000000002,{"$f":"'[23]2016'!P21","v":0},{"$f":"'[23]2016'!Q21","v":0},{"$f":"'[23]2016'!R21","v":0}," -"," -",{"$f":"'[23]2017'!P21","v":15000},{"$f":"'[23]2017'!Q21","v":0},{"$f":"'[23]2017'!R21","v":0},0," -",{"$f":"'[23]2018'!P21","v":50000},{"$f":"'[23]2018'!Q21","v":0},{"$f":"'[23]2018'!R21","v":0},0," -",{"$f":"'[23]2019'!P21","v":0},{"$f":"'[23]2019'!Q21","v":0},{"$f":"'[23]2019'!R21","v":0}," -"," -",65000,0,0,0," -","16. Paz, justicia e instituciones sólidas","Deporte y recreación",{"$f":"'[1]LÍNEA 2'!AQ104","v":"INDERBU"}]
[null,null,null,null,null,null,null,null,null,null,null,null,null,null,null,null,null,null,null,null,null,null,null,null,null,null,null,null,null,null,null,null,null,null,null,null,null,null,null,null,null,null,"Formular e implementar 1 programa de prevención e inclusión social en jóvenes frente al consumo de sustancias psicoactivas y conductas disfuncionales en los ámbitos comunitario, familiar y escolar.",{"$f":"'[1]LÍNEA 2'!P105","v":2210980},"Número de programas de prevención e inclusión social en jóvenes formulados e implementados frente al consumo de sustancias psicoactivas y conductas disfuncionales en los ámbito comunitario, familiar y escolar.",0,{"$f":"'[1]LÍNEA 2'!S105","v":1},{"$f":"'[1]LÍNEA 2'!T105","v":0},0,{"$f":"'[1]LÍNEA 2'!U105","v":1},0.33,{"$f":"'[1]LÍNEA 2'!V105","v":1},0.33,{"$f":"'[1]LÍNEA 2'!W105","v":1},0.34,{"$f":"'[2]2016'!$K$47","v":0},{"$f":"'[2]2017'!$K$47","v":1},{"$f":"'[2]2018'!$K$47","v":1},{"$f":"'[2]2019'!$K$47","v":0}," -"," -",1,1,1,1,0,0,{"$f":"+AVERAGE(BE105:BG105)/AU105","v":0.66666666666666663},0.66666666666666663,0.66666666666666663,{"$f":"'[2]2016'!P47","v":0},{"$f":"'[2]2016'!Q47","v":0},{"$f":"'[2]2016'!R47","v":0}," -"," -",{"$f":"'[2]2017'!P47","v":0},{"$f":"'[2]2017'!Q47","v":0},{"$f":"'[2]2017'!R47","v":0}," -"," -",{"$f":"'[2]2018'!P47","v":0},{"$f":"'[2]2018'!Q47","v":0},{"$f":"'[2]2018'!R47","v":0}," -"," -",{"$f":"'[2]2019'!P47","v":120000},{"$f":"'[2]2019'!Q47","v":0},{"$f":"'[2]2019'!R47","v":0},0," -",120000,0,0,0," -","3. Salud y bienestar","Atención a grupos vulnerables - Promoción Social",{"$f":"'[1]LÍNEA 2'!AQ105","v":"Sec. Interior"}]
[null,null,null,null,null,null,null,null,null,null,null,null,null,null,null,null,null,null,null,null,null,null,null,null,null,null,null,null,null,null,null,null,null,null,null,null,null,null,null,null,{"$f":"+RESUMEN!J54","v":0.35},"PRIMERO MI FAMILIA","Mantener el apoyo logístico a las familias beneficiadas del programa Familias en Acción.",{"$f":"'[1]LÍNEA 2'!P106","v":2210946},"Número de apoyos logísticos mantenidos a las familias beneficiadas del programa Familias en Acción.",1,{"$f":"'[1]LÍNEA 2'!S106","v":1},{"$f":"'[1]LÍNEA 2'!T106","v":1},0.25,{"$f":"'[1]LÍNEA 2'!U106","v":1},0.25,{"$f":"'[1]LÍNEA 2'!V106","v":1},0.25,{"$f":"'[1]LÍNEA 2'!W106","v":1},0.25,{"$f":"'[3]2016'!K85","v":1},{"$f":"'[3]2017'!K86","v":1},{"$f":"'[3]2018'!K86","v":1},{"$f":"'[3]2019'!K86","v":0},1,1,1,1,1,1,0,0,0.75,0.75,0.75,{"$f":"'[3]2016'!P85","v":222422},{"$f":"'[3]2016'!Q85","v":222422},{"$f":"'[3]2016'!R85","v":0},1," -",{"$f":"'[3]2017'!P86","v":225529},{"$f":"'[3]2017'!Q86","v":225529},{"$f":"'[3]2017'!R86","v":0},1," -",{"$f":"'[3]2018'!P86","v":229600},{"$f":"'[3]2018'!Q86","v":130149},{"$f":"'[3]2018'!R86","v":0},0.56685104529616726," -",{"$f":"'[3]2019'!P86","v":0},{"$f":"'[3]2019'!Q86","v":0},{"$f":"'[3]2019'!R86","v":0}," -"," -",677551,578100,0,0.85321990521746705," -","1. Fin de la pobreza","Atención a grupos vulnerables - Promoción Social",{"$f":"'[1]LÍNEA 2'!AQ106","v":"Sec. Desarrollo Social"}]
[null,null,null,null,null,"Reducir a 0 la tasa de mortalidad por enfermedad diarréica aguda (EDA) en menores de 5 años.",2.86,0,{"$f":"+H107-G107","v":-2.86},0,{"$f":"+J107-G107","v":-2.86},null,0,{"$f":"+M107-J107","v":0},null,0,{"$f":"+P107-M107","v":0},null,0,{"$f":"+S107-P107","v":0},null,2.9,{"$f":"+V107","v":2.9},null,{"$f":"+X107","v":0},null,{"$f":"+Z107","v":0},null,{"$f":"+AB107","v":0},null,{"$f":"+AD107","v":0},null,{"$f":"+AF107","v":0},null,{"$f":"+AH107","v":0},null,{"$f":"+AJ107","v":0},null,{"$f":"+AL107","v":0},null,null,null,"Brindar al 100% de la personas beneficiadas del programa Familias en Acción acceso gratuito en espacios de recreación y cultura.",{"$f":"'[1]LÍNEA 2'!P107","v":2210946},"Porcentaje de personas del programa Familias en Acción beneficiadas con acceso gratuito en espacios de recreación y cultura.",1,{"$f":"'[1]LÍNEA 2'!S107","v":1},{"$f":"'[1]LÍNEA 2'!T107","v":1},0.25,{"$f":"'[1]LÍNEA 2'!U107","v":1},0.25,{"$f":"'[1]LÍNEA 2'!V107","v":1},0.25,{"$f":"'[1]LÍNEA 2'!W107","v":1},0.25,{"$f":"'[3]2016'!K86","v":0},{"$f":"'[3]2017'!K87","v":1},{"$f":"'[3]2018'!K87","v":1},{"$f":"'[3]2019'!K87","v":0},0,0,1,1,1,1,0,0,0.5,0.5,0.5,{"$f":"'[3]2016'!P86","v":0},{"$f":"'[3]2016'!Q86","v":0},{"$f":"'[3]2016'!R86","v":0}," -"," -",{"$f":"'[3]2017'!P87","v":80000},{"$f":"'[3]2017'!Q87","v":80000},{"$f":"'[3]2017'!R87","v":0},1," -",{"$f":"'[3]2018'!P87","v":31750},{"$f":"'[3]2018'!Q87","v":31748},{"$f":"'[3]2018'!R87","v":13607},0.99993700787401574,0.42859392717651507,{"$f":"'[3]2019'!P87","v":0},{"$f":"'[3]2019'!Q87","v":0},{"$f":"'[3]2019'!R87","v":0}," -"," -",111750,111748,13607,0.99998210290827738,0.12176504277481476,"1. Fin de la pobreza","Atención a grupos vulnerables - Promoción Social",{"$f":"'[1]LÍNEA 2'!AQ107","v":"Sec. Desarrollo Social"}]
[null,null,null,null,null,null,null,null,null,null,null,null,null,null,null,null,null,null,null,null,null,null,null,null,null,null,null,null,null,null,null,null,null,null,null,null,null,null,null,null,null,null,"Formular e implementar la política pública de familia.",{"$f":"'[1]LÍNEA 2'!P108","v":" -"},"Número de políticas públicas de familia formuladas e implementadas.",0,{"$f":"'[1]LÍNEA 2'!S108","v":1},{"$f":"'[1]LÍNEA 2'!T108","v":0},0,{"$f":"'[1]LÍNEA 2'!U108","v":1},0.33,{"$f":"'[1]LÍNEA 2'!V108","v":1},0.33,{"$f":"'[1]LÍNEA 2'!W108","v":1},0.34,{"$f":"'[3]2016'!K87","v":0},{"$f":"'[3]2017'!K88","v":0},{"$f":"'[3]2018'!K88","v":0},{"$f":"'[3]2019'!K88","v":0}," -"," -",0,0,0,0,0,0,{"$f":"+AVERAGE(BE108:BG108)/AU108","v":0},0,0,{"$f":"'[3]2016'!P87","v":0},{"$f":"'[3]2016'!Q87","v":0},{"$f":"'[3]2016'!R87","v":0}," -"," -",{"$f":"'[3]2017'!P88","v":0},{"$f":"'[3]2017'!Q88","v":0},{"$f":"'[3]2017'!R88","v":0}," -"," -",{"$f":"'[3]2018'!P88","v":0},{"$f":"'[3]2018'!Q88","v":0},{"$f":"'[3]2018'!R88","v":0}," -"," -",{"$f":"'[3]2019'!P88","v":0},{"$f":"'[3]2019'!Q88","v":0},{"$f":"'[3]2019'!R88","v":0}," -"," -",0,0,0," -"," -","16. Paz, justicia e instituciones sólidas","Atención a grupos vulnerables - Promoción Social",{"$f":"'[1]LÍNEA 2'!AQ108","v":"Sec. Desarrollo Social"}]
[null,null,null,null,null,null,null,null,null,null,null,null,null,null,null,null,null,null,null,null,null,null,null,null,null,null,null,null,null,null,null,null,null,null,null,null,null,null,null,null,null,null,"Formular e implementar la política pública de libertad religiosa y de cultos.",{"$f":"'[1]LÍNEA 2'!P109","v":" -"},"Número de políticas públicas de libertad religiosa y de cultos formuladas e implementadas.",0,{"$f":"'[1]LÍNEA 2'!S109","v":1},{"$f":"'[1]LÍNEA 2'!T109","v":0},0,{"$f":"'[1]LÍNEA 2'!U109","v":1},0.33,{"$f":"'[1]LÍNEA 2'!V109","v":1},0.33,{"$f":"'[1]LÍNEA 2'!W109","v":1},0.34,{"$f":"'[3]2016'!K88","v":0},{"$f":"'[3]2017'!K89","v":0},{"$f":"'[3]2018'!K89","v":0},{"$f":"'[3]2019'!K89","v":0}," -"," -",0,0,0,0,0,0,{"$f":"+AVERAGE(BE109:BG109)/AU109","v":0},0,0,{"$f":"'[3]2016'!P88","v":0},{"$f":"'[3]2016'!Q88","v":0},{"$f":"'[3]2016'!R88","v":0}," -"," -",{"$f":"'[3]2017'!P89","v":0},{"$f":"'[3]2017'!Q89","v":0},{"$f":"'[3]2017'!R89","v":0}," -"," -",{"$f":"'[3]2018'!P89","v":0},{"$f":"'[3]2018'!Q89","v":0},{"$f":"'[3]2018'!R89","v":0}," -"," -",{"$f":"'[3]2019'!P89","v":0},{"$f":"'[3]2019'!Q89","v":0},{"$f":"'[3]2019'!R89","v":0}," -"," -",0,0,0," -"," -","10. Reducción de las desigualdades","Atención a grupos vulnerables - Promoción Social",{"$f":"'[1]LÍNEA 2'!AQ109","v":"Sec. Desarrollo Social"}]
[null,null,null,null,null,null,null,null,null,null,null,null,null,null,null,null,null,null,null,null,null,null,null,null,null,null,null,null,null,null,null,null,null,null,null,null,null,null,null,null,null,null,"Implementar y mantener el programa \"Bucaramanga y la familia al parque\" (retretas, cultura y ciencia, mercadillo cultural - en los parque emblemáticos).",{"$f":"'[1]LÍNEA 2'!P110","v":2210946},"Número de programas \"Bucaramanga y la familia al parque\" (retretas, cultura y ciencia, mercadillo cultural - en los parque emblemáticos) implementados y mantenidos.",0,{"$f":"'[1]LÍNEA 2'!S110","v":1},{"$f":"'[1]LÍNEA 2'!T110","v":1},0.25,{"$f":"'[1]LÍNEA 2'!U110","v":1},0.25,{"$f":"'[1]LÍNEA 2'!V110","v":1},0.25,{"$f":"'[1]LÍNEA 2'!W110","v":1},0.25,{"$f":"'[3]2016'!K89","v":1},{"$f":"'[3]2017'!K90","v":0},{"$f":"'[3]2018'!K90","v":1},{"$f":"'[3]2019'!K90","v":0},1,1,0,0,1,1,0,0,0.5,0.5,0.5,{"$f":"'[3]2016'!P89","v":700000},{"$f":"'[3]2016'!Q89","v":700000},{"$f":"'[3]2016'!R89","v":600},1,8.571428571428571E-4,{"$f":"'[3]2017'!P90","v":0},{"$f":"'[3]2017'!Q90","v":0},{"$f":"'[3]2017'!R90","v":0}," -"," -",{"$f":"'[3]2018'!P90","v":300000},{"$f":"'[3]2018'!Q90","v":164782},{"$f":"'[3]2018'!R90","v":0},0.54927333333333328," -",{"$f":"'[3]2019'!P90","v":130625},{"$f":"'[3]2019'!Q90","v":0},{"$f":"'[3]2019'!R90","v":0},0," -",1130625,864782,600,0.76487075732448861,6.9381647629113466E-4,"3. Salud y bienestar","Atención a grupos vulnerables - Promoción Social",{"$f":"'[1]LÍNEA 2'!AQ110","v":"Sec. Desarrollo Social"}]
[null,null,null,null,null,null,null,null,null,null,null,null,null,null,null,null,null,null,null,null,null,null,null,null,null,null,null,null,null,null,null,null,null,null,null,null,null,null,null,null,{"$f":"+RESUMEN!J55","v":0.70409369747899164},"ADULTO MAYOR Y DIGNO","Mantener a 560 adultos mayores adscritos a los centros vida del municipio en suministro de alimentación y nutrición.",{"$f":"'[1]LÍNEA 2'!P111","v":"2210874\r2210710"},"Número de adultos mayores adscritos a los centros vida del municipio mantenidos con el suministro de alimentación y nutrición.",560,{"$f":"'[1]LÍNEA 2'!S111","v":560},{"$f":"'[1]LÍNEA 2'!T111","v":560},0.25,{"$f":"'[1]LÍNEA 2'!U111","v":560},0.25,{"$f":"'[1]LÍNEA 2'!V111","v":560},0.25,{"$f":"'[1]LÍNEA 2'!W111","v":560},0.25,{"$f":"'[3]2016'!K90","v":2157},{"$f":"'[3]2017'!K91","v":1310},{"$f":"'[3]2018'!K91","v":20},{"$f":"'[3]2019'!K91","v":0},3.8517857142857141,1,2.3392857142857144,1,3.5714285714285712E-2,3.5714285714285712E-2,0,0,1.5566964285714286,1,1,{"$f":"'[3]2016'!P90","v":4500000},{"$f":"'[3]2016'!Q90","v":3377172},{"$f":"'[3]2016'!R90","v":34965},0.75048266666666663,1.0353337052421375E-2,{"$f":"'[3]2017'!P91","v":2055261},{"$f":"'[3]2017'!Q91","v":2056780},{"$f":"'[3]2017'!R91","v":111083},1.0007390788809791,5.400820700317973E-2,{"$f":"'[3]2018'!P91","v":1312886},{"$f":"'[3]2018'!Q91","v":10348},{"$f":"'[3]2018'!R91","v":0},7.8818724550341768E-3," -",{"$f":"'[3]2019'!P91","v":1232460},{"$f":"'[3]2019'!Q91","v":0},{"$f":"'[3]2019'!R91","v":0},0," -",9100607,5444300,146048,0.59823482103995917,2.6825854563488419E-2,"3. Salud y bienestar","Atención a grupos vulnerables - Promoción Social",{"$f":"'[1]LÍNEA 2'!AQ111","v":"Sec. Desarrollo Social"}]
[null,null,null,null,null,null,null,null,null,null,null,null,null,null,null,null,null,null,null,null,null,null,null,null,null,null,null,null,null,null,null,null,null,null,null,null,null,null,null,null,null,null,"Mantener a 560 adultos mayores el servicio de transporte para asistir a los centros vida.",{"$f":"'[1]LÍNEA 2'!P112","v":2210874},"Número de adultos mayores mantenidos con el servicio de transporte para asistir a los centros vida.",560,{"$f":"'[1]LÍNEA 2'!S112","v":560},{"$f":"'[1]LÍNEA 2'!T112","v":560},0.25,{"$f":"'[1]LÍNEA 2'!U112","v":560},0.25,{"$f":"'[1]LÍNEA 2'!V112","v":560},0.25,{"$f":"'[1]LÍNEA 2'!W112","v":560},0.25,{"$f":"'[3]2016'!K91","v":0},{"$f":"'[3]2017'!K92","v":0},{"$f":"'[3]2018'!K92","v":0},{"$f":"'[3]2019'!K92","v":0},0,0,0,0,0,0,0,0,0,0,0,{"$f":"'[3]2016'!P91","v":448000},{"$f":"'[3]2016'!Q91","v":0},{"$f":"'[3]2016'!R91","v":0},0," -",{"$f":"'[3]2017'!P92","v":0},{"$f":"'[3]2017'!Q92","v":0},{"$f":"'[3]2017'!R92","v":0}," -"," -",{"$f":"'[3]2018'!P92","v":0},{"$f":"'[3]2018'!Q92","v":0},{"$f":"'[3]2018'!R92","v":0}," -"," -",{"$f":"'[3]2019'!P92","v":1000000},{"$f":"'[3]2019'!Q92","v":0},{"$f":"'[3]2019'!R92","v":0},0," -",1448000,0,0,0," -","3. Salud y bienestar","Atención a grupos vulnerables - Promoción Social",{"$f":"'[1]LÍNEA 2'!AQ112","v":"Sec. Desarrollo Social"}]
[null,null,null,null,null,null,null,null,null,null,null,null,null,null,null,null,null,null,null,null,null,null,null,null,null,null,null,null,null,null,null,null,null,null,null,null,null,null,null,null,null,null,"Beneficiar y mantener a 600 adultos mayores en el programa de alimentación \"compartamos Bucaramanga\".",{"$f":"'[1]LÍNEA 2'!P113","v":2210874},"Número de adultos mayores beneficiados y mantenidos en el programa de alimentación \"compartamos Bucaramanga\".",0,{"$f":"'[1]LÍNEA 2'!S113","v":600},{"$f":"'[1]LÍNEA 2'!T113","v":600},0.25,{"$f":"'[1]LÍNEA 2'!U113","v":600},0.25,{"$f":"'[1]LÍNEA 2'!V113","v":600},0.25,{"$f":"'[1]LÍNEA 2'!W113","v":600},0.25,{"$f":"'[3]2016'!K92","v":800},{"$f":"'[3]2017'!K93","v":1656},{"$f":"'[3]2018'!K93","v":1656},{"$f":"'[3]2019'!K93","v":0},1.3333333333333333,1,2.76,1,2.76,1,0,0,1.7133333333333334,1,1,{"$f":"'[3]2016'!P92","v":240000},{"$f":"'[3]2016'!Q92","v":190400},{"$f":"'[3]2016'!R92","v":11065},0.79333333333333333,5.8114495798319329E-2,{"$f":"'[3]2017'!P93","v":5853872},{"$f":"'[3]2017'!Q93","v":4857472},{"$f":"'[3]2017'!R93","v":0},0.82978787373553775," -",{"$f":"'[3]2018'!P93","v":5577838},{"$f":"'[3]2018'!Q93","v":4622503},{"$f":"'[3]2018'!R93","v":0},0.82872665000310153," -",{"$f":"'[3]2019'!P93","v":739584},{"$f":"'[3]2019'!Q93","v":0},{"$f":"'[3]2019'!R93","v":0},0," -",12411294,9670375,11065,0.77915928830627978,1.1442162273955249E-3,"3. Salud y bienestar","Atención a grupos vulnerables - Promoción Social",{"$f":"'[1]LÍNEA 2'!AQ113","v":"Sec. Desarrollo Social"}]
[null,null,null,null,null,"Mantener por debajo de 15 la tasa de mortalidad por infección respiratoria aguda (IRA) en menores de 5 años.",22.53,15,{"$f":"+H114-G114","v":-7.5300000000000011},20,{"$f":"+J114-G114","v":-2.5300000000000011},null,15,{"$f":"+M114-J114","v":-5},null,15,{"$f":"+P114-M114","v":0},null,15,{"$f":"+S114-P114","v":0},null,5.8,{"$f":"+V114","v":5.8},null,{"$f":"+X114","v":0},null,{"$f":"+Z114","v":0},null,{"$f":"+AB114","v":0},null,{"$f":"+AD114","v":0},null,{"$f":"+AF114","v":0},null,{"$f":"+AH114","v":0},null,{"$f":"+AJ114","v":0},null,{"$f":"+AL114","v":0},null,null,null,"Realizar 6 actividades de dotación a los Centros Vida.",{"$f":"'[1]LÍNEA 2'!P114","v":2210874},"Número de actividades de dotación realizadas en los Centros Vida.",3,{"$f":"'[1]LÍNEA 2'!S114","v":6},{"$f":"'[1]LÍNEA 2'!T114","v":0},0,{"$f":"'[1]LÍNEA 2'!U114","v":3},0.5,{"$f":"'[1]LÍNEA 2'!V114","v":3},0.5,{"$f":"'[1]LÍNEA 2'!W114","v":0},0,{"$f":"'[3]2016'!K93","v":2},{"$f":"'[3]2017'!K94","v":3},{"$f":"'[3]2018'!K94","v":3},{"$f":"'[3]2019'!K94","v":0}," -"," -",1,1,1,1," -"," -",{"$f":"+SUM(BD114:BG114)/AU114","v":1.3333333333333333},1,1,{"$f":"'[3]2016'!P93","v":390000},{"$f":"'[3]2016'!Q93","v":119344},{"$f":"'[3]2016'!R93","v":0},0.30601025641025642," -",{"$f":"'[3]2017'!P94","v":204000},{"$f":"'[3]2017'!Q94","v":63800},{"$f":"'[3]2017'!R94","v":0},0.31274509803921569," -",{"$f":"'[3]2018'!P94","v":500000},{"$f":"'[3]2018'!Q94","v":449494},{"$f":"'[3]2018'!R94","v":0},0.89898800000000001," -",{"$f":"'[3]2019'!P94","v":114566},{"$f":"'[3]2019'!Q94","v":0},{"$f":"'[3]2019'!R94","v":0},0," -",1208566,632638,0,0.52346168930782433," -","16. Paz, justicia e instituciones sólidas","Atención a grupos vulnerables - Promoción Social",{"$f":"'[1]LÍNEA 2'!AQ114","v":"Sec. Desarrollo Social"}]
[null,null,null,null,null,null,null,null,null,null,null,null,null,null,null,null,null,null,null,null,null,null,null,null,null,null,null,null,null,null,null,null,null,null,null,null,null,null,null,null,null,null,"Realizar 4 actividades de celebración del día del adulto mayor.",{"$f":"'[1]LÍNEA 2'!P115","v":2210710},"Número de actividades de celebración del día del adulto mayor realizados.",4,{"$f":"'[1]LÍNEA 2'!S115","v":4},{"$f":"'[1]LÍNEA 2'!T115","v":1},0.25,{"$f":"'[1]LÍNEA 2'!U115","v":1},0.25,{"$f":"'[1]LÍNEA 2'!V115","v":1},0.25,{"$f":"'[1]LÍNEA 2'!W115","v":1},0.25,{"$f":"'[3]2016'!K94","v":1},{"$f":"'[3]2017'!K95","v":1},{"$f":"'[3]2018'!K95","v":0},{"$f":"'[3]2019'!K95","v":0},1,1,1,1,0,0,0,0,{"$f":"+SUM(BD115:BG115)/AU115","v":0.5},0.5,0.5,{"$f":"'[3]2016'!P94","v":81946},{"$f":"'[3]2016'!Q94","v":25000},{"$f":"'[3]2016'!R94","v":0},0.30507895443340738," -",{"$f":"'[3]2017'!P95","v":50000},{"$f":"'[3]2017'!Q95","v":0},{"$f":"'[3]2017'!R95","v":0},0," -",{"$f":"'[3]2018'!P95","v":0},{"$f":"'[3]2018'!Q95","v":0},{"$f":"'[3]2018'!R95","v":0}," -"," -",{"$f":"'[3]2019'!P95","v":114116},{"$f":"'[3]2019'!Q95","v":0},{"$f":"'[3]2019'!R95","v":0},0," -",246062,25000,0,0.10160040965285172," -","3. Salud y bienestar","Atención a grupos vulnerables - Promoción Social",{"$f":"'[1]LÍNEA 2'!AQ115","v":"Sec. Desarrollo Social"}]
[null,null,null,null,null,null,null,null,null,null,null,null,null,null,null,null,null,null,null,null,null,null,null,null,null,null,null,null,null,null,null,null,null,null,null,null,null,null,null,null,null,null,"Mantener a 560 adultos mayores la atención primaria en salud y orientación psicosocial.",{"$f":"'[1]LÍNEA 2'!P116","v":"2210710 2210874"},"Número de adultos mayores mantenidos con la atención primaria en salud y la orientación psicosocial.",560,{"$f":"'[1]LÍNEA 2'!S116","v":560},{"$f":"'[1]LÍNEA 2'!T116","v":560},0.25,{"$f":"'[1]LÍNEA 2'!U116","v":560},0.25,{"$f":"'[1]LÍNEA 2'!V116","v":560},0.25,{"$f":"'[1]LÍNEA 2'!W116","v":560},0.25,{"$f":"'[3]2016'!K95","v":964},{"$f":"'[3]2017'!K96","v":560},{"$f":"'[3]2018'!K96","v":560},{"$f":"'[3]2019'!K96","v":0},1.7214285714285715,1,1,1,1,1,0,0,0.93035714285714288,0.93035714285714288,0.93035714285714288,{"$f":"'[3]2016'!P95","v":311000},{"$f":"'[3]2016'!Q95","v":136253},{"$f":"'[3]2016'!R95","v":0},0.43811254019292606," -",{"$f":"'[3]2017'!P96","v":709050},{"$f":"'[3]2017'!Q96","v":709050},{"$f":"'[3]2017'!R96","v":0},1," -",{"$f":"'[3]2018'!P96","v":0},{"$f":"'[3]2018'!Q96","v":0},{"$f":"'[3]2018'!R96","v":0}," -"," -",{"$f":"'[3]2019'!P96","v":146250},{"$f":"'[3]2019'!Q96","v":0},{"$f":"'[3]2019'!R96","v":0},0," -",1166300,845303,0,0.72477321443882359," -","3. Salud y bienestar","Atención a grupos vulnerables - Promoción Social",{"$f":"'[1]LÍNEA 2'!AQ116","v":"Sec. Desarrollo Social"}]
[null,null,null,null,null,null,null,null,null,null,null,null,null,null,null,null,null,null,null,null,null,null,null,null,null,null,null,null,null,null,null,null,null,null,null,null,null,null,null,null,null,null,"Realizar 3 campañas de sensibilización a la comunidad en los derechos del adulto mayor y promoción de redes de apoyo.",{"$f":"'[1]LÍNEA 2'!P117","v":2210710},"Número de campañas de sensibilización realizadas a la comunidad en los derechos del adulto mayor y promoción de redes de apoyo.",0,{"$f":"'[1]LÍNEA 2'!S117","v":3},{"$f":"'[1]LÍNEA 2'!T117","v":0},0,{"$f":"'[1]LÍNEA 2'!U117","v":1},0.33333333333333331,{"$f":"'[1]LÍNEA 2'!V117","v":1},0.33333333333333331,{"$f":"'[1]LÍNEA 2'!W117","v":1},0.33333333333333331,{"$f":"'[3]2016'!K96","v":0},{"$f":"'[3]2017'!K97","v":1},{"$f":"'[3]2018'!K97","v":1},{"$f":"'[3]2019'!K97","v":0}," -"," -",1,1,1,1,0,0,{"$f":"+SUM(BD117:BG117)/AU117","v":0.66666666666666663},0.66666666666666663,0.66666666666666663,{"$f":"'[3]2016'!P96","v":0},{"$f":"'[3]2016'!Q96","v":0},{"$f":"'[3]2016'!R96","v":0}," -"," -",{"$f":"'[3]2017'!P97","v":70000},{"$f":"'[3]2017'!Q97","v":0},{"$f":"'[3]2017'!R97","v":0},0," -",{"$f":"'[3]2018'!P97","v":711450},{"$f":"'[3]2018'!Q97","v":297694},{"$f":"'[3]2018'!R97","v":0},0.41843277812917279," -",{"$f":"'[3]2019'!P97","v":54601},{"$f":"'[3]2019'!Q97","v":0},{"$f":"'[3]2019'!R97","v":0},0," -",836051,297694,0,0.35607157936537365," -","1. Hambre cero","Atención a grupos vulnerables - Promoción Social",{"$f":"'[1]LÍNEA 2'!AQ117","v":"Sec. Desarrollo Social"}]
[null,null,null,null,null,null,null,null,null,null,null,null,null,null,null,null,null,null,null,null,null,null,null,null,null,null,null,null,null,null,null,null,null,null,null,null,null,null,null,null,null,null,"Implementar y mantener 1 programa que incentive la actividad productiva del adulto mayor.",{"$f":"'[1]LÍNEA 2'!P118","v":"2210710 2210874"},"Número de programas implementados y mantenidos que incentive la actividad productiva del adulto mayor.",0,{"$f":"'[1]LÍNEA 2'!S118","v":1},{"$f":"'[1]LÍNEA 2'!T118","v":1},0.25,{"$f":"'[1]LÍNEA 2'!U118","v":1},0.25,{"$f":"'[1]LÍNEA 2'!V118","v":1},0.25,{"$f":"'[1]LÍNEA 2'!W118","v":1},0.25,{"$f":"'[3]2016'!K97","v":1},{"$f":"'[3]2017'!K98","v":1},{"$f":"'[3]2018'!K98","v":1},{"$f":"'[3]2019'!K98","v":0},1,1,1,1,1,1,0,0,0.75,0.75,0.75,{"$f":"'[3]2016'!P97","v":313000},{"$f":"'[3]2016'!Q97","v":174819},{"$f":"'[3]2016'!R97","v":0},0.55852715654952079," -",{"$f":"'[3]2017'!P98","v":80000},{"$f":"'[3]2017'!Q98","v":56188},{"$f":"'[3]2017'!R98","v":0},0.70235000000000003," -",{"$f":"'[3]2018'!P98","v":257000},{"$f":"'[3]2018'!Q98","v":100000},{"$f":"'[3]2018'!R98","v":0},0.38910505836575876," -",{"$f":"'[3]2019'!P98","v":76441},{"$f":"'[3]2019'!Q98","v":0},{"$f":"'[3]2019'!R98","v":0},0," -",726441,331007,0,0.45565572427767703," -","8. Trabajo decente y crecimiento económico","Atención a grupos vulnerables - Promoción Social",{"$f":"'[1]LÍNEA 2'!AQ118","v":"Sec. Desarrollo Social"}]
[null,null,null,null,null,null,null,null,null,null,null,null,null,null,null,null,null,null,null,null,null,null,null,null,null,null,null,null,null,null,null,null,null,null,null,null,null,null,null,null,null,null,"Mantener a 560 adultos mayores adscritos a los centros vida el auxilio exequial.",{"$f":"'[1]LÍNEA 2'!P119","v":"2210710\r2210091"},"Número de adultos mayores adscritos a los centros vida mantenidos con el auxilio exequial.",560,{"$f":"'[1]LÍNEA 2'!S119","v":560},{"$f":"'[1]LÍNEA 2'!T119","v":560},0.25,{"$f":"'[1]LÍNEA 2'!U119","v":560},0.25,{"$f":"'[1]LÍNEA 2'!V119","v":560},0.25,{"$f":"'[1]LÍNEA 2'!W119","v":560},0.25,{"$f":"'[3]2016'!K98","v":1},{"$f":"'[3]2017'!K99","v":3},{"$f":"'[3]2018'!K99","v":560},{"$f":"'[3]2019'!K99","v":0},1.7857142857142857E-3,1.7857142857142857E-3,5.3571428571428572E-3,5.3571428571428572E-3,1,1,0,0,0.25178571428571428,0.25178571428571428,0.25178571428571428,{"$f":"'[3]2016'!P98","v":42000},{"$f":"'[3]2016'!Q98","v":42000},{"$f":"'[3]2016'!R98","v":0},1," -",{"$f":"'[3]2017'!P99","v":60000},{"$f":"'[3]2017'!Q99","v":60000},{"$f":"'[3]2017'!R99","v":0},1," -",{"$f":"'[3]2018'!P99","v":86000},{"$f":"'[3]2018'!Q99","v":86000},{"$f":"'[3]2018'!R99","v":0},1," -",{"$f":"'[3]2019'!P99","v":65521},{"$f":"'[3]2019'!Q99","v":0},{"$f":"'[3]2019'!R99","v":0},0," -",253521,188000,0,0.74155592633351874," -","1. Fin de la pobreza","Atención a grupos vulnerables - Promoción Social",{"$f":"'[1]LÍNEA 2'!AQ119","v":"Sec. Desarrollo Social"}]
[null,null,null,null,null,null,null,null,null,null,null,null,null,null,null,null,null,null,null,null,null,null,null,null,null,null,null,null,null,null,null,null,null,null,null,null,null,null,null,null,null,null,"Realizar 4 encuentros intergeneracionales para el adulto mayor en los Centros Vida y los corregimientos del Municipio.",{"$f":"'[1]LÍNEA 2'!P120","v":"2210710 2210874"},"Número de encuentros intergeneracionales realizados para el adulto mayor en los Centros Vida y los corregimientos del Municipio.",1,{"$f":"'[1]LÍNEA 2'!S120","v":4},{"$f":"'[1]LÍNEA 2'!T120","v":1},0.25,{"$f":"'[1]LÍNEA 2'!U120","v":1},0.25,{"$f":"'[1]LÍNEA 2'!V120","v":1},0.25,{"$f":"'[1]LÍNEA 2'!W120","v":1},0.25,{"$f":"'[3]2016'!K99","v":3},{"$f":"'[3]2017'!K100","v":1},{"$f":"'[3]2018'!K100","v":1},{"$f":"'[3]2019'!K100","v":0},3,1,1,1,1,1,0,0,{"$f":"+SUM(BD120:BG120)/AU120","v":1.25},1,1,{"$f":"'[3]2016'!P99","v":253161},{"$f":"'[3]2016'!Q99","v":177132},{"$f":"'[3]2016'!R99","v":0},0.69968123052128883," -",{"$f":"'[3]2017'!P100","v":237000},{"$f":"'[3]2017'!Q100","v":59941},{"$f":"'[3]2017'!R100","v":0},0.25291561181434596," -",{"$f":"'[3]2018'!P100","v":0},{"$f":"'[3]2018'!Q100","v":0},{"$f":"'[3]2018'!R100","v":0}," -"," -",{"$f":"'[3]2019'!P100","v":45646},{"$f":"'[3]2019'!Q100","v":0},{"$f":"'[3]2019'!R100","v":0},0," -",535807,237073,0,0.44245969164269972," -","1. Fin de la pobreza","Atención a grupos vulnerables - Promoción Social",{"$f":"'[1]LÍNEA 2'!AQ120","v":"Sec. Desarrollo Social"}]
[null,null,null,null,null,"Disminuir a 8,9% el índice de pobreza.",9.0999999999999998E-2,8.8999999999999996E-2,{"$f":"+H121-G121","v":-2.0000000000000018E-3},9.0999999999999998E-2,{"$f":"+J121-G121","v":0},null,0.09,{"$f":"+M121-J121","v":-1.0000000000000009E-3},null,0.09,{"$f":"+P121-M121","v":0},null,8.8999999999999996E-2,{"$f":"+S121-P121","v":-1.0000000000000009E-3},null,0.106,{"$f":"+IF(V121=0,0,V121-G121)","v":1.4999999999999999E-2},null,{"$f":"+IF(X121=0,0,X121-V121)","v":0},null,{"$f":"+IF(Z121=0,0,Z121-X121)","v":0},null,{"$f":"+IF(AB121=0,0,AB121-Z121)","v":0},{"$f":"+IF(K121=0,\" -\",W121/K121)","v":" -"},{"$f":"+IF(K121=0,\" -\",IF(AD121>100%,100%,AD121))","v":" -"},{"$f":"+IF(N121=0,\" -\",Y121/N121)","v":0},{"$f":"+IF(N121=0,\" -\",IF(AF121>100%,100%,AF121))","v":0},{"$f":"+IF(Q121=0,\" -\",AA121/Q121)","v":" -"},{"$f":"+IF(Q121=0,\" -\",IF(AH121>100%,100%,AH121))","v":" -"},{"$f":"+IF(T121=0,\" -\",AC121/T121)","v":0},{"$f":"+IF(T121=0,\" -\",IF(AJ121>100%,100%,AJ121))","v":0},{"$f":"+SUM(AC121,AA121,Y121,W121)/I121","v":-7.4999999999999929},{"$f":"+IF(AL121>100%,100%,IF(AL121<0%,0%,AL121))","v":0},null,null,null,"Beneficiar y mantener a 10.000 adultos mayores con el programa \"Colombia mayor\".",{"$f":"'[1]LÍNEA 2'!P121","v":2210710},"Número de adultos mayores beneficiados con el programa \"Colombia mayor\".",9199,{"$f":"'[1]LÍNEA 2'!S121","v":10000},{"$f":"'[1]LÍNEA 2'!T121","v":10000},0.25,{"$f":"'[1]LÍNEA 2'!U121","v":10000},0.25,{"$f":"'[1]LÍNEA 2'!V121","v":10000},0.25,{"$f":"'[1]LÍNEA 2'!W121","v":10000},0.25,{"$f":"'[3]2016'!K100","v":9199},{"$f":"'[3]2017'!K101","v":9100},{"$f":"'[3]2018'!K101","v":9199},{"$f":"'[3]2019'!K101","v":0},0.91990000000000005,0.91990000000000005,0.91,0.91,0.91990000000000005,0.91990000000000005,0,0,0.68745000000000001,0.68745000000000001,0.68745000000000001,{"$f":"'[3]2016'!P100","v":75000},{"$f":"'[3]2016'!Q100","v":71179},{"$f":"'[3]2016'!R100","v":0},0.9490533333333333," -",{"$f":"'[3]2017'!P101","v":81337},{"$f":"'[3]2017'!Q101","v":81337},{"$f":"'[3]2017'!R101","v":0},1," -",{"$f":"'[3]2018'!P101","v":127000},{"$f":"'[3]2018'!Q101","v":61200},{"$f":"'[3]2018'!R101","v":0},0.48188976377952758," -",{"$f":"'[3]2019'!P101","v":0},{"$f":"'[3]2019'!Q101","v":0},{"$f":"'[3]2019'!R101","v":0}," -"," -",283337,213716,0,0.75428200340936769," -","1. Fin de la pobreza","Atención a grupos vulnerables - Promoción Social",{"$f":"'[1]LÍNEA 2'!AQ121","v":"Sec. Desarrollo Social"}]
[null,null,null,null,null,null,null,null,null,null,null,null,null,null,null,null,null,null,null,null,null,null,null,null,null,null,null,null,null,null,null,null,null,null,null,null,null,null,null,null,null,null,"Actualizar la política pública del adulto mayor.",{"$f":"'[1]LÍNEA 2'!P122","v":2210874},"Número de políticas públicas actualizadas del adulto mayor.",1,{"$f":"'[1]LÍNEA 2'!S122","v":1},{"$f":"'[1]LÍNEA 2'!T122","v":0},0,{"$f":"'[1]LÍNEA 2'!U122","v":1},1,{"$f":"'[1]LÍNEA 2'!V122","v":0},0,{"$f":"'[1]LÍNEA 2'!W122","v":0},0,{"$f":"'[3]2016'!K101","v":0},{"$f":"'[3]2017'!K102","v":0.1},{"$f":"'[3]2018'!K102","v":0},{"$f":"'[3]2019'!K102","v":0}," -"," -",0.1,0.1," -"," -"," -"," -",{"$f":"+SUM(BD122:BG122)/AU122","v":0.1},0.1,0.1,{"$f":"'[3]2016'!P101","v":0},{"$f":"'[3]2016'!Q101","v":0},{"$f":"'[3]2016'!R101","v":0}," -"," -",{"$f":"'[3]2017'!P102","v":30000},{"$f":"'[3]2017'!Q102","v":0},{"$f":"'[3]2017'!R102","v":0},0," -",{"$f":"'[3]2018'!P102","v":0},{"$f":"'[3]2018'!Q102","v":0},{"$f":"'[3]2018'!R102","v":0}," -"," -",{"$f":"'[3]2019'!P102","v":0},{"$f":"'[3]2019'!Q102","v":0},{"$f":"'[3]2019'!R102","v":0}," -"," -",30000,0,0,0," -","16. Paz, justicia e instituciones sólidas","Atención a grupos vulnerables - Promoción Social",{"$f":"'[1]LÍNEA 2'!AQ122","v":"Sec. Desarrollo Social"}]
[null,null,null,null,null,null,null,null,null,null,null,null,null,null,null,null,null,null,null,null,null,null,null,null,null,null,null,null,null,null,null,null,null,null,null,null,null,null,null,null,null,null,"Beneficiar al 100% de los adultos mayores el acceso gratuito en espacios de recreación y cultura.",{"$f":"'[1]LÍNEA 2'!P123","v":2210710},"Porcentaje de adultos mayores beneficiados con el acceso gratuito en espacios de recreación y cultura.",1,{"$f":"'[1]LÍNEA 2'!S123","v":1},{"$f":"'[1]LÍNEA 2'!T123","v":1},0.25,{"$f":"'[1]LÍNEA 2'!U123","v":1},0.25,{"$f":"'[1]LÍNEA 2'!V123","v":1},0.25,{"$f":"'[1]LÍNEA 2'!W123","v":1},0.25,{"$f":"'[3]2016'!K102","v":1},{"$f":"'[3]2017'!K103","v":1},{"$f":"'[3]2018'!K103","v":1},{"$f":"'[3]2019'!K103","v":0},1,1,1,1,1,1,0,0,0.75,0.75,0.75,{"$f":"'[3]2016'!P102","v":70000},{"$f":"'[3]2016'!Q102","v":70000},{"$f":"'[3]2016'!R102","v":21000},1,0.3,{"$f":"'[3]2017'!P103","v":276900},{"$f":"'[3]2017'!Q103","v":276900},{"$f":"'[3]2017'!R103","v":0},1," -",{"$f":"'[3]2018'!P103","v":591750},{"$f":"'[3]2018'!Q103","v":591745},{"$f":"'[3]2018'!R103","v":253298},0.99999155048584709,0.42805262401879191,{"$f":"'[3]2019'!P103","v":0},{"$f":"'[3]2019'!Q103","v":0},{"$f":"'[3]2019'!R103","v":0}," -"," -",938650,938645,274298,0.99999467320087354,0.29222762599278745,"3. Salud y bienestar","Atención a grupos vulnerables - Promoción Social",{"$f":"'[1]LÍNEA 2'!AQ123","v":"Sec. Desarrollo Social"}]
[null,null,null,null,null,null,null,null,null,null,null,null,null,null,null,null,null,null,null,null,null,null,null,null,null,null,null,null,null,null,null,null,null,null,null,null,null,null,null,null,null,null,"Beneficiar 1.000 adultos mayores en situación de extrema vulnerabilidad con mercados de sustento y/o complementos nutricionales.",{"$f":"'[1]LÍNEA 2'!P124","v":2210874},"Número de adultos mayores en situación de extrema vulnerabilidad beneficiados con mercados de sustento y/o complementos nutricionales.",8000,{"$f":"'[1]LÍNEA 2'!S124","v":1000},{"$f":"'[1]LÍNEA 2'!T124","v":250},0.25,{"$f":"'[1]LÍNEA 2'!U124","v":250},0.25,{"$f":"'[1]LÍNEA 2'!V124","v":250},0.25,{"$f":"'[1]LÍNEA 2'!W124","v":250},0.25,{"$f":"'[3]2016'!K103","v":1000},{"$f":"'[3]2017'!K104","v":1000},{"$f":"'[3]2018'!K104","v":0},{"$f":"'[3]2019'!K104","v":0},4,1,4,1,0,0,0,0,{"$f":"+SUM(BD124:BG124)/AU124","v":2},1,1,{"$f":"'[3]2016'!P103","v":160000},{"$f":"'[3]2016'!Q103","v":160000},{"$f":"'[3]2016'!R103","v":9298},1,5.8112499999999997E-2,{"$f":"'[3]2017'!P104","v":315000},{"$f":"'[3]2017'!Q104","v":315000},{"$f":"'[3]2017'!R104","v":0},1," -",{"$f":"'[3]2018'!P104","v":405000},{"$f":"'[3]2018'!Q104","v":0},{"$f":"'[3]2018'!R104","v":0},0," -",{"$f":"'[3]2019'!P104","v":600000},{"$f":"'[3]2019'!Q104","v":0},{"$f":"'[3]2019'!R104","v":0},0," -",1480000,475000,9298,0.32094594594594594,1.9574736842105263E-2,"1. Hambre cero","Atención a grupos vulnerables - Promoción Social",{"$f":"'[1]LÍNEA 2'!AQ124","v":"Sec. Desarrollo Social"}]
[null,null,null,null,null,null,null,null,null,null,null,null,null,null,null,null,null,null,null,null,null,null,null,null,null,null,null,null,null,null,null,null,null,null,null,null,null,null,null,null,null,null,"Implementar 1 ruta turística a nivel local para la reacreación del adulto mayor.",{"$f":"'[1]LÍNEA 2'!P125","v":2210710},"Número de rutas turísticas a nivel local implementadas para la recreación del adulto mayor.",0,{"$f":"'[1]LÍNEA 2'!S125","v":1},{"$f":"'[1]LÍNEA 2'!T125","v":1},0.25,{"$f":"'[1]LÍNEA 2'!U125","v":1},0.25,{"$f":"'[1]LÍNEA 2'!V125","v":1},0.25,{"$f":"'[1]LÍNEA 2'!W125","v":1},0.25,{"$f":"'[3]2016'!K104","v":2},{"$f":"'[3]2017'!K105","v":1},{"$f":"'[3]2018'!K105","v":1},{"$f":"'[3]2019'!K105","v":0},2,1,1,1,1,1,0,0,1,1,1,{"$f":"'[3]2016'!P104","v":360000},{"$f":"'[3]2016'!Q104","v":360000},{"$f":"'[3]2016'!R104","v":0},1," -",{"$f":"'[3]2017'!P105","v":131000},{"$f":"'[3]2017'!Q105","v":73780},{"$f":"'[3]2017'!R105","v":0},0.56320610687022898," -",{"$f":"'[3]2018'!P105","v":300000},{"$f":"'[3]2018'!Q105","v":57406},{"$f":"'[3]2018'!R105","v":0},0.19135333333333332," -",{"$f":"'[3]2019'!P105","v":50000},{"$f":"'[3]2019'!Q105","v":0},{"$f":"'[3]2019'!R105","v":0},0," -",841000,491186,0,0.58404994054696791," -","3. Salud y bienestar","Atención a grupos vulnerables - Promoción Social",{"$f":"'[1]LÍNEA 2'!AQ125","v":"Sec. Desarrollo Social"}]
[null,null,null,null,null,null,null,null,null,null,null,null,null,null,null,null,null,null,null,null,null,null,null,null,null,null,null,null,null,null,null,null,null,null,null,null,null,null,null,null,null,null,"Destinar 6 consultoruos rosados para la atención prioritaria de mujeres adultas mayores.",{"$f":"'[1]LÍNEA 2'!P126","v":"2210244\r2210289"},"Número de consultorios rosados destinados para la atención prioritaria de mujeres adultas mayores.",0,{"$f":"'[1]LÍNEA 2'!S126","v":6},{"$f":"'[1]LÍNEA 2'!T126","v":6},1,{"$f":"'[1]LÍNEA 2'!U126","v":0},0,{"$f":"'[1]LÍNEA 2'!V126","v":0},0,{"$f":"'[1]LÍNEA 2'!W126","v":0},0,{"$f":"'[17]2016'!$K$22","v":0.5},{"$f":"'[17]2017'!$K$22","v":6},{"$f":"'[17]2018'!$K$22","v":6},{"$f":"'[17]2019'!$K$22","v":0},8.3333333333333329E-2,8.3333333333333329E-2," -"," -"," -"," -"," -"," -",{"$f":"+SUM(BD126:BG126)/AU126","v":2.0833333333333335},1,1,{"$f":"'[17]2016'!P22","v":62500},{"$f":"'[17]2016'!Q22","v":51600},{"$f":"'[17]2016'!R22","v":0},0.8256," -",{"$f":"'[17]2017'!P22","v":54300},{"$f":"'[17]2017'!Q22","v":30000},{"$f":"'[17]2017'!R22","v":0},0.5524861878453039," -",{"$f":"'[17]2018'!P22","v":59700},{"$f":"'[17]2018'!Q22","v":46200},{"$f":"'[17]2018'!R22","v":0},0.77386934673366836," -",{"$f":"'[17]2019'!P22","v":0},{"$f":"'[17]2019'!Q22","v":0},{"$f":"'[17]2019'!R22","v":0}," -"," -",176500,127800,0,0.72407932011331444," -","3. Salud y bienestar","Atención a grupos vulnerables - Promoción Social",{"$f":"'[1]LÍNEA 2'!AQ126","v":"Sec. Salud y Ambiente"}]
[null,null,null,null,null,null,null,null,null,null,null,null,null,null,null,null,null,null,null,null,null,null,null,null,null,null,null,null,null,null,null,null,null,null,null,null,null,null,null,null,null,null,"Adecuar y/o Readecuar 3 Centros Vida.",{"$f":"'[1]LÍNEA 2'!P127","v":2210818},"Número de Centros vida adecuados y/o readecuados.",3,{"$f":"'[1]LÍNEA 2'!S127","v":3},{"$f":"'[1]LÍNEA 2'!T127","v":0},0,{"$f":"'[1]LÍNEA 2'!U127","v":1},0.33333333333333331,{"$f":"'[1]LÍNEA 2'!V127","v":1},0.33333333333333331,{"$f":"'[1]LÍNEA 2'!W127","v":1},0.33333333333333331,{"$f":"'[7]2016'!$K$21","v":0},{"$f":"'[7]2017'!$K$23","v":1},{"$f":"'[7]2018'!$K$23","v":0},{"$f":"'[7]2019'!$K$23","v":0}," -"," -",1,1,0,0,0,0,{"$f":"+SUM(BD127:BG127)/AU127","v":0.33333333333333331},0.33333333333333331,0.33333333333333331,{"$f":"'[7]2016'!P21","v":0},{"$f":"'[7]2016'!Q21","v":0},{"$f":"'[7]2016'!R21","v":0}," -"," -",{"$f":"'[7]2017'!P23","v":2191798},{"$f":"'[7]2017'!Q23","v":2169273},{"$f":"'[7]2017'!R23","v":0},0.98972304929560118," -",{"$f":"'[7]2018'!P23","v":1097187},{"$f":"'[7]2018'!Q23","v":0},{"$f":"'[7]2018'!R23","v":0},0," -",{"$f":"'[7]2019'!P23","v":0},{"$f":"'[7]2019'!Q23","v":0},{"$f":"'[7]2019'!R23","v":0}," -"," -",3288985,2169273,0,0.65955697578432249," -","9. Industria, innovación e infraestructura","Atención a grupos vulnerables - Promoción Social",{"$f":"'[1]LÍNEA 2'!AQ127","v":"Sec. Infraestructura"}]
[null,null,null,null,null,null,null,null,null,null,null,null,null,null,null,null,null,null,null,null,null,null,null,null,null,null,null,null,null,null,null,null,null,null,null,null,null,null,null,null,null,null,null,null,null,null,null,null,null,null,null,null,null,null,{"$f":"+AVERAGE(BC68:BC127)","v":0.24808333333333329},null,null,null,null,null,{"$f":"+AVERAGE(BI68:BI127)","v":0.73766971579145491},null,0.82172921711057301,null,0.67233201917130481,null,0,null,{"$f":"+AVERAGE(BQ68:BQ127)","v":0.6160932142857144}]
[null,null,null,{"$f":"+RESUMEN!J56","v":0.5753645243282498},"MUJERES Y EQUIDAD DE GÉNERO","Disminuir a 717 los casos de violencia entre pareja.",844,717,{"$f":"+H129-G129","v":-127},844,{"$f":"+J129-G129","v":0},null,800,{"$f":"+M129-J129","v":-44},null,750,{"$f":"+P129-M129","v":-50},null,717,{"$f":"+S129-P129","v":-33},null,1047,{"$f":"+IF(V129=0,0,V129-G129)","v":203},null,{"$f":"+IF(X129=0,0,X129-V129)","v":0},null,{"$f":"+IF(Z129=0,0,Z129-X129)","v":0},null,{"$f":"+IF(AB129=0,0,AB129-Z129)","v":0},{"$f":"+IF(K129=0,\" -\",W129/K129)","v":" -"},{"$f":"+IF(K129=0,\" -\",IF(AD129>100%,100%,AD129))","v":" -"},{"$f":"+IF(N129=0,\" -\",Y129/N129)","v":0},{"$f":"+IF(N129=0,\" -\",IF(AF129>100%,100%,AF129))","v":0},{"$f":"+IF(Q129=0,\" -\",AA129/Q129)","v":0},{"$f":"+IF(Q129=0,\" -\",IF(AH129>100%,100%,AH129))","v":0},{"$f":"+IF(T129=0,\" -\",AC129/T129)","v":0},{"$f":"+IF(T129=0,\" -\",IF(AJ129>100%,100%,AJ129))","v":0},{"$f":"+SUM(AC129,AA129,Y129,W129)/I129","v":-1.5984251968503937},{"$f":"+IF(AL129>100%,100%,IF(AL129<0%,0%,AL129))","v":0},null,{"$f":"+RESUMEN!J57","v":0.60893246187363836},"VIDA LIBRE DE VIOLENCIAS","Conformar 34 grupos de mujeres para la red comunitaria de prevención contra la violencia.",{"$f":"'[1]LÍNEA 2'!P129","v":2210708},"Número de grupos de mujeres conformados para la red comunitaria de prevención contra la violencia.",0,{"$f":"'[1]LÍNEA 2'!S129","v":34},{"$f":"'[1]LÍNEA 2'!T129","v":0},0,{"$f":"'[1]LÍNEA 2'!U129","v":10},0.29411764705882354,{"$f":"'[1]LÍNEA 2'!V129","v":12},0.35294117647058826,{"$f":"'[1]LÍNEA 2'!W129","v":12},0.35294117647058826,{"$f":"'[3]2016'!K106","v":0},{"$f":"'[3]2017'!K107","v":14},{"$f":"'[3]2018'!K107","v":8},{"$f":"'[3]2019'!K107","v":0}," -"," -",1.4,1,0.66666666666666663,0.66666666666666663,0,0,{"$f":"+SUM(BD129:BG129)/AU129","v":0.6470588235294118},0.6470588235294118,0.6470588235294118,{"$f":"'[3]2016'!P106","v":0},{"$f":"'[3]2016'!Q106","v":0},{"$f":"'[3]2016'!R106","v":0}," -"," -",{"$f":"'[3]2017'!P107","v":27000},{"$f":"'[3]2017'!Q107","v":27000},{"$f":"'[3]2017'!R107","v":0},1," -",{"$f":"'[3]2018'!P107","v":36272},{"$f":"'[3]2018'!Q107","v":0},{"$f":"'[3]2018'!R107","v":0},0," -",{"$f":"'[3]2019'!P107","v":120000},{"$f":"'[3]2019'!Q107","v":0},{"$f":"'[3]2019'!R107","v":0},0," -",183272,27000,0,0.147322013182592," -","5. Igualdad de género","Atención a grupos vulnerables - Promoción Social",{"$f":"'[1]LÍNEA 2'!AQ129","v":"Sec. Desarrollo Social"}]
[null,null,null,null,null,null,null,null,null,null,null,null,null,null,null,null,null,null,null,null,null,null,null,null,null,null,null,null,null,null,null,null,null,null,null,null,null,null,null,null,null,null,"Brindar al 100% de las mujeres víctimas de violencia atención jurídica y psicológica virtualmente y en el centro integral de la mujer.",{"$f":"'[1]LÍNEA 2'!P130","v":2210708},"Porcentaje de mujeres víctimas de violencia con atención jurídica y psicológica virtualmente y en el centro integral de la mujer.",1,{"$f":"'[1]LÍNEA 2'!S130","v":1},{"$f":"'[1]LÍNEA 2'!T130","v":1},0.25,{"$f":"'[1]LÍNEA 2'!U130","v":1},0.25,{"$f":"'[1]LÍNEA 2'!V130","v":1},0.25,{"$f":"'[1]LÍNEA 2'!W130","v":1},0.25,{"$f":"'[3]2016'!K107","v":1},{"$f":"'[3]2017'!K108","v":1},{"$f":"'[3]2018'!K108","v":1},{"$f":"'[3]2019'!K108","v":0},1,1,1,1,1,1,0,0,0.75,0.75,0.75,{"$f":"'[3]2016'!P107","v":41500},{"$f":"'[3]2016'!Q107","v":41500},{"$f":"'[3]2016'!R107","v":0},1," -",{"$f":"'[3]2017'!P108","v":31792},{"$f":"'[3]2017'!Q108","v":28099},{"$f":"'[3]2017'!R108","v":0},0.88383870156014088," -",{"$f":"'[3]2018'!P108","v":36000},{"$f":"'[3]2018'!Q108","v":36000},{"$f":"'[3]2018'!R108","v":0},1," -",{"$f":"'[3]2019'!P108","v":15675},{"$f":"'[3]2019'!Q108","v":0},{"$f":"'[3]2019'!R108","v":0},0," -",124967,105599,0,0.84501508398217129," -","5. Igualdad de género","Atención a grupos vulnerables - Promoción Social",{"$f":"'[1]LÍNEA 2'!AQ130","v":"Sec. Desarrollo Social"}]
[null,null,null,null,null,null,null,null,null,null,null,null,null,null,null,null,null,null,null,null,null,null,null,null,null,null,null,null,null,null,null,null,null,null,null,null,null,null,null,null,null,null,"Realizar 3 eventos de formación con las comisarías de familia.",{"$f":"'[1]LÍNEA 2'!P131","v":2210708},"Número de evento de formación realizados con las comisarías de familia.",0,{"$f":"'[1]LÍNEA 2'!S131","v":3},{"$f":"'[1]LÍNEA 2'!T131","v":1},0.33333333333333331,{"$f":"'[1]LÍNEA 2'!U131","v":1},0.33333333333333331,{"$f":"'[1]LÍNEA 2'!V131","v":1},0.33333333333333331,{"$f":"'[1]LÍNEA 2'!W131","v":0},0,{"$f":"'[3]2016'!K108","v":1},{"$f":"'[3]2017'!K109","v":1},{"$f":"'[3]2018'!K109","v":1},{"$f":"'[3]2019'!K109","v":0},1,1,1,1,1,1," -"," -",{"$f":"+SUM(BD131:BG131)/AU131","v":1},1,1,{"$f":"'[3]2016'!P108","v":20000},{"$f":"'[3]2016'!Q108","v":0},{"$f":"'[3]2016'!R108","v":2000},0,1,{"$f":"'[3]2017'!P109","v":0},{"$f":"'[3]2017'!Q109","v":0},{"$f":"'[3]2017'!R109","v":0}," -"," -",{"$f":"'[3]2018'!P109","v":0},{"$f":"'[3]2018'!Q109","v":0},{"$f":"'[3]2018'!R109","v":0}," -"," -",{"$f":"'[3]2019'!P109","v":5460},{"$f":"'[3]2019'!Q109","v":0},{"$f":"'[3]2019'!R109","v":0},0," -",25460,0,2000,0,1,"5. Igualdad de género","Atención a grupos vulnerables - Promoción Social",{"$f":"'[1]LÍNEA 2'!AQ131","v":"Sec. Desarrollo Social"}]
[null,null,null,null,null,null,null,null,null,null,null,null,null,null,null,null,null,null,null,null,null,null,null,null,null,null,null,null,null,null,null,null,null,null,null,null,null,null,null,null,null,null,"Mantener la atención al 100% de las mujeres víctimas de violencia y en extremo riesgo en la Casa Refugio según solicitud.",{"$f":"'[1]LÍNEA 2'!P132","v":2210708},"Porcentaje de mujeres víctimas de violencia y en extremo riesgo atendidas en la Casa Refugio que lo soliciten.",1,{"$f":"'[1]LÍNEA 2'!S132","v":1},{"$f":"'[1]LÍNEA 2'!T132","v":1},0.25,{"$f":"'[1]LÍNEA 2'!U132","v":1},0.25,{"$f":"'[1]LÍNEA 2'!V132","v":1},0.25,{"$f":"'[1]LÍNEA 2'!W132","v":1},0.25,{"$f":"'[3]2016'!K109","v":0},{"$f":"'[3]2017'!K110","v":0},{"$f":"'[3]2018'!K110","v":0},{"$f":"'[3]2019'!K110","v":0},0,0,0,0,0,0,0,0,0,0,0,{"$f":"'[3]2016'!P109","v":60000},{"$f":"'[3]2016'!Q109","v":0},{"$f":"'[3]2016'!R109","v":0},0," -",{"$f":"'[3]2017'!P110","v":0},{"$f":"'[3]2017'!Q110","v":0},{"$f":"'[3]2017'!R110","v":0}," -"," -",{"$f":"'[3]2018'!P110","v":0},{"$f":"'[3]2018'!Q110","v":0},{"$f":"'[3]2018'!R110","v":0}," -"," -",{"$f":"'[3]2019'!P110","v":131043},{"$f":"'[3]2019'!Q110","v":0},{"$f":"'[3]2019'!R110","v":0},0," -",191043,0,0,0," -","5. Igualdad de género","Atención a grupos vulnerables - Promoción Social",{"$f":"'[1]LÍNEA 2'!AQ132","v":"Sec. Desarrollo Social"}]
[null,null,null,null,null,null,null,null,null,null,null,null,null,null,null,null,null,null,null,null,null,null,null,null,null,null,null,null,null,null,null,null,null,null,null,null,null,null,null,null,null,null,"Implementar y mantener 1 programa integral e interinstitucional que garanticen la seguridad y el goce efectivo de los derechos de las mujeres.",{"$f":"'[1]LÍNEA 2'!P133","v":" -"},"Número de programas integrales e interinstitucionales implementados y mantenidos que garanticen la seguridad y el goce efectivo de los derechos de las mujeres.",0,{"$f":"'[1]LÍNEA 2'!S133","v":1},{"$f":"'[1]LÍNEA 2'!T133","v":0},0,{"$f":"'[1]LÍNEA 2'!U133","v":1},0.33,{"$f":"'[1]LÍNEA 2'!V133","v":1},0.33,{"$f":"'[1]LÍNEA 2'!W133","v":1},0.34,{"$f":"'[3]2016'!K110","v":0},{"$f":"'[3]2017'!K111","v":1},{"$f":"'[3]2018'!K111","v":1},{"$f":"'[3]2019'!K111","v":0}," -"," -",1,1,1,1,0,0,{"$f":"+AVERAGE(BE133:BG133)/AU133","v":0.66666666666666663},0.66666666666666663,0.66666666666666663,{"$f":"'[3]2016'!P110","v":0},{"$f":"'[3]2016'!Q110","v":0},{"$f":"'[3]2016'!R110","v":0}," -"," -",{"$f":"'[3]2017'!P111","v":0},{"$f":"'[3]2017'!Q111","v":0},{"$f":"'[3]2017'!R111","v":0}," -"," -",{"$f":"'[3]2018'!P111","v":0},{"$f":"'[3]2018'!Q111","v":0},{"$f":"'[3]2018'!R111","v":0}," -"," -",{"$f":"'[3]2019'!P111","v":0},{"$f":"'[3]2019'!Q111","v":0},{"$f":"'[3]2019'!R111","v":0}," -"," -",0,0,0," -"," -","5. Igualdad de género","Atención a grupos vulnerables - Promoción Social",{"$f":"'[1]LÍNEA 2'!AQ133","v":"Sec. Desarrollo Social"}]
[null,null,null,null,null,null,null,null,null,null,null,null,null,null,null,null,null,null,null,null,null,null,null,null,null,null,null,null,null,null,null,null,null,null,null,null,null,null,null,null,null,null,"Realizar 8 eventos de formación y sensibilización con los funcionarios públicos de las entidades encargadas, de atender los casos de violencia contra la mujer.",{"$f":"'[1]LÍNEA 2'!P134","v":2210708},"Número de eventos de formación y sensibilización realizados con los funcionarios públicos de las entidades encargadas, de atender los casos de violencia contra la mujer.",0,{"$f":"'[1]LÍNEA 2'!S134","v":8},{"$f":"'[1]LÍNEA 2'!T134","v":2},0.25,{"$f":"'[1]LÍNEA 2'!U134","v":2},0.25,{"$f":"'[1]LÍNEA 2'!V134","v":2},0.25,{"$f":"'[1]LÍNEA 2'!W134","v":2},0.25,{"$f":"'[3]2016'!K111","v":2},{"$f":"'[3]2017'!K112","v":2},{"$f":"'[3]2018'!K112","v":2},{"$f":"'[3]2019'!K112","v":0},1,1,1,1,1,1,0,0,{"$f":"+SUM(BD134:BG134)/AU134","v":0.75},0.75,0.75,{"$f":"'[3]2016'!P111","v":29000},{"$f":"'[3]2016'!Q111","v":0},{"$f":"'[3]2016'!R111","v":0},0," -",{"$f":"'[3]2017'!P112","v":0},{"$f":"'[3]2017'!Q112","v":0},{"$f":"'[3]2017'!R112","v":0}," -"," -",{"$f":"'[3]2018'!P112","v":0},{"$f":"'[3]2018'!Q112","v":0},{"$f":"'[3]2018'!R112","v":0}," -"," -",{"$f":"'[3]2019'!P112","v":0},{"$f":"'[3]2019'!Q112","v":0},{"$f":"'[3]2019'!R112","v":0}," -"," -",29000,0,0,0," -","5. Igualdad de género","Atención a grupos vulnerables - Promoción Social",{"$f":"'[1]LÍNEA 2'!AQ134","v":"Sec. Desarrollo Social"}]
[null,null,null,null,null,null,null,null,null,null,null,null,null,null,null,null,null,null,null,null,null,null,null,null,null,null,null,null,null,null,null,null,null,null,null,null,null,null,null,null,null,null,"Implementar y mantener 1 estrategias de formación enfocada a los hombres para la transformación de las perspectivas de género.",{"$f":"'[1]LÍNEA 2'!P135","v":2210708},"Número de estrategias de formación enfocadas a los hombres para la transformación de las perspectivas de género implementadas y mantenidas.",0,{"$f":"'[1]LÍNEA 2'!S135","v":1},{"$f":"'[1]LÍNEA 2'!T135","v":0},0,{"$f":"'[1]LÍNEA 2'!U135","v":1},0.33,{"$f":"'[1]LÍNEA 2'!V135","v":1},0.33,{"$f":"'[1]LÍNEA 2'!W135","v":1},0.34,{"$f":"'[3]2016'!K112","v":0},{"$f":"'[3]2017'!K113","v":1},{"$f":"'[3]2018'!K113","v":1},{"$f":"'[3]2019'!K113","v":0}," -"," -",1,1,1,1,0,0,{"$f":"+AVERAGE(BE135:BG135)/AU135","v":0.66666666666666663},0.66666666666666663,0.66666666666666663,{"$f":"'[3]2016'!P112","v":10000},{"$f":"'[3]2016'!Q112","v":0},{"$f":"'[3]2016'!R112","v":0},0," -",{"$f":"'[3]2017'!P113","v":27000},{"$f":"'[3]2017'!Q113","v":27000},{"$f":"'[3]2017'!R113","v":0},1," -",{"$f":"'[3]2018'!P113","v":18000},{"$f":"'[3]2018'!Q113","v":18000},{"$f":"'[3]2018'!R113","v":0},1," -",{"$f":"'[3]2019'!P113","v":0},{"$f":"'[3]2019'!Q113","v":0},{"$f":"'[3]2019'!R113","v":0}," -"," -",55000,45000,0,0.81818181818181823," -","5. Igualdad de género","Atención a grupos vulnerables - Promoción Social",{"$f":"'[1]LÍNEA 2'!AQ135","v":"Sec. Desarrollo Social"}]
[null,null,null,null,null,null,null,null,null,null,null,null,null,null,null,null,null,null,null,null,null,null,null,null,null,null,null,null,null,null,null,null,null,null,null,null,null,null,null,null,null,null,"Realizar 8 capacitaciones a los comisarios de familia en justicia con equidad.",{"$f":"'[1]LÍNEA 2'!P136","v":" -"},"Número de capacitaciones realizadas a los comisarios de familia en justicia con equidad.",0,{"$f":"'[1]LÍNEA 2'!S136","v":8},{"$f":"'[1]LÍNEA 2'!T136","v":2},0.25,{"$f":"'[1]LÍNEA 2'!U136","v":2},0.25,{"$f":"'[1]LÍNEA 2'!V136","v":2},0.25,{"$f":"'[1]LÍNEA 2'!W136","v":2},0.25,{"$f":"'[2]2016'!K49","v":2},{"$f":"'[2]2017'!K49","v":2},{"$f":"'[2]2018'!K49","v":0},{"$f":"'[2]2019'!K49","v":0},1,1,1,1,0,0,0,0,{"$f":"+SUM(BD136:BG136)/AU136","v":0.5},0.5,0.5,{"$f":"'[2]2016'!P49","v":0},{"$f":"'[2]2016'!Q49","v":0},{"$f":"'[2]2016'!R49","v":0}," -"," -",{"$f":"'[2]2017'!P49","v":0},{"$f":"'[2]2017'!Q49","v":0},{"$f":"'[2]2017'!R49","v":0}," -"," -",{"$f":"'[2]2018'!P49","v":0},{"$f":"'[2]2018'!Q49","v":0},{"$f":"'[2]2018'!R49","v":0}," -"," -",{"$f":"'[2]2019'!P49","v":0},{"$f":"'[2]2019'!Q49","v":0},{"$f":"'[2]2019'!R49","v":0}," -"," -",0,0,0," -"," -","5. Igualdad de género","Atención a grupos vulnerables - Promoción Social",{"$f":"'[1]LÍNEA 2'!AQ136","v":"Sec. Interior"}]
[null,null,null,null,null,null,null,null,null,null,null,null,null,null,null,null,null,null,null,null,null,null,null,null,null,null,null,null,null,null,null,null,null,null,null,null,null,null,null,null,null,null,"Implementar 4 iniciativas de promoción de los derechos humanos para prevenir la violencia contra la mujer y violencia intrafamiliar.",{"$f":"'[1]LÍNEA 2'!P137","v":2210289},"Número de iniciativas de promoción de los derechos humanos para prevenir la violencia contra la mujer y violencia intrafamiliar implementadas.",4,{"$f":"'[1]LÍNEA 2'!S137","v":4},{"$f":"'[1]LÍNEA 2'!T137","v":1},0.25,{"$f":"'[1]LÍNEA 2'!U137","v":1},0.25,{"$f":"'[1]LÍNEA 2'!V137","v":1},0.25,{"$f":"'[1]LÍNEA 2'!W137","v":1},0.25,{"$f":"'[2]2016'!K50","v":0},{"$f":"'[2]2017'!K50","v":1},{"$f":"'[2]2018'!K50","v":1},{"$f":"'[2]2019'!K50","v":0},0,0,1,1,1,1,0,0,{"$f":"+SUM(BD137:BG137)/AU137","v":0.5},0.5,0.5,{"$f":"'[2]2016'!P50","v":0},{"$f":"'[2]2016'!Q50","v":0},{"$f":"'[2]2016'!R50","v":0}," -"," -",{"$f":"'[2]2017'!P50","v":0},{"$f":"'[2]2017'!Q50","v":0},{"$f":"'[2]2017'!R50","v":0}," -"," -",{"$f":"'[2]2018'!P50","v":21000},{"$f":"'[2]2018'!Q50","v":21000},{"$f":"'[2]2018'!R50","v":200},1,9.5238095238095247E-3,{"$f":"'[2]2019'!P50","v":11411},{"$f":"'[2]2019'!Q50","v":0},{"$f":"'[2]2019'!R50","v":0},0," -",32411,21000,200,0.64792817253401624,9.5238095238095247E-3,"5. Igualdad de género","Atención a grupos vulnerables - Promoción Social",{"$f":"'[1]LÍNEA 2'!AQ137","v":"Sec. Interior"}]
[null,null,null,null,null,null,null,null,null,null,null,null,null,null,null,null,null,null,null,null,null,null,null,null,null,null,null,null,null,null,null,null,null,null,null,null,null,null,null,null,{"$f":"+RESUMEN!J58","v":0.55327222222222228},"FORTALECIMIENTO DE LA PARTICIPACIÓN POLÍTICA, ECONÓMICA Y SOCIAL DE LAS MUJERES","Apoyar 9 iniciativas de grupos de mujeres para la participación política.",{"$f":"'[1]LÍNEA 2'!P138","v":2210708},"Número de iniciativas apoyadas de grupos de mujeres para la participación política.",1,{"$f":"'[1]LÍNEA 2'!S138","v":9},{"$f":"'[1]LÍNEA 2'!T138","v":0},0,{"$f":"'[1]LÍNEA 2'!U138","v":3},0.33333333333333331,{"$f":"'[1]LÍNEA 2'!V138","v":3},0.33333333333333331,{"$f":"'[1]LÍNEA 2'!W138","v":3},0.33333333333333331,{"$f":"'[3]2016'!K113","v":0},{"$f":"'[3]2017'!K114","v":1},{"$f":"'[3]2018'!K114","v":1},{"$f":"'[3]2019'!K114","v":0}," -"," -",0.33333333333333331,0.33333333333333331,0.33333333333333331,0.33333333333333331,0,0,{"$f":"+SUM(BD138:BG138)/AU138","v":0.22222222222222221},0.22222222222222221,0.22222222222222221,{"$f":"'[3]2016'!P113","v":63000},{"$f":"'[3]2016'!Q113","v":0},{"$f":"'[3]2016'!R113","v":0},0," -",{"$f":"'[3]2017'!P114","v":0},{"$f":"'[3]2017'!Q114","v":0},{"$f":"'[3]2017'!R114","v":0}," -"," -",{"$f":"'[3]2018'!P114","v":5000},{"$f":"'[3]2018'!Q114","v":4772},{"$f":"'[3]2018'!R114","v":0},0.95440000000000003," -",{"$f":"'[3]2019'!P114","v":90000},{"$f":"'[3]2019'!Q114","v":0},{"$f":"'[3]2019'!R114","v":0},0," -",158000,4772,0,3.020253164556962E-2," -","5. Igualdad de género","Atención a grupos vulnerables - Promoción Social",{"$f":"'[1]LÍNEA 2'!AQ138","v":"Sec. Desarrollo Social"}]
[null,null,null,null,null,null,null,null,null,null,null,null,null,null,null,null,null,null,null,null,null,null,null,null,null,null,null,null,null,null,null,null,null,null,null,null,null,null,null,null,null,null,"Mantener el funcionamiento del Consejo Comunitario de Mujeres.",{"$f":"'[1]LÍNEA 2'!P139","v":2210708},"Número de Consejos Comunitarios de Mujeres mantenidos.",1,{"$f":"'[1]LÍNEA 2'!S139","v":1},{"$f":"'[1]LÍNEA 2'!T139","v":1},0.25,{"$f":"'[1]LÍNEA 2'!U139","v":1},0.25,{"$f":"'[1]LÍNEA 2'!V139","v":1},0.25,{"$f":"'[1]LÍNEA 2'!W139","v":1},0.25,{"$f":"'[3]2016'!K114","v":1},{"$f":"'[3]2017'!K115","v":1},{"$f":"'[3]2018'!K115","v":1},{"$f":"'[3]2019'!K115","v":0},1,1,1,1,1,1,0,0,0.75,0.75,0.75,{"$f":"'[3]2016'!P114","v":7000},{"$f":"'[3]2016'!Q114","v":0},{"$f":"'[3]2016'!R114","v":0},0," -",{"$f":"'[3]2017'!P115","v":0},{"$f":"'[3]2017'!Q115","v":0},{"$f":"'[3]2017'!R115","v":0}," -"," -",{"$f":"'[3]2018'!P115","v":0},{"$f":"'[3]2018'!Q115","v":0},{"$f":"'[3]2018'!R115","v":0}," -"," -",{"$f":"'[3]2019'!P115","v":10000},{"$f":"'[3]2019'!Q115","v":0},{"$f":"'[3]2019'!R115","v":0},0," -",17000,0,0,0," -","5. Igualdad de género","Atención a grupos vulnerables - Promoción Social",{"$f":"'[1]LÍNEA 2'!AQ139","v":"Sec. Desarrollo Social"}]
[null,null,null,null,null,null,null,null,null,null,null,null,null,null,null,null,null,null,null,null,null,null,null,null,null,null,null,null,null,null,null,null,null,null,null,null,null,null,null,null,null,null,"Realizar 48 talleres para la generación de ingresos dirigidas a mujeres.",{"$f":"'[1]LÍNEA 2'!P140","v":2210708},"Número de talleres realizados para la generación de ingresos dirigidas a mujeres.",0,{"$f":"'[1]LÍNEA 2'!S140","v":48},{"$f":"'[1]LÍNEA 2'!T140","v":12},0.25,{"$f":"'[1]LÍNEA 2'!U140","v":12},0.25,{"$f":"'[1]LÍNEA 2'!V140","v":12},0.25,{"$f":"'[1]LÍNEA 2'!W140","v":12},0.25,{"$f":"'[3]2016'!K115","v":12},{"$f":"'[3]2017'!K116","v":18},{"$f":"'[3]2018'!K116","v":14},{"$f":"'[3]2019'!K116","v":0},{"$f":"IF(AV140=0,\" -\",BD140/AV140)","v":1},{"$f":"IF(AV140=0,\" -\",IF(BH140>100%,100%,BH140))","v":1},{"$f":"IF(AX140=0,\" -\",BE140/AX140)","v":1.5},{"$f":"IF(AX140=0,\" -\",IF(BJ140>100%,100%,BJ140))","v":1},{"$f":"IF(AZ140=0,\" -\",BF140/AZ140)","v":1.1666666666666667},{"$f":"IF(AZ140=0,\" -\",IF(BL140>100%,100%,BL140))","v":1},{"$f":"IF(BB140=0,\" -\",BG140/BB140)","v":0},{"$f":"IF(BB140=0,\" -\",IF(BN140>100%,100%,BN140))","v":0},{"$f":"+SUM(BD140:BG140)/AU140","v":0.91666666666666663},{"$f":"+IF(BP140>100%,100%,BP140)","v":0.91666666666666663},{"$f":"+BQ140","v":0.91666666666666663},{"$f":"'[3]2016'!P115","v":0},{"$f":"'[3]2016'!Q115","v":0},{"$f":"'[3]2016'!R115","v":38400}," -",1,{"$f":"'[3]2017'!P116","v":0},{"$f":"'[3]2017'!Q116","v":0},{"$f":"'[3]2017'!R116","v":0}," -"," -",{"$f":"'[3]2018'!P116","v":65000},{"$f":"'[3]2018'!Q116","v":0},{"$f":"'[3]2018'!R116","v":0},0," -",{"$f":"'[3]2019'!P116","v":50000},{"$f":"'[3]2019'!Q116","v":0},{"$f":"'[3]2019'!R116","v":0},0," -",115000,0,38400,0,1,"5. Igualdad de género","Atención a grupos vulnerables - Promoción Social",{"$f":"'[1]LÍNEA 2'!AQ140","v":"Sec. Desarrollo Social"}]
[null,null,null,null,null,null,null,null,null,null,null,null,null,null,null,null,null,null,null,null,null,null,null,null,null,null,null,null,null,null,null,null,null,null,null,null,null,null,null,null,null,null,"Implementar y mantener 1 estrategia de formación para la participación e incidencia política de las mujeres.",{"$f":"'[1]LÍNEA 2'!P141","v":" -"},"Número de estrategias de formación implementadas y mantenidas para la participación e incidencia política de las mujeres.",0,{"$f":"'[1]LÍNEA 2'!S141","v":1},{"$f":"'[1]LÍNEA 2'!T141","v":0},{"$f":"+AV141/AU141","v":0},{"$f":"'[1]LÍNEA 2'!U141","v":1},0.33,{"$f":"'[1]LÍNEA 2'!V141","v":1},0.33,{"$f":"'[1]LÍNEA 2'!W141","v":1},0.34,{"$f":"'[3]2016'!K116","v":0},{"$f":"'[3]2017'!K117","v":1},{"$f":"'[3]2018'!K117","v":1},{"$f":"'[3]2019'!K117","v":0}," -"," -",1,1,1,1,0,0,{"$f":"+AVERAGE(BE141:BG141)/AU141","v":0.66666666666666663},0.66666666666666663,0.66666666666666663,{"$f":"'[3]2016'!P116","v":0},{"$f":"'[3]2016'!Q116","v":0},{"$f":"'[3]2016'!R116","v":0},{"$f":"IF(BS141=0,\" -\",BT141/BS141)","v":" -"},{"$f":"IF(BU141=0,\" -\",IF(BT141=0,100%,BU141/BT141))","v":" -"},{"$f":"'[3]2017'!P117","v":17600},{"$f":"'[3]2017'!Q117","v":17600},{"$f":"'[3]2017'!R117","v":0},{"$f":"IF(BX141=0,\" -\",BY141/BX141)","v":1},{"$f":"IF(BZ141=0,\" -\",IF(BY141=0,100%,BZ141/BY141))","v":" -"},{"$f":"'[3]2018'!P117","v":9500},{"$f":"'[3]2018'!Q117","v":4609},{"$f":"'[3]2018'!R117","v":0},{"$f":"IF(CC141=0,\" -\",CD141/CC141)","v":0.48515789473684212},{"$f":"IF(CE141=0,\" -\",IF(CD141=0,100%,CE141/CD141))","v":" -"},{"$f":"'[3]2019'!P117","v":0},{"$f":"'[3]2019'!Q117","v":0},{"$f":"'[3]2019'!R117","v":0},{"$f":"IF(CH141=0,\" -\",CI141/CH141)","v":" -"},{"$f":"IF(CJ141=0,\" -\",IF(CI141=0,100%,CJ141/CI141))","v":" -"},{"$f":"+BS141+BX141+CC141+CH141","v":27100},{"$f":"+BT141+BY141+CD141+CI141","v":22209},{"$f":"+BU141+BZ141+CE141+CJ141","v":0},{"$f":"IF(CM141=0,\" -\",CN141/CM141)","v":0.819520295202952},{"$f":"IF(CO141=0,\" -\",IF(CN141=0,100%,CO141/CN141))","v":" -"},"5. Igualdad de género","Atención a grupos vulnerables - Promoción Social",{"$f":"'[1]LÍNEA 2'!AQ141","v":"Sec. Desarrollo Social"}]
[null,null,null,null,null,null,null,null,null,null,null,null,null,null,null,null,null,null,null,null,null,null,null,null,null,null,null,null,null,null,null,null,null,null,null,null,null,null,null,null,null,null,"Mantener y/o fortalecer el Consejo Comunitario de Mujeres.",{"$f":"'[1]LÍNEA 2'!P142","v":" -"},"Número de Consejos Comunitarios de Mujeres mantenidos y/o fortalecidos.",1,{"$f":"'[1]LÍNEA 2'!S142","v":1},{"$f":"'[1]LÍNEA 2'!T142","v":1},0.25,{"$f":"'[1]LÍNEA 2'!U142","v":1},0.25,{"$f":"'[1]LÍNEA 2'!V142","v":1},0.25,{"$f":"'[1]LÍNEA 2'!W142","v":1},0.25,{"$f":"'[3]2016'!K117","v":1},{"$f":"'[3]2017'!K118","v":1},{"$f":"'[3]2018'!K118","v":1},{"$f":"'[3]2019'!K118","v":0},1,1,1,1,1,1,0,0,{"$f":"+AVERAGE(BD142:BG142)/AU142","v":0.75},0.75,0.75,{"$f":"'[3]2016'!P117","v":0},{"$f":"'[3]2016'!Q117","v":0},{"$f":"'[3]2016'!R117","v":0}," -"," -",{"$f":"'[3]2017'!P118","v":0},{"$f":"'[3]2017'!Q118","v":0},{"$f":"'[3]2017'!R118","v":0}," -"," -",{"$f":"'[3]2018'!P118","v":10000},{"$f":"'[3]2018'!Q118","v":0},{"$f":"'[3]2018'!R118","v":0},0," -",{"$f":"'[3]2019'!P118","v":0},{"$f":"'[3]2019'!Q118","v":0},{"$f":"'[3]2019'!R118","v":0}," -"," -",10000,0,0,0," -","5. Igualdad de género","Atención a grupos vulnerables - Promoción Social",{"$f":"'[1]LÍNEA 2'!AQ142","v":"Sec. Desarrollo Social"}]
[null,null,null,null,null,null,null,null,null,null,null,null,null,null,null,null,null,null,null,null,null,null,null,null,null,null,null,null,null,null,null,null,null,null,null,null,null,null,null,null,null,null,"Realizar 1 encuentro municipal para articular las experiencias exitosas de participación política de las mujeres a nivel nacional y local.",{"$f":"'[1]LÍNEA 2'!P143","v":2210708},"Número de  encuentros municipales realizados para articular las experiencias exitosas de participación política de las mujeres a nivel nacional y local.",0,{"$f":"'[1]LÍNEA 2'!S143","v":1},{"$f":"'[1]LÍNEA 2'!T143","v":0},0,{"$f":"'[1]LÍNEA 2'!U143","v":1},{"$f":"+AX143/AU143","v":1},{"$f":"'[1]LÍNEA 2'!V143","v":0},{"$f":"+AZ143/AU143","v":0},{"$f":"'[1]LÍNEA 2'!W143","v":0},{"$f":"+BB143/AU143","v":0},{"$f":"'[3]2016'!K118","v":0},{"$f":"'[3]2017'!K119","v":0},{"$f":"'[3]2018'!K119","v":0},{"$f":"'[3]2019'!K119","v":0}," -"," -",0,0," -"," -"," -"," -",{"$f":"+SUM(BD143:BG143)/AU143","v":0},0,0,{"$f":"'[3]2016'!P118","v":0},{"$f":"'[3]2016'!Q118","v":0},{"$f":"'[3]2016'!R118","v":0}," -"," -",{"$f":"'[3]2017'!P119","v":0},{"$f":"'[3]2017'!Q119","v":0},{"$f":"'[3]2017'!R119","v":0}," -"," -",{"$f":"'[3]2018'!P119","v":0},{"$f":"'[3]2018'!Q119","v":0},{"$f":"'[3]2018'!R119","v":0}," -"," -",{"$f":"'[3]2019'!P119","v":0},{"$f":"'[3]2019'!Q119","v":0},{"$f":"'[3]2019'!R119","v":0}," -"," -",0,0,0," -"," -","5. Igualdad de género","Atención a grupos vulnerables - Promoción Social",{"$f":"'[1]LÍNEA 2'!AQ143","v":"Sec. Desarrollo Social"}]
[null,null,null,null,null,null,null,null,null,null,null,null,null,null,null,null,null,null,null,null,null,null,null,null,null,null,null,null,null,null,null,null,null,null,null,null,null,null,null,null,null,null,"Brindar 60.000 entradas a los parque RECREAR a mujeres víctimas de violencia, madres comunitarias, mujeres rurales, madres cabeza de familia y mujeres vulnerables.",{"$f":"'[1]LÍNEA 2'!P144","v":" -"},"Número de entradas a parques RECREAR brindadas a mujeres víctimas de violencia, madres comunitarias, mujeres rurales, madres cabeza de familia y mujeres vulnerables.",12643,{"$f":"'[1]LÍNEA 2'!S144","v":60000},{"$f":"'[1]LÍNEA 2'!T144","v":0},0,{"$f":"'[1]LÍNEA 2'!U144","v":20000},0.33333333333333331,{"$f":"'[1]LÍNEA 2'!V144","v":20000},0.33333333333333331,{"$f":"'[1]LÍNEA 2'!W144","v":20000},0.33333333333333331,{"$f":"'[3]2016'!K119","v":0},{"$f":"'[3]2017'!K120","v":20000},{"$f":"'[3]2018'!K120","v":14041},{"$f":"'[3]2019'!K120","v":0}," -"," -",1,1,0.70204999999999995,0.70204999999999995,0,0,{"$f":"+SUM(BD144:BG144)/AU144","v":0.56735000000000002},0.56735000000000002,0.56735000000000002,{"$f":"'[3]2016'!P119","v":0},{"$f":"'[3]2016'!Q119","v":0},{"$f":"'[3]2016'!R119","v":0}," -"," -",{"$f":"'[3]2017'!P120","v":60000},{"$f":"'[3]2017'!Q120","v":60000},{"$f":"'[3]2017'!R120","v":0},1," -",{"$f":"'[3]2018'!P120","v":71750},{"$f":"'[3]2018'!Q120","v":71750},{"$f":"'[3]2018'!R120","v":30750},1,0.42857142857142855,{"$f":"'[3]2019'!P120","v":0},{"$f":"'[3]2019'!Q120","v":0},{"$f":"'[3]2019'!R120","v":0}," -"," -",131750,131750,30750,1,0.23339658444022771,"5. Igualdad de género","Atención a grupos vulnerables - Promoción Social",{"$f":"'[1]LÍNEA 2'!AQ144","v":"Sec. Desarrollo Social"}]
[null,null,null,null,null,null,null,null,null,null,null,null,null,null,null,null,null,null,null,null,null,null,null,null,null,null,null,null,null,null,null,null,null,null,null,null,null,null,null,null,{"$f":"+RESUMEN!J59","v":0.56388888888888888},"COMUNICACIÓN PARA LA INCLUSIÓN DE LAS MUJERES AL DESARROLLO","Realizar 4 campañas comunicativas para la equidad de género.",{"$f":"'[1]LÍNEA 2'!P145","v":2210708},"Número de campañas comunicativas realizadas para la equidad de género.",0,{"$f":"'[1]LÍNEA 2'!S145","v":4},{"$f":"'[1]LÍNEA 2'!T145","v":1},0.25,{"$f":"'[1]LÍNEA 2'!U145","v":1},0.25,{"$f":"'[1]LÍNEA 2'!V145","v":1},0.25,{"$f":"'[1]LÍNEA 2'!W145","v":1},0.25,{"$f":"'[3]2016'!K120","v":1},{"$f":"'[3]2017'!K121","v":1},{"$f":"'[3]2018'!K121","v":1},{"$f":"'[3]2019'!K121","v":0},1,1,1,1,1,1,0,0,{"$f":"+SUM(BD145:BG145)/AU145","v":0.75},0.75,0.75,{"$f":"'[3]2016'!P120","v":0},{"$f":"'[3]2016'!Q120","v":0},{"$f":"'[3]2016'!R120","v":8000}," -",1,{"$f":"'[3]2017'!P121","v":0},{"$f":"'[3]2017'!Q121","v":0},{"$f":"'[3]2017'!R121","v":0}," -"," -",{"$f":"'[3]2018'!P121","v":0},{"$f":"'[3]2018'!Q121","v":0},{"$f":"'[3]2018'!R121","v":0}," -"," -",{"$f":"'[3]2019'!P121","v":32760},{"$f":"'[3]2019'!Q121","v":0},{"$f":"'[3]2019'!R121","v":0},0," -",32760,0,8000,0,1,"5. Igualdad de género","Atención a grupos vulnerables - Promoción Social",{"$f":"'[1]LÍNEA 2'!AQ145","v":"Sec. Desarrollo Social"}]
[null,null,null,null,null,null,null,null,null,null,null,null,null,null,null,null,null,null,null,null,null,null,null,null,null,null,null,null,null,null,null,null,null,null,null,null,null,null,null,null,null,null,"Realizar 6 encuentros con periodistas para la comunicación con equidad de género.",{"$f":"'[1]LÍNEA 2'!P146","v":2210708},"Número de encuentros realizados con periodistas para la comunicación.",0,{"$f":"'[1]LÍNEA 2'!S146","v":6},{"$f":"'[1]LÍNEA 2'!T146","v":1},0.16666666666666666,{"$f":"'[1]LÍNEA 2'!U146","v":2},0.33333333333333331,{"$f":"'[1]LÍNEA 2'!V146","v":2},0.33333333333333331,{"$f":"'[1]LÍNEA 2'!W146","v":1},0.16666666666666666,{"$f":"'[3]2016'!K121","v":1},{"$f":"'[3]2017'!K122","v":1},{"$f":"'[3]2018'!K122","v":0},{"$f":"'[3]2019'!K122","v":0},1,1,0.5,0.5,0,0,0,0,{"$f":"+SUM(BD146:BG146)/AU146","v":0.33333333333333331},0.33333333333333331,0.33333333333333331,{"$f":"'[3]2016'!P121","v":0},{"$f":"'[3]2016'!Q121","v":0},{"$f":"'[3]2016'!R121","v":1000}," -",1,{"$f":"'[3]2017'!P122","v":0},{"$f":"'[3]2017'!Q122","v":0},{"$f":"'[3]2017'!R122","v":0}," -"," -",{"$f":"'[3]2018'!P122","v":0},{"$f":"'[3]2018'!Q122","v":0},{"$f":"'[3]2018'!R122","v":0}," -"," -",{"$f":"'[3]2019'!P122","v":7644},{"$f":"'[3]2019'!Q122","v":0},{"$f":"'[3]2019'!R122","v":0},0," -",7644,0,1000,0,1,"5. Igualdad de género","Atención a grupos vulnerables - Promoción Social",{"$f":"'[1]LÍNEA 2'!AQ146","v":"Sec. Desarrollo Social"}]
[null,null,null,null,null,null,null,null,null,null,null,null,null,null,null,null,null,null,null,null,null,null,null,null,null,null,null,null,null,null,null,null,null,null,null,null,null,null,null,null,null,null,"Cumplir un 30% de la agenda pendiente para la equidad y la garantía de derechos de las mujeres.",{"$f":"'[1]LÍNEA 2'!P147","v":" -"},"Porcentaje de avance en el cumplimiento de la agenda pendiente para la equidad y la garantía de derechos de las mujeres.",0.1,{"$f":"'[1]LÍNEA 2'!S147","v":0.3},{"$f":"'[1]LÍNEA 2'!T147","v":0},0,{"$f":"'[1]LÍNEA 2'!U147","v":0.1},0.33333333333333337,{"$f":"'[1]LÍNEA 2'!V147","v":0.2},0.66666666666666674,{"$f":"'[1]LÍNEA 2'!W147","v":0},0,{"$f":"'[3]2016'!K122","v":0},{"$f":"'[3]2017'!K123","v":0.05},{"$f":"'[3]2018'!K123","v":0.1},{"$f":"'[3]2019'!K123","v":0}," -"," -",0.5,0.5,0.5,0.5," -"," -",{"$f":"+SUM(BD147:BG147)/AU147","v":0.50000000000000011},0.50000000000000011,0.50000000000000011,{"$f":"'[3]2016'!P122","v":0},{"$f":"'[3]2016'!Q122","v":0},{"$f":"'[3]2016'!R122","v":0}," -"," -",{"$f":"'[3]2017'!P123","v":0},{"$f":"'[3]2017'!Q123","v":0},{"$f":"'[3]2017'!R123","v":0}," -"," -",{"$f":"'[3]2018'!P123","v":0},{"$f":"'[3]2018'!Q123","v":0},{"$f":"'[3]2018'!R123","v":0}," -"," -",{"$f":"'[3]2019'!P123","v":0},{"$f":"'[3]2019'!Q123","v":0},{"$f":"'[3]2019'!R123","v":0}," -"," -",0,0,0," -"," -","5. Igualdad de género","Atención a grupos vulnerables - Promoción Social",{"$f":"'[1]LÍNEA 2'!AQ147","v":"Sec. Desarrollo Social"}]
[null,null,null,null,null,null,null,null,null,null,null,null,null,null,null,null,null,null,null,null,null,null,null,null,null,null,null,null,null,null,null,null,null,null,null,null,null,null,null,null,null,null,"Mantener 1 línea de atención a la mujer.",{"$f":"'[1]LÍNEA 2'!P148","v":2210708},"Número de líneas de atención a la mujer en centro de atenciónvmantenidas.",1,{"$f":"'[1]LÍNEA 2'!S148","v":1},{"$f":"'[1]LÍNEA 2'!T148","v":1},0.25,{"$f":"'[1]LÍNEA 2'!U148","v":1},0.25,{"$f":"'[1]LÍNEA 2'!V148","v":1},0.25,{"$f":"'[1]LÍNEA 2'!W148","v":1},0.25,{"$f":"'[3]2016'!K123","v":1},{"$f":"'[3]2017'!K124","v":1},{"$f":"'[3]2018'!K124","v":1},{"$f":"'[3]2019'!K124","v":0},1,1,1,1,1,1,0,0,0.75,0.75,0.75,{"$f":"'[3]2016'!P123","v":0},{"$f":"'[3]2016'!Q123","v":0},{"$f":"'[3]2016'!R123","v":0}," -"," -",{"$f":"'[3]2017'!P124","v":0},{"$f":"'[3]2017'!Q124","v":0},{"$f":"'[3]2017'!R124","v":0}," -"," -",{"$f":"'[3]2018'!P124","v":0},{"$f":"'[3]2018'!Q124","v":0},{"$f":"'[3]2018'!R124","v":0}," -"," -",{"$f":"'[3]2019'!P124","v":25000},{"$f":"'[3]2019'!Q124","v":0},{"$f":"'[3]2019'!R124","v":0},0," -",25000,0,0,0," -","5. Igualdad de género","Atención a grupos vulnerables - Promoción Social",{"$f":"'[1]LÍNEA 2'!AQ148","v":"Sec. Desarrollo Social"}]
[null,null,null,null,null,null,null,null,null,null,null,null,null,null,null,null,null,null,null,null,null,null,null,null,null,null,null,null,null,null,null,null,null,null,null,null,null,null,null,null,null,null,"Mantener y fortalecer 1 centro integral de atención a la mujer.",{"$f":"'[1]LÍNEA 2'!P149","v":2210708},"Número de centros integrales de atención a la mujer mantenidos y fortalecidos.",1,{"$f":"'[1]LÍNEA 2'!S149","v":1},{"$f":"'[1]LÍNEA 2'!T149","v":1},0.25,{"$f":"'[1]LÍNEA 2'!U149","v":1},0.25,{"$f":"'[1]LÍNEA 2'!V149","v":1},0.25,{"$f":"'[1]LÍNEA 2'!W149","v":1},0.25,{"$f":"'[3]2016'!K124","v":1},{"$f":"'[3]2017'!K125","v":1},{"$f":"'[3]2018'!K125","v":1},{"$f":"'[3]2019'!K125","v":0},1,1,1,1,1,1,0,0,0.75,0.75,0.75,{"$f":"'[3]2016'!P124","v":0},{"$f":"'[3]2016'!Q124","v":0},{"$f":"'[3]2016'!R124","v":0}," -"," -",{"$f":"'[3]2017'!P125","v":0},{"$f":"'[3]2017'!Q125","v":0},{"$f":"'[3]2017'!R125","v":0}," -"," -",{"$f":"'[3]2018'!P125","v":0},{"$f":"'[3]2018'!Q125","v":0},{"$f":"'[3]2018'!R125","v":0}," -"," -",{"$f":"'[3]2019'!P125","v":50000},{"$f":"'[3]2019'!Q125","v":0},{"$f":"'[3]2019'!R125","v":0},0," -",50000,0,0,0," -","5. Igualdad de género","Atención a grupos vulnerables - Promoción Social",{"$f":"'[1]LÍNEA 2'!AQ149","v":"Sec. Desarrollo Social"}]
[null,null,null,null,null,null,null,null,null,null,null,null,null,null,null,null,null,null,null,null,null,null,null,null,null,null,null,null,null,null,null,null,null,null,null,null,null,null,null,null,null,null,"Implementar y mantener 1 cátedra de equidad de género dirigida a profesores y estudiantes en instituciones educativas públicas de primaria y bachillerato.",{"$f":"'[1]LÍNEA 2'!P150","v":" -"},"Número de cátedras de equidad de género dirigida a profesores y estudiantes implementadas y mantenidas en instituciones educativas públicas de primaria y bachillerato.",0,{"$f":"'[1]LÍNEA 2'!S150","v":1},{"$f":"'[1]LÍNEA 2'!T150","v":0},0,{"$f":"'[1]LÍNEA 2'!U150","v":1},0.33,{"$f":"'[1]LÍNEA 2'!V150","v":1},0.33,{"$f":"'[1]LÍNEA 2'!W150","v":1},0.34,{"$f":"'[4]2016'!$K$16","v":0},{"$f":"'[4]2017'!$K$16","v":0.4},{"$f":"'[4]2018'!$K$16","v":0.5},{"$f":"'[4]2019'!$K$16","v":0}," -"," -",0.4,0.4,0.5,0.5,0,0,{"$f":"+AVERAGE(BE150:BG150)/AU150","v":0.3},0.3,0.3,{"$f":"'[4]2016'!P16","v":0},{"$f":"'[4]2016'!Q16","v":0},{"$f":"'[4]2016'!R16","v":0}," -"," -",{"$f":"'[4]2017'!P16","v":0},{"$f":"'[4]2017'!Q16","v":0},{"$f":"'[4]2017'!R16","v":0}," -"," -",{"$f":"'[4]2018'!P16","v":0},{"$f":"'[4]2018'!Q16","v":0},{"$f":"'[4]2018'!R16","v":0}," -"," -",{"$f":"'[4]2019'!P16","v":0},{"$f":"'[4]2019'!Q16","v":0},{"$f":"'[4]2019'!R16","v":0}," -"," -",0,0,0," -"," -","5. Igualdad de género","Atención a grupos vulnerables - Promoción Social",{"$f":"'[1]LÍNEA 2'!AQ150","v":"Sec. Educación"}]
[null,null,null,null,null,null,null,null,null,null,null,null,null,null,null,null,null,null,null,null,null,null,null,null,null,null,null,null,null,null,null,null,null,null,null,null,null,null,null,null,null,null,null,null,null,null,null,null,null,null,null,null,null,null,{"$f":"+AVERAGE(BC129:BC150)","v":0.24073975044563281},null,null,null,null,null,{"$f":"+AVERAGE(BI129:BI150)","v":0.84615384615384615},null,0.80606060606060614,null,0.7477166666666667,null,0,null,{"$f":"+AVERAGE(BQ129:BQ150)","v":0.57893777480689246}]
[null,null,null,{"$f":"+RESUMEN!J60","v":0.55247202380952387},"HOGARES FELICES","Reducir a 15.314 el déficit cuantitativo de vivienda.",18214,15314,{"$f":"+H152-G152","v":-2900},17614,{"$f":"+J152-G152","v":-600},null,16964,{"$f":"+M152-J152","v":-650},null,16164,{"$f":"+P152-M152","v":-800},null,15314,{"$f":"+S152-P152","v":-850},null,null,{"$f":"+IF(V152=0,0,V152-G152)","v":0},null,{"$f":"+IF(X152=0,0,X152-V152)","v":0},null,{"$f":"+IF(Z152=0,0,Z152-X152)","v":0},null,{"$f":"+IF(AB152=0,0,AB152-Z152)","v":0},{"$f":"+IF(K152=0,\" -\",W152/K152)","v":0},{"$f":"+IF(K152=0,\" -\",IF(AD152>100%,100%,AD152))","v":0},{"$f":"+IF(N152=0,\" -\",Y152/N152)","v":0},{"$f":"+IF(N152=0,\" -\",IF(AF152>100%,100%,AF152))","v":0},{"$f":"+IF(Q152=0,\" -\",AA152/Q152)","v":0},{"$f":"+IF(Q152=0,\" -\",IF(AH152>100%,100%,AH152))","v":0},{"$f":"+IF(T152=0,\" -\",AC152/T152)","v":0},{"$f":"+IF(T152=0,\" -\",IF(AJ152>100%,100%,AJ152))","v":0},{"$f":"+SUM(AC152,AA152,Y152,W152)/I152","v":0},{"$f":"+IF(AL152>100%,100%,IF(AL152<0%,0%,AL152))","v":0},null,{"$f":"+RESUMEN!J61","v":0.58950000000000002},"CONSTRUYENDO MI HOGAR","Asignar 850 subsidios complementarios a hogares que cuentan con subsidio nacional.",{"$f":"'[1]LÍNEA 2'!P152","v":"05430102\r05439003\r05439004"},"Número de subsidios complementarios asignados a hogares que cuentan con subsidio nacional.",3438,{"$f":"'[1]LÍNEA 2'!S152","v":850},{"$f":"'[1]LÍNEA 2'!T152","v":50},5.8823529411764705E-2,{"$f":"'[1]LÍNEA 2'!U152","v":130},0.15294117647058825,{"$f":"'[1]LÍNEA 2'!V152","v":110},0.12941176470588237,{"$f":"'[1]LÍNEA 2'!W152","v":560},0.6588235294117647,{"$f":"'[24]2016'!K12","v":801},{"$f":"'[24]2017'!K12","v":267},{"$f":"'[24]2018'!K12","v":17},{"$f":"'[24]2019'!K12","v":0},16.02,1,2.0538461538461537,1,0.15454545454545454,0.15454545454545454,0,0,{"$f":"+SUM(BD152:BG152)/AU152","v":1.276470588235294},1,1,{"$f":"'[24]2016'!P12","v":618000},{"$f":"'[24]2016'!Q12","v":102895},{"$f":"'[24]2016'!R12","v":2675085},0.16649676375404532,25.998202050634141,{"$f":"'[24]2017'!P12","v":1612334},{"$f":"'[24]2017'!Q12","v":1608484},{"$f":"'[24]2017'!R12","v":0},0.99761215728254815," -",{"$f":"'[24]2018'!P12","v":1399557},{"$f":"'[24]2018'!Q12","v":358361},{"$f":"'[24]2018'!R12","v":0},0.25605316539447842," -",{"$f":"'[24]2019'!P12","v":2471000},{"$f":"'[24]2019'!Q12","v":0},{"$f":"'[24]2019'!R12","v":0},0," -",6100891,2069740,2675085,0.33925208629362497,1.2924739339240678,"1. Fin de la pobreza","Vivienda",{"$f":"'[1]LÍNEA 2'!AQ152","v":"INVISBU"}]
[null,null,null,null,null,null,null,null,null,null,null,null,null,null,null,null,null,null,null,null,null,null,null,null,null,null,null,null,null,null,null,null,null,null,null,null,null,null,null,null,null,null,"Habilitar 200 hectáreas para lotes urbanizables \"20.000 hogares felices\".",{"$f":"'[1]LÍNEA 2'!P153","v":" -"},"Número de hectáreas para lotes urbanizables \"20.000 Hogares felices\".",0,{"$f":"'[1]LÍNEA 2'!S153","v":200},{"$f":"'[1]LÍNEA 2'!T153","v":0},0,{"$f":"'[1]LÍNEA 2'!U153","v":10},0.05,{"$f":"'[1]LÍNEA 2'!V153","v":0},0,{"$f":"'[1]LÍNEA 2'!W153","v":190},0.95,{"$f":"'[24]2016'!K13","v":0},{"$f":"'[24]2017'!K13","v":2},{"$f":"+'[6]2018'!$K$46","v":0},{"$f":"+'[6]2019'!$K$46","v":0}," -"," -",0.2,0.2," -"," -",0,0,{"$f":"+SUM(BD153:BG153)/AU153","v":0.01},0.01,0.01,{"$f":"'[24]2016'!P13","v":0},{"$f":"'[24]2016'!Q13","v":0},{"$f":"'[24]2016'!R13","v":0}," -"," -",{"$f":"'[24]2017'!P13","v":1684286},{"$f":"'[24]2017'!Q13","v":1674847},{"$f":"'[24]2017'!R13","v":0},0.99439584488620103," -",{"$f":"'[6]2018'!P46","v":0},{"$f":"'[6]2018'!Q46","v":0},{"$f":"'[6]2018'!R46","v":0}," -"," -",{"$f":"'[6]2019'!P46","v":1000000},{"$f":"'[6]2019'!Q46","v":0},{"$f":"'[6]2019'!R46","v":0},0," -",2684286,1674847,0,0.62394506397604432," -","11. Ciudades y comunidades sostenibles","Vivienda",{"$f":"'[1]LÍNEA 2'!AQ153","v":"Sec. Planeación"}]
[null,null,null,null,null,null,null,null,null,null,null,null,null,null,null,null,null,null,null,null,null,null,null,null,null,null,null,null,null,null,null,null,null,null,null,null,null,null,null,null,null,null,"Entregar 1.000 soluciones de vivienda en cualquier modalidad.",{"$f":"'[1]LÍNEA 2'!P154","v":"05430101\r05430102"},"Número de soluciones de vivienda entregadas en cualquier modalidad.",3775,{"$f":"'[1]LÍNEA 2'!S154","v":1000},{"$f":"'[1]LÍNEA 2'!T154","v":200},0.2,{"$f":"'[1]LÍNEA 2'!U154","v":300},0.3,{"$f":"'[1]LÍNEA 2'!V154","v":250},0.25,{"$f":"'[1]LÍNEA 2'!W154","v":250},0.25,{"$f":"'[24]2016'!K14","v":300},{"$f":"'[24]2017'!K14","v":340},{"$f":"'[24]2018'!K13","v":112},{"$f":"'[24]2019'!K13","v":0},1.5,1,1.1333333333333333,1,0.44800000000000001,0.44800000000000001,0,0,{"$f":"+SUM(BD154:BG154)/AU154","v":0.752},0.752,0.752,{"$f":"'[24]2016'!P14","v":200000},{"$f":"'[24]2016'!Q14","v":0},{"$f":"'[24]2016'!R14","v":0},0," -",{"$f":"'[24]2017'!P14","v":2120847},{"$f":"'[24]2017'!Q14","v":1256130},{"$f":"'[24]2017'!R14","v":154278},0.59227751931185979,0.12282009027728022,{"$f":"'[24]2018'!P14","v":0},{"$f":"'[24]2018'!Q14","v":0},{"$f":"'[24]2018'!R14","v":0}," -"," -",{"$f":"'[24]2019'!P14","v":1050000},{"$f":"'[24]2019'!Q14","v":0},{"$f":"'[24]2019'!R14","v":0},0," -",3370847,1256130,154278,0.37264521350271906,0.12282009027728022,"1. Fin de la pobreza","Vivienda",{"$f":"'[1]LÍNEA 2'!AQ154","v":"INVISBU"}]
[null,null,null,null,null,null,null,null,null,null,null,null,null,null,null,null,null,null,null,null,null,null,null,null,null,null,null,null,null,null,null,null,null,null,null,null,null,null,null,null,null,null,"Entregar 100 soluciones de vivienda para mujeres cabeza de familia.",{"$f":"'[1]LÍNEA 2'!P155","v":"05430101\r05430102"},"Número de soluciones de vivienda entregadas para mujeres cabeza de familia.",300,{"$f":"'[1]LÍNEA 2'!S155","v":100},{"$f":"'[1]LÍNEA 2'!T155","v":10},0.1,{"$f":"'[1]LÍNEA 2'!U155","v":40},0.4,{"$f":"'[1]LÍNEA 2'!V155","v":25},0.25,{"$f":"'[1]LÍNEA 2'!W155","v":25},0.25,{"$f":"'[24]2016'!K15","v":30},{"$f":"'[24]2017'!K15","v":118},{"$f":"'[24]2018'!K14","v":47},{"$f":"'[24]2019'!K14","v":0},3,1,2.95,1,1.88,1,0,0,{"$f":"+SUM(BD155:BG155)/AU155","v":1.95},1,1,{"$f":"'[24]2016'!P15","v":0},{"$f":"'[24]2016'!Q15","v":0},{"$f":"'[24]2016'!R15","v":0}," -"," -",{"$f":"'[24]2017'!P15","v":68389},{"$f":"'[24]2017'!Q15","v":25288},{"$f":"'[24]2017'!R15","v":0},0.36976706780330171," -",{"$f":"'[24]2018'!P15","v":0},{"$f":"'[24]2018'!Q15","v":0},{"$f":"'[24]2018'!R15","v":0}," -"," -",{"$f":"'[24]2019'!P15","v":0},{"$f":"'[24]2019'!Q15","v":0},{"$f":"'[24]2019'!R15","v":0}," -"," -",68389,25288,0,0.36976706780330171," -","1. Fin de la pobreza","Vivienda",{"$f":"'[1]LÍNEA 2'!AQ155","v":"INVISBU"}]
[null,null,null,null,null,null,null,null,null,null,null,null,null,null,null,null,null,null,null,null,null,null,null,null,null,null,null,null,null,null,null,null,null,null,null,null,null,null,null,null,null,null,"Implementar y mantener 1 programa de acompañamiento a los usuarios que cumplan condiciones del programa \"20.000 Hogares\" en su proceso de urbanización.",{"$f":"'[1]LÍNEA 2'!P156","v":5430102},"Número de programas implementados y manenidos de acompañamiento a los usuarios que cumplan condiciones del programa \"20.000 Hogares\" en su proceso de urbanización.",1,{"$f":"'[1]LÍNEA 2'!S156","v":1},{"$f":"'[1]LÍNEA 2'!T156","v":1},0.25,{"$f":"'[1]LÍNEA 2'!U156","v":1},0.25,{"$f":"'[1]LÍNEA 2'!V156","v":1},0.25,{"$f":"'[1]LÍNEA 2'!W156","v":1},0.25,{"$f":"'[24]2016'!K16","v":1},{"$f":"'[24]2017'!K16","v":1},{"$f":"'[24]2018'!K15","v":1},{"$f":"'[24]2019'!K15","v":0},1,1,1,1,1,1,0,0,0.75,0.75,0.75,{"$f":"'[24]2016'!P16","v":50000},{"$f":"'[24]2016'!Q16","v":0},{"$f":"'[24]2016'!R16","v":0},0," -",{"$f":"'[24]2017'!P16","v":34650},{"$f":"'[24]2017'!Q16","v":34650},{"$f":"'[24]2017'!R16","v":0},1," -",{"$f":"'[24]2018'!P16","v":1277219},{"$f":"'[24]2018'!Q16","v":620510},{"$f":"'[24]2018'!R16","v":0},0.48582897686301252," -",{"$f":"'[24]2019'!P16","v":950000},{"$f":"'[24]2019'!Q16","v":0},{"$f":"'[24]2019'!R16","v":0},0," -",2311869,655160,0,0.28338975954087364," -","1. Fin de la pobreza","Vivienda",{"$f":"'[1]LÍNEA 2'!AQ156","v":"INVISBU"}]
[null,null,null,null,null,null,null,null,null,null,null,null,null,null,null,null,null,null,null,null,null,null,null,null,null,null,null,null,null,null,null,null,null,null,null,null,null,null,null,null,null,null,"Mantener el subsidio del mínimo vital de agua.",{"$f":"'[1]LÍNEA 2'!P157","v":2210169},"Número de subsidios del mínimo vital de agua mantenidos.",1,{"$f":"'[1]LÍNEA 2'!S157","v":1},{"$f":"'[1]LÍNEA 2'!T157","v":1},0.25,{"$f":"'[1]LÍNEA 2'!U157","v":1},0.25,{"$f":"'[1]LÍNEA 2'!V157","v":1},0.25,{"$f":"'[1]LÍNEA 2'!W157","v":1},0.25,{"$f":"'[6]2016'!$K$49","v":0},{"$f":"'[6]2017'!$K$46","v":0.1},{"$f":"'[6]2018'!$K$46","v":0},{"$f":"'[6]2019'!$K$46","v":0},0,0,0.1,0.1,0,0,0,0,2.5000000000000001E-2,2.5000000000000001E-2,2.5000000000000001E-2,{"$f":"'[6]2016'!P49","v":0},{"$f":"'[6]2016'!Q49","v":0},{"$f":"'[6]2016'!R49","v":0}," -"," -",{"$f":"'[6]2017'!P46","v":0},{"$f":"'[6]2017'!Q46","v":0},{"$f":"'[6]2017'!R46","v":0}," -"," -",{"$f":"'[6]2018'!P46","v":0},{"$f":"'[6]2018'!Q46","v":0},{"$f":"'[6]2018'!R46","v":0}," -"," -",{"$f":"'[6]2019'!P46","v":1000000},{"$f":"'[6]2019'!Q46","v":0},{"$f":"'[6]2019'!R46","v":0},0," -",1000000,0,0,0," -","6. Agua limpia y saneamiento","APSB",{"$f":"'[1]LÍNEA 2'!AQ157","v":"Sec. Planeación"}]
[null,null,null,null,null,null,null,null,null,null,null,null,null,null,null,null,null,null,null,null,null,null,null,null,null,null,null,null,null,null,null,null,null,null,null,null,null,null,null,null,{"$f":"+RESUMEN!J62","v":0.54499999999999993},"MEJORANDO MI HOGAR","Realizar 200 mejoramientos de vivienda en la zona urbana (50% para población vulnerable).",{"$f":"'[1]LÍNEA 2'!P158","v":5430101},"Porcentaje de avance en la selección, formulación y ejecución de mejoramientos de vivienda en la zona urbana.",0,{"$f":"'[1]LÍNEA 2'!S158","v":1},{"$f":"'[1]LÍNEA 2'!T158","v":0.1},0.1,{"$f":"'[1]LÍNEA 2'!U158","v":0.4},0.4,{"$f":"'[1]LÍNEA 2'!V158","v":0.1},0.1,{"$f":"'[1]LÍNEA 2'!W158","v":0.4},0.4,{"$f":"'[24]2016'!K17","v":0.1},{"$f":"'[24]2017'!K17","v":0.4},{"$f":"'[24]2018'!K16","v":0.09},{"$f":"'[24]2019'!K16","v":0},1,1,1,1,0.89999999999999991,0.89999999999999991,0,0,{"$f":"+SUM(BD158:BG158)/AU158","v":0.59},0.59,0.59,{"$f":"'[24]2016'!P17","v":30000},{"$f":"'[24]2016'!Q17","v":6500},{"$f":"'[24]2016'!R17","v":0},0.21666666666666667," -",{"$f":"'[24]2017'!P17","v":919045},{"$f":"'[24]2017'!Q17","v":169998},{"$f":"'[24]2017'!R17","v":0},0.1849724442219913," -",{"$f":"'[24]2018'!P17","v":0},{"$f":"'[24]2018'!Q17","v":0},{"$f":"'[24]2018'!R17","v":0}," -"," -",{"$f":"'[24]2019'!P17","v":700000},{"$f":"'[24]2019'!Q17","v":0},{"$f":"'[24]2019'!R17","v":0},0," -",1649045,176498,0,0.10703043276563101," -","1. Fin de la pobreza","Vivienda",{"$f":"'[1]LÍNEA 2'!AQ158","v":"INVISBU"}]
[null,null,null,null,null,"Reducir a 5.479 el déficit cualitativo de vivienda.",7829,5479,{"$f":"+H159-G159","v":-2350},7829,{"$f":"+J159-G159","v":0},null,6654,{"$f":"+M159-J159","v":-1175},null,6654,{"$f":"+P159-M159","v":0},null,5479,{"$f":"+S159-P159","v":-1175},null,null,{"$f":"+IF(V159=0,0,V159-G159)","v":0},null,{"$f":"+IF(X159=0,0,X159-V159)","v":0},null,{"$f":"+IF(Z159=0,0,Z159-X159)","v":0},null,{"$f":"+IF(AB159=0,0,AB159-Z159)","v":0},{"$f":"+IF(K159=0,\" -\",W159/K159)","v":" -"},{"$f":"+IF(K159=0,\" -\",IF(AD159>100%,100%,AD159))","v":" -"},{"$f":"+IF(N159=0,\" -\",Y159/N159)","v":0},{"$f":"+IF(N159=0,\" -\",IF(AF159>100%,100%,AF159))","v":0},{"$f":"+IF(Q159=0,\" -\",AA159/Q159)","v":" -"},{"$f":"+IF(Q159=0,\" -\",IF(AH159>100%,100%,AH159))","v":" -"},{"$f":"+IF(T159=0,\" -\",AC159/T159)","v":0},{"$f":"+IF(T159=0,\" -\",IF(AJ159>100%,100%,AJ159))","v":0},{"$f":"+SUM(AC159,AA159,Y159,W159)/I159","v":0},{"$f":"+IF(AL159>100%,100%,IF(AL159<0%,0%,AL159))","v":0},null,null,null,"Realizar 150 mejoramientos de vivienda en la zona rural.",{"$f":"'[1]LÍNEA 2'!P159","v":5430101},"Porcentaje de avance en la selección, formulación y ejecución de mejoramientos de vivienda en la zona rural.",0,{"$f":"'[1]LÍNEA 2'!S159","v":1},{"$f":"'[1]LÍNEA 2'!T159","v":0.1},0.1,{"$f":"'[1]LÍNEA 2'!U159","v":0.4},0.4,{"$f":"'[1]LÍNEA 2'!V159","v":0},0,{"$f":"'[1]LÍNEA 2'!W159","v":0.5},0.5,{"$f":"'[24]2016'!K18","v":0.1},{"$f":"'[24]2017'!K18","v":0.4},{"$f":"'[24]2018'!K17","v":0},{"$f":"'[24]2019'!K17","v":0},1,1,1,1," -"," -",0,0,{"$f":"+SUM(BD159:BG159)/AU159","v":0.5},0.5,0.5,{"$f":"'[24]2016'!P18","v":20000},{"$f":"'[24]2016'!Q18","v":6500},{"$f":"'[24]2016'!R18","v":0},0.32500000000000001," -",{"$f":"'[24]2017'!P18","v":517298},{"$f":"'[24]2017'!Q18","v":415386},{"$f":"'[24]2017'!R18","v":0},0.80299169917533031," -",{"$f":"'[24]2018'!P18","v":73723},{"$f":"'[24]2018'!Q18","v":73723},{"$f":"'[24]2018'!R18","v":0},1," -",{"$f":"'[24]2019'!P18","v":180000},{"$f":"'[24]2019'!Q18","v":0},{"$f":"'[24]2019'!R18","v":0},0," -",791021,495609,0,0.62654341667288227," -","1. Fin de la pobreza","Vivienda",{"$f":"'[1]LÍNEA 2'!AQ159","v":"INVISBU"}]
[null,null,null,null,null,null,null,null,null,null,null,null,null,null,null,null,null,null,null,null,null,null,null,null,null,null,null,null,null,null,null,null,null,null,null,null,null,null,null,null,{"$f":"+RESUMEN!J63","v":0.6785714285714286},"FORMACIÓN Y ACOMPAÑAMIENTO PARA MI HOGAR","Capacitar a 7.350 familias en temas relacionados con vivienda de interés social.",{"$f":"'[1]LÍNEA 2'!P160","v":5430102},"Número de familias capacitadas en temas relacionados con vivienda de interés social.",11500,{"$f":"'[1]LÍNEA 2'!S160","v":7350},{"$f":"'[1]LÍNEA 2'!T160","v":1800},0.24489795918367346,{"$f":"'[1]LÍNEA 2'!U160","v":1850},0.25170068027210885,{"$f":"'[1]LÍNEA 2'!V160","v":1850},0.25170068027210885,{"$f":"'[1]LÍNEA 2'!W160","v":1850},0.25170068027210885,{"$f":"'[24]2016'!K19","v":8659},{"$f":"'[24]2017'!K19","v":6039},{"$f":"'[24]2018'!K18","v":3348},{"$f":"'[24]2019'!K18","v":0},4.8105555555555553,1,3.2643243243243245,1,1.8097297297297297,1,0,0,{"$f":"+SUM(BD160:BG160)/AU160","v":2.4552380952380952},1,1,{"$f":"'[24]2016'!P19","v":150000},{"$f":"'[24]2016'!Q19","v":50473},{"$f":"'[24]2016'!R19","v":0},0.33648666666666666," -",{"$f":"'[24]2017'!P19","v":72930},{"$f":"'[24]2017'!Q19","v":33525},{"$f":"'[24]2017'!R19","v":0},0.45968737145207733," -",{"$f":"'[24]2018'!P19","v":177296},{"$f":"'[24]2018'!Q19","v":142944},{"$f":"'[24]2018'!R19","v":0},0.80624492374334444," -",{"$f":"'[24]2019'!P19","v":300000},{"$f":"'[24]2019'!Q19","v":0},{"$f":"'[24]2019'!R19","v":0},0," -",700226,226942,0,0.32409821971763403," -","1. Fin de la pobreza","Vivienda",{"$f":"'[1]LÍNEA 2'!AQ160","v":"INVISBU"}]
[null,null,null,null,null,null,null,null,null,null,null,null,null,null,null,null,null,null,null,null,null,null,null,null,null,null,null,null,null,null,null,null,null,null,null,null,null,null,null,null,null,null,"Implementar y mantener 7 grupos de atención social.",{"$f":"'[1]LÍNEA 2'!P161","v":2210168},"Número de grupos de atención social implementados y mantenidos.",0,{"$f":"'[1]LÍNEA 2'!S161","v":7},{"$f":"'[1]LÍNEA 2'!T161","v":0},0.25,{"$f":"'[1]LÍNEA 2'!U161","v":7},0.25,{"$f":"'[1]LÍNEA 2'!V161","v":7},0.25,{"$f":"'[1]LÍNEA 2'!W161","v":7},0.25,{"$f":"'[3]2016'!$K$126","v":0},{"$f":"'[3]2017'!$K$127","v":0},{"$f":"'[3]2018'!$K$127","v":10},{"$f":"'[3]2019'!$K$127","v":0}," -"," -",0,0,1.4285714285714286,1,0,0,0.35714285714285715,0.35714285714285715,0.35714285714285715,{"$f":"'[3]2016'!P126","v":100000},{"$f":"'[3]2016'!Q126","v":0},{"$f":"'[3]2016'!R126","v":0},0," -",{"$f":"'[3]2017'!P127","v":0},{"$f":"'[3]2017'!Q127","v":0},{"$f":"'[3]2017'!R127","v":0}," -"," -",{"$f":"'[3]2018'!P127","v":20000},{"$f":"'[3]2018'!Q127","v":19200},{"$f":"'[3]2018'!R127","v":0},0.96," -",{"$f":"'[3]2019'!P127","v":800000},{"$f":"'[3]2019'!Q127","v":0},{"$f":"'[3]2019'!R127","v":0},0," -",920000,19200,0,2.0869565217391306E-2," -","1. Fin de la pobreza","Agua potable y saneamiento básico",{"$f":"'[1]LÍNEA 2'!AQ161","v":"Sec. Desarrollo Social"}]
[null,null,null,null,null,null,null,null,null,null,null,null,null,null,null,null,null,null,null,null,null,null,null,null,null,null,null,null,null,null,null,null,null,null,null,null,null,null,null,null,{"$f":"+RESUMEN!J64","v":0.39681666666666665},"MEJORAMIENTO Y CONSOLIDACIÓN DE LA CIUDAD CONSTRUIDA","Titular 150 predios fiscales.",{"$f":"'[1]LÍNEA 2'!P162","v":5439002},"Porcentaje de avance en la titulación de predios fiscales.",0,{"$f":"'[1]LÍNEA 2'!S162","v":1},{"$f":"'[1]LÍNEA 2'!T162","v":0.1},0.1,{"$f":"'[1]LÍNEA 2'!U162","v":0.4},0.4,{"$f":"'[1]LÍNEA 2'!V162","v":0.05},0.05,{"$f":"'[1]LÍNEA 2'!W162","v":0.45},0.45,{"$f":"'[24]2016'!K20","v":0.1},{"$f":"'[24]2017'!K20","v":0.4},{"$f":"'[24]2018'!K19","v":0.01},{"$f":"'[24]2019'!K19","v":0},1,1,1,1,0.19999999999999998,0.19999999999999998,0,0,{"$f":"+SUM(BD162:BG162)/AU162","v":0.51},0.51,0.51,{"$f":"'[24]2016'!P20","v":100000},{"$f":"'[24]2016'!Q20","v":13917},{"$f":"'[24]2016'!R20","v":0},0.13916999999999999," -",{"$f":"'[24]2017'!P20","v":147440},{"$f":"'[24]2017'!Q20","v":143614},{"$f":"'[24]2017'!R20","v":0},0.97405046120455774," -",{"$f":"'[24]2018'!P20","v":34817},{"$f":"'[24]2018'!Q20","v":0},{"$f":"'[24]2018'!R20","v":0},0," -",{"$f":"'[24]2019'!P20","v":0},{"$f":"'[24]2019'!Q20","v":0},{"$f":"'[24]2019'!R20","v":0}," -"," -",282257,157531,0,0.55811193345072041," -","16. Paz, justicia e instituciones sólidas","Vivienda",{"$f":"'[1]LÍNEA 2'!AQ162","v":"INVISBU"}]
[null,null,null,null,null,null,null,null,null,null,null,null,null,null,null,null,null,null,null,null,null,null,null,null,null,null,null,null,null,null,null,null,null,null,null,null,null,null,null,null,null,null,"Diseñar y licenciar 1 proyecto de renovación urbana.",{"$f":"'[1]LÍNEA 2'!P163","v":5439002},"Porcentaje de avance en el diseño y el licenciamiento del proyecto de renovación urbana.",0,{"$f":"'[1]LÍNEA 2'!S163","v":1},{"$f":"'[1]LÍNEA 2'!T163","v":0},0,{"$f":"'[1]LÍNEA 2'!U163","v":0.1},0.1,{"$f":"'[1]LÍNEA 2'!V163","v":0.15},0.15,{"$f":"'[1]LÍNEA 2'!W163","v":0.75},0.75,{"$f":"'[24]2016'!K21","v":0},{"$f":"'[24]2017'!K21","v":0.08},{"$f":"'[24]2018'!K20","v":0},{"$f":"'[24]2019'!K20","v":0}," -"," -",0.79999999999999993,0.79999999999999993,0,0,0,0,{"$f":"+SUM(BD163:BG163)/AU163","v":0.08},0.08,0.08,{"$f":"'[24]2016'!P21","v":0},{"$f":"'[24]2016'!Q21","v":0},{"$f":"'[24]2016'!R21","v":0}," -"," -",{"$f":"'[24]2017'!P21","v":60000},{"$f":"'[24]2017'!Q21","v":24698},{"$f":"'[24]2017'!R21","v":0},0.41163333333333335," -",{"$f":"'[24]2018'!P21","v":7728800},{"$f":"'[24]2018'!Q21","v":2293207},{"$f":"'[24]2018'!R21","v":0},0.2967093209812649," -",{"$f":"'[24]2019'!P21","v":3250000},{"$f":"'[24]2019'!Q21","v":0},{"$f":"'[24]2019'!R21","v":0},0," -",11038800,2317905,0,0.20997798673768889," -","9. Industria, innovación e infraestructura","Vivienda",{"$f":"'[1]LÍNEA 2'!AQ163","v":"INVISBU"}]
[null,null,null,null,null,null,null,null,null,null,null,null,null,null,null,null,null,null,null,null,null,null,null,null,null,null,null,null,null,null,null,null,null,null,null,null,null,null,null,null,null,null,"Beneficiar 5.000 familias con proyectos de infraestructura social.",{"$f":"'[1]LÍNEA 2'!P164","v":5430101},"Número de familias beneficiadas con proyectos de infraestructura social.",0,{"$f":"'[1]LÍNEA 2'!S164","v":5000},{"$f":"'[1]LÍNEA 2'!T164","v":500},0.1,{"$f":"'[1]LÍNEA 2'!U164","v":1000},0.2,{"$f":"'[1]LÍNEA 2'!V164","v":1500},0.3,{"$f":"'[1]LÍNEA 2'!W164","v":2000},0.4,{"$f":"'[24]2016'!K22","v":960},{"$f":"'[24]2017'!K22","v":1334},{"$f":"'[24]2018'!K21","v":1754},{"$f":"'[24]2019'!K21","v":0},1.92,1,1.3340000000000001,1,1.1693333333333333,1,0,0,{"$f":"+SUM(BD164:BG164)/AU164","v":0.80959999999999999},0.80959999999999999,0.80959999999999999,{"$f":"'[24]2016'!P22","v":6152172},{"$f":"'[24]2016'!Q22","v":1271493},{"$f":"'[24]2016'!R22","v":0},0.20667383811765991," -",{"$f":"'[24]2017'!P22","v":2594024},{"$f":"'[24]2017'!Q22","v":2015488},{"$f":"'[24]2017'!R22","v":800000},0.7769735360968133,0.39692620348024893,{"$f":"'[24]2018'!P22","v":1676549},{"$f":"'[24]2018'!Q22","v":145519},{"$f":"'[24]2018'!R22","v":0},8.6796747366167049E-2," -",{"$f":"'[24]2019'!P22","v":2850000},{"$f":"'[24]2019'!Q22","v":0},{"$f":"'[24]2019'!R22","v":0},0," -",13272745,3432500,800000,0.2586126682912992,0.23306627822286963,"9. Industria, innovación e infraestructura","Vivienda",{"$f":"'[1]LÍNEA 2'!AQ164","v":"INVISBU"}]
[null,null,null,null,null,null,null,null,null,null,null,null,null,null,null,null,null,null,null,null,null,null,null,null,null,null,null,null,null,null,null,null,null,null,null,null,null,null,null,null,null,null,"Beneficiar 3.000 vivienda con el proyecto casa de colores.",{"$f":"'[1]LÍNEA 2'!P165","v":5430101},"Número de viviendas beneficiadas con el proyecto casa de colores.",0,{"$f":"'[1]LÍNEA 2'!S165","v":3000},{"$f":"'[1]LÍNEA 2'!T165","v":0},0,{"$f":"'[1]LÍNEA 2'!U165","v":500},0.16666666666666666,{"$f":"'[1]LÍNEA 2'!V165","v":500},0.16666666666666666,{"$f":"'[1]LÍNEA 2'!W165","v":2000},0.66666666666666663,{"$f":"'[24]2016'!K23","v":0},{"$f":"'[24]2017'!K23","v":491},{"$f":"'[24]2018'!K22","v":72},{"$f":"'[24]2019'!K22","v":0}," -"," -",0.98199999999999998,0.98199999999999998,0.14399999999999999,0.14399999999999999,0,0,{"$f":"+SUM(BD165:BG165)/AU165","v":0.18766666666666668},0.18766666666666668,0.18766666666666668,{"$f":"'[24]2016'!P23","v":493000},{"$f":"'[24]2016'!Q23","v":0},{"$f":"'[24]2016'!R23","v":0},0," -",{"$f":"'[24]2017'!P23","v":1132025},{"$f":"'[24]2017'!Q23","v":1131678},{"$f":"'[24]2017'!R23","v":0},0.99969346966718931," -",{"$f":"'[24]2018'!P23","v":13839633},{"$f":"'[24]2018'!Q23","v":4728469},{"$f":"'[24]2018'!R23","v":0},0.34166144434610368," -",{"$f":"'[24]2019'!P23","v":14351000},{"$f":"'[24]2019'!Q23","v":0},{"$f":"'[24]2019'!R23","v":0},0," -",29815658,5860147,0,0.19654595581958983," -","1. Fin de la pobreza","Vivienda",{"$f":"'[1]LÍNEA 2'!AQ165","v":"INVISBU"}]
[null,null,null,null,null,null,null,null,null,null,null,null,null,null,null,null,null,null,null,null,null,null,null,null,null,null,null,null,null,null,null,null,null,null,null,null,null,null,null,null,null,null,null,null,null,null,null,null,{"$f":"+AVERAGE(AW152:AW165)","v":0.12526582061395988},null,{"$f":"+AVERAGE(AY152:AY165)","v":0.25509346595781168},null,0.171269936546047,null,0.44837077688218152,null,null,null,null,null,{"$f":"+AVERAGE(BI152:BI165)","v":0.9},null,0.79157142857142859,null,0.57054545454545458,null,0,null,{"$f":"+AVERAGE(BQ152:BQ165)","v":0.54081496598639445}]
[]
[]
[]
[null,null,null,null,null,null,null,null,null,null,null,null,null,null,null,null,null,null,null,null,null,null,null,null,null,null,null,null,null,null,null,null,null,null,null,null,null,null,null,null,null,null,null,null,null,null,null,null,null,null,null,null,null,null,null,2016,2017,2018,2019,"CA"]
[null,null,null,null,null,null,null,null,null,null,null,null,null,null,null,null,null,null,null,null,null,null,null,null,null,null,null,null,null,null,null,null,null,null,null,null,null,null,null,null,null,null,null,null,null,null,null,null,null,null,null,"Desarrollo Social",null,null,null,{"$f":"+AVERAGE(BI11:BI28,BI31:BI32,BI34:BI42,BI55,BI62:BI63,BI68:BI77,BI82:BI89,BI91:BI93,BI106:BI125,BI129:BI135,BI138:BI149,BI161)","v":0.73953057513914655},{"$f":"+AVERAGE(BK11:BK28,BK31:BK32,BK34:BK42,BK55,BK62:BK63,BK68:BK77,BK82:BK89,BK91:BK93,BK106:BK125,BK129:BK135,BK138:BK149,BK161)","v":0.78939272913466452},{"$f":"+AVERAGE(BM11:BM28,BM31:BM32,BM34:BM42,BM55,BM62:BM63,BM68:BM77,BM82:BM89,BM91:BM93,BM106:BM125,BM129:BM135,BM138:BM149,BM161)","v":0.66354655138868612},{"$f":"+AVERAGE(BO11:BO28,BO31:BO32,BO34:BO42,BO55,BO62:BO63,BO68:BO77,BO82:BO89,BO91:BO93,BO106:BO125,BO129:BO135,BO138:BO149,BO161)","v":0},{"$f":"+AVERAGE(BQ11:BQ28,BQ31:BQ32,BQ34:BQ42,BQ55,BQ62:BQ63,BQ68:BQ77,BQ82:BQ89,BQ91:BQ93,BQ106:BQ125,BQ129:BQ135,BQ138:BQ149,BQ161)","v":0.58090033382528616}]
[null,null,null,null,null,null,null,null,null,null,null,null,null,null,null,null,null,null,null,null,null,null,null,null,null,null,null,null,null,null,null,null,null,null,null,null,null,null,null,null,null,null,null,null,null,null,null,null,null,null,null,"Educación",null,null,null,{"$f":"+AVERAGE(BI98,BI150)","v":{"$error":"#DIV/0!"}},{"$f":"+AVERAGE(BK98,BK150)","v":0.5},{"$f":"+AVERAGE(BM98,BM150)","v":0.25},{"$f":"+AVERAGE(BO98,BO150)","v":0},{"$f":"+AVERAGE(BQ98,BQ150)","v":0.25}]
[null,null,null,null,null,null,null,null,null,null,null,null,null,null,null,null,null,null,null,null,null,null,null,null,null,null,null,null,null,null,null,null,null,null,null,null,null,null,null,null,null,null,null,null,null,null,null,null,null,null,null,"IMEBU",null,null,null," -",{"$f":"+AVERAGE(BK58,BK61)","v":1},{"$f":"+AVERAGE(BM58,BM61)","v":1},{"$f":"+AVERAGE(BO58,BO61)","v":0},{"$f":"+AVERAGE(BQ58,BQ61)","v":0.40476190476190477}]
[null,null,null,null,null,null,null,null,null,null,null,null,null,null,null,null,null,null,null,null,null,null,null,null,null,null,null,null,null,null,null,null,null,null,null,null,null,null,null,null,null,null,null,null,null,null,null,null,null,null,null,"INDERBU",null,null,null,{"$f":"+AVERAGE(BI30,BI57,BI66,BI99:BI104)","v":0.88549999999999995},{"$f":"+AVERAGE(BK30,BK57,BK66,BK99:BK104)","v":0.83333333333333337},{"$f":"+AVERAGE(BM30,BM57,BM66,BM99:BM104)","v":0.37790740740740736},{"$f":"+AVERAGE(BO30,BO57,BO66,BO99:BO104)","v":0},{"$f":"+AVERAGE(BQ30,BQ57,BQ66,BQ99:BQ104)","v":0.5359370370370371}]
[null,null,null,null,null,null,null,null,null,null,null,null,null,null,null,null,null,null,null,null,null,null,null,null,null,null,null,null,null,null,null,null,null,null,null,null,null,null,null,null,null,null,null,null,null,null,null,null,null,null,null,"Infraestructura",null,null,null,{"$f":"+BI127","v":" -"},{"$f":"+BK127","v":1},{"$f":"+BM127","v":0},{"$f":"+BO127","v":0},{"$f":"+BQ127","v":0.33333333333333331}]
[null,null,null,null,null,null,null,null,null,null,null,null,null,null,null,null,null,null,null,null,null,null,null,null,null,null,null,null,null,null,null,null,null,null,null,null,null,null,null,null,null,null,null,null,null,null,null,null,null,null,null,"Interior",null,null,null,{"$f":"+AVERAGE(BI43:BI54,BI59:BI60,BI64:BI65,BI90,BI94:BI97,BI105,BI136:BI137)","v":0.7678571428571429},{"$f":"+AVERAGE(BK43:BK54,BK59:BK60,BK64:BK65,BK90,BK94:BK97,BK105,BK136:BK137)","v":0.86944444444444446},{"$f":"+AVERAGE(BM43:BM54,BM59:BM60,BM64:BM65,BM90,BM94:BM97,BM105,BM136:BM137)","v":0.72272727272727277},{"$f":"+AVERAGE(BO43:BO54,BO59:BO60,BO64:BO65,BO90,BO94:BO97,BO105,BO136:BO137)","v":0},{"$f":"+AVERAGE(BQ43:BQ54,BQ59:BQ60,BQ64:BQ65,BQ90,BQ94:BQ97,BQ105,BQ136:BQ137)","v":0.58365575396825398}]
[null,null,null,null,null,null,null,null,null,null,null,null,null,null,null,null,null,null,null,null,null,null,null,null,null,null,null,null,null,null,null,null,null,null,null,null,null,null,null,null,null,null,null,null,null,null,null,null,null,null,null,"INVISBU",null,null,null,{"$f":"+AVERAGE(BI152:BI156,BI158:BI160,BI162:BI165)","v":1},{"$f":"+AVERAGE(BK152:BK156,BK158:BK160,BK162:BK165)","v":0.91516666666666657},{"$f":"+AVERAGE(BM152:BM156,BM158:BM160,BM162:BM165)","v":0.58465454545454554},{"$f":"+AVERAGE(BO152:BO156,BO158:BO160,BO162:BO165)","v":0},{"$f":"+AVERAGE(BQ152:BQ156,BQ158:BQ160,BQ162:BQ165)","v":0.59910555555555556}]
[null,null,null,null,null,null,null,null,null,null,null,null,null,null,null,null,null,null,null,null,null,null,null,null,null,null,null,null,null,null,null,null,null,null,null,null,null,null,null,null,null,null,null,null,null,null,null,null,null,null,null,"Planeación",null,null,null,{"$f":"+BI157","v":0},{"$f":"+BK157","v":0.1},{"$f":"+BM157","v":0},{"$f":"+BO157","v":0},{"$f":"+BQ157","v":2.5000000000000001E-2}]
[null,null,null,null,null,null,null,null,null,null,null,null,null,null,null,null,null,null,null,null,null,null,null,null,null,null,null,null,null,null,null,null,null,null,null,null,null,null,null,null,null,null,null,null,null,null,null,null,null,null,null,"Salud y Ambiente",null,null,null,{"$f":"+AVERAGE(BI29,BI33,BI56,BI78:BI81,BI126)","v":0.78333333333333333},{"$f":"+AVERAGE(BK29,BK33,BK56,BK78:BK81,BK126)","v":1},{"$f":"+AVERAGE(BM29,BM33,BM56,BM78:BM81,BM126)","v":0.87142857142857133},{"$f":"+AVERAGE(BO29,BO33,BO56,BO78:BO81,BO126)","v":0},{"$f":"+AVERAGE(BQ29,BQ33,BQ56,BQ78:BQ81,BQ126)","v":0.72083333333333333}]

{"sheet":"LÍNEA 3","index":3,"n_rows":83,"n_cols":98,"rows_kept":83,"cut":false,"hidden":false,"merged":[[65,31,69,31],[65,32,69,32],[65,33,69,33],[65,34,69,34],[65,35,69,35],[65,36,69,36],[65,37,69,37],[65,38,69,38],[65,39,69,39],[65,22,69,22],[65,23,69,23],[65,24,69,24],[65,25,69,25],[65,26,69,26],[65,27,69,27],[65,28,69,28],[65,29,69,29],[65,30,69,30],[48,37,57,37],[48,38,57,38],[48,39,57,39],[59,25,64,25],[59,26,64,26],[59,27,64,27],[59,28,64,28],[59,29,64,29],[59,30,64,30],[59,31,64,31],[59,32,64,32],[59,33,64,33],[59,34,64,34],[59,35,64,35],[59,36,64,36],[59,37,64,37],[59,38,64,38],[59,39,64,39],[48,25,57,25],[48,26,57,26],[48,27,57,27],[48,31,57,31],[48,32,57,32],[48,33,57,33],[38,31,47,31],[38,32,47,32],[38,33,47,33],[48,34,57,34],[48,35,57,35],[48,36,57,36],[38,34,47,34],[38,35,47,35],[38,36,47,36],[38,37,47,37],[38,38,47,38],[38,39,47,39],[28,39,36,39],[18,22,27,22],[18,23,27,23],[18,24,27,24],[18,25,27,25],[18,26,27,26],[18,27,27,27],[18,28,27,28],[18,29,27,29],[18,30,27,30],[18,31,27,31],[18,32,27,32],[18,33,27,33],[18,34,27,34],[18,35,27,35],[18,36,27,36],[18,37,27,37],[18,38,27,38],[28,31,36,31],[28,32,36,32],[28,33,36,33],[10,25,13,25],[10,26,13,26],[10,27,13,27],[10,28,13,28],[10,29,13,29],[10,30,13,30],[14,25,16,25],[14,26,16,26],[14,27,16,27],[14,28,16,28],[14,29,16,29],[14,30,16,30],[10,38,13,38],[28,34,36,34],[28,35,36,35],[28,36,36,36],[28,37,36,37],[28,38,36,38],[10,39,13,39],[14,38,16,38],[14,39,16,39],[18,39,27,39],[10,34,13,34],[10,35,13,35],[10,36,13,36],[10,37,13,37],[14,31,16,31],[14,32,16,32],[14,33,16,33],[14,34,16,34],[14,35,16,35],[14,36,16,36],[14,37,16,37],[10,31,13,31],[10,32,13,32],[10,33,13,33],[48,21,57,21],[38,21,47,21],[28,21,36,21],[14,21,16,21],[28,26,36,26],[28,27,36,27],[28,28,36,28],[28,29,36,29],[28,30,36,30],[38,25,47,25],[38,26,47,26],[38,27,47,27],[38,28,47,28],[38,29,47,29],[38,30,47,30],[48,22,57,22],[48,23,57,23],[48,24,57,24],[28,25,36,25],[48,28,57,28],[48,29,57,29],[48,30,57,30],[10,21,13,21],[10,22,13,22],[10,23,13,23],[10,24,13,24],[28,22,36,22],[28,23,36,23],[28,24,36,24],[38,22,47,22],[38,23,47,23],[38,24,47,24],[14,22,16,22],[14,23,16,23],[14,24,16,24],[18,21,27,21],[7,95,9,95],[9,27,9,28],[9,29,9,30],[9,31,9,32],[9,33,9,34],[9,35,9,36],[9,37,9,39],[8,90,8,94],[9,47,9,48],[9,49,9,50],[9,51,9,52],[9,53,9,54],[7,44,8,54],[7,55,8,58],[7,59,8,69],[9,59,9,60],[9,61,9,62],[9,63,9,64],[9,65,9,66],[9,67,9,69],[8,75,8,79],[8,80,8,84],[8,85,8,89],[7,21,8,28],[9,9,9,11],[7,7,9,8],[38,17,47,17],[38,19,47,19],[38,20,47,20],[48,8,57,8],[48,10,57,10],[48,11,57,11],[48,13,57,13],[48,14,57,14],[48,16,57,16],[48,17,57,17],[48,19,57,19],[48,20,57,20],[28,19,36,19],[28,20,36,20],[28,16,36,16],[28,17,36,17],[28,13,36,13],[28,14,36,14],[28,10,36,10],[28,11,36,11],[10,19,13,19],[10,20,13,20],[14,19,16,19],[14,20,16,20],[14,16,16,16],[14,17,16,17],[28,8,36,8],[14,13,16,13],[14,14,16,14],[14,10,16,10],[14,11,16,11],[14,8,16,8],[18,8,27,8],[18,10,27,10],[18,11,27,11],[18,13,27,13],[18,14,27,14],[18,19,27,19],[18,20,27,20],[38,40,52,40],[65,13,69,13],[65,14,69,14],[10,1,70,1],[10,2,70,2],[59,5,64,5],[65,5,69,5],[59,6,64,6],[59,7,64,7],[38,4,57,4],[38,3,57,3],[18,4,36,4],[18,3,36,3],[65,6,69,6],[65,7,69,7],[65,10,69,10],[65,11,69,11],[59,10,64,10],[59,11,64,11],[59,13,64,13],[59,14,64,14],[59,8,64,8],[65,8,69,8],[38,14,47,14],[59,41,60,41],[59,3,69,3],[59,4,69,4],[59,9,64,9],[59,12,64,12],[59,15,64,15],[59,18,64,18],[65,9,69,9],[65,12,69,12],[65,15,69,15],[65,18,69,18],[59,19,64,19],[59,20,64,20],[65,19,69,19],[65,20,69,20],[59,16,64,16],[59,17,64,17],[65,16,69,16],[65,17,69,17],[65,21,69,21],[59,21,64,21],[59,22,64,22],[59,23,64,23],[59,24,64,24],[48,5,57,5],[38,5,47,5],[38,6,47,6],[38,7,47,7],[38,9,47,9],[38,12,47,12],[38,15,47,15],[38,18,47,18],[48,6,57,6],[48,7,57,7],[48,9,57,9],[48,12,57,12],[48,15,57,15],[48,18,57,18],[38,8,47,8],[38,10,47,10],[38,11,47,11],[38,13,47,13],[38,16,47,16],[28,5,36,5],[18,6,27,6],[18,7,27,7],[18,9,27,9],[18,12,27,12],[18,15,27,15],[18,18,27,18],[28,6,36,6],[28,7,36,7],[28,9,36,9],[28,12,36,12],[28,15,36,15],[28,18,36,18],[18,16,27,16],[18,17,27,17],[18,5,27,5],[10,18,13,18],[14,6,16,6],[14,7,16,7],[14,9,16,9],[14,12,16,12],[14,15,16,15],[14,18,16,18],[10,8,13,8],[10,10,13,10],[10,11,13,11],[10,13,13,13],[10,14,13,14],[10,16,13,16],[10,17,13,17],[10,4,16,4],[10,3,16,3],[10,5,13,5],[14,5,16,5],[10,6,13,6],[10,7,13,7],[10,9,13,9],[10,12,13,12],[10,15,13,15],[10,40,12,40],[82,51,82,54],[81,51,81,54],[80,51,80,54],[79,51,79,54],[78,51,78,54],[77,51,77,54],[76,51,76,54],[75,51,75,54],[13,40,16,40],[13,41,16,41],[10,41,12,41],[18,40,27,40],[28,40,33,40],[34,40,36,40],[34,41,36,41],[28,41,33,41],[18,41,27,41],[54,40,57,40],[54,41,57,41],[38,41,52,41],[61,40,69,40],[61,41,69,41],[59,40,60,40],[2,1,2,97],[3,1,3,97],[4,1,4,97],[7,1,9,1],[7,2,9,2],[7,3,9,3],[7,4,9,4],[7,5,9,5],[7,6,9,6],[7,40,9,40],[7,41,9,41],[7,42,9,42],[7,43,9,43],[7,70,7,94],[7,96,9,96],[8,70,8,74],[7,29,8,39],[9,21,9,22],[9,23,9,24],[9,25,9,26],[7,9,8,20],[9,18,9,20],[9,15,9,17],[9,12,9,14]]}
[]
[]
[null,"ALCALDÍA DE BUCARAMANGA"]
[null,"PLAN DE DESARROLLO 2016 - 2019 \"GOBIERNO DE LAS CIUDADANAS Y LOS CIUDADANOS\""]
[null,"LÍNEA ESTRATÉGICA 3: SOSTENIBILIDAD AMBIENTAL"]
[]
[]
[null,"POND","LÍNEA ESTRATÉGICA","POND","COMPONENTE","META DE RESULTADO","LÍNEA BASE","RESULTADO CUATRIENIO",null,"LOGROS POR VIGENCIA",null,null,null,null,null,null,null,null,null,null,null,"LOGRO POR VIGENCIA",null,null,null,null,null,null,null,"PORCENTAJE DE CUMPLIMIENTO",null,null,null,null,null,null,null,null,null,null,"POND","PROGRAMA","META DE PRODUCTO","RUBRO PPTAL","INDICADOR DE PRODUCTO",null,null,null,null,null,null,null,null,null,null,"LOGRO POR VIGENCIA",null,null,null,"PORCENTAJE DE CUMPLIMIENTO",null,null,null,null,null,null,null,null,null,null,"RECURSOS POR FUENTE DE FINANCIACIÓN PARA CADA VIGENCIA (Cifras en Miles de Pesos)",null,null,null,null,null,null,null,null,null,null,null,null,null,null,null,null,null,null,null,null,null,null,null,null,"ODS","SECTOR"]
[null,null,null,null,null,null,null,null,null,null,null,null,null,null,null,null,null,null,null,null,null,null,null,null,null,null,null,null,null,null,null,null,null,null,null,null,null,null,null,null,null,null,null,null,null,null,null,null,null,null,null,null,null,null,null,null,null,null,null,null,null,null,null,null,null,null,null,null,null,null,2016,null,null,null,null,2017,null,null,null,null,2018,null,null,null,null,2019,null,null,null,null,"2016 - 2019"]
[null,null,null,null,null,null,null,null,null,2016,null,null,2017,null,null,2018,null,null,2019,null,null,2016,null,2017,null,2018,null,2019,null,2016,null,2017,null,2018,null,2019,null,"2016 - 2019",null,null,null,null,null,null,"NOMBRE INDICADOR","LÍNEA BASE","ESPERADO CUATRIENIO",2016,null,2017,null,2018,null,2019,null,2016,2017,2018,2019,2016,null,2017,null,2018,null,2019,null,"2016 - 2019",null,null,"RECURSOS PROGRAMADOS","RECURSOS EJECUTADOS","RECURSOS GESTIONADOS","PORCENTAJE EJECUCIÓN","NIVEL DE GESTIÓN","RECURSOS PROGRAMADOS","RECURSOS EJECUTADOS","RECURSOS GESTIONADOS","PORCENTAJE EJECUCIÓN","NIVEL DE GESTIÓN","RECURSOS PROGRAMADOS","RECURSOS EJECUTADOS","RECURSOS GESTIONADOS","PORCENTAJE EJECUCIÓN","NIVEL DE GESTIÓN","RECURSOS PROGRAMADOS","RECURSOS EJECUTADOS","RECURSOS GESTIONADOS","PORCENTAJE EJECUCIÓN","NIVEL DE GESTIÓN","RECURSOS PROGRAMADOS","RECURSOS EJECUTADOS","RECURSOS GESTIONADOS","PORCENTAJE EJECUCIÓN","NIVEL DE GESTIÓN",null,null,"RESPONSABLE"]
[null,{"$f":"+RESUMEN!J65","v":0.51385916588031766},"3 - SOSTENIBILIDAD AMBIENTAL",{"$f":"+RESUMEN!J66","v":0.28472222222222221},"ESPACIOS VERDES PARA LA DEMOCRACIA","Preservar 85 hectáreas en cuencas abastecedoras de agua.",0,85,85,20,20,null,40,{"$f":"+M11-J11","v":20},null,65,{"$f":"+P11-M11","v":25},null,85,{"$f":"+S11-P11","v":20},null,0,{"$f":"+IF(V11=0,0,V11-G11)","v":0},null,{"$f":"+IF(X11=0,0,X11-V11)","v":0},null,{"$f":"+IF(Z11=0,0,Z11-X11)","v":0},null,{"$f":"+IF(AB11=0,0,AB11-Z11)","v":0},{"$f":"+IF(K11=0,\" -\",W11/K11)","v":0},{"$f":"+IF(K11=0,\" -\",IF(AD11>100%,100%,AD11))","v":0},{"$f":"+IF(N11=0,\" -\",Y11/N11)","v":0},{"$f":"+IF(N11=0,\" -\",IF(AF11>100%,100%,AF11))","v":0},{"$f":"+IF(Q11=0,\" -\",AA11/Q11)","v":0},{"$f":"+IF(Q11=0,\" -\",IF(AH11>100%,100%,AH11))","v":0},{"$f":"+IF(T11=0,\" -\",AC11/T11)","v":0},{"$f":"+IF(T11=0,\" -\",IF(AJ11>100%,100%,AJ11))","v":0},{"$f":"+SUM(AC11,AA11,Y11,W11)/I11","v":0},{"$f":"+IF(AL11>100%,100%,IF(AL11<0%,0%,AL11))","v":0},null,{"$f":"+RESUMEN!J67","v":0.31944444444444442},"ECOSISTEMAS PARA LA VIDA","Destinar el 1% de los ingresos de libre destinación para la compra, preservación y mantenimiento de las cuencas y microcuencas abastecedoras de agua al municipio.",{"$f":"'[1]LÍNEA 3'!P11","v":2210204},"Porcentaje de los ingresos de libre destinación destinados para la compra, preservación y mantenimiento de las cuencas y microcuencas abastecedoras de agua al municipio.",0,{"$f":"'[1]LÍNEA 3'!S11","v":0.01},{"$f":"'[1]LÍNEA 3'!T11","v":0.01},0.25,{"$f":"'[1]LÍNEA 3'!U11","v":0.01},0.25,{"$f":"'[1]LÍNEA 3'!V11","v":0.01},0.25,{"$f":"'[1]LÍNEA 3'!W11","v":0.01},0.25,{"$f":"'[17]2016'!K24","v":5.0000000000000001E-3},{"$f":"'[17]2017'!K24","v":0.01},{"$f":"'[17]2018'!K24","v":0.01},{"$f":"'[17]2019'!K24","v":0},{"$f":"IF(AV11=0,\" -\",BD11/AV11)","v":0.5},{"$f":"IF(AV11=0,\" -\",IF(BH11>100%,100%,BH11))","v":0.5},{"$f":"IF(AX11=0,\" -\",BE11/AX11)","v":1},{"$f":"IF(AX11=0,\" -\",IF(BJ11>100%,100%,BJ11))","v":1},{"$f":"IF(AZ11=0,\" -\",BF11/AZ11)","v":1},{"$f":"IF(AZ11=0,\" -\",IF(BL11>100%,100%,BL11))","v":1},{"$f":"IF(BB11=0,\" -\",BG11/BB11)","v":0},{"$f":"IF(BB11=0,\" -\",IF(BN11>100%,100%,BN11))","v":0},{"$f":"+AVERAGE(BD11:BG11)/AU11","v":0.625},{"$f":"+IF(BP11>100%,100%,BP11)","v":0.625},{"$f":"+BQ11","v":0.625},{"$f":"'[17]2016'!P24","v":2880204},{"$f":"'[17]2016'!Q24","v":9480},{"$f":"'[17]2016'!R24","v":0},{"$f":"IF(BS11=0,\" -\",BT11/BS11)","v":3.2914335234587549E-3},{"$f":"IF(BU11=0,\" -\",IF(BT11=0,100%,BU11/BT11))","v":" -"},{"$f":"'[17]2017'!P24","v":6148726},{"$f":"'[17]2017'!Q24","v":0},{"$f":"'[17]2017'!R24","v":0},{"$f":"IF(BX11=0,\" -\",BY11/BX11)","v":0},{"$f":"IF(BZ11=0,\" -\",IF(BY11=0,100%,BZ11/BY11))","v":" -"},{"$f":"'[17]2018'!P24","v":3500010},{"$f":"'[17]2018'!Q24","v":21600},{"$f":"'[17]2018'!R24","v":0},{"$f":"IF(CC11=0,\" -\",CD11/CC11)","v":6.171410938825889E-3},{"$f":"IF(CE11=0,\" -\",IF(CD11=0,100%,CE11/CD11))","v":" -"},{"$f":"'[17]2019'!P24","v":2708167},{"$f":"'[17]2019'!Q24","v":0},{"$f":"'[17]2019'!R24","v":0},{"$f":"IF(CH11=0,\" -\",CI11/CH11)","v":0},{"$f":"IF(CJ11=0,\" -\",IF(CI11=0,100%,CJ11/CI11))","v":" -"},{"$f":"+BS11+BX11+CC11+CH11","v":15237107},31080,0,{"$f":"IF(CM11=0,\" -\",CN11/CM11)","v":2.0397572846341501E-3},{"$f":"IF(CO11=0,\" -\",IF(CN11=0,100%,CO11/CN11))","v":" -"},"6. Agua limpia y saneamiento","Ambiental",{"$f":"'[1]LÍNEA 3'!AQ11","v":"Sec. Salud y Ambiente"}]
[null,null,null,null,null,null,null,null,null,null,null,null,null,null,null,null,null,null,null,null,null,null,null,null,null,null,null,null,null,null,null,null,null,null,null,null,null,null,null,null,null,null,"Reforestar y/o mantener 45 hectáreas para la preservación de cuencas abastecedoras de agua.",{"$f":"'[1]LÍNEA 3'!P12","v":2210117},"Número de hectáreas reforestadas y/o mantenidas para la preservación de cuencas abastecedoras de agua.",45,{"$f":"'[1]LÍNEA 3'!S12","v":45},{"$f":"'[1]LÍNEA 3'!T12","v":0},{"$f":"+AV12/AU12","v":0},{"$f":"'[1]LÍNEA 3'!U12","v":15},{"$f":"+AX12/AU12","v":0.33333333333333331},{"$f":"'[1]LÍNEA 3'!V12","v":0},{"$f":"+AZ12/AU12","v":0},{"$f":"'[1]LÍNEA 3'!W12","v":30},{"$f":"+BB12/AU12","v":0.66666666666666663},{"$f":"'[17]2016'!K25","v":0},{"$f":"'[17]2017'!K25","v":15},{"$f":"'[17]2018'!K25","v":0},{"$f":"'[17]2019'!K25","v":0},{"$f":"IF(AV12=0,\" -\",BD12/AV12)","v":" -"},{"$f":"IF(AV12=0,\" -\",IF(BH12>100%,100%,BH12))","v":" -"},{"$f":"IF(AX12=0,\" -\",BE12/AX12)","v":1},{"$f":"IF(AX12=0,\" -\",IF(BJ12>100%,100%,BJ12))","v":1},{"$f":"IF(AZ12=0,\" -\",BF12/AZ12)","v":" -"},{"$f":"IF(AZ12=0,\" -\",IF(BL12>100%,100%,BL12))","v":" -"},{"$f":"IF(BB12=0,\" -\",BG12/BB12)","v":0},{"$f":"IF(BB12=0,\" -\",IF(BN12>100%,100%,BN12))","v":0},{"$f":"+SUM(BD12:BG12)/AU12","v":0.33333333333333331},{"$f":"+IF(BP12>100%,100%,BP12)","v":0.33333333333333331},{"$f":"+BQ12","v":0.33333333333333331},{"$f":"'[17]2016'!P25","v":0},{"$f":"'[17]2016'!Q25","v":0},{"$f":"'[17]2016'!R25","v":0},{"$f":"IF(BS12=0,\" -\",BT12/BS12)","v":" -"},{"$f":"IF(BU12=0,\" -\",IF(BT12=0,100%,BU12/BT12))","v":" -"},{"$f":"'[17]2017'!P25","v":88536},{"$f":"'[17]2017'!Q25","v":76895},{"$f":"'[17]2017'!R25","v":0},{"$f":"IF(BX12=0,\" -\",BY12/BX12)","v":0.86851676154332702},{"$f":"IF(BZ12=0,\" -\",IF(BY12=0,100%,BZ12/BY12))","v":" -"},{"$f":"'[17]2018'!P25","v":0},{"$f":"'[17]2018'!Q25","v":0},{"$f":"'[17]2018'!R25","v":0},{"$f":"IF(CC12=0,\" -\",CD12/CC12)","v":" -"},{"$f":"IF(CE12=0,\" -\",IF(CD12=0,100%,CE12/CD12))","v":" -"},{"$f":"'[17]2019'!P25","v":60000},{"$f":"'[17]2019'!Q25","v":0},{"$f":"'[17]2019'!R25","v":0},{"$f":"IF(CH12=0,\" -\",CI12/CH12)","v":0},{"$f":"IF(CJ12=0,\" -\",IF(CI12=0,100%,CJ12/CI12))","v":" -"},148536,76895,0,{"$f":"IF(CM12=0,\" -\",CN12/CM12)","v":0.5176859481876448},{"$f":"IF(CO12=0,\" -\",IF(CN12=0,100%,CO12/CN12))","v":" -"},"6. Agua limpia y saneamiento","Ambiental",{"$f":"'[1]LÍNEA 3'!AQ12","v":"Sec. Salud y Ambiente"}]
[null,null,null,null,null,null,null,null,null,null,null,null,null,null,null,null,null,null,null,null,null,null,null,null,null,null,null,null,null,null,null,null,null,null,null,null,null,null,null,null,null,null,"Realizar la caracterización biótica (flora y fauna) en un tramo de una microcuenca.",{"$f":"'[1]LÍNEA 3'!P13","v":" -"},"Número de caracterizaciones bióticas (flora y fauna) realizadas en un tramo de una microcuenca.",0,{"$f":"'[1]LÍNEA 3'!S13","v":1},{"$f":"'[1]LÍNEA 3'!T13","v":0},{"$f":"+AV13/AU13","v":0},{"$f":"'[1]LÍNEA 3'!U13","v":0},{"$f":"+AX13/AU13","v":0},{"$f":"'[1]LÍNEA 3'!V13","v":0},{"$f":"+AZ13/AU13","v":0},{"$f":"'[1]LÍNEA 3'!W13","v":1},{"$f":"+BB13/AU13","v":1},{"$f":"'[17]2016'!K26","v":0},{"$f":"'[17]2017'!K26","v":0},{"$f":"'[17]2018'!K26","v":0},{"$f":"'[17]2019'!K26","v":0}," -"," -"," -"," -"," -"," -",0,0,0,0,0,{"$f":"'[17]2016'!P26","v":0},{"$f":"'[17]2016'!Q26","v":0},{"$f":"'[17]2016'!R26","v":0},{"$f":"IF(BS13=0,\" -\",BT13/BS13)","v":" -"},{"$f":"IF(BU13=0,\" -\",IF(BT13=0,100%,BU13/BT13))","v":" -"},{"$f":"'[17]2017'!P26","v":0},{"$f":"'[17]2017'!Q26","v":0},{"$f":"'[17]2017'!R26","v":0},{"$f":"IF(BX13=0,\" -\",BY13/BX13)","v":" -"},{"$f":"IF(BZ13=0,\" -\",IF(BY13=0,100%,BZ13/BY13))","v":" -"},{"$f":"'[17]2018'!P26","v":0},{"$f":"'[17]2018'!Q26","v":0},{"$f":"'[17]2018'!R26","v":0},{"$f":"IF(CC13=0,\" -\",CD13/CC13)","v":" -"},{"$f":"IF(CE13=0,\" -\",IF(CD13=0,100%,CE13/CD13))","v":" -"},{"$f":"'[17]2019'!P26","v":0},{"$f":"'[17]2019'!Q26","v":0},{"$f":"'[17]2019'!R26","v":0},{"$f":"IF(CH13=0,\" -\",CI13/CH13)","v":" -"},{"$f":"IF(CJ13=0,\" -\",IF(CI13=0,100%,CJ13/CI13))","v":" -"},{"$f":"+BS13+BX13+CC13+CH13","v":0},{"$f":"+BT13+BY13+CD13+CI13","v":0},{"$f":"+BU13+BZ13+CE13+CJ13","v":0},{"$f":"IF(CM13=0,\" -\",CN13/CM13)","v":" -"},{"$f":"IF(CO13=0,\" -\",IF(CN13=0,100%,CO13/CN13))","v":" -"},"15. Vida de ecosistemas terrestres","Ambiental",{"$f":"'[1]LÍNEA 3'!AQ13","v":"Sec. Salud y Ambiente"}]
[null,null,null,null,null,null,null,null,null,null,null,null,null,null,null,null,null,null,null,null,null,null,null,null,null,null,null,null,null,null,null,null,null,null,null,null,null,null,null,null,{"$f":"+RESUMEN!J68","v":0.25},"SENDEROS PARA LA VIDA","Diseñar 1 subsectores del gran bosque de los cerros orientales de escala metropolitana.",{"$f":"'[1]LÍNEA 3'!P14","v":2210270},"Número de subsectores del gran bosque de los cerros orientales de escala metropolitana diseñados.",0,{"$f":"'[1]LÍNEA 3'!S14","v":1},{"$f":"'[1]LÍNEA 3'!T14","v":0},0,{"$f":"'[1]LÍNEA 3'!U14","v":1},1,{"$f":"'[1]LÍNEA 3'!V14","v":0},0,{"$f":"'[1]LÍNEA 3'!W14","v":0},0,{"$f":"'[6]2016'!$K$51","v":0},{"$f":"'[7]2017'!K25","v":1},{"$f":"'[7]2018'!K25","v":0},{"$f":"'[7]2019'!K25","v":0}," -"," -",1,1," -"," -"," -"," -",1,1,1,{"$f":"'[6]2016'!P51","v":0},{"$f":"'[6]2016'!Q51","v":0},{"$f":"'[6]2016'!R51","v":0}," -"," -",{"$f":"'[7]2017'!P25","v":791776},{"$f":"'[7]2017'!Q25","v":791776},{"$f":"'[7]2017'!R25","v":0},1," -",{"$f":"'[7]2018'!P25","v":0},{"$f":"'[7]2018'!Q25","v":0},{"$f":"'[7]2018'!R25","v":0}," -"," -",{"$f":"'[7]2019'!P25","v":0},{"$f":"'[7]2019'!Q25","v":0},{"$f":"'[7]2019'!R25","v":0}," -"," -",791776,791776,0,1," -","15. Vida de ecosistemas terrestres","Equipamiento",{"$f":"'[1]LÍNEA 3'!AQ14","v":"Sec. Infraestructura"}]
[null,null,null,null,null,"Aumentar a 144 las hectáreas de espacio público verde en Bucaramanga.",131,144,{"$f":"+H15-G15","v":13},131,{"$f":"+J15-G15","v":0},null,135,{"$f":"+M15-J15","v":4},null,140,{"$f":"+P15-M15","v":5},null,144,{"$f":"+S15-P15","v":4},null,131,{"$f":"+IF(V15=0,0,V15-G15)","v":0},null,{"$f":"+IF(X15=0,0,X15-V15)","v":0},null,{"$f":"+IF(Z15=0,0,Z15-X15)","v":0},null,{"$f":"+IF(AB15=0,0,AB15-Z15)","v":0},{"$f":"+IF(K15=0,\" -\",W15/K15)","v":" -"},{"$f":"+IF(K15=0,\" -\",IF(AD15>100%,100%,AD15))","v":" -"},{"$f":"+IF(N15=0,\" -\",Y15/N15)","v":0},{"$f":"+IF(N15=0,\" -\",IF(AF15>100%,100%,AF15))","v":0},{"$f":"+IF(Q15=0,\" -\",AA15/Q15)","v":0},{"$f":"+IF(Q15=0,\" -\",IF(AH15>100%,100%,AH15))","v":0},{"$f":"+IF(T15=0,\" -\",AC15/T15)","v":0},{"$f":"+IF(T15=0,\" -\",IF(AJ15>100%,100%,AJ15))","v":0},{"$f":"+SUM(AC15,AA15,Y15,W15)/I15","v":0},{"$f":"+IF(AL15>100%,100%,IF(AL15<0%,0%,AL15))","v":0},null,null,null,"Diseñar 1 subsector de la zona occidental.",{"$f":"'[1]LÍNEA 3'!P15","v":2210270},"Número de subsectores de la zona occidental diseñados.",0,{"$f":"'[1]LÍNEA 3'!S15","v":1},{"$f":"'[1]LÍNEA 3'!T15","v":0},0,{"$f":"'[1]LÍNEA 3'!U15","v":1},1,{"$f":"'[1]LÍNEA 3'!V15","v":0},0,{"$f":"'[1]LÍNEA 3'!W15","v":0},0,{"$f":"'[6]2016'!$K$52","v":0},{"$f":"'[7]2017'!K26","v":0},{"$f":"'[7]2018'!K26","v":0},{"$f":"'[7]2019'!K26","v":0}," -"," -",0,0," -"," -"," -"," -",0,0,0,{"$f":"'[6]2016'!P52","v":0},{"$f":"'[6]2016'!Q52","v":0},{"$f":"'[6]2016'!R52","v":0}," -"," -",{"$f":"'[7]2017'!P26","v":0},{"$f":"'[7]2017'!Q26","v":0},{"$f":"'[7]2017'!R26","v":0}," -"," -",{"$f":"'[7]2018'!P26","v":0},{"$f":"'[7]2018'!Q26","v":0},{"$f":"'[7]2018'!R26","v":0}," -"," -",{"$f":"'[7]2019'!P26","v":0},{"$f":"'[7]2019'!Q26","v":0},{"$f":"'[7]2019'!R26","v":0}," -"," -",0,0,0," -"," -","15. Vida de ecosistemas terrestres","Equipamiento",{"$f":"'[1]LÍNEA 3'!AQ15","v":"Sec. Infraestructura"}]
[null,null,null,null,null,null,null,null,null,null,null,null,null,null,null,null,null,null,null,null,null,null,null,null,null,null,null,null,null,null,null,null,null,null,null,null,null,null,null,null,null,null,"Habilitar 1 subsector del gran bosque de los cerros orientales de escala metropolitana.",{"$f":"'[1]LÍNEA 3'!P16","v":2210196},"Porcentaje de avance en la habilitación del subsector del gran bosque de los cerros orientales de escala metropolitana.",0,{"$f":"'[1]LÍNEA 3'!S16","v":1},{"$f":"'[1]LÍNEA 3'!T16","v":0},0,{"$f":"'[1]LÍNEA 3'!U16","v":0.2},0.2,{"$f":"'[1]LÍNEA 3'!V16","v":0.4},0.4,{"$f":"'[1]LÍNEA 3'!W16","v":0.4},0.4,{"$f":"'[7]2016'!K23","v":0},{"$f":"'[7]2017'!K27","v":0},{"$f":"'[7]2018'!K27","v":0},{"$f":"'[7]2019'!K27","v":0}," -"," -",0,0,0,0,0,0,0,0,0,{"$f":"'[7]2016'!P23","v":0},{"$f":"'[7]2016'!Q23","v":0},{"$f":"'[7]2016'!R23","v":0}," -"," -",{"$f":"'[7]2017'!P27","v":168804},{"$f":"'[7]2017'!Q27","v":0},{"$f":"'[7]2017'!R27","v":0},0," -",{"$f":"'[7]2018'!P27","v":1497187},{"$f":"'[7]2018'!Q27","v":0},{"$f":"'[7]2018'!R27","v":0},0," -",{"$f":"'[7]2019'!P27","v":1000000},{"$f":"'[7]2019'!Q27","v":0},{"$f":"'[7]2019'!R27","v":0},0," -",2665991,0,0,0," -","15. Vida de ecosistemas terrestres","Equipamiento",{"$f":"'[1]LÍNEA 3'!AQ16","v":"Sec. Infraestructura"}]
[null,null,null,null,null,null,null,null,null,null,null,null,null,null,null,null,null,null,null,null,null,null,null,null,null,null,null,null,null,null,null,null,null,null,null,null,null,null,null,null,null,null,"Habilitar 1 subsector del parque de la zona occidental.",{"$f":"'[1]LÍNEA 3'!P17","v":2210196},"Número de subsectores del parque de la zona occidental habilitados.",0,{"$f":"'[1]LÍNEA 3'!S17","v":1},{"$f":"'[1]LÍNEA 3'!T17","v":0},0,{"$f":"'[1]LÍNEA 3'!U17","v":0},0,{"$f":"'[1]LÍNEA 3'!V17","v":1},1,{"$f":"'[1]LÍNEA 3'!W17","v":0},0,{"$f":"'[7]2016'!K24","v":0},{"$f":"'[7]2017'!K28","v":0},{"$f":"'[7]2018'!K28","v":0},{"$f":"'[7]2019'!K28","v":0}," -"," -"," -"," -",0,0," -"," -",0,0,0,{"$f":"'[7]2016'!P24","v":0},{"$f":"'[7]2016'!Q24","v":0},{"$f":"'[7]2016'!R24","v":0}," -"," -",{"$f":"'[7]2017'!P28","v":0},{"$f":"'[7]2017'!Q28","v":0},{"$f":"'[7]2017'!R28","v":0}," -"," -",{"$f":"'[7]2018'!P28","v":1205705},{"$f":"'[7]2018'!Q28","v":0},{"$f":"'[7]2018'!R28","v":0},0," -",{"$f":"'[7]2019'!P28","v":0},{"$f":"'[7]2019'!Q28","v":0},{"$f":"'[7]2019'!R28","v":0}," -"," -",1205705,0,0,0," -","15. Vida de ecosistemas terrestres","Equipamiento",{"$f":"'[1]LÍNEA 3'!AQ17","v":"Sec. Infraestructura"}]
[null,null,null,null,null,null,null,null,null,null,null,null,null,null,null,null,null,null,null,null,null,null,null,null,null,null,null,null,null,null,null,null,null,null,null,null,null,null,null,null,null,null,null,null,null,null,{"$f":"'[1]LÍNEA 3'!S18","v":0},{"$f":"'[1]LÍNEA 3'!T18","v":0},{"$f":"+AVERAGE(AW11:AW17)","v":3.5714285714285712E-2},{"$f":"'[1]LÍNEA 3'!U18","v":0},{"$f":"+AVERAGE(AY11:AY17)","v":0.39761904761904759},{"$f":"'[1]LÍNEA 3'!V18","v":0},0.23571428571428571,{"$f":"'[1]LÍNEA 3'!W18","v":0},0.33095238095238094,null,null,null,null,null,{"$f":"+AVERAGE(BI11:BI17)","v":0.5},null,0.6,null,0.33333333333333331,null,0,null,{"$f":"+AVERAGE(BQ11:BQ17)","v":0.27976190476190477}]
[null,null,null,{"$f":"+RESUMEN!J69","v":0.43745370370370368},"GESTIÓN DEL RIESGO","Reducir a 9 minutos el tiempo de respuesta a la atención de un evento de emergencia.",10,9,{"$f":"+H19-G19","v":-1},10,{"$f":"+J19-G19","v":0},null,10,{"$f":"+M19-J19","v":0},null,10,{"$f":"+P19-M19","v":0},null,9,{"$f":"+S19-P19","v":-1},null,9.36,{"$f":"+IF(V19=0,0,V19-G19)","v":-0.64000000000000057},null,{"$f":"+IF(X19=0,0,X19-V19)","v":0},null,{"$f":"+IF(Z19=0,0,Z19-X19)","v":0},null,{"$f":"+IF(AB19=0,0,AB19-Z19)","v":0},{"$f":"+IF(K19=0,\" -\",W19/K19)","v":" -"},{"$f":"+IF(K19=0,\" -\",IF(AD19>100%,100%,AD19))","v":" -"},{"$f":"+IF(N19=0,\" -\",Y19/N19)","v":" -"},{"$f":"+IF(N19=0,\" -\",IF(AF19>100%,100%,AF19))","v":" -"},{"$f":"+IF(Q19=0,\" -\",AA19/Q19)","v":" -"},{"$f":"+IF(Q19=0,\" -\",IF(AH19>100%,100%,AH19))","v":" -"},{"$f":"+IF(T19=0,\" -\",AC19/T19)","v":0},{"$f":"+IF(T19=0,\" -\",IF(AJ19>100%,100%,AJ19))","v":0},{"$f":"+SUM(AC19,AA19,Y19,W19)/I19","v":0.64000000000000057},{"$f":"+IF(AL19>100%,100%,IF(AL19<0%,0%,AL19))","v":0.64000000000000057},null,{"$f":"+RESUMEN!J70","v":0.24249999999999999},"CONOCIMIENTO DEL RIESGO DEL DESASTRE","Realizar 2 estudios de amenaza, vulnerabilidad y riesgo.",{"$f":"'[1]LÍNEA 3'!P19","v":2210847},"Número de estudios de amenaza, vulnerabilidad y riesgo realizados.",29,{"$f":"'[1]LÍNEA 3'!S19","v":2},{"$f":"'[1]LÍNEA 3'!T19","v":0},0,{"$f":"'[1]LÍNEA 3'!U19","v":1},0.5,{"$f":"'[1]LÍNEA 3'!V19","v":0},0,{"$f":"'[1]LÍNEA 3'!W19","v":1},0.5,{"$f":"'[6]2016'!K54","v":0},{"$f":"'[6]2017'!K50","v":0},{"$f":"'[6]2018'!K50","v":0},{"$f":"'[6]2019'!K50","v":0}," -"," -",0,0," -"," -",0,0,0,0,0,{"$f":"'[6]2016'!P54","v":0},{"$f":"'[6]2016'!Q54","v":0},{"$f":"'[6]2016'!R54","v":0}," -"," -",{"$f":"'[6]2017'!P50","v":0},{"$f":"'[6]2017'!Q50","v":0},{"$f":"'[6]2017'!R50","v":0}," -"," -",{"$f":"'[6]2018'!P50","v":0},{"$f":"'[6]2018'!Q50","v":0},{"$f":"'[6]2018'!R50","v":0}," -"," -",{"$f":"'[6]2019'!P50","v":600000},{"$f":"'[6]2019'!Q50","v":0},{"$f":"'[6]2019'!R50","v":0},0," -",600000,0,0,0," -","11. Ciudades y comunidades sostenibles","Prevención y atención de desastres",{"$f":"'[1]LÍNEA 3'!AQ19","v":"Sec. Planeación"}]
[null,null,null,null,null,null,null,null,null,null,null,null,null,null,null,null,null,null,null,null,null,null,null,null,null,null,null,null,null,null,null,null,null,null,null,null,null,null,null,null,null,null,"Realizar 1 estudio de microzonificación sísmica.",{"$f":"'[1]LÍNEA 3'!P20","v":2210847},"Número de estudios microzonificación sísmica realizados.",0,{"$f":"'[1]LÍNEA 3'!S20","v":1},{"$f":"'[1]LÍNEA 3'!T20","v":0},0,{"$f":"'[1]LÍNEA 3'!U20","v":0},0,{"$f":"'[1]LÍNEA 3'!V20","v":0},0,{"$f":"'[1]LÍNEA 3'!W20","v":1},1,{"$f":"'[6]2016'!K55","v":0},{"$f":"'[6]2017'!K51","v":0},{"$f":"'[6]2018'!K51","v":0},{"$f":"'[6]2019'!K51","v":0}," -"," -"," -"," -"," -"," -",0,0,0,0,0,{"$f":"'[6]2016'!P55","v":0},{"$f":"'[6]2016'!Q55","v":0},{"$f":"'[6]2016'!R55","v":0}," -"," -",{"$f":"'[6]2017'!P51","v":0},{"$f":"'[6]2017'!Q51","v":0},{"$f":"'[6]2017'!R51","v":0}," -"," -",{"$f":"'[6]2018'!P51","v":0},{"$f":"'[6]2018'!Q51","v":0},{"$f":"'[6]2018'!R51","v":0}," -"," -",{"$f":"'[6]2019'!P51","v":0},{"$f":"'[6]2019'!Q51","v":0},{"$f":"'[6]2019'!R51","v":0}," -"," -",0,0,0," -"," -","11. Ciudades y comunidades sostenibles","Prevención y atención de desastres",{"$f":"'[1]LÍNEA 3'!AQ20","v":"Sec. Planeación"}]
[null,null,null,null,null,null,null,null,null,null,null,null,null,null,null,null,null,null,null,null,null,null,null,null,null,null,null,null,null,null,null,null,null,null,null,null,null,null,null,null,null,null,"Realizar el inventario de las edificaciones institucionales indispensables para evaluar la vulnerabilidad sísmica.",{"$f":"'[1]LÍNEA 3'!P21","v":" -"},"Número de inventarios de edificaciones institucionales indispensables realizadas para evaluar la vulnerabilidad sísmica.",0,{"$f":"'[1]LÍNEA 3'!S21","v":1},{"$f":"'[1]LÍNEA 3'!T21","v":0},0,{"$f":"'[1]LÍNEA 3'!U21","v":0},0,{"$f":"'[1]LÍNEA 3'!V21","v":1},1,{"$f":"'[1]LÍNEA 3'!W21","v":0},0,{"$f":"'[6]2016'!K56","v":0},{"$f":"'[6]2017'!K52","v":0},{"$f":"'[6]2018'!K52","v":0},{"$f":"'[6]2019'!K52","v":0}," -"," -"," -"," -",0,0," -"," -",0,0,0,{"$f":"'[6]2016'!P56","v":0},{"$f":"'[6]2016'!Q56","v":0},{"$f":"'[6]2016'!R56","v":0}," -"," -",{"$f":"'[6]2017'!P52","v":0},{"$f":"'[6]2017'!Q52","v":0},{"$f":"'[6]2017'!R52","v":0}," -"," -",{"$f":"'[6]2018'!P52","v":0},{"$f":"'[6]2018'!Q52","v":0},{"$f":"'[6]2018'!R52","v":0}," -"," -",{"$f":"'[6]2019'!P52","v":0},{"$f":"'[6]2019'!Q52","v":0},{"$f":"'[6]2019'!R52","v":0}," -"," -",0,0,0," -"," -","11. Ciudades y comunidades sostenibles","Prevención y atención de desastres",{"$f":"'[1]LÍNEA 3'!AQ21","v":"Sec. Planeación"}]
[null,null,null,null,null,null,null,null,null,null,null,null,null,null,null,null,null,null,null,null,null,null,null,null,null,null,null,null,null,null,null,null,null,null,null,null,null,null,null,null,null,null,"Realizar 1 evaluación de vulnerabilidad sísmica de las edificaciones institucionales indispensables.",{"$f":"'[1]LÍNEA 3'!P22","v":2210847},"Número de evaluaciones de la vulnerabilidad sísmica de las edificaciones institucionales indispensables realizadas.",0,{"$f":"'[1]LÍNEA 3'!S22","v":1},{"$f":"'[1]LÍNEA 3'!T22","v":0},0,{"$f":"'[1]LÍNEA 3'!U22","v":0},0,{"$f":"'[1]LÍNEA 3'!V22","v":0},0,{"$f":"'[1]LÍNEA 3'!W22","v":1},1,{"$f":"'[6]2016'!K57","v":0},{"$f":"'[6]2017'!K53","v":0},{"$f":"'[6]2018'!K53","v":0},{"$f":"'[6]2019'!K53","v":0}," -"," -"," -"," -"," -"," -",0,0,0,0,0,{"$f":"'[6]2016'!P57","v":0},{"$f":"'[6]2016'!Q57","v":0},{"$f":"'[6]2016'!R57","v":0}," -"," -",{"$f":"'[6]2017'!P53","v":0},{"$f":"'[6]2017'!Q53","v":0},{"$f":"'[6]2017'!R53","v":0}," -"," -",{"$f":"'[6]2018'!P53","v":0},{"$f":"'[6]2018'!Q53","v":0},{"$f":"'[6]2018'!R53","v":0}," -"," -",{"$f":"'[6]2019'!P53","v":0},{"$f":"'[6]2019'!Q53","v":0},{"$f":"'[6]2019'!R53","v":0}," -"," -",0,0,0," -"," -","11. Ciudades y comunidades sostenibles","Prevención y atención de desastres",{"$f":"'[1]LÍNEA 3'!AQ22","v":"Sec. Planeación"}]
[null,null,null,null,null,null,null,null,null,null,null,null,null,null,null,null,null,null,null,null,null,null,null,null,null,null,null,null,null,null,null,null,null,null,null,null,null,null,null,null,null,null,"Mantener el Plan Minicipal de Gestión del Riesgo.",{"$f":"'[1]LÍNEA 3'!P23","v":2210226},"Número de Planes Municipales de Gestión del Riesgo mantenidos.",1,{"$f":"'[1]LÍNEA 3'!S23","v":1},{"$f":"'[1]LÍNEA 3'!T23","v":1},0.25,{"$f":"'[1]LÍNEA 3'!U23","v":1},0.25,{"$f":"'[1]LÍNEA 3'!V23","v":1},0.25,{"$f":"'[1]LÍNEA 3'!W23","v":1},0.25,{"$f":"'[2]2016'!K52","v":1},{"$f":"'[2]2017'!K52","v":1},{"$f":"'[2]2018'!K52","v":1},{"$f":"'[2]2019'!K52","v":0},1,1,1,1,1,1,0,0,{"$f":"+AVERAGE(BD23:BG23)/AU23","v":0.75},0.75,0.75,{"$f":"'[2]2016'!P52","v":0},{"$f":"'[2]2016'!Q52","v":0},{"$f":"'[2]2016'!R52","v":0}," -"," -",{"$f":"'[2]2017'!P52","v":0},{"$f":"'[2]2017'!Q52","v":0},{"$f":"'[2]2017'!R52","v":0}," -"," -",{"$f":"'[2]2018'!P52","v":10000},{"$f":"'[2]2018'!Q52","v":0},{"$f":"'[2]2018'!R52","v":0},0," -",{"$f":"'[2]2019'!P52","v":0},{"$f":"'[2]2019'!Q52","v":0},{"$f":"'[2]2019'!R52","v":0}," -"," -",10000,0,0,0," -","11. Ciudades y comunidades sostenibles","Prevención y atención de desastres",{"$f":"'[1]LÍNEA 3'!AQ23","v":"Sec. Interior"}]
[null,null,null,null,null,null,null,null,null,null,null,null,null,null,null,null,null,null,null,null,null,null,null,null,null,null,null,null,null,null,null,null,null,null,null,null,null,null,null,null,null,null,"Crear y mantener la Oficina de Gestión del Riesgo en el marco de la ley.",{"$f":"'[1]LÍNEA 3'!P24","v":2210679},"Número de Oficinas de Gestión del Riesgo creadas y mantenidas en el marco de la ley.",0,{"$f":"'[1]LÍNEA 3'!S24","v":1},{"$f":"'[1]LÍNEA 3'!T24","v":0},0,{"$f":"'[1]LÍNEA 3'!U24","v":1},0.33,{"$f":"'[1]LÍNEA 3'!V24","v":1},0.33,{"$f":"'[1]LÍNEA 3'!W24","v":1},0.34,{"$f":"'[2]2016'!K53","v":0},{"$f":"'[2]2017'!K53","v":0.2},{"$f":"'[2]2018'!K53","v":0},{"$f":"'[2]2019'!K53","v":0}," -"," -",0.2,0.2,0,0,0,0,{"$f":"+AVERAGE(BE24:BG24)/AU24","v":6.6666666666666666E-2},6.6666666666666666E-2,6.6666666666666666E-2,{"$f":"'[2]2016'!P53","v":0},{"$f":"'[2]2016'!Q53","v":0},{"$f":"'[2]2016'!R53","v":0}," -"," -",{"$f":"'[2]2017'!P53","v":0},{"$f":"'[2]2017'!Q53","v":0},{"$f":"'[2]2017'!R53","v":0}," -"," -",{"$f":"'[2]2018'!P53","v":200000},{"$f":"'[2]2018'!Q53","v":0},{"$f":"'[2]2018'!R53","v":0},0," -",{"$f":"'[2]2019'!P53","v":200000},{"$f":"'[2]2019'!Q53","v":0},{"$f":"'[2]2019'!R53","v":0},0," -",400000,0,0,0," -","11. Ciudades y comunidades sostenibles","Prevención y atención de desastres",{"$f":"'[1]LÍNEA 3'!AQ24","v":"Sec. Interior"}]
[null,null,null,null,null,null,null,null,null,null,null,null,null,null,null,null,null,null,null,null,null,null,null,null,null,null,null,null,null,null,null,null,null,null,null,null,null,null,null,null,null,null,"Actualizar y mantener la política de gestión del riesgo.",{"$f":"'[1]LÍNEA 3'!P25","v":" -"},"Número de políticas de gestión del riesgo actualizadas y mantenidas.",1,{"$f":"'[1]LÍNEA 3'!S25","v":1},{"$f":"'[1]LÍNEA 3'!T25","v":0},0,{"$f":"'[1]LÍNEA 3'!U25","v":1},0.33,{"$f":"'[1]LÍNEA 3'!V25","v":1},0.33,{"$f":"'[1]LÍNEA 3'!W25","v":1},0.34,{"$f":"'[2]2016'!K54","v":0},{"$f":"'[2]2017'!K54","v":0.2},{"$f":"'[2]2018'!K54","v":0},{"$f":"'[2]2019'!K54","v":0}," -"," -",0.2,0.2,0,0,0,0,{"$f":"+AVERAGE(BE25:BG25)/AU25","v":6.6666666666666666E-2},6.6666666666666666E-2,6.6666666666666666E-2,{"$f":"'[2]2016'!P54","v":0},{"$f":"'[2]2016'!Q54","v":0},{"$f":"'[2]2016'!R54","v":0}," -"," -",{"$f":"'[2]2017'!P54","v":0},{"$f":"'[2]2017'!Q54","v":0},{"$f":"'[2]2017'!R54","v":0}," -"," -",{"$f":"'[2]2018'!P54","v":0},{"$f":"'[2]2018'!Q54","v":0},{"$f":"'[2]2018'!R54","v":0}," -"," -",{"$f":"'[2]2019'!P54","v":0},{"$f":"'[2]2019'!Q54","v":0},{"$f":"'[2]2019'!R54","v":0}," -"," -",0,0,0," -"," -","11. Ciudades y comunidades sostenibles","Prevención y atención de desastres",{"$f":"'[1]LÍNEA 3'!AQ25","v":"Sec. Interior"}]
[null,null,null,null,null,null,null,null,null,null,null,null,null,null,null,null,null,null,null,null,null,null,null,null,null,null,null,null,null,null,null,null,null,null,null,null,null,null,null,null,null,null,"Crear y mantener el observatorio de riesgos de desastre.",{"$f":"'[1]LÍNEA 3'!P26","v":0},"Número de observatorios de riesgo de desastre creados y mantenidos.",0,{"$f":"'[1]LÍNEA 3'!S26","v":1},{"$f":"'[1]LÍNEA 3'!T26","v":1},0.25,{"$f":"'[1]LÍNEA 3'!U26","v":1},0.25,{"$f":"'[1]LÍNEA 3'!V26","v":1},0.25,{"$f":"'[1]LÍNEA 3'!W26","v":1},0.25,{"$f":"'[2]2016'!K55","v":1},{"$f":"'[2]2017'!K55","v":1},{"$f":"'[2]2018'!K55","v":0},{"$f":"'[2]2019'!K55","v":0},1,1,1,1,0,0,0,0,0.5,0.5,0.5,{"$f":"'[2]2016'!P55","v":223700},{"$f":"'[2]2016'!Q55","v":121014},{"$f":"'[2]2016'!R55","v":0},0.54096557890031294," -",{"$f":"'[2]2017'!P55","v":0},{"$f":"'[2]2017'!Q55","v":0},{"$f":"'[2]2017'!R55","v":0}," -"," -",{"$f":"'[2]2018'!P55","v":0},{"$f":"'[2]2018'!Q55","v":0},{"$f":"'[2]2018'!R55","v":0}," -"," -",{"$f":"'[2]2019'!P55","v":100000},{"$f":"'[2]2019'!Q55","v":0},{"$f":"'[2]2019'!R55","v":0},0," -",323700,121014,0,0.37384615384615383," -","11. Ciudades y comunidades sostenibles","Prevención y atención de desastres",{"$f":"'[1]LÍNEA 3'!AQ26","v":"Sec. Interior"}]
[null,null,null,null,null,null,null,null,null,null,null,null,null,null,null,null,null,null,null,null,null,null,null,null,null,null,null,null,null,null,null,null,null,null,null,null,null,null,null,null,null,null,"Desarrollar 4 escenarios de riesgo en sistemas de información geográfica.",{"$f":"'[1]LÍNEA 3'!P27","v":0},"Número de escenarios de riesgo en sistemas de información geográfica desarrolladas.",0,{"$f":"'[1]LÍNEA 3'!S27","v":4},{"$f":"'[1]LÍNEA 3'!T27","v":1},0.25,{"$f":"'[1]LÍNEA 3'!U27","v":1},0.25,{"$f":"'[1]LÍNEA 3'!V27","v":1},0.25,{"$f":"'[1]LÍNEA 3'!W27","v":1},0.25,{"$f":"'[2]2016'!K56","v":1},{"$f":"'[2]2017'!K56","v":0.5},{"$f":"'[2]2018'!K56","v":0},{"$f":"'[2]2019'!K56","v":0},1,1,0.5,0.5,0,0,0,0,0.375,0.375,0.375,{"$f":"'[2]2016'!P56","v":50000},{"$f":"'[2]2016'!Q56","v":41000},{"$f":"'[2]2016'!R56","v":0},0.82," -",{"$f":"'[2]2017'!P56","v":140000},{"$f":"'[2]2017'!Q56","v":0},{"$f":"'[2]2017'!R56","v":0},0," -",{"$f":"'[2]2018'!P56","v":0},{"$f":"'[2]2018'!Q56","v":0},{"$f":"'[2]2018'!R56","v":0}," -"," -",{"$f":"'[2]2019'!P56","v":100000},{"$f":"'[2]2019'!Q56","v":0},{"$f":"'[2]2019'!R56","v":0},0," -",290000,41000,0,0.14137931034482759," -","11. Ciudades y comunidades sostenibles","Prevención y atención de desastres",{"$f":"'[1]LÍNEA 3'!AQ27","v":"Sec. Interior"}]
[null,null,null,null,null,null,null,null,null,null,null,null,null,null,null,null,null,null,null,null,null,null,null,null,null,null,null,null,null,null,null,null,null,null,null,null,null,null,null,null,null,null,"Realizar 3 estudios de evaluación y priorización de obras de mitigación de riesgo.",{"$f":"'[1]LÍNEA 3'!P28","v":0},"Número de estudios de evaluación y priorización de obras de mitigación realizados.",0,{"$f":"'[1]LÍNEA 3'!S28","v":3},{"$f":"'[1]LÍNEA 3'!T28","v":0},0,{"$f":"'[1]LÍNEA 3'!U28","v":1},0.33333333333333331,{"$f":"'[1]LÍNEA 3'!V28","v":1},0.33333333333333331,{"$f":"'[1]LÍNEA 3'!W28","v":1},0.33333333333333331,{"$f":"'[2]2016'!K57","v":0},{"$f":"'[2]2017'!K57","v":2},{"$f":"'[2]2018'!K57","v":0},{"$f":"'[2]2019'!K57","v":0}," -"," -",2,1,0,0,0,0,0.66666666666666663,0.66666666666666663,0.66666666666666663,{"$f":"'[2]2016'!P57","v":0},{"$f":"'[2]2016'!Q57","v":0},{"$f":"'[2]2016'!R57","v":0}," -"," -",{"$f":"'[2]2017'!P57","v":0},{"$f":"'[2]2017'!Q57","v":0},{"$f":"'[2]2017'!R57","v":0}," -"," -",{"$f":"'[2]2018'!P57","v":0},{"$f":"'[2]2018'!Q57","v":0},{"$f":"'[2]2018'!R57","v":0}," -"," -",{"$f":"'[2]2019'!P57","v":50000},{"$f":"'[2]2019'!Q57","v":0},{"$f":"'[2]2019'!R57","v":0},0," -",50000,0,0,0," -","11. Ciudades y comunidades sostenibles","Prevención y atención de desastres",{"$f":"'[1]LÍNEA 3'!AQ28","v":"Sec. Interior"}]
[null,null,null,null,null,"Disminuir a 187.000 el número de personas que se encuentran en alto riesgo.",220000,187000,{"$f":"+H29-G29","v":-33000},220000,{"$f":"+J29-G29","v":0},null,212000,{"$f":"+M29-J29","v":-8000},null,200000,{"$f":"+P29-M29","v":-12000},null,187000,{"$f":"+S29-P29","v":-13000},null,null,{"$f":"+IF(V29=0,0,V29-G29)","v":0},null,{"$f":"+IF(X29=0,0,X29-V29)","v":0},null,{"$f":"+IF(Z29=0,0,Z29-X29)","v":0},null,{"$f":"+IF(AB29=0,0,AB29-Z29)","v":0},{"$f":"+IF(K29=0,\" -\",W29/K29)","v":" -"},{"$f":"+IF(K29=0,\" -\",IF(AD29>100%,100%,AD29))","v":" -"},{"$f":"+IF(N29=0,\" -\",Y29/N29)","v":0},{"$f":"+IF(N29=0,\" -\",IF(AF29>100%,100%,AF29))","v":0},{"$f":"+IF(Q29=0,\" -\",AA29/Q29)","v":0},{"$f":"+IF(Q29=0,\" -\",IF(AH29>100%,100%,AH29))","v":0},{"$f":"+IF(T29=0,\" -\",AC29/T29)","v":0},{"$f":"+IF(T29=0,\" -\",IF(AJ29>100%,100%,AJ29))","v":0},{"$f":"+SUM(AC29,AA29,Y29,W29)/I29","v":0},{"$f":"+IF(AL29>100%,100%,IF(AL29<0%,0%,AL29))","v":0},null,{"$f":"+RESUMEN!J71","v":0.45319444444444446},"REDUCCIÓN Y MITIGACIÓN DEL RIESGO DE DESASTRE","Adquirir 3 estaciones telemétricas de alertas tempranas.",{"$f":"'[1]LÍNEA 3'!P29","v":0},"Número de estaciones telemétricas de alertas tempranas adquiridas.",2,{"$f":"'[1]LÍNEA 3'!S29","v":3},{"$f":"'[1]LÍNEA 3'!T29","v":0},0,{"$f":"'[1]LÍNEA 3'!U29","v":1},0.33333333333333331,{"$f":"'[1]LÍNEA 3'!V29","v":1},0.33333333333333331,{"$f":"'[1]LÍNEA 3'!W29","v":1},0.33333333333333331,{"$f":"'[2]2016'!K58","v":0},{"$f":"'[2]2017'!K58","v":0},{"$f":"'[2]2018'!K58","v":0},{"$f":"'[2]2019'!K58","v":0}," -"," -",0,0,0,0,0,0,0,0,0,{"$f":"'[2]2016'!P58","v":0},{"$f":"'[2]2016'!Q58","v":0},{"$f":"'[2]2016'!R58","v":899000}," -",1,{"$f":"'[2]2017'!P58","v":500000},{"$f":"'[2]2017'!Q58","v":0},{"$f":"'[2]2017'!R58","v":0},0," -",{"$f":"'[2]2018'!P58","v":0},{"$f":"'[2]2018'!Q58","v":0},{"$f":"'[2]2018'!R58","v":0}," -"," -",{"$f":"'[2]2019'!P58","v":500000},{"$f":"'[2]2019'!Q58","v":0},{"$f":"'[2]2019'!R58","v":0},0," -",1000000,0,899000,0,1,"11. Ciudades y comunidades sostenibles","Prevención y atención de desastres",{"$f":"'[1]LÍNEA 3'!AQ29","v":"Sec. Interior"}]
[null,null,null,null,null,null,null,null,null,null,null,null,null,null,null,null,null,null,null,null,null,null,null,null,null,null,null,null,null,null,null,null,null,null,null,null,null,null,null,null,null,null,"Suministrar al 100% de las personas afectadas por desastres de elementos básicos.",{"$f":"'[1]LÍNEA 3'!P30","v":2210245},"Porcentaje de personas afectadas por desastres suministrados con elementos básico.",1,{"$f":"'[1]LÍNEA 3'!S30","v":1},{"$f":"'[1]LÍNEA 3'!T30","v":1},0.25,{"$f":"'[1]LÍNEA 3'!U30","v":1},0.25,{"$f":"'[1]LÍNEA 3'!V30","v":1},0.25,{"$f":"'[1]LÍNEA 3'!W30","v":1},0.25,{"$f":"'[2]2016'!K59","v":1},{"$f":"'[2]2017'!K59","v":1},{"$f":"'[2]2018'!K59","v":1},{"$f":"'[2]2019'!K59","v":0},1,1,1,1,1,1,0,0,{"$f":"+AVERAGE(BD30:BG30)/AU30","v":0.75},0.75,0.75,{"$f":"'[2]2016'!P59","v":0},{"$f":"'[2]2016'!Q59","v":0},{"$f":"'[2]2016'!R59","v":0}," -"," -",{"$f":"'[2]2017'!P59","v":0},{"$f":"'[2]2017'!Q59","v":0},{"$f":"'[2]2017'!R59","v":0}," -"," -",{"$f":"'[2]2018'!P59","v":330000},{"$f":"'[2]2018'!Q59","v":0},{"$f":"'[2]2018'!R59","v":0},0," -",{"$f":"'[2]2019'!P59","v":0},{"$f":"'[2]2019'!Q59","v":0},{"$f":"'[2]2019'!R59","v":0}," -"," -",330000,0,0,0," -","11. Ciudades y comunidades sostenibles","Prevención y atención de desastres",{"$f":"'[1]LÍNEA 3'!AQ30","v":"Sec. Interior"}]
[null,null,null,null,null,null,null,null,null,null,null,null,null,null,null,null,null,null,null,null,null,null,null,null,null,null,null,null,null,null,null,null,null,null,null,null,null,null,null,null,null,null,"Realizar 20 obras de mitigación en comunas que presenten riesgo de desastre.",{"$f":"'[1]LÍNEA 3'!P31","v":0},"Número de obras de mitigación realizadas en comunas que presenten riesgos de desastre.",38,{"$f":"'[1]LÍNEA 3'!S31","v":20},{"$f":"'[1]LÍNEA 3'!T31","v":1},0.05,{"$f":"'[1]LÍNEA 3'!U31","v":1},0.05,{"$f":"'[1]LÍNEA 3'!V31","v":9},0.45,{"$f":"'[1]LÍNEA 3'!W31","v":9},0.45,{"$f":"'[7]2016'!$K$26","v":1},{"$f":"'[7]2017'!$K$30","v":3},{"$f":"'[7]2018'!$K$30","v":0},{"$f":"'[7]2019'!$K$30","v":0},1,1,3,1,0,0,0,0,0.2,0.2,0.2,{"$f":"'[7]2016'!P26","v":2118424},{"$f":"'[7]2016'!Q26","v":1608417},{"$f":"'[7]2016'!R26","v":0},0.75925168899143891," -",{"$f":"'[7]2017'!P30","v":3576839},{"$f":"'[7]2017'!Q30","v":3551524},{"$f":"'[7]2017'!R30","v":0},0.99292252181325469," -",{"$f":"'[7]2018'!P30","v":0},{"$f":"'[7]2018'!Q30","v":0},{"$f":"'[7]2018'!R30","v":0}," -"," -",{"$f":"'[7]2019'!P30","v":20000000},{"$f":"'[7]2019'!Q30","v":0},{"$f":"'[7]2019'!R30","v":0},0," -",25695263,5159941,0,0.20081292804825543," -","11. Ciudades y comunidades sostenibles","Prevención y atención de desastres",{"$f":"'[1]LÍNEA 3'!AQ31","v":"Sec. Infraestructura"}]
[null,null,null,null,null,null,null,null,null,null,null,null,null,null,null,null,null,null,null,null,null,null,null,null,null,null,null,null,null,null,null,null,null,null,null,null,null,null,null,null,null,null,"Fortalecer 4 estaciones de bomberos en su capacidad operativa.",{"$f":"'[1]LÍNEA 3'!P32","v":"221111 221211 22131"},"Número de estaciones de bomberos fortalecidas en su capacidad operativa.",3,{"$f":"'[1]LÍNEA 3'!S32","v":4},{"$f":"'[1]LÍNEA 3'!T32","v":1},0.25,{"$f":"'[1]LÍNEA 3'!U32","v":1},0.25,{"$f":"'[1]LÍNEA 3'!V32","v":1},0.25,{"$f":"'[1]LÍNEA 3'!W32","v":1},0.25,{"$f":"'[15]2016'!K14","v":1},{"$f":"'[15]2017'!K14","v":1},{"$f":"'[15]2018'!K14","v":1},{"$f":"'[15]2019'!K14","v":0},1,1,1,1,1,1,0,0,0.75,0.75,0.75,{"$f":"'[15]2016'!P14","v":4453000},{"$f":"'[15]2016'!Q14","v":269838},{"$f":"'[15]2016'!R14","v":0},6.0596900965641139E-2," -",{"$f":"'[15]2017'!P14","v":10999261},{"$f":"'[15]2017'!Q14","v":7037711},{"$f":"'[15]2017'!R14","v":684901},0.63983489436244856,9.7318716270105438E-2,{"$f":"'[15]2018'!P14","v":8205861},{"$f":"'[15]2018'!Q14","v":2270611},{"$f":"'[15]2018'!R14","v":0},0.27670600318479682," -",{"$f":"'[15]2019'!P14","v":5115007},{"$f":"'[15]2019'!Q14","v":0},{"$f":"'[15]2019'!R14","v":0},0," -",28773129,9578160,684901,0.33288558918983058,7.1506531525888067E-2,"11. Ciudades y comunidades sostenibles","Prevención y atención de desastres",{"$f":"'[1]LÍNEA 3'!AQ32","v":"Bomberos"}]
[null,null,null,null,null,null,null,null,null,null,null,null,null,null,null,null,null,null,null,null,null,null,null,null,null,null,null,null,null,null,null,null,null,null,null,null,null,null,null,null,null,null,"Realizar 72 talleres para la prevención del riesgo y del desastre.",{"$f":"'[1]LÍNEA 3'!P33","v":22121},"Número de talleres realizados para la prevención del riesgo y del desastre.",0,{"$f":"'[1]LÍNEA 3'!S33","v":72},{"$f":"'[1]LÍNEA 3'!T33","v":0},0,{"$f":"'[1]LÍNEA 3'!U33","v":24},0.33333333333333331,{"$f":"'[1]LÍNEA 3'!V33","v":24},0.33333333333333331,{"$f":"'[1]LÍNEA 3'!W33","v":24},0.33333333333333331,{"$f":"'[15]2016'!K15","v":0},{"$f":"'[15]2017'!K15","v":2},{"$f":"'[15]2018'!K15","v":55},{"$f":"'[15]2019'!K15","v":0}," -"," -",8.3333333333333329E-2,8.3333333333333329E-2,2.2916666666666665,1,0,0,0.79166666666666663,0.79166666666666663,0.79166666666666663,{"$f":"'[15]2016'!P15","v":100000},{"$f":"'[15]2016'!Q15","v":0},{"$f":"'[15]2016'!R15","v":0},0," -",{"$f":"'[15]2017'!P15","v":105000},{"$f":"'[15]2017'!Q15","v":86763},{"$f":"'[15]2017'!R15","v":0},0.82631428571428567," -",{"$f":"'[15]2018'!P15","v":100000},{"$f":"'[15]2018'!Q15","v":13440},{"$f":"'[15]2018'!R15","v":0},0.13439999999999999," -",{"$f":"'[15]2019'!P15","v":115000},{"$f":"'[15]2019'!Q15","v":0},{"$f":"'[15]2019'!R15","v":0},0," -",420000,100203,0,0.23857857142857142," -","11. Ciudades y comunidades sostenibles","Prevención y atención de desastres",{"$f":"'[1]LÍNEA 3'!AQ33","v":"Bomberos"}]
[null,null,null,null,null,null,null,null,null,null,null,null,null,null,null,null,null,null,null,null,null,null,null,null,null,null,null,null,null,null,null,null,null,null,null,null,null,null,null,null,null,null,"Realizar auditorías al 100% de las instituciones de salud entorno a su plan de emergencias y desastres.",{"$f":"'[1]LÍNEA 3'!P34","v":0},"Porcentaje de instituciones de salud con auditoría entorno a su plan de emergencias y desastres.",1,{"$f":"'[1]LÍNEA 3'!S34","v":1},{"$f":"'[1]LÍNEA 3'!T34","v":1},0.25,{"$f":"'[1]LÍNEA 3'!U34","v":1},0.25,{"$f":"'[1]LÍNEA 3'!V34","v":1},0.25,{"$f":"'[1]LÍNEA 3'!W34","v":1},0.25,{"$f":"'[17]2016'!$K$28","v":0.4},{"$f":"'[17]2017'!K24","v":0.01},{"$f":"'[17]2018'!$K$28","v":0.5},{"$f":"'[17]2019'!$K$28","v":0},0.4,0.4,0.01,0.01,0.5,0.5,0,0,{"$f":"+AVERAGE(BD34:BG34)/AU34","v":0.22750000000000001},0.22750000000000001,0.22750000000000001,{"$f":"'[17]2016'!P28","v":28800},{"$f":"'[17]2016'!Q28","v":6960},{"$f":"'[17]2016'!R28","v":0},0.24166666666666667," -",{"$f":"'[17]2017'!P28","v":39600},{"$f":"'[17]2017'!Q28","v":12600},{"$f":"'[17]2017'!R28","v":0},0.31818181818181818," -",{"$f":"'[17]2018'!P28","v":283463},{"$f":"'[17]2018'!Q28","v":21600},{"$f":"'[17]2018'!R28","v":0},7.6200421218995076E-2," -",{"$f":"'[17]2019'!P28","v":106128},{"$f":"'[17]2019'!Q28","v":0},{"$f":"'[17]2019'!R28","v":0},0," -",457991,41160,0,8.9870761652521558E-2," -","11. Ciudades y comunidades sostenibles","Ambiental",{"$f":"'[1]LÍNEA 3'!AQ34","v":"Sec. Salud y Ambiente"}]
[null,null,null,null,null,null,null,null,null,null,null,null,null,null,null,null,null,null,null,null,null,null,null,null,null,null,null,null,null,null,null,null,null,null,null,null,null,null,null,null,{"$f":"+RESUMEN!J72","v":0.6166666666666667},"MANEJO DE EMERGENCIAS Y DESASTRES","Realizar 4 simulacros de desastres.",{"$f":"'[1]LÍNEA 3'!P35","v":" -"},"Número de simulacros de desastres realizados.",7,{"$f":"'[1]LÍNEA 3'!S35","v":4},{"$f":"'[1]LÍNEA 3'!T35","v":1},0.25,{"$f":"'[1]LÍNEA 3'!U35","v":1},0.25,{"$f":"'[1]LÍNEA 3'!V35","v":1},0.25,{"$f":"'[1]LÍNEA 3'!W35","v":1},0.25,{"$f":"'[2]2016'!K60","v":1},{"$f":"'[2]2017'!K60","v":1},{"$f":"'[2]2018'!K60","v":0},{"$f":"'[2]2019'!K60","v":0},1,1,1,1,0,0,0,0,0.5,0.5,0.5,{"$f":"'[2]2016'!P60","v":0},{"$f":"'[2]2016'!Q60","v":0},{"$f":"'[2]2016'!R60","v":0}," -"," -",{"$f":"'[2]2017'!P60","v":0},{"$f":"'[2]2017'!Q60","v":0},{"$f":"'[2]2017'!R60","v":0}," -"," -",{"$f":"'[2]2018'!P60","v":0},{"$f":"'[2]2018'!Q60","v":0},{"$f":"'[2]2018'!R60","v":0}," -"," -",{"$f":"'[2]2019'!P60","v":0},{"$f":"'[2]2019'!Q60","v":0},{"$f":"'[2]2019'!R60","v":0}," -"," -",0,0,0," -"," -","11. Ciudades y comunidades sostenibles","Prevención y atención de desastres",{"$f":"'[1]LÍNEA 3'!AQ35","v":"Sec. Interior"}]
[null,null,null,null,null,null,null,null,null,null,null,null,null,null,null,null,null,null,null,null,null,null,null,null,null,null,null,null,null,null,null,null,null,null,null,null,null,null,null,null,null,null,"Atender al 100% de las emergencias con ayudas humanitarias.",{"$f":"'[1]LÍNEA 3'!P36","v":2210248},"Porcentaje de emergencias atendidas con ayudas humanitarias.",1,{"$f":"'[1]LÍNEA 3'!S36","v":1},{"$f":"'[1]LÍNEA 3'!T36","v":1},0.25,{"$f":"'[1]LÍNEA 3'!U36","v":1},0.25,{"$f":"'[1]LÍNEA 3'!V36","v":1},0.25,{"$f":"'[1]LÍNEA 3'!W36","v":1},0.25,{"$f":"'[2]2016'!K61","v":1},{"$f":"'[2]2017'!K61","v":1},{"$f":"'[2]2018'!K61","v":1},{"$f":"'[2]2019'!K61","v":0},1,1,1,1,1,1,0,0,{"$f":"+AVERAGE(BD36:BG36)/AU36","v":0.75},0.75,0.75,{"$f":"'[2]2016'!P61","v":155300},{"$f":"'[2]2016'!Q61","v":23700},{"$f":"'[2]2016'!R61","v":16520},0.15260785576303929,0.69704641350210972,{"$f":"'[2]2017'!P61","v":1477921},{"$f":"'[2]2017'!Q61","v":1073277},{"$f":"'[2]2017'!R61","v":0},0.72620728712833771," -",{"$f":"'[2]2018'!P61","v":170000},{"$f":"'[2]2018'!Q61","v":0},{"$f":"'[2]2018'!R61","v":0},0," -",{"$f":"'[2]2019'!P61","v":588841},{"$f":"'[2]2019'!Q61","v":0},{"$f":"'[2]2019'!R61","v":0},0," -",2392062,1096977,16520,0.45859053820511342,1.5059568249835684E-2,"11. Ciudades y comunidades sostenibles","Prevención y atención de desastres",{"$f":"'[1]LÍNEA 3'!AQ36","v":"Sec. Interior"}]
[null,null,null,null,null,null,null,null,null,null,null,null,null,null,null,null,null,null,null,null,null,null,null,null,null,null,null,null,null,null,null,null,null,null,null,null,null,null,null,null,null,null,"Formular e implementar 1 plan de adquisición del sistema integral de emergencias.",{"$f":"'[1]LÍNEA 3'!P37","v":0},"Número de planes de adquisición del sistema integral de emergencias formulados e implementados.",1,{"$f":"'[1]LÍNEA 3'!S37","v":1},{"$f":"'[1]LÍNEA 3'!T37","v":0},0,{"$f":"'[1]LÍNEA 3'!U37","v":1},0.33,{"$f":"'[1]LÍNEA 3'!V37","v":1},0.33,{"$f":"'[1]LÍNEA 3'!W37","v":1},0.34,{"$f":"'[2]2016'!K62","v":0},{"$f":"'[17]2017'!$K$28","v":0.8},{"$f":"'[2]2018'!K62","v":1},{"$f":"'[2]2019'!K62","v":0}," -"," -",0.8,0.8,1,1,0,0,{"$f":"+AVERAGE(BE37:BG37)/AU37","v":0.6},0.6,0.6,{"$f":"'[2]2016'!P62","v":0},{"$f":"'[2]2016'!Q62","v":0},{"$f":"'[2]2016'!R62","v":0}," -"," -",{"$f":"'[2]2017'!P62","v":0},{"$f":"'[2]2017'!Q62","v":0},{"$f":"'[2]2017'!R62","v":0}," -"," -",{"$f":"'[2]2018'!P62","v":0},{"$f":"'[2]2018'!Q62","v":0},{"$f":"'[2]2018'!R62","v":0}," -"," -",{"$f":"'[2]2019'!P62","v":150000},{"$f":"'[2]2019'!Q62","v":0},{"$f":"'[2]2019'!R62","v":0},0," -",150000,0,0,0," -","11. Ciudades y comunidades sostenibles","Prevención y atención de desastres",{"$f":"'[1]LÍNEA 3'!AQ37","v":"Sec. Interior"}]
[null,null,null,null,null,null,null,null,null,null,null,null,null,null,null,null,null,null,null,null,null,null,null,null,null,null,null,null,null,null,null,null,null,null,null,null,null,null,null,null,null,null,null,null,null,null,{"$f":"'[1]LÍNEA 3'!S38","v":0},{"$f":"'[1]LÍNEA 3'!T38","v":0},{"$f":"+AVERAGE(AW19:AW37)","v":0.10789473684210525},{"$f":"'[1]LÍNEA 3'!U38","v":0},{"$f":"+AVERAGE(AY19:AY37)","v":0.23894736842105269},{"$f":"'[1]LÍNEA 3'!V38","v":0},0.28631578947368425,{"$f":"'[1]LÍNEA 3'!W38","v":0},0.36684210526315786,null,null,null,null,null,{"$f":"+AVERAGE(BI19:BI37)","v":0.93333333333333335},null,0.61208333333333331,null,0.40625,null,0,null,{"$f":"+AVERAGE(BQ19:BQ37)","v":0.36811403508771928}]
[null,null,null,{"$f":"+RESUMEN!J73","v":0.76273604623732005},"AMBIENTE PARA LA CIUDADANÍA","Aumentar al 10% el aprovechamiento de los residuos.",0.09,0.1,{"$f":"+H39-G39","v":1.0000000000000009E-2},0.09,{"$f":"+J39-G39","v":0},null,0.09,{"$f":"+M39-J39","v":0},null,0.1,{"$f":"+P39-M39","v":1.0000000000000009E-2},null,0.1,{"$f":"+S39-P39","v":0},null,null,{"$f":"+IF(V39=0,0,V39-G39)","v":0},null,{"$f":"+IF(X39=0,0,X39-V39)","v":0},null,{"$f":"+IF(Z39=0,0,Z39-X39)","v":0},null,{"$f":"+IF(AB39=0,0,AB39-Z39)","v":0},{"$f":"+IF(K39=0,\" -\",W39/K39)","v":" -"},{"$f":"+IF(K39=0,\" -\",IF(AD39>100%,100%,AD39))","v":" -"},{"$f":"+IF(N39=0,\" -\",Y39/N39)","v":" -"},{"$f":"+IF(N39=0,\" -\",IF(AF39>100%,100%,AF39))","v":" -"},{"$f":"+IF(Q39=0,\" -\",AA39/Q39)","v":0},{"$f":"+IF(Q39=0,\" -\",IF(AH39>100%,100%,AH39))","v":0},{"$f":"+IF(T39=0,\" -\",AC39/T39)","v":" -"},{"$f":"+IF(T39=0,\" -\",IF(AJ39>100%,100%,AJ39))","v":" -"},{"$f":"+SUM(AC39,AA39,Y39,W39)/I39","v":0},{"$f":"+IF(AL39>100%,100%,IF(AL39<0%,0%,AL39))","v":0},null,{"$f":"+RESUMEN!J74","v":0.73820813871196023},"IMPLEMENTACIÓN DEL PGIRS","Mantener el Plan Gestión Integral de Residuos Sólidos.",{"$f":"'[1]LÍNEA 3'!P39","v":"2210261\r6210152"},"Número de PGIRS mantenidos.",1,{"$f":"'[1]LÍNEA 3'!S39","v":1},{"$f":"'[1]LÍNEA 3'!T39","v":1},0.25,{"$f":"'[1]LÍNEA 3'!U39","v":1},0.25,{"$f":"'[1]LÍNEA 3'!V39","v":1},0.25,{"$f":"'[1]LÍNEA 3'!W39","v":1},0.25,{"$f":"'[17]2016'!K30","v":1},{"$f":"'[17]2017'!K30","v":1},{"$f":"'[17]2018'!K30","v":1},{"$f":"'[17]2019'!K30","v":0},1,1,1,1,1,1,0,0,{"$f":"+AVERAGE(BD39:BG39)/AU39","v":0.75},0.75,0.75,{"$f":"'[17]2016'!P30","v":630471},{"$f":"'[17]2016'!Q30","v":26403},{"$f":"'[17]2016'!R30","v":0},4.1878214858415377E-2," -",{"$f":"'[17]2017'!P30","v":571589},{"$f":"'[17]2017'!Q30","v":379900},{"$f":"'[17]2017'!R30","v":0},0.66463840276842279," -",{"$f":"'[17]2018'!P30","v":734133},{"$f":"'[17]2018'!Q30","v":181600},{"$f":"'[17]2018'!R30","v":0},0.24736662157946857," -",{"$f":"'[17]2019'!P30","v":324000},{"$f":"'[17]2019'!Q30","v":0},{"$f":"'[17]2019'!R30","v":0},0," -",2260193,587903,0,0.26011185770418721," -","6. Agua limpia y saneamiento","Ambiental",{"$f":"'[1]LÍNEA 3'!AQ39","v":"Sec. Salud y Ambiente"}]
[null,null,null,null,null,null,null,null,null,null,null,null,null,null,null,null,null,null,null,null,null,null,null,null,null,null,null,null,null,null,null,null,null,null,null,null,null,null,null,null,null,null,"Implementar y manener 1 sistema de manejo y aprovechamiento de residuos sólidos vegetales en las plazas de Mercado a Cargo del Municipio.",{"$f":"'[1]LÍNEA 3'!P40","v":"2210261\r6210152"},"Número de sistemas de manejo y aprovechamiento de residuos sólidos vegetales en las plazas de Mercado a Cargo del Municipio implementados y mantenidos.",0,{"$f":"'[1]LÍNEA 3'!S40","v":1},{"$f":"'[1]LÍNEA 3'!T40","v":0},0,{"$f":"'[1]LÍNEA 3'!U40","v":1},0.33,{"$f":"'[1]LÍNEA 3'!V40","v":1},0.33,{"$f":"'[1]LÍNEA 3'!W40","v":1},0.34,{"$f":"'[17]2016'!K31","v":0},{"$f":"'[17]2017'!K31","v":0.4},{"$f":"'[17]2018'!K31","v":0},{"$f":"'[17]2019'!K31","v":0}," -"," -",0.4,0.4,0,0,0,0,{"$f":"+AVERAGE(BE40:BG40)/AU40","v":0.13333333333333333},0.13333333333333333,0.13333333333333333,{"$f":"'[17]2016'!P31","v":0},{"$f":"'[17]2016'!Q31","v":0},{"$f":"'[17]2016'!R31","v":0}," -"," -",{"$f":"'[17]2017'!P31","v":360901},{"$f":"'[17]2017'!Q31","v":358888},{"$f":"'[17]2017'!R31","v":0},0.99442229309422803," -",{"$f":"'[17]2018'!P31","v":0},{"$f":"'[17]2018'!Q31","v":0},{"$f":"'[17]2018'!R31","v":0}," -"," -",{"$f":"'[17]2019'!P31","v":50000},{"$f":"'[17]2019'!Q31","v":0},{"$f":"'[17]2019'!R31","v":0},0," -",410901,358888,0,0.87341719781650573," -","6. Agua limpia y saneamiento","Ambiental",{"$f":"'[1]LÍNEA 3'!AQ40","v":"Sec. Salud y Ambiente"}]
[null,null,null,null,null,null,null,null,null,null,null,null,null,null,null,null,null,null,null,null,null,null,null,null,null,null,null,null,null,null,null,null,null,null,null,null,null,null,null,null,null,null,"Realizar 1 estrategia comunicativa que promuevan la participación ciudadana en el conocimiento de las afectaciones y riesgos ambientales que origina la minería ilegal que se desarrolla en el Páramo de Santurbán.",{"$f":"'[1]LÍNEA 3'!P41","v":2210295},"Número de estrategias comunicativas realizadas que promuevan la participación ciudadana en el conocimiento de las afectaciones y riesgos ambientales que origina la minería ilegal que se desarrolla en el Páramo de Santurbán.",0,{"$f":"'[1]LÍNEA 3'!S41","v":1},{"$f":"'[1]LÍNEA 3'!T41","v":0},0,{"$f":"'[1]LÍNEA 3'!U41","v":1},1,{"$f":"'[1]LÍNEA 3'!V41","v":0},0,{"$f":"'[1]LÍNEA 3'!W41","v":0},0,{"$f":"'[17]2016'!K32","v":0},{"$f":"'[17]2017'!K32","v":1},{"$f":"'[17]2018'!K32","v":0},{"$f":"'[17]2019'!K32","v":0}," -"," -",1,1," -"," -"," -"," -",1,1,1,{"$f":"'[17]2016'!P32","v":0},{"$f":"'[17]2016'!Q32","v":0},{"$f":"'[17]2016'!R32","v":0}," -"," -",{"$f":"'[17]2017'!P32","v":0},{"$f":"'[17]2017'!Q32","v":0},{"$f":"'[17]2017'!R32","v":0}," -"," -",{"$f":"'[17]2018'!P32","v":0},{"$f":"'[17]2018'!Q32","v":0},{"$f":"'[17]2018'!R32","v":0}," -"," -",{"$f":"'[17]2019'!P32","v":0},{"$f":"'[17]2019'!Q32","v":0},{"$f":"'[17]2019'!R32","v":0}," -"," -",0,0,0," -"," -","6. Agua limpia y saneamiento","Ambiental",{"$f":"'[1]LÍNEA 3'!AQ41","v":"Sec. Salud y Ambiente"}]
[null,null,null,null,null,null,null,null,null,null,null,null,null,null,null,null,null,null,null,null,null,null,null,null,null,null,null,null,null,null,null,null,null,null,null,null,null,null,null,null,null,null,"Desarrollar 1 campañas de sensibilización y educación sobre la protección y buen cuidado de los animales.",{"$f":"'[1]LÍNEA 3'!P42","v":" -"},"Número de campañas de sensibilización y educación sobre la protección y buen cuidado de los animales desarrolladas.",0,{"$f":"'[1]LÍNEA 3'!S42","v":1},{"$f":"'[1]LÍNEA 3'!T42","v":0},0,{"$f":"'[1]LÍNEA 3'!U42","v":0},0,{"$f":"'[1]LÍNEA 3'!V42","v":1},1,{"$f":"'[1]LÍNEA 3'!W42","v":0},0,{"$f":"'[17]2016'!K33","v":0},{"$f":"'[17]2017'!K33","v":0},{"$f":"'[17]2018'!K33","v":1},{"$f":"'[17]2019'!K33","v":0}," -"," -"," -"," -",1,1," -"," -",1,1,1,{"$f":"'[17]2016'!P33","v":0},{"$f":"'[17]2016'!Q33","v":0},{"$f":"'[17]2016'!R33","v":0}," -"," -",{"$f":"'[17]2017'!P33","v":0},{"$f":"'[17]2017'!Q33","v":0},{"$f":"'[17]2017'!R33","v":0}," -"," -",{"$f":"'[17]2018'!P33","v":0},{"$f":"'[17]2018'!Q33","v":0},{"$f":"'[17]2018'!R33","v":0}," -"," -",{"$f":"'[17]2019'!P33","v":0},{"$f":"'[17]2019'!Q33","v":0},{"$f":"'[17]2019'!R33","v":0}," -"," -",0,0,0," -"," -","15. Vida de ecosistemas terrestres","Ambiental",{"$f":"'[1]LÍNEA 3'!AQ42","v":"Sec. Salud y Ambiente"}]
[null,null,null,null,null,null,null,null,null,null,null,null,null,null,null,null,null,null,null,null,null,null,null,null,null,null,null,null,null,null,null,null,null,null,null,null,null,null,null,null,null,null,"Implementar 30 mecanismos de corresponsabilidad y fomento de la protección de las cuencas hídricas abastecedoras de Bucaramanga.",{"$f":"'[1]LÍNEA 3'!P43","v":2210295},"Número de mecanismos implementados de corresponsabilidad y fomento de la protección de las cuencas hídricas abastecedoras de Bucaramanga.",0,{"$f":"'[1]LÍNEA 3'!S43","v":30},{"$f":"'[1]LÍNEA 3'!T43","v":2},6.6666666666666666E-2,{"$f":"'[1]LÍNEA 3'!U43","v":9},0.3,{"$f":"'[1]LÍNEA 3'!V43","v":10},0.33333333333333331,{"$f":"'[1]LÍNEA 3'!W43","v":9},0.3,{"$f":"'[17]2016'!K34","v":2},{"$f":"'[17]2017'!K34","v":5},{"$f":"'[17]2018'!K34","v":9},{"$f":"'[17]2019'!K34","v":0},1,1,0.55555555555555558,0.55555555555555558,0.9,0.9,0,0,0.53333333333333333,0.53333333333333333,0.53333333333333333,{"$f":"'[17]2016'!P34","v":2800},{"$f":"'[17]2016'!Q34","v":0},{"$f":"'[17]2016'!R34","v":0},0," -",{"$f":"'[17]2017'!P34","v":65000},{"$f":"'[17]2017'!Q34","v":0},{"$f":"'[17]2017'!R34","v":0},0," -",{"$f":"'[17]2018'!P34","v":0},{"$f":"'[17]2018'!Q34","v":0},{"$f":"'[17]2018'!R34","v":0}," -"," -",{"$f":"'[17]2019'!P34","v":0},{"$f":"'[17]2019'!Q34","v":0},{"$f":"'[17]2019'!R34","v":0}," -"," -",67800,0,0,0," -","6. Agua limpia y saneamiento","Ambiental",{"$f":"'[1]LÍNEA 3'!AQ43","v":"Sec. Salud y Ambiente"}]
[null,null,null,null,null,null,null,null,null,null,null,null,null,null,null,null,null,null,null,null,null,null,null,null,null,null,null,null,null,null,null,null,null,null,null,null,null,null,null,null,null,null,"Implementar 1 sistema de transformación de residuos de aceite de grasas de origen animal y/o vegetal que involucre a la ciudadanía y al sector empresarial.",{"$f":"'[1]LÍNEA 3'!P44","v":" -"},"Número de sistemas de transformación de residuos de aceite de grasas de origen animal y/o vegetal que involucre a la ciudadanía y al sector empresarial implementadas.",0,{"$f":"'[1]LÍNEA 3'!S44","v":1},{"$f":"'[1]LÍNEA 3'!T44","v":0},0,{"$f":"'[1]LÍNEA 3'!U44","v":0},0,{"$f":"'[1]LÍNEA 3'!V44","v":0},0,{"$f":"'[1]LÍNEA 3'!W44","v":1},1,{"$f":"'[17]2016'!K35","v":0},{"$f":"'[17]2017'!K35","v":0},{"$f":"'[17]2018'!K35","v":0},{"$f":"'[17]2019'!K35","v":0}," -"," -"," -"," -"," -"," -",0,0,0,0,0,{"$f":"'[17]2016'!P35","v":0},{"$f":"'[17]2016'!Q35","v":0},{"$f":"'[17]2016'!R35","v":0}," -"," -",{"$f":"'[17]2017'!P35","v":0},{"$f":"'[17]2017'!Q35","v":0},{"$f":"'[17]2017'!R35","v":0}," -"," -",{"$f":"'[17]2018'!P35","v":0},{"$f":"'[17]2018'!Q35","v":0},{"$f":"'[17]2018'!R35","v":0}," -"," -",{"$f":"'[17]2019'!P35","v":0},{"$f":"'[17]2019'!Q35","v":0},{"$f":"'[17]2019'!R35","v":0}," -"," -",0,0,0," -"," -","6. Agua limpia y saneamiento","Ambiental",{"$f":"'[1]LÍNEA 3'!AQ44","v":"Sec. Salud y Ambiente"}]
[null,null,null,null,null,null,null,null,null,null,null,null,null,null,null,null,null,null,null,null,null,null,null,null,null,null,null,null,null,null,null,null,null,null,null,null,null,null,null,null,null,null,"Clausurar 5 hectáreas en el sitio de disposición final.",{"$f":"'[1]LÍNEA 3'!P45","v":"05410706"},"Número de hectáreas clausuradas en el sitio de disposición final.",5,{"$f":"'[1]LÍNEA 3'!S45","v":5},{"$f":"'[1]LÍNEA 3'!T45","v":1},0.2,{"$f":"'[1]LÍNEA 3'!U45","v":1},0.2,{"$f":"'[1]LÍNEA 3'!V45","v":1},0.2,{"$f":"'[1]LÍNEA 3'!W45","v":2},0.4,{"$f":"'[25]2016'!K12","v":1},{"$f":"'[25]2017'!K12","v":1},{"$f":"'[25]2018'!K12","v":0.36},{"$f":"'[25]2019'!K12","v":0},1,1,1,1,0.36,0.36,0,0,0.47199999999999998,0.47199999999999998,0.47199999999999998,{"$f":"'[25]2016'!P12","v":4593380},{"$f":"'[25]2016'!Q12","v":3343346},{"$f":"'[25]2016'!R12","v":0},0.72786183594651432," -",{"$f":"'[25]2017'!P12","v":3772886},{"$f":"'[25]2017'!Q12","v":1052475},{"$f":"'[25]2017'!R12","v":0},0.27895754072611789," -",{"$f":"'[25]2018'!P12","v":2525000},{"$f":"'[25]2018'!Q12","v":988349},{"$f":"'[25]2018'!R12","v":0},0.39142534653465344," -",{"$f":"'[25]2019'!P12","v":1200000},{"$f":"'[25]2019'!Q12","v":0},{"$f":"'[25]2019'!R12","v":0},0," -",12091266,5384170,0,0.44529414868550571," -","6. Agua limpia y saneamiento","Ambiental",{"$f":"'[1]LÍNEA 3'!AQ45","v":"EMAB"}]
[null,null,null,null,null,null,null,null,null,null,null,null,null,null,null,null,null,null,null,null,null,null,null,null,null,null,null,null,null,null,null,null,null,null,null,null,null,null,null,null,null,null,"Mantener un máximo de 800 Mg/l O2 la concentración de DBO (Demanda Bioquímica de Oxigeno).",{"$f":"'[1]LÍNEA 3'!P46","v":"05410708 05410709 05413101 05413102"},"Concentración de DBO de los lixiviados tratados en la Planta de Tratamiento de Lixiviados - PTLX.",0,{"$f":"'[1]LÍNEA 3'!S46","v":800},{"$f":"'[1]LÍNEA 3'!T46","v":800},0.25,{"$f":"'[1]LÍNEA 3'!U46","v":800},0.25,{"$f":"'[1]LÍNEA 3'!V46","v":800},0.25,{"$f":"'[1]LÍNEA 3'!W46","v":800},0.25,{"$f":"'[25]2016'!K13","v":5},{"$f":"'[25]2017'!K13","v":5.8},{"$f":"'[25]2018'!K13","v":5.3},{"$f":"'[25]2019'!K13","v":0},{"$f":"+AV46/BD46","v":160},1,{"$f":"+AX46/BE46","v":137.93103448275863},1,{"$f":"+AZ46/BF46","v":150.9433962264151},1,0,0,0.75,0.75,0.75,{"$f":"'[25]2016'!P13","v":669138},{"$f":"'[25]2016'!Q13","v":509588},{"$f":"'[25]2016'!R13","v":0},0.76155890115342428," -",{"$f":"'[25]2017'!P13","v":647520},{"$f":"'[25]2017'!Q13","v":619748},{"$f":"'[25]2017'!R13","v":0},0.95711020509019029," -",{"$f":"'[25]2018'!P13","v":713890},{"$f":"'[25]2018'!Q13","v":687530},{"$f":"'[25]2018'!R13","v":0},0.96307554385129357," -",{"$f":"'[25]2019'!P13","v":540000},{"$f":"'[25]2019'!Q13","v":0},{"$f":"'[25]2019'!R13","v":0},0," -",2570548,1816866,0,0.70680104008950617," -","11. Ciudades y comunidades sostenibles","Ambiental",{"$f":"'[1]LÍNEA 3'!AQ46","v":"EMAB"}]
[null,null,null,null,null,null,null,null,null,null,null,null,null,null,null,null,null,null,null,null,null,null,null,null,null,null,null,null,null,null,null,null,null,null,null,null,null,null,null,null,null,null,"Mantener un máximo de 400 Mg/l la concentración de SST (Sólidos Suspendidos Totales).",{"$f":"'[1]LÍNEA 3'!P47","v":"05410708 05410709 05413101 05413102"},"Concentración de SST de los lixiviados tratados en la Planta de Tratamiento de Lixiviados - PTLX.",0,{"$f":"'[1]LÍNEA 3'!S47","v":400},{"$f":"'[1]LÍNEA 3'!T47","v":400},0.25,{"$f":"'[1]LÍNEA 3'!U47","v":400},0.25,{"$f":"'[1]LÍNEA 3'!V47","v":400},0.25,{"$f":"'[1]LÍNEA 3'!W47","v":400},0.25,{"$f":"'[25]2016'!K14","v":8},{"$f":"'[25]2017'!K14","v":10},{"$f":"'[25]2018'!K14","v":10},{"$f":"'[25]2019'!K14","v":0},{"$f":"+AV47/BD47","v":50},1,{"$f":"+AX47/BE47","v":40},1,{"$f":"+AZ47/BF47","v":40},1,0,0,0.75,0.75,0.75,{"$f":"'[25]2016'!P14","v":669138},{"$f":"'[25]2016'!Q14","v":509588},{"$f":"'[25]2016'!R14","v":0},0.76155890115342428," -",{"$f":"'[25]2017'!P14","v":647520},{"$f":"'[25]2017'!Q14","v":619748},{"$f":"'[25]2017'!R14","v":0},0.95711020509019029," -",{"$f":"'[25]2018'!P14","v":713890},{"$f":"'[25]2018'!Q14","v":687530},{"$f":"'[25]2018'!R14","v":0},0.96307554385129357," -",{"$f":"'[25]2019'!P14","v":540000},{"$f":"'[25]2019'!Q14","v":0},{"$f":"'[25]2019'!R14","v":0},0," -",2570548,1816866,0,0.70680104008950617," -","11. Ciudades y comunidades sostenibles","Ambiental",{"$f":"'[1]LÍNEA 3'!AQ47","v":"EMAB"}]
[null,null,null,null,null,null,null,null,null,null,null,null,null,null,null,null,null,null,null,null,null,null,null,null,null,null,null,null,null,null,null,null,null,null,null,null,null,null,null,null,null,null,"Mantener un máximo de 2.000 Mg/l la concentración de DQO (Demanda Química de Oxigeno).",{"$f":"'[1]LÍNEA 3'!P48","v":"05410708 05410709 05413101 05413102"},"Concentración de DQO de los lixiviados tratados en la Planta de Tratamiento de Lixiviados - PTLX.",0,{"$f":"'[1]LÍNEA 3'!S48","v":2000},{"$f":"'[1]LÍNEA 3'!T48","v":2000},0.25,{"$f":"'[1]LÍNEA 3'!U48","v":2000},0.25,{"$f":"'[1]LÍNEA 3'!V48","v":2000},0.25,{"$f":"'[1]LÍNEA 3'!W48","v":2000},0.25,{"$f":"'[25]2016'!K15","v":20},{"$f":"'[25]2017'!K15","v":15},{"$f":"'[25]2018'!K15","v":15},{"$f":"'[25]2019'!K15","v":0},{"$f":"+AV48/BD48","v":100},1,133.33333333333334,1,133.33333333333334,1,0,0,0.75,0.75,0.75,{"$f":"'[25]2016'!P15","v":669138},{"$f":"'[25]2016'!Q15","v":509588},{"$f":"'[25]2016'!R15","v":0},0.76155890115342428," -",{"$f":"'[25]2017'!P15","v":647520},{"$f":"'[25]2017'!Q15","v":619748},{"$f":"'[25]2017'!R15","v":0},0.95711020509019029," -",{"$f":"'[25]2018'!P15","v":713890},{"$f":"'[25]2018'!Q15","v":687530},{"$f":"'[25]2018'!R15","v":0},0.96307554385129357," -",{"$f":"'[25]2019'!P15","v":540000},{"$f":"'[25]2019'!Q15","v":0},{"$f":"'[25]2019'!R15","v":0},0," -",2570548,1816866,0,0.70680104008950617," -","11. Ciudades y comunidades sostenibles","Ambiental",{"$f":"'[1]LÍNEA 3'!AQ48","v":"EMAB"}]
[null,null,null,null,null,"Mantener en 0,52 el Índice de Riesgo de la Calidad del Agua - IRCA.",0.52,0.52,{"$f":"+H49","v":0.52},0.52,{"$f":"+J49","v":0.52},null,0.52,{"$f":"+M49","v":0.52},null,0.52,{"$f":"+P49","v":0.52},null,0.52,{"$f":"+S49","v":0.52},null,0.49,{"$f":"+V49","v":0.49},null,{"$f":"+X49","v":0},null,{"$f":"+Z49","v":0},null,{"$f":"+AB49","v":0},{"$f":"+IF(K49=0,\" -\",W49/K49)","v":0.94230769230769229},{"$f":"+IF(K49=0,\" -\",IF(AD49>100%,100%,AD49))","v":0.94230769230769229},{"$f":"+IF(N49=0,\" -\",Y49/N49)","v":0},{"$f":"+IF(N49=0,\" -\",IF(AF49>100%,100%,AF49))","v":0},{"$f":"+IF(Q49=0,\" -\",AA49/Q49)","v":0},{"$f":"+IF(Q49=0,\" -\",IF(AH49>100%,100%,AH49))","v":0},{"$f":"+IF(T49=0,\" -\",AC49/T49)","v":0},{"$f":"+IF(T49=0,\" -\",IF(AJ49>100%,100%,AJ49))","v":0},{"$f":"+AVERAGE(W49,Y49,AA49,AC49)/I49","v":0.23557692307692307},{"$f":"+IF(AL49>100%,100%,IF(AL49<0%,0%,AL49))","v":0.23557692307692307},null,null,null,"Mantener la disposición técnica del 100% de los residuos que ingresan a la celda de disposición final.",{"$f":"'[1]LÍNEA 3'!P49","v":"05410707"},"Porcentaje de residuos que ingresan a la celda de disposición final mantenidos en la disposición técnica.",1,{"$f":"'[1]LÍNEA 3'!S49","v":1},{"$f":"'[1]LÍNEA 3'!T49","v":1},0.5,{"$f":"'[1]LÍNEA 3'!U49","v":1},0.5,{"$f":"'[1]LÍNEA 3'!V49","v":0},0,{"$f":"'[1]LÍNEA 3'!W49","v":0},0,{"$f":"'[25]2016'!K16","v":1},{"$f":"'[25]2017'!K16","v":1},{"$f":"'[25]2018'!K16","v":1},{"$f":"'[25]2019'!K16","v":0},1,1,1,1," -"," -"," -"," -",{"$f":"+SUM(BD49:BE49)/AU49","v":2},1,1,{"$f":"'[25]2016'!P16","v":5250000},{"$f":"'[25]2016'!Q16","v":5246000},{"$f":"'[25]2016'!R16","v":0},0.99923809523809526," -",{"$f":"'[25]2017'!P16","v":5507693},{"$f":"'[25]2017'!Q16","v":5470710},{"$f":"'[25]2017'!R16","v":0},0.99328521034124451," -",{"$f":"'[25]2018'!P16","v":6200000},{"$f":"'[25]2018'!Q16","v":6000000},{"$f":"'[25]2018'!R16","v":0},0.967741935483871," -",{"$f":"'[25]2019'!P16","v":0},{"$f":"'[25]2019'!Q16","v":0},{"$f":"'[25]2019'!R16","v":0}," -"," -",16957693,16716710,0,0.98578916365569302," -","11. Ciudades y comunidades sostenibles","Ambiental",{"$f":"'[1]LÍNEA 3'!AQ49","v":"EMAB"}]
[null,null,null,null,null,null,null,null,null,null,null,null,null,null,null,null,null,null,null,null,null,null,null,null,null,null,null,null,null,null,null,null,null,null,null,null,null,null,null,null,null,null,"Tratar 1.200 toneladas de residuos orgánicos en la planta de compostaje.",{"$f":"'[1]LÍNEA 3'!P50","v":" -"},"Número de toneladas de residuos orgánicos tratados en la planta de compostaje.",1414,{"$f":"'[1]LÍNEA 3'!S50","v":1200},{"$f":"'[1]LÍNEA 3'!T50","v":200},0.16666666666666666,{"$f":"'[1]LÍNEA 3'!U50","v":300},0.25,{"$f":"'[1]LÍNEA 3'!V50","v":400},0.33333333333333331,{"$f":"'[1]LÍNEA 3'!W50","v":300},0.25,{"$f":"'[25]2016'!K17","v":183},{"$f":"'[25]2017'!K17","v":1289},{"$f":"'[25]2018'!K17","v":641},{"$f":"'[25]2019'!K17","v":0},0.91500000000000004,0.91500000000000004,4.2966666666666669,1,1.6025,1,0,0,1.7608333333333333,1,1,{"$f":"'[25]2016'!P17","v":0},{"$f":"'[25]2016'!Q17","v":0},{"$f":"'[25]2016'!R17","v":0}," -"," -",{"$f":"'[25]2017'!P17","v":0},{"$f":"'[25]2017'!Q17","v":0},{"$f":"'[25]2017'!R17","v":0}," -"," -",{"$f":"'[25]2018'!P17","v":10000},{"$f":"'[25]2018'!Q17","v":0},{"$f":"'[25]2018'!R17","v":0},0," -",{"$f":"'[25]2019'!P17","v":0},{"$f":"'[25]2019'!Q17","v":0},{"$f":"'[25]2019'!R17","v":0}," -"," -",10000,0,0,0," -","11. Ciudades y comunidades sostenibles","Ambiental",{"$f":"'[1]LÍNEA 3'!AQ50","v":"EMAB"}]
[null,null,null,null,null,null,null,null,null,null,null,null,null,null,null,null,null,null,null,null,null,null,null,null,null,null,null,null,null,null,null,null,null,null,null,null,null,null,null,null,null,null,"Generar 300 toneladas de abono orgánico en la planta de compostaje.",{"$f":"'[1]LÍNEA 3'!P51","v":" -"},"Número de toneladas de abono orgánico generadas en la planta de compostaje.",292,{"$f":"'[1]LÍNEA 3'!S51","v":300},{"$f":"'[1]LÍNEA 3'!T51","v":75},0.25,{"$f":"'[1]LÍNEA 3'!U51","v":75},0.25,{"$f":"'[1]LÍNEA 3'!V51","v":75},0.25,{"$f":"'[1]LÍNEA 3'!W51","v":75},0.25,{"$f":"'[25]2016'!K18","v":36},{"$f":"'[25]2017'!K18","v":1073},{"$f":"'[25]2018'!K18","v":550},{"$f":"'[25]2019'!K18","v":0},0.48,0.48,14.306666666666667,1,7.333333333333333,1,0,0,5.53,1,1,{"$f":"'[25]2016'!P18","v":0},{"$f":"'[25]2016'!Q18","v":0},{"$f":"'[25]2016'!R18","v":0}," -"," -",{"$f":"'[25]2017'!P18","v":0},{"$f":"'[25]2017'!Q18","v":0},{"$f":"'[25]2017'!R18","v":0}," -"," -",{"$f":"'[25]2018'!P18","v":10000},{"$f":"'[25]2018'!Q18","v":0},{"$f":"'[25]2018'!R18","v":0},0," -",{"$f":"'[25]2019'!P18","v":0},{"$f":"'[25]2019'!Q18","v":0},{"$f":"'[25]2019'!R18","v":0}," -"," -",10000,0,0,0," -","11. Ciudades y comunidades sostenibles","Ambiental",{"$f":"'[1]LÍNEA 3'!AQ51","v":"EMAB"}]
[null,null,null,null,null,null,null,null,null,null,null,null,null,null,null,null,null,null,null,null,null,null,null,null,null,null,null,null,null,null,null,null,null,null,null,null,null,null,null,null,null,null,"Reciclar 10.000 toneladas mediante la ruta de reciclaje.",{"$f":"'[1]LÍNEA 3'!P52","v":" -"},"Número de toneladas recicladas mediante la ruta de reciclaje.",9105,{"$f":"'[1]LÍNEA 3'!S52","v":10000},{"$f":"'[1]LÍNEA 3'!T52","v":2500},0.25,{"$f":"'[1]LÍNEA 3'!U52","v":2500},0.25,{"$f":"'[1]LÍNEA 3'!V52","v":2500},0.25,{"$f":"'[1]LÍNEA 3'!W52","v":2500},0.25,{"$f":"'[25]2016'!K19","v":2794},{"$f":"'[25]2017'!K19","v":5714},{"$f":"'[25]2018'!K19","v":2952},{"$f":"'[25]2019'!K19","v":0},1.1175999999999999,1,2.2856000000000001,1,1.1808000000000001,1,0,0,1.1459999999999999,1,1,{"$f":"'[25]2016'!P19","v":0},{"$f":"'[25]2016'!Q19","v":0},{"$f":"'[25]2016'!R19","v":0}," -"," -",{"$f":"'[25]2017'!P19","v":0},{"$f":"'[25]2017'!Q19","v":0},{"$f":"'[25]2017'!R19","v":0}," -"," -",{"$f":"'[25]2018'!P19","v":2543417},{"$f":"'[25]2018'!Q19","v":689737},{"$f":"'[25]2018'!R19","v":0},0.27118518119521889," -",{"$f":"'[25]2019'!P19","v":0},{"$f":"'[25]2019'!Q19","v":0},{"$f":"'[25]2019'!R19","v":0}," -"," -",2543417,689737,0,0.27118518119521889," -","11. Ciudades y comunidades sostenibles","Ambiental",{"$f":"'[1]LÍNEA 3'!AQ52","v":"EMAB"}]
[null,null,null,null,null,null,null,null,null,null,null,null,null,null,null,null,null,null,null,null,null,null,null,null,null,null,null,null,null,null,null,null,null,null,null,null,null,null,null,null,null,null,"Sensibilizar 314.000 personas en el manejo adecuado de residuos sólidos.",{"$f":"'[1]LÍNEA 3'!P53","v":"03219108"},"Número de personas sensibilizadas en el manejo adecuado de residuos sólidos.",271087,{"$f":"'[1]LÍNEA 3'!S53","v":314000},{"$f":"'[1]LÍNEA 3'!T53","v":77000},0.24522292993630573,{"$f":"'[1]LÍNEA 3'!U53","v":78000},0.24840764331210191,{"$f":"'[1]LÍNEA 3'!V53","v":79000},0.25159235668789809,{"$f":"'[1]LÍNEA 3'!W53","v":80000},0.25477707006369427,{"$f":"'[25]2016'!K20","v":131945},{"$f":"'[25]2017'!K20","v":134777},{"$f":"'[25]2018'!K20","v":26697},{"$f":"'[25]2019'!K20","v":0},1.7135714285714285,1,1.7279102564102564,1,0.33793670886075949,0.33793670886075949,0,0,0.93445541401273891,0.93445541401273891,0.93445541401273891,{"$f":"'[25]2016'!P20","v":51442},{"$f":"'[25]2016'!Q20","v":46369},{"$f":"'[25]2016'!R20","v":0},0.90138408304498274," -",{"$f":"'[25]2017'!P20","v":33278},{"$f":"'[25]2017'!Q20","v":7541},{"$f":"'[25]2017'!R20","v":0},0.22660616623595167," -",{"$f":"'[25]2018'!P20","v":150000},{"$f":"'[25]2018'!Q20","v":0},{"$f":"'[25]2018'!R20","v":0},0," -",{"$f":"'[25]2019'!P20","v":50000},{"$f":"'[25]2019'!Q20","v":0},{"$f":"'[25]2019'!R20","v":0},0," -",284720,53910,0,0.18934391683057039," -","11. Ciudades y comunidades sostenibles","Ambiental",{"$f":"'[1]LÍNEA 3'!AQ53","v":"EMAB"}]
[null,null,null,null,null,null,null,null,null,null,null,null,null,null,null,null,null,null,null,null,null,null,null,null,null,null,null,null,null,null,null,null,null,null,null,null,null,null,null,null,{"$f":"+RESUMEN!J75","v":0.83333333333333337},"EDUCACIÓN AMBIENTAL","Implementar 6 estrategias que incluyan acciones de fortalecimiento de la cultura ambiental ciudadana.",{"$f":"'[1]LÍNEA 3'!P54","v":6210151},"Número de estrategias que incluyan acciones de fortalecimiento de la cultura ambiental ciudadana implementadas.",3,{"$f":"'[1]LÍNEA 3'!S54","v":6},{"$f":"'[1]LÍNEA 3'!T54","v":1},0.16666666666666666,{"$f":"'[1]LÍNEA 3'!U54","v":2},0.33333333333333331,{"$f":"'[1]LÍNEA 3'!V54","v":2},0.33333333333333331,{"$f":"'[1]LÍNEA 3'!W54","v":1},0.16666666666666666,{"$f":"'[17]2016'!K36","v":1},{"$f":"'[17]2017'!K36","v":2},{"$f":"'[17]2018'!K36","v":2},{"$f":"'[17]2019'!K36","v":0},1,1,1,1,1,1,0,0,0.83333333333333337,0.83333333333333337,0.83333333333333337,{"$f":"'[17]2016'!P36","v":52000},{"$f":"'[17]2016'!Q36","v":24609},{"$f":"'[17]2016'!R36","v":0},0.47325," -",{"$f":"'[17]2017'!P36","v":54600},{"$f":"'[17]2017'!Q36","v":19629},{"$f":"'[17]2017'!R36","v":0},0.35950549450549452," -",{"$f":"'[17]2018'!P36","v":56000},{"$f":"'[17]2018'!Q36","v":29400},{"$f":"'[17]2018'!R36","v":0},0.52500000000000002," -",{"$f":"'[17]2019'!P36","v":60196},{"$f":"'[17]2019'!Q36","v":0},{"$f":"'[17]2019'!R36","v":0},0," -",222796,73638,0,0.33051760354763998," -","11. Ciudades y comunidades sostenibles","Ambiental",{"$f":"'[1]LÍNEA 3'!AQ54","v":"Sec. Salud y Ambiente"}]
[null,null,null,null,null,null,null,null,null,null,null,null,null,null,null,null,null,null,null,null,null,null,null,null,null,null,null,null,null,null,null,null,null,null,null,null,null,null,null,null,{"$f":"+RESUMEN!J76","v":0.71666666666666667},"CALIDAD AMBIENTAL Y ADAPTACIÓN AL CAMBIO CLIMÁTICO","Implementar y mantener 1 observatorio ambiental.",{"$f":"'[1]LÍNEA 3'!P55","v":6210153},"Número de observatorios ambientales implementados y mantenidos.",0,{"$f":"'[1]LÍNEA 3'!S55","v":1},{"$f":"'[1]LÍNEA 3'!T55","v":0},0,{"$f":"'[1]LÍNEA 3'!U55","v":1},0.33,{"$f":"'[1]LÍNEA 3'!V55","v":1},0.33,{"$f":"'[1]LÍNEA 3'!W55","v":1},0.34,{"$f":"'[17]2016'!K37","v":0},{"$f":"'[17]2017'!K37","v":0.8},{"$f":"'[17]2018'!K37","v":0.3},{"$f":"'[17]2019'!K37","v":0}," -"," -",0.8,0.8,0.3,0.3,0,0,{"$f":"+AVERAGE(BE55:BG55)/AU55","v":0.3666666666666667},0.3666666666666667,0.3666666666666667,{"$f":"'[17]2016'!P37","v":0},{"$f":"'[17]2016'!Q37","v":0},{"$f":"'[17]2016'!R37","v":0}," -"," -",{"$f":"'[17]2017'!P37","v":45361},{"$f":"'[17]2017'!Q37","v":0},{"$f":"'[17]2017'!R37","v":0},0," -",{"$f":"'[17]2018'!P37","v":0},{"$f":"'[17]2018'!Q37","v":0},{"$f":"'[17]2018'!R37","v":0}," -"," -",{"$f":"'[17]2019'!P37","v":72236},{"$f":"'[17]2019'!Q37","v":0},{"$f":"'[17]2019'!R37","v":0},0," -",117597,0,0,0," -","11. Ciudades y comunidades sostenibles","Ambiental",{"$f":"'[1]LÍNEA 3'!AQ55","v":"Sec. Salud y Ambiente"}]
[null,null,null,null,null,null,null,null,null,null,null,null,null,null,null,null,null,null,null,null,null,null,null,null,null,null,null,null,null,null,null,null,null,null,null,null,null,null,null,null,null,null,"Realizar el estudio que contenga la huella de carbono en la fase I y II de la Administración Municipal.",{"$f":"'[1]LÍNEA 3'!P56","v":6210153},"Porcentaje de avance del estudio que contenga la huella de carbono en la fase I y II de la Administración Municipal.",0,{"$f":"'[1]LÍNEA 3'!S56","v":1},{"$f":"'[1]LÍNEA 3'!T56","v":0},0,{"$f":"'[1]LÍNEA 3'!U56","v":0.5},0.5,{"$f":"'[1]LÍNEA 3'!V56","v":0.5},0.5,{"$f":"'[1]LÍNEA 3'!W56","v":0},0,{"$f":"'[17]2016'!K38","v":0},{"$f":"'[17]2017'!K38","v":0.5},{"$f":"'[17]2018'!K38","v":0.5},{"$f":"'[17]2019'!K38","v":0}," -"," -",1,1,1,1," -"," -",1,1,1,{"$f":"'[17]2016'!P38","v":0},{"$f":"'[17]2016'!Q38","v":0},{"$f":"'[17]2016'!R38","v":0}," -"," -",{"$f":"'[17]2017'!P38","v":10500},{"$f":"'[17]2017'!Q38","v":0},{"$f":"'[17]2017'!R38","v":0},0," -",{"$f":"'[17]2018'!P38","v":38500},{"$f":"'[17]2018'!Q38","v":21000},{"$f":"'[17]2018'!R38","v":0},0.54545454545454541," -",{"$f":"'[17]2019'!P38","v":0},{"$f":"'[17]2019'!Q38","v":0},{"$f":"'[17]2019'!R38","v":0}," -"," -",49000,21000,0,0.42857142857142855," -","11. Ciudades y comunidades sostenibles","Ambiental",{"$f":"'[1]LÍNEA 3'!AQ56","v":"Sec. Salud y Ambiente"}]
[null,null,null,null,null,null,null,null,null,null,null,null,null,null,null,null,null,null,null,null,null,null,null,null,null,null,null,null,null,null,null,null,null,null,null,null,null,null,null,null,null,null,"Mantener implementado el SIGAM.",{"$f":"'[1]LÍNEA 3'!P57","v":"2210919\r6210153"},"Número de SIGAMs implementados.",1,{"$f":"'[1]LÍNEA 3'!S57","v":1},{"$f":"'[1]LÍNEA 3'!T57","v":1},0.25,{"$f":"'[1]LÍNEA 3'!U57","v":1},0.25,{"$f":"'[1]LÍNEA 3'!V57","v":1},0.25,{"$f":"'[1]LÍNEA 3'!W57","v":1},0.25,{"$f":"'[17]2016'!K39","v":1},{"$f":"'[17]2017'!K39","v":1},{"$f":"'[17]2018'!K39","v":1},{"$f":"'[17]2019'!K39","v":0},1,1,1,1,1,1,0,0,{"$f":"+AVERAGE(BD57:BG57)/AU57","v":0.75},0.75,0.75,{"$f":"'[17]2016'!P39","v":160700},{"$f":"'[17]2016'!Q39","v":74977},{"$f":"'[17]2016'!R39","v":0},0.46656502800248911," -",{"$f":"'[17]2017'!P39","v":158297},{"$f":"'[17]2017'!Q39","v":158297},{"$f":"'[17]2017'!R39","v":0},1," -",{"$f":"'[17]2018'!P39","v":161057},{"$f":"'[17]2018'!Q39","v":52200},{"$f":"'[17]2018'!R39","v":0},0.32410885587090282," -",{"$f":"'[17]2019'!P39","v":97240},{"$f":"'[17]2019'!Q39","v":0},{"$f":"'[17]2019'!R39","v":0},0," -",577294,285474,0,0.4945036671089601," -","11. Ciudades y comunidades sostenibles","Ambiental",{"$f":"'[1]LÍNEA 3'!AQ57","v":"Sec. Salud y Ambiente"}]
[null,null,null,null,null,null,null,null,null,null,null,null,null,null,null,null,null,null,null,null,null,null,null,null,null,null,null,null,null,null,null,null,null,null,null,null,null,null,null,null,null,null,"Desarrollar 4 estrategias ambientales en las fase I y II de la Administración Municipal.",{"$f":"'[1]LÍNEA 3'!P58","v":6210153},"Número de estrategias ambientales desarrolladas en las fases I y II de la Administración Municipal.",0,{"$f":"'[1]LÍNEA 3'!S58","v":4},{"$f":"'[1]LÍNEA 3'!T58","v":1},0.25,{"$f":"'[1]LÍNEA 3'!U58","v":1},0.25,{"$f":"'[1]LÍNEA 3'!V58","v":1},0.25,{"$f":"'[1]LÍNEA 3'!W58","v":1},0.25,{"$f":"'[17]2016'!K40","v":1},{"$f":"'[17]2017'!K40","v":1},{"$f":"'[17]2018'!K40","v":1},{"$f":"'[17]2019'!K40","v":0},1,1,1,1,1,1,0,0,0.75,0.75,0.75,{"$f":"'[17]2016'!P40","v":11800},{"$f":"'[17]2016'!Q40","v":0},{"$f":"'[17]2016'!R40","v":0},0," -",{"$f":"'[17]2017'!P40","v":44000},{"$f":"'[17]2017'!Q40","v":0},{"$f":"'[17]2017'!R40","v":0},0," -",{"$f":"'[17]2018'!P40","v":36300},{"$f":"'[17]2018'!Q40","v":19800},{"$f":"'[17]2018'!R40","v":0},0.54545454545454541," -",{"$f":"'[17]2019'!P40","v":34728},{"$f":"'[17]2019'!Q40","v":0},{"$f":"'[17]2019'!R40","v":0},0," -",126828,19800,0,0.15611694578484248," -","11. Ciudades y comunidades sostenibles","Ambiental",{"$f":"'[1]LÍNEA 3'!AQ58","v":"Sec. Salud y Ambiente"}]
[null,null,null,null,null,null,null,null,null,null,null,null,null,null,null,null,null,null,null,null,null,null,null,null,null,null,null,null,null,null,null,null,null,null,null,null,null,null,null,null,null,null,null,{"$f":"'[1]LÍNEA 3'!P59","v":0},null,null,{"$f":"'[1]LÍNEA 3'!S59","v":0},{"$f":"'[1]LÍNEA 3'!T59","v":0},{"$f":"+AVERAGE(AW39:AW58)","v":0.16726114649681528},{"$f":"'[1]LÍNEA 3'!U59","v":0},{"$f":"+AVERAGE(AY39:AY58)","v":0.29958704883227172},{"$f":"'[1]LÍNEA 3'!V59","v":0},0.28057961783439489,{"$f":"'[1]LÍNEA 3'!W59","v":0},0.25257218683651805,null,null,null,null,null,{"$f":"+AVERAGE(BI39:BI58)","v":0.95678571428571424},null,0.93086419753086425,null,0.81752568875651532,null,0,null,{"$f":"+AVERAGE(BQ39:BQ58)","v":0.73865610403397031}]
[null,null,null,{"$f":"+RESUMEN!J77","v":0.57052469135802464},"RURALIDAD CON EQUIDAD","Mantener en 0 los casos presentados de fiebre AFTOSA y BRUCELOSIS.",0,0,1E-3,0,{"$f":"+J60-G60","v":0},null,0,{"$f":"+M60-J60","v":0},null,0,{"$f":"+P60-M60","v":0},null,0,{"$f":"+S60-P60","v":0},null,0,{"$f":"+V60","v":0},null,{"$f":"+X60","v":0},null,{"$f":"+Z60","v":0},null,{"$f":"+AB60","v":0},null,{"$f":"+AD60","v":0},null,{"$f":"+AF60","v":0},null,{"$f":"+AH60","v":0},null,{"$f":"+AJ60","v":0},null,{"$f":"+AL60","v":0},null,{"$f":"+RESUMEN!J78","v":0.65},"AGRICULTURA SOSTENIBLE PARA LA SEGURIDAD ALIMENTARIA","Implementar 210 huertas familiares rurales y urbanas en los corregimientos.",{"$f":"'[1]LÍNEA 3'!P60","v":2210711},"Número de huertas familiares rurales y urbanas implementadas en los corregimientos.",0,{"$f":"'[1]LÍNEA 3'!S60","v":210},{"$f":"'[1]LÍNEA 3'!T60","v":0},0,{"$f":"'[1]LÍNEA 3'!U60","v":70},0.33333333333333331,{"$f":"'[1]LÍNEA 3'!V60","v":70},0.33333333333333331,{"$f":"'[1]LÍNEA 3'!W60","v":70},0.33333333333333331,{"$f":"'[3]2016'!K128","v":0},{"$f":"'[3]2017'!K129","v":18},{"$f":"'[3]2018'!K129","v":45},{"$f":"'[3]2019'!K129","v":0}," -"," -",0.25714285714285712,0.25714285714285712,0.6428571428571429,0.6428571428571429,0,0,0.3,0.3,0.3,{"$f":"'[3]2016'!P128","v":0},{"$f":"'[3]2016'!Q128","v":0},{"$f":"'[3]2016'!R128","v":0}," -"," -",{"$f":"'[3]2017'!P129","v":0},{"$f":"'[3]2017'!Q129","v":0},{"$f":"'[3]2017'!R129","v":0}," -"," -",{"$f":"'[3]2018'!P129","v":31000},{"$f":"'[3]2018'!Q129","v":30250},{"$f":"'[3]2018'!R129","v":0},0.97580645161290325," -",{"$f":"'[3]2019'!P129","v":81901},{"$f":"'[3]2019'!Q129","v":0},{"$f":"'[3]2019'!R129","v":0},0," -",112901,30250,0,0.26793385355311289," -","2. Hambre cero","Agropecuario",{"$f":"'[1]LÍNEA 3'!AQ60","v":"Sec. Desarrollo Social"}]
[null,null,null,null,null,null,null,null,null,null,null,null,null,null,null,null,null,null,null,null,null,null,null,null,null,null,null,null,null,null,null,null,null,null,null,null,null,null,null,null,null,null,"Realizar 3 mercados campesinos en la ciudad.",{"$f":"'[1]LÍNEA 3'!P61","v":2210711},"Número de mercados campesinos realizados en la ciudad.",0,{"$f":"'[1]LÍNEA 3'!S61","v":3},{"$f":"'[1]LÍNEA 3'!T61","v":0},0,{"$f":"'[1]LÍNEA 3'!U61","v":1},0.33333333333333331,{"$f":"'[1]LÍNEA 3'!V61","v":1},0.33333333333333331,{"$f":"'[1]LÍNEA 3'!W61","v":1},0.33333333333333331,{"$f":"'[3]2016'!K129","v":0},{"$f":"'[3]2017'!K130","v":1},{"$f":"'[3]2018'!K130","v":28},{"$f":"'[3]2019'!K130","v":0}," -"," -",1,1,28,1,0,0,9.6666666666666661,1,1,{"$f":"'[3]2016'!P129","v":0},{"$f":"'[3]2016'!Q129","v":0},{"$f":"'[3]2016'!R129","v":0}," -"," -",{"$f":"'[3]2017'!P130","v":61995},{"$f":"'[3]2017'!Q130","v":61495},{"$f":"'[3]2017'!R130","v":0},0.99193483345431088," -",{"$f":"'[3]2018'!P130","v":160000},{"$f":"'[3]2018'!Q130","v":159455},{"$f":"'[3]2018'!R130","v":0},0.99659374999999994," -",{"$f":"'[3]2019'!P130","v":50000},{"$f":"'[3]2019'!Q130","v":0},{"$f":"'[3]2019'!R130","v":0},0," -",271995,220950,0,0.81233110902773953," -","2. Hambre cero","Agropecuario",{"$f":"'[1]LÍNEA 3'!AQ61","v":"Sec. Desarrollo Social"}]
[null,null,null,null,null,null,null,null,null,null,null,null,null,null,null,null,null,null,null,null,null,null,null,null,null,null,null,null,null,null,null,null,null,null,null,null,null,null,null,null,{"$f":"+RESUMEN!#REF!+RESUMEN!J79","v":{"$error":"#REF!"}},"NUESTRO PROYECTO AGROPECUARIO","Realizar 8 ciclos de vacunación contra fiebre aftosa y brucelosis en vacunos.",{"$f":"'[1]LÍNEA 3'!P62","v":2210711},"Número de ciclos de vacunación contra fiebre aftosa y brucelosis en vacunos.",8,{"$f":"'[1]LÍNEA 3'!S62","v":8},{"$f":"'[1]LÍNEA 3'!T62","v":2},0.25,{"$f":"'[1]LÍNEA 3'!U62","v":2},0.25,{"$f":"'[1]LÍNEA 3'!V62","v":2},0.25,{"$f":"'[1]LÍNEA 3'!W62","v":2},0.25,{"$f":"'[3]2016'!K130","v":3},{"$f":"'[3]2017'!K131","v":2},{"$f":"'[3]2018'!K131","v":1},{"$f":"'[3]2019'!K131","v":0},1.5,1,1,1,0.5,0.5,0,0,0.75,0.75,0.75,{"$f":"'[3]2016'!P130","v":128960},{"$f":"'[3]2016'!Q130","v":128960},{"$f":"'[3]2016'!R130","v":20751},1,0.16091035980148882,{"$f":"'[3]2017'!P131","v":76046},{"$f":"'[3]2017'!Q131","v":76046},{"$f":"'[3]2017'!R131","v":0},1," -",{"$f":"'[3]2018'!P131","v":90000},{"$f":"'[3]2018'!Q131","v":40066},{"$f":"'[3]2018'!R131","v":0},0.44517777777777778," -",{"$f":"'[3]2019'!P131","v":79881},{"$f":"'[3]2019'!Q131","v":0},{"$f":"'[3]2019'!R131","v":0},0," -",374887,245072,20751,0.65372232165959343,8.4673075667558925E-2,"12. Producción y consumo responsables","Agropecuario",{"$f":"'[1]LÍNEA 3'!AQ62","v":"Sec. Desarrollo Social"}]
[null,null,null,null,null,null,null,null,null,null,null,null,null,null,null,null,null,null,null,null,null,null,null,null,null,null,null,null,null,null,null,null,null,null,null,null,null,null,null,null,null,null,"Realizar 450 inseminaciones a vacunos.",{"$f":"'[1]LÍNEA 3'!P63","v":2210711},"Número de inseminaciones realizadas a vacunos.",600,{"$f":"'[1]LÍNEA 3'!S63","v":450},{"$f":"'[1]LÍNEA 3'!T63","v":0},0,{"$f":"'[1]LÍNEA 3'!U63","v":150},0.33333333333333331,{"$f":"'[1]LÍNEA 3'!V63","v":150},0.33333333333333331,{"$f":"'[1]LÍNEA 3'!W63","v":150},0.33333333333333331,{"$f":"'[3]2016'!K131","v":61},{"$f":"'[3]2017'!K132","v":89},{"$f":"'[3]2018'!K132","v":200},{"$f":"'[3]2019'!K132","v":0}," -"," -",0.59333333333333338,0.59333333333333338,1.3333333333333333,1,0,0,0.77777777777777779,0.77777777777777779,0.77777777777777779,{"$f":"'[3]2016'!P131","v":0},{"$f":"'[3]2016'!Q131","v":0},{"$f":"'[3]2016'!R131","v":0}," -"," -",{"$f":"'[3]2017'!P132","v":21861},{"$f":"'[3]2017'!Q132","v":21861},{"$f":"'[3]2017'!R132","v":0},1," -",{"$f":"'[3]2018'!P132","v":60000},{"$f":"'[3]2018'!Q132","v":52528},{"$f":"'[3]2018'!R132","v":0},0.87546666666666662," -",{"$f":"'[3]2019'!P132","v":10920},{"$f":"'[3]2019'!Q132","v":0},{"$f":"'[3]2019'!R132","v":0},0," -",92781,74389,0,0.80176975889460123," -","12. Producción y consumo responsables","Agropecuario",{"$f":"'[1]LÍNEA 3'!AQ63","v":"Sec. Desarrollo Social"}]
[null,null,null,null,null,null,null,null,null,null,null,null,null,null,null,null,null,null,null,null,null,null,null,null,null,null,null,null,null,null,null,null,null,null,null,null,null,null,null,null,null,null,"Formular e implementar 1 plan general de asistencia técnica.",{"$f":"'[1]LÍNEA 3'!P64","v":" -"},"Número de planes generales de asistencia técnica formulados e implementados.",0,{"$f":"'[1]LÍNEA 3'!S64","v":1},{"$f":"'[1]LÍNEA 3'!T64","v":0},0,{"$f":"'[1]LÍNEA 3'!U64","v":1},0.33,{"$f":"'[1]LÍNEA 3'!V64","v":1},0.33,{"$f":"'[1]LÍNEA 3'!W64","v":1},0.34,{"$f":"'[3]2016'!K132","v":0},{"$f":"'[3]2017'!K133","v":1},{"$f":"'[3]2018'!K133","v":1},{"$f":"'[3]2019'!K133","v":0}," -"," -",1,1,1,1,0,0,{"$f":"+AVERAGE(BE64:BG64)/AU64","v":0.66666666666666663},0.66666666666666663,0.66666666666666663,{"$f":"'[3]2016'!P132","v":76500},{"$f":"'[3]2016'!Q132","v":0},{"$f":"'[3]2016'!R132","v":0},0," -",{"$f":"'[3]2017'!P133","v":45000},{"$f":"'[3]2017'!Q133","v":45000},{"$f":"'[3]2017'!R133","v":0},1," -",{"$f":"'[3]2018'!P133","v":207200},{"$f":"'[3]2018'!Q133","v":61200},{"$f":"'[3]2018'!R133","v":0},0.29536679536679539," -",{"$f":"'[3]2019'!P133","v":0},{"$f":"'[3]2019'!Q133","v":0},{"$f":"'[3]2019'!R133","v":0}," -"," -",328700,106200,0,0.32309096440523272," -","12. Producción y consumo responsables","Agropecuario",{"$f":"'[1]LÍNEA 3'!AQ64","v":"Sec. Desarrollo Social"}]
[null,null,null,null,null,null,null,null,null,null,null,null,null,null,null,null,null,null,null,null,null,null,null,null,null,null,null,null,null,null,null,null,null,null,null,null,null,null,null,null,null,null,"Implementar y mantener 1 programa que impulse la agricultura productiva (café, cacao, fruticultura, entre otros).",{"$f":"'[1]LÍNEA 3'!P65","v":2210711},"Número de programas implementados y mantenidos que impulsen la agricultura productiva (café, cacao, fruticultura, entre otros).",0,{"$f":"'[1]LÍNEA 3'!S65","v":1},{"$f":"'[1]LÍNEA 3'!T65","v":0},0,{"$f":"'[1]LÍNEA 3'!U65","v":1},0.33,{"$f":"'[1]LÍNEA 3'!V65","v":1},0.33,{"$f":"'[1]LÍNEA 3'!W65","v":1},0.34,{"$f":"'[3]2016'!K133","v":0},{"$f":"'[3]2017'!K134","v":1},{"$f":"'[3]2018'!K134","v":0.5},{"$f":"'[3]2019'!K134","v":0}," -"," -",1,1,0.5,0.5,0,0,{"$f":"+AVERAGE(BE65:BG65)/AU65","v":0.5},0.5,0.5,{"$f":"'[3]2016'!P133","v":0},{"$f":"'[3]2016'!Q133","v":0},{"$f":"'[3]2016'!R133","v":0}," -"," -",{"$f":"'[3]2017'!P134","v":133925},{"$f":"'[3]2017'!Q134","v":102000},{"$f":"'[3]2017'!R134","v":0},0.76162030987493001," -",{"$f":"'[3]2018'!P134","v":81000},{"$f":"'[3]2018'!Q134","v":11000},{"$f":"'[3]2018'!R134","v":0},0.13580246913580246," -",{"$f":"'[3]2019'!P134","v":327607},{"$f":"'[3]2019'!Q134","v":0},{"$f":"'[3]2019'!R134","v":0},0," -",542532,113000,0,0.20828264507899996," -","2. Hambre cero","Agropecuario",{"$f":"'[1]LÍNEA 3'!AQ65","v":"Sec. Desarrollo Social"}]
[null,null,null,null,null,"Disminuir a 30% el Índice de Necesidades Básicas Insatisfechas - NBI en el sector rural.",0.35,0.3,{"$f":"+H66-G66","v":-4.9999999999999989E-2},0.35,{"$f":"+J66-G66","v":0},null,0.35,{"$f":"+M66-J66","v":0},null,0.3,{"$f":"+P66-M66","v":-4.9999999999999989E-2},null,0.3,{"$f":"+S66-P66","v":0},null,0.35,{"$f":"+IF(V66=0,0,V66-G66)","v":0},null,{"$f":"+IF(X66=0,0,X66-V66)","v":0},null,{"$f":"+IF(Z66=0,0,Z66-X66)","v":0},null,{"$f":"+IF(AB66=0,0,AB66-Z66)","v":0},{"$f":"+IF(K66=0,\" -\",W66/K66)","v":" -"},{"$f":"+IF(K66=0,\" -\",IF(AD66>100%,100%,AD66))","v":" -"},{"$f":"+IF(N66=0,\" -\",Y66/N66)","v":" -"},{"$f":"+IF(N66=0,\" -\",IF(AF66>100%,100%,AF66))","v":" -"},{"$f":"+IF(Q66=0,\" -\",AA66/Q66)","v":0},{"$f":"+IF(Q66=0,\" -\",IF(AH66>100%,100%,AH66))","v":0},{"$f":"+IF(T66=0,\" -\",AC66/T66)","v":" -"},{"$f":"+IF(T66=0,\" -\",IF(AJ66>100%,100%,AJ66))","v":" -"},{"$f":"+SUM(AC66,AA66,Y66,W66)/I66","v":0},{"$f":"+IF(AL66>100%,100%,IF(AL66<0%,0%,AL66))","v":0},null,null,null,"Celebrar 4 actividades para conmemorar el día del campesino.",{"$f":"'[1]LÍNEA 3'!P66","v":2210711},"Número de actividades celebradas para conmemorar el día del campesino.",4,{"$f":"'[1]LÍNEA 3'!S66","v":4},{"$f":"'[1]LÍNEA 3'!T66","v":1},0.25,{"$f":"'[1]LÍNEA 3'!U66","v":1},0.25,{"$f":"'[1]LÍNEA 3'!V66","v":1},0.25,{"$f":"'[1]LÍNEA 3'!W66","v":1},0.25,{"$f":"'[3]2016'!K134","v":0},{"$f":"'[3]2017'!K135","v":1},{"$f":"'[3]2018'!K135","v":0},{"$f":"'[3]2019'!K135","v":0},0,0,1,1,0,0,0,0,0.25,0.25,0.25,{"$f":"'[3]2016'!P134","v":25000},{"$f":"'[3]2016'!Q134","v":0},{"$f":"'[3]2016'!R134","v":0},0," -",{"$f":"'[3]2017'!P135","v":70053},{"$f":"'[3]2017'!Q135","v":65640},{"$f":"'[3]2017'!R135","v":0},0.93700483919318234," -",{"$f":"'[3]2018'!P135","v":0},{"$f":"'[3]2018'!Q135","v":0},{"$f":"'[3]2018'!R135","v":0}," -"," -",{"$f":"'[3]2019'!P135","v":25000},{"$f":"'[3]2019'!Q135","v":0},{"$f":"'[3]2019'!R135","v":0},0," -",120053,65640,0,0.54675851498921313," -","2. Hambre cero","Agropecuario",{"$f":"'[1]LÍNEA 3'!AQ66","v":"Sec. Desarrollo Social"}]
[null,null,null,null,null,null,null,null,null,null,null,null,null,null,null,null,null,null,null,null,null,null,null,null,null,null,null,null,null,null,null,null,null,null,null,null,null,null,null,null,null,null,"Mantener y/o fortalecer el Comité Municipal de Desarrollo Rural como organismos articuladores de procesos productivos sostenibles del sector rural.",{"$f":"'[1]LÍNEA 3'!P67","v":" -"},"Numero de comités  municipal de desarrollo rural fortalecidos como organismos articuladores de procesos productivos sostenibles del sector rural.",1,{"$f":"'[1]LÍNEA 3'!S67","v":1},{"$f":"'[1]LÍNEA 3'!T67","v":1},0.25,{"$f":"'[1]LÍNEA 3'!U67","v":1},0.25,{"$f":"'[1]LÍNEA 3'!V67","v":1},0.25,{"$f":"'[1]LÍNEA 3'!W67","v":1},0.25,{"$f":"'[3]2016'!K135","v":1},{"$f":"'[3]2017'!K136","v":0.5},{"$f":"'[3]2018'!K136","v":0},{"$f":"'[3]2019'!K136","v":0},1,1,0.5,0.5,0,0,0,0,{"$f":"+AVERAGE(BD67:BG67)/AU67","v":0.375},0.375,0.375,{"$f":"'[3]2016'!P135","v":0},{"$f":"'[3]2016'!Q135","v":0},{"$f":"'[3]2016'!R135","v":0}," -"," -",{"$f":"'[3]2017'!P136","v":0},{"$f":"'[3]2017'!Q136","v":0},{"$f":"'[3]2017'!R136","v":0}," -"," -",{"$f":"'[3]2018'!P136","v":0},{"$f":"'[3]2018'!Q136","v":0},{"$f":"'[3]2018'!R136","v":0}," -"," -",{"$f":"'[3]2019'!P136","v":0},{"$f":"'[3]2019'!Q136","v":0},{"$f":"'[3]2019'!R136","v":0}," -"," -",0,0,0," -"," -","2. Hambre cero","Agropecuario",{"$f":"'[1]LÍNEA 3'!AQ67","v":"Sec. Desarrollo Social"}]
[null,null,null,null,null,null,null,null,null,null,null,null,null,null,null,null,null,null,null,null,null,null,null,null,null,null,null,null,null,null,null,null,null,null,null,null,null,null,null,null,null,null,"Implementar 1 plataforma tecnológica para la comercialización de productos agropecuarios.",{"$f":"'[1]LÍNEA 3'!P68","v":" -"},"Número de plataformas tecnológicas implementadas para la comercialización.",0,{"$f":"'[1]LÍNEA 3'!S68","v":1},{"$f":"'[1]LÍNEA 3'!T68","v":0},0,{"$f":"'[1]LÍNEA 3'!U68","v":1},1,{"$f":"'[1]LÍNEA 3'!V68","v":0},0,{"$f":"'[1]LÍNEA 3'!W68","v":0},0,{"$f":"'[10]2016'!K44","v":0},{"$f":"'[10]2017'!K44","v":0},{"$f":"'[10]2018'!K44","v":0.2},{"$f":"'[10]2019'!K44","v":0}," -"," -",0,0," -"," -"," -"," -",0.2,0.2,0.2,{"$f":"'[10]2016'!P44","v":0},{"$f":"'[10]2016'!Q44","v":0},{"$f":"'[10]2016'!R44","v":0}," -"," -",{"$f":"'[10]2017'!P44","v":0},{"$f":"'[10]2017'!Q44","v":0},{"$f":"'[10]2017'!R44","v":0}," -"," -",{"$f":"'[10]2018'!P44","v":0},{"$f":"'[10]2018'!Q44","v":0},{"$f":"'[10]2018'!R44","v":0}," -"," -",{"$f":"'[10]2019'!P44","v":0},{"$f":"'[10]2019'!Q44","v":0},{"$f":"'[10]2019'!R44","v":0}," -"," -",0,0,0," -"," -","2. Hambre cero","Agropecuario",{"$f":"'[1]LÍNEA 3'!AQ68","v":"Asesor TIC"}]
[null,null,null,null,null,null,null,null,null,null,null,null,null,null,null,null,null,null,null,null,null,null,null,null,null,null,null,null,null,null,null,null,null,null,null,null,null,null,null,null,null,null,"Adquirir 1 paquete tecnológico de agroindustria para optimizar cadenas productivas.",{"$f":"'[1]LÍNEA 3'!P69","v":0},"Número de paquetes tecnológicos de agroindustria adquiridos para optimizar cadenas productivas.",0,{"$f":"'[1]LÍNEA 3'!S69","v":1},{"$f":"'[1]LÍNEA 3'!T69","v":0},0,{"$f":"'[1]LÍNEA 3'!U69","v":1},1,{"$f":"'[1]LÍNEA 3'!V69","v":0},0,{"$f":"'[1]LÍNEA 3'!W69","v":0},0,{"$f":"'[10]2016'!K45","v":0},{"$f":"'[10]2017'!K45","v":0.8},{"$f":"'[10]2018'!K45","v":0.1},{"$f":"'[10]2019'!K45","v":0}," -"," -",0.8,0.8," -"," -"," -"," -",0.9,0.9,0.9,{"$f":"'[10]2016'!P45","v":0},{"$f":"'[10]2016'!Q45","v":0},{"$f":"'[10]2016'!R45","v":0}," -"," -",{"$f":"'[10]2017'!P45","v":0},{"$f":"'[10]2017'!Q45","v":0},{"$f":"'[10]2017'!R45","v":0}," -"," -",{"$f":"'[10]2018'!P45","v":0},{"$f":"'[10]2018'!Q45","v":0},{"$f":"'[10]2018'!R45","v":0}," -"," -",{"$f":"'[10]2019'!P45","v":0},{"$f":"'[10]2019'!Q45","v":0},{"$f":"'[10]2019'!R45","v":0}," -"," -",0,0,0," -"," -","2. Hambre cero","Agropecuario",{"$f":"'[1]LÍNEA 3'!AQ69","v":"Asesor TIC"}]
[null,null,null,null,null,null,null,null,null,null,null,null,null,null,null,null,null,null,null,null,null,null,null,null,null,null,null,null,null,null,null,null,null,null,null,null,null,null,null,null,null,null,"Instalar en los 3 corregimientos la infraestructura necesaria para llevar conectividad (internet) a la zona rural.",{"$f":"'[1]LÍNEA 3'!P70","v":0},"Número de corregimientos con infraestructura necesaria instalada para llevar conectividad (internet) a la zona rural.",0,{"$f":"'[1]LÍNEA 3'!S70","v":3},{"$f":"'[1]LÍNEA 3'!T70","v":0},0,{"$f":"'[1]LÍNEA 3'!U70","v":1},{"$f":"+AX70/AU70","v":0.33333333333333331},{"$f":"'[1]LÍNEA 3'!V70","v":1},0.33333333333333331,{"$f":"'[1]LÍNEA 3'!W70","v":1},0.33333333333333331,{"$f":"'[10]2016'!K46","v":0},{"$f":"'[10]2017'!K46","v":0},{"$f":"'[10]2018'!K46","v":0},{"$f":"'[10]2019'!K46","v":0}," -"," -",0,0,0,0,0,0,0,0,0,{"$f":"'[10]2016'!P46","v":0},{"$f":"'[10]2016'!Q46","v":0},{"$f":"'[10]2016'!R46","v":0}," -"," -",{"$f":"'[10]2017'!P46","v":0},{"$f":"'[10]2017'!Q46","v":0},{"$f":"'[10]2017'!R46","v":0}," -"," -",{"$f":"'[10]2018'!P46","v":0},{"$f":"'[10]2018'!Q46","v":0},{"$f":"'[10]2018'!R46","v":0}," -"," -",{"$f":"'[10]2019'!P46","v":300000},{"$f":"'[10]2019'!Q46","v":0},{"$f":"'[10]2019'!R46","v":0},0," -",300000,0,0,0," -","9. Industria, innovación e infraestructura","Agropecuario",{"$f":"'[1]LÍNEA 3'!AQ70","v":"Asesor TIC"}]
[null,null,null,null,null,null,null,null,null,null,null,null,null,null,null,null,null,null,null,null,null,null,null,null,null,null,null,null,null,null,null,null,null,null,null,null,null,null," ",null,null,null,null,null,null,null,null,null,{"$f":"+AVERAGE(AW60:AW70)","v":6.8181818181818177E-2},null,{"$f":"+AVERAGE(AY60:AY70)","v":0.43121212121212121},null,0.24939393939393942,null,0.25121212121212122,null,null,null,null,null,{"$f":"+AVERAGE(BI60:BI70)","v":0.66666666666666663},null,0.65004329004328998,null,0.51587301587301582,null,0,null,{"$f":"+AVERAGE(BQ60:BQ70)","v":0.51994949494949494}]
[]
[]
[]
[null,null,null,null,null,null,null,null,null,null,null,null,null,null,null,null,null,null,null,null,null,null,null,null,null,null,null,null,null,null,null,null,null,null,null,null,null,null,null,null,null,null,null,null,null,null,null,null,null,null,null,null,null,null,null,2016,2017,2018,2019,"CA"]
[null,null,null,null,null,null,null,null,null,null,null,null,null,null,null,null,null,null,null,null,null,null,null,null,null,null,null,null,null,null,null,null,null,null,null,null,null,null,null,null,null,null,null,null,null,null,null,null,null,null,null,"Bomberos",null,null,null,{"$f":"+AVERAGE(BI32:BI33)","v":1},{"$f":"+AVERAGE(BK32:BK33)","v":0.54166666666666663},{"$f":"+AVERAGE(BM32:BM33)","v":1},{"$f":"+AVERAGE(BO32:BO33)","v":0},{"$f":"+AVERAGE(BQ32:BQ33)","v":0.77083333333333326}]
[null,null,null,null,null,null,null,null,null,null,null,null,null,null,null,null,null,null,null,null,null,null,null,null,null,null,null,null,null,null,null,null,null,null,null,null,null,null,null,null,null,null,null,null,null,null,null,null,null,null,null,"Desarrollo Social",null,null,null,{"$f":"+AVERAGE(BI60:BI67)","v":0.66666666666666663},{"$f":"+AVERAGE(BK60:BK67)","v":0.79380952380952374},{"$f":"+AVERAGE(BM60:BM67)","v":0.58035714285714279},{"$f":"+AVERAGE(BO60:BO67)","v":0},{"$f":"+AVERAGE(BQ60:BQ67)","v":0.57743055555555545}]
[null,null,null,null,null,null,null,null,null,null,null,null,null,null,null,null,null,null,null,null,null,null,null,null,null,null,null,null,null,null,null,null,null,null,null,null,null,null,null,null,null,null,null,null,null,null,null,null,null,null,null,"EMAB",null,null,null,{"$f":"+AVERAGE(BI45:BI53)","v":0.93277777777777771},{"$f":"+AVERAGE(BK45:BK53)","v":1},{"$f":"+AVERAGE(BM45:BM53)","v":0.83724208860759486},{"$f":"+AVERAGE(BO45:BO53)","v":0},{"$f":"+AVERAGE(BQ45:BQ53)","v":0.85071726822363758}]
[null,null,null,null,null,null,null,null,null,null,null,null,null,null,null,null,null,null,null,null,null,null,null,null,null,null,null,null,null,null,null,null,null,null,null,null,null,null,null,null,null,null,null,null,null,null,null,null,null,null,null,"Infraestructura",null,null,null,{"$f":"+AVERAGE(BI16:BI17,BI31)","v":1},{"$f":"+AVERAGE(BK16:BK17,BK31)","v":0.5},{"$f":"+AVERAGE(BM16:BM17,BM31)","v":0},{"$f":"+AVERAGE(BO16:BO17,BO31)","v":0},{"$f":"+AVERAGE(BQ16:BQ17,BQ31)","v":6.6666666666666666E-2}]
[null,null,null,null,null,null,null,null,null,null,null,null,null,null,null,null,null,null,null,null,null,null,null,null,null,null,null,null,null,null,null,null,null,null,null,null,null,null,null,null,null,null,null,null,null,null,null,null,null,null,null,"Interior",null,null,null,{"$f":"+AVERAGE(BI23:BI30,BI35:BI37)","v":1},{"$f":"+AVERAGE(BK23:BK30,BK35:BK37)","v":0.70000000000000007},{"$f":"+AVERAGE(BM23:BM30,BM35:BM37)","v":0.36363636363636365},{"$f":"+AVERAGE(BO23:BO30,BO35:BO37)","v":0},{"$f":"+AVERAGE(BQ23:BQ30,BQ35:BQ37)","v":0.45681818181818179}]
[null,null,null,null,null,null,null,null,null,null,null,null,null,null,null,null,null,null,null,null,null,null,null,null,null,null,null,null,null,null,null,null,null,null,null,null,null,null,null,null,null,null,null,null,null,null,null,null,null,null,null,"Planeación",null,null,null," -"," -",{"$f":"+AVERAGE(BM14:BM15,BM19:BM22)","v":0},{"$f":"+AVERAGE(BO14:BO15,BO19:BO22)","v":0},{"$f":"+AVERAGE(BQ14:BQ15,BQ19:BQ22)","v":0.16666666666666666}]
[null,null,null,null,null,null,null,null,null,null,null,null,null,null,null,null,null,null,null,null,null,null,null,null,null,null,null,null,null,null,null,null,null,null,null,null,null,null,null,null,null,null,null,null,null,null,null,null,null,null,null,"Salud y Ambiente",null,null,null,{"$f":"+AVERAGE(BI11:BI13,BI34,BI39:BI44,BI54:BI58)","v":0.84285714285714286},{"$f":"+AVERAGE(BK11:BK13,BK34,BK39:BK44,BK54:BK58)","v":0.81379629629629624},{"$f":"+AVERAGE(BM11:BM13,BM34,BM39:BM44,BM54:BM58)","v":0.79090909090909089},{"$f":"+AVERAGE(BO11:BO13,BO34,BO39:BO44,BO54:BO58)","v":0},{"$f":"+AVERAGE(BQ11:BQ13,BQ34,BQ39:BQ44,BQ54:BQ58)","v":0.55349999999999999}]
[null,null,null,null,null,null,null,null,null,null,null,null,null,null,null,null,null,null,null,null,null,null,null,null,null,null,null,null,null,null,null,null,null,null,null,null,null,null,null,null,null,null,null,null,null,null,null,null,null,null,null,"Sistemas",null,null,null," -",{"$f":"+AVERAGE(BK68:BK70)","v":0.26666666666666666},{"$f":"+AVERAGE(BM68:BM70)","v":0},{"$f":"+AVERAGE(BO68:BO70)","v":0},{"$f":"+AVERAGE(BQ68:BQ70)","v":0.3666666666666667}]

{"sheet":"LÍNEA 4","index":4,"n_rows":235,"n_cols":98,"rows_kept":235,"cut":false,"hidden":false,"merged":[[7,95,9,95],[210,39,219,39],[9,47,9,48],[9,49,9,50],[9,51,9,52],[9,53,9,54],[7,44,8,54],[7,55,8,58],[7,59,8,69],[9,59,9,60],[9,61,9,62],[9,63,9,64],[9,65,9,66],[9,67,9,69],[190,39,199,39],[200,39,209,39],[104,39,118,39],[120,39,166,39],[90,39,96,39],[97,39,102,39],[79,39,83,39],[84,39,89,39],[69,39,73,39],[74,39,78,39],[190,36,199,36],[190,37,199,37],[190,38,199,38],[190,30,199,30],[190,31,199,31],[190,32,199,32],[190,33,199,33],[190,34,199,34],[200,30,209,30],[200,31,209,31],[200,32,209,32],[200,33,209,33],[200,34,209,34],[200,35,209,35],[200,36,209,36],[200,37,209,37],[200,38,209,38],[168,33,188,33],[168,34,188,34],[168,35,188,35],[210,30,219,30],[210,31,219,31],[210,32,219,32],[210,33,219,33],[210,34,219,34],[210,35,219,35],[190,35,199,35],[210,36,219,36],[210,37,219,37],[210,38,219,38],[210,21,219,21],[210,22,219,22],[210,23,219,23],[210,24,219,24],[210,25,219,25],[210,26,219,26],[210,27,219,27],[210,28,219,28],[210,29,219,29],[200,21,209,21],[200,22,209,22],[200,23,209,23],[200,24,209,24],[200,25,209,25],[200,26,209,26],[200,27,209,27],[200,28,209,28],[200,29,209,29],[190,21,199,21],[190,22,199,22],[190,23,199,23],[190,24,199,24],[190,25,199,25],[190,26,199,26],[190,27,199,27],[190,28,199,28],[190,29,199,29],[168,36,188,36],[168,37,188,37],[168,38,188,38],[168,39,188,39],[120,21,166,21],[120,22,166,22],[120,23,166,23],[120,24,166,24],[120,25,166,25],[120,26,166,26],[120,27,166,27],[120,28,166,28],[120,29,166,29],[120,30,166,30],[120,31,166,31],[120,32,166,32],[120,33,166,33],[120,34,166,34],[120,35,166,35],[120,36,166,36],[120,37,166,37],[120,38,166,38],[168,31,188,31],[168,32,188,32],[104,30,118,30],[104,31,118,31],[104,32,118,32],[104,33,118,33],[104,34,118,34],[104,35,118,35],[104,36,118,36],[104,37,118,37],[104,38,118,38],[104,21,118,21],[104,22,118,22],[104,23,118,23],[104,24,118,24],[104,25,118,25],[104,26,118,26],[104,27,118,27],[104,28,118,28],[104,29,118,29],[97,21,102,21],[97,22,102,22],[97,23,102,23],[97,24,102,24],[97,25,102,25],[97,26,102,26],[97,27,102,27],[97,28,102,28],[97,29,102,29],[97,30,102,30],[97,31,102,31],[97,32,102,32],[97,33,102,33],[97,34,102,34],[97,35,102,35],[97,36,102,36],[97,37,102,37],[97,38,102,38],[90,30,96,30],[90,31,96,31],[90,32,96,32],[90,33,96,33],[90,34,96,34],[90,35,96,35],[90,36,96,36],[90,37,96,37],[90,38,96,38],[90,21,96,21],[90,22,96,22],[90,23,96,23],[90,24,96,24],[90,25,96,25],[90,26,96,26],[90,27,96,27],[90,28,96,28],[90,29,96,29],[84,21,89,21],[84,22,89,22],[84,23,89,23],[84,24,89,24],[84,25,89,25],[84,26,89,26],[84,27,89,27],[84,28,89,28],[84,29,89,29],[84,30,89,30],[84,31,89,31],[84,32,89,32],[84,33,89,33],[84,34,89,34],[84,35,89,35],[84,36,89,36],[84,37,89,37],[84,38,89,38],[79,30,83,30],[79,31,83,31],[79,32,83,32],[79,33,83,33],[79,34,83,34],[79,35,83,35],[79,36,83,36],[79,37,83,37],[79,38,83,38],[79,21,83,21],[79,22,83,22],[79,23,83,23],[79,24,83,24],[79,25,83,25],[79,26,83,26],[79,27,83,27],[79,28,83,28],[79,29,83,29],[74,21,78,21],[74,22,78,22],[74,23,78,23],[74,24,78,24],[74,25,78,25],[74,26,78,26],[74,27,78,27],[74,28,78,28],[74,29,78,29],[74,30,78,30],[74,31,78,31],[74,32,78,32],[74,33,78,33],[74,34,78,34],[74,35,78,35],[74,36,78,36],[74,37,78,37],[74,38,78,38],[69,30,73,30],[69,31,73,31],[69,32,73,32],[69,33,73,33],[69,34,73,34],[69,35,73,35],[69,36,73,36],[69,37,73,37],[69,38,73,38],[69,21,73,21],[69,22,73,22],[69,23,73,23],[69,24,73,24],[69,25,73,25],[69,26,73,26],[69,27,73,27],[69,28,73,28],[69,29,73,29],[63,21,68,21],[63,22,68,22],[63,23,68,23],[63,24,68,24],[63,25,68,25],[63,26,68,26],[63,27,68,27],[63,28,68,28],[63,29,68,29],[63,39,68,39],[58,30,61,30],[58,31,61,31],[58,32,61,32],[58,33,61,33],[58,34,61,34],[58,35,61,35],[58,36,61,36],[58,37,61,37],[58,38,61,38],[63,30,68,30],[63,31,68,31],[63,32,68,32],[63,33,68,33],[63,34,68,34],[63,35,68,35],[63,36,68,36],[63,37,68,37],[63,38,68,38],[58,39,61,39],[58,21,61,21],[58,22,61,22],[58,23,61,23],[58,24,61,24],[58,25,61,25],[58,26,61,26],[58,27,61,27],[58,28,61,28],[58,29,61,29],[50,39,53,39],[54,21,57,21],[54,22,57,22],[54,23,57,23],[54,24,57,24],[54,25,57,25],[54,26,57,26],[54,27,57,27],[54,28,57,28],[54,29,57,29],[54,30,57,30],[54,31,57,31],[54,32,57,32],[54,33,57,33],[54,34,57,34],[54,35,57,35],[54,36,57,36],[54,37,57,37],[54,38,57,38],[54,39,57,39],[50,30,53,30],[50,31,53,31],[50,32,53,32],[50,33,53,33],[50,34,53,34],[50,35,53,35],[50,36,53,36],[50,37,53,37],[50,38,53,38],[50,21,53,21],[50,22,53,22],[50,23,53,23],[50,24,53,24],[50,25,53,25],[50,26,53,26],[50,27,53,27],[50,28,53,28],[50,29,53,29],[40,39,44,39],[45,21,49,21],[45,22,49,22],[45,23,49,23],[45,24,49,24],[45,25,49,25],[45,26,49,26],[45,27,49,27],[45,28,49,28],[45,29,49,29],[45,30,49,30],[45,31,49,31],[45,32,49,32],[45,33,49,33],[45,34,49,34],[45,35,49,35],[45,36,49,36],[45,37,49,37],[45,38,49,38],[45,39,49,39],[40,30,44,30],[40,31,44,31],[40,32,44,32],[40,33,44,33],[40,34,44,34],[40,35,44,35],[40,36,44,36],[40,37,44,37],[40,38,44,38],[40,21,44,21],[40,22,44,22],[40,23,44,23],[40,24,44,24],[40,25,44,25],[40,26,44,26],[40,27,44,27],[40,28,44,28],[40,29,44,29],[30,39,34,39],[35,21,39,21],[35,22,39,22],[35,23,39,23],[35,24,39,24],[35,25,39,25],[35,26,39,26],[35,27,39,27],[35,28,39,28],[35,29,39,29],[35,30,39,30],[35,31,39,31],[35,32,39,32],[35,33,39,33],[35,34,39,34],[35,35,39,35],[35,36,39,36],[35,37,39,37],[35,38,39,38],[35,39,39,39],[30,30,34,30],[30,31,34,31],[30,32,34,32],[30,33,34,33],[30,34,34,34],[30,35,34,35],[30,36,34,36],[30,37,34,37],[30,38,34,38],[30,21,34,21],[30,22,34,22],[30,23,34,23],[30,24,34,24],[30,25,34,25],[30,26,34,26],[30,27,34,27],[30,28,34,28],[30,29,34,29],[20,39,24,39],[25,21,29,21],[25,22,29,22],[25,23,29,23],[25,24,29,24],[25,25,29,25],[25,26,29,26],[25,27,29,27],[25,28,29,28],[25,29,29,29],[25,30,29,30],[25,31,29,31],[25,32,29,32],[25,33,29,33],[25,34,29,34],[25,35,29,35],[25,36,29,36],[25,37,29,37],[25,38,29,38],[25,39,29,39],[20,30,24,30],[20,31,24,31],[20,32,24,32],[20,33,24,33],[20,37,24,37],[20,38,24,38],[20,21,24,21],[20,22,24,22],[20,23,24,23],[20,24,24,24],[20,25,24,25],[20,26,24,26],[20,27,24,27],[20,28,24,28],[20,29,24,29],[10,37,14,37],[10,38,14,38],[10,39,14,39],[15,21,19,21],[15,22,19,22],[15,23,19,23],[15,24,19,24],[15,25,19,25],[15,26,19,26],[15,27,19,27],[15,28,19,28],[15,29,19,29],[15,30,19,30],[15,31,19,31],[15,32,19,32],[15,33,19,33],[15,34,19,34],[15,35,19,35],[15,36,19,36],[15,37,19,37],[15,38,19,38],[15,39,19,39],[10,28,14,28],[10,29,14,29],[10,30,14,30],[10,31,14,31],[10,32,14,32],[10,33,14,33],[10,34,14,34],[10,35,14,35],[10,36,14,36],[190,19,199,19],[190,20,199,20],[69,19,73,19],[69,20,73,20],[74,19,78,19],[74,20,78,20],[79,19,83,19],[79,20,83,20],[84,19,89,19],[84,20,89,20],[54,19,57,19],[54,20,57,20],[58,19,61,19],[58,20,61,20],[20,34,24,34],[20,35,24,35],[20,36,24,36],[200,19,209,19],[200,20,209,20],[210,19,219,19],[210,20,219,20],[7,21,8,28],[7,29,8,39],[9,21,9,22],[9,23,9,24],[9,25,9,26],[9,27,9,28],[9,29,9,30],[9,31,9,32],[9,33,9,34],[9,35,9,36],[9,37,9,39],[10,21,14,21],[10,22,14,22],[10,23,14,23],[10,24,14,24],[10,25,14,25],[10,26,14,26],[10,27,14,27],[63,19,68,19],[63,20,68,20],[190,8,199,8],[200,8,209,8],[210,8,219,8],[190,10,199,10],[190,11,199,11],[200,10,209,10],[200,11,209,11],[210,10,219,10],[210,11,219,11],[168,8,188,8],[168,10,188,10],[168,11,188,11],[168,13,188,13],[168,14,188,14],[168,16,188,16],[168,17,188,17],[168,19,188,19],[168,20,188,20],[104,10,118,10],[104,11,118,11],[104,13,118,13],[104,14,118,14],[104,16,118,16],[104,17,118,17],[104,19,118,19],[104,20,118,20],[120,8,166,8],[120,10,166,10],[120,11,166,11],[120,13,166,13],[120,14,166,14],[120,16,166,16],[120,17,166,17],[120,19,166,19],[120,20,166,20],[79,14,83,14],[84,13,89,13],[84,14,89,14],[63,16,68,16],[63,17,68,17],[69,16,73,16],[69,17,73,17],[74,16,78,16],[74,17,78,17],[79,16,83,16],[79,17,83,17],[84,16,89,16],[84,17,89,17],[79,10,83,10],[79,11,83,11],[84,10,89,10],[84,11,89,11],[90,10,96,10],[90,11,96,11],[97,10,102,10],[97,11,102,11],[63,13,68,13],[69,13,73,13],[74,13,78,13],[79,13,83,13],[25,14,29,14],[30,13,34,13],[30,14,34,14],[74,10,78,10],[74,11,78,11],[63,14,68,14],[69,14,73,14],[74,14,78,14],[35,13,39,13],[35,14,39,14],[9,15,9,17],[9,18,9,20],[50,16,53,16],[50,17,53,17],[54,16,57,16],[54,17,57,17],[20,16,24,16],[20,17,24,17],[25,16,29,16],[25,17,29,17],[30,16,34,16],[30,17,34,17],[35,19,39,19],[35,20,39,20],[40,19,44,19],[40,20,44,20],[45,19,49,19],[45,20,49,20],[50,19,53,19],[50,20,53,20],[10,16,14,16],[10,17,14,17],[15,16,19,16],[15,17,19,17],[10,19,14,19],[10,20,14,20],[15,19,19,19],[15,20,19,20],[20,19,24,19],[20,20,24,20],[25,19,29,19],[25,20,29,20],[30,19,34,19],[30,20,34,20],[10,1,220,1],[10,2,220,2],[210,6,219,6],[210,7,219,7],[210,9,219,9],[210,12,219,12],[200,6,209,6],[200,7,209,7],[168,12,188,12],[168,5,188,5],[190,4,219,4],[190,3,219,3],[190,5,199,5],[200,5,209,5],[210,5,219,5],[190,6,199,6],[190,7,199,7],[168,4,188,4],[168,3,188,3],[168,6,188,6],[168,7,188,7],[168,9,188,9],[104,5,118,5],[104,4,118,4],[210,15,219,15],[210,18,219,18],[190,9,199,9],[190,12,199,12],[190,15,199,15],[190,18,199,18],[200,9,209,9],[200,12,209,12],[200,15,209,15],[200,18,209,18],[190,13,199,13],[190,14,199,14],[200,13,209,13],[200,14,209,14],[210,13,219,13],[210,14,219,14],[190,16,199,16],[190,17,199,17],[200,16,209,16],[200,17,209,17],[210,16,219,16],[210,17,219,17],[217,40,219,40],[217,41,219,41],[213,40,216,40],[213,41,216,41],[204,40,212,40],[204,41,212,41],[194,40,203,40],[171,41,188,41],[194,41,203,41],[190,40,193,40],[190,41,193,41],[168,40,170,40],[171,40,188,40],[168,15,188,15],[168,18,188,18],[168,41,170,41],[120,12,166,12],[120,15,166,15],[120,18,166,18],[121,40,132,40],[121,41,132,41],[133,40,139,40],[133,41,139,41],[140,40,146,40],[140,41,146,41],[168,21,188,21],[168,22,188,22],[168,23,188,23],[168,24,188,24],[168,25,188,25],[168,26,188,26],[168,27,188,27],[168,28,188,28],[168,29,188,29],[168,30,188,30],[104,41,105,41],[148,40,155,40],[120,5,166,5],[120,4,166,4],[120,3,166,3],[120,6,166,6],[120,7,166,7],[120,9,166,9],[104,3,118,3],[104,6,118,6],[116,41,118,41],[113,40,115,40],[113,41,115,41],[109,40,111,40],[109,41,111,41],[106,40,108,40],[106,41,108,41],[104,7,118,7],[104,9,118,9],[104,12,118,12],[104,15,118,15],[148,41,155,41],[157,40,166,40],[157,41,166,41],[90,18,96,18],[97,7,102,7],[97,9,102,9],[97,12,102,12],[97,15,102,15],[97,18,102,18],[104,40,105,40],[104,18,118,18],[116,40,118,40],[90,8,96,8],[97,8,102,8],[90,13,96,13],[90,14,96,14],[97,13,102,13],[97,14,102,14],[90,16,96,16],[90,17,96,17],[97,16,102,16],[97,17,102,17],[90,19,96,19],[90,20,96,20],[97,19,102,19],[97,20,102,20],[104,8,118,8],[63,18,68,18],[69,6,73,6],[69,7,73,7],[69,9,73,9],[69,12,73,12],[69,15,73,15],[69,18,73,18],[84,18,89,18],[74,15,78,15],[74,18,78,18],[79,6,83,6],[79,7,83,7],[79,9,83,9],[79,12,83,12],[79,15,83,15],[79,18,83,18],[84,6,89,6],[84,7,89,7],[84,9,89,9],[84,12,89,12],[84,15,89,15],[63,8,68,8],[69,8,73,8],[74,8,78,8],[84,5,89,5],[90,5,96,5],[97,5,102,5],[63,6,68,6],[63,7,68,7],[63,9,68,9],[63,12,68,12],[63,15,68,15],[74,6,78,6],[74,7,78,7],[74,9,78,9],[74,12,78,12],[97,6,102,6],[90,6,96,6],[90,7,96,7],[90,9,96,9],[90,12,96,12],[90,15,96,15],[79,8,83,8],[84,8,89,8],[63,10,68,10],[63,11,68,11],[69,10,73,10],[69,11,73,11],[10,4,61,4],[10,3,61,3],[95,40,102,40],[95,41,102,41],[93,40,94,40],[93,41,94,41],[89,40,92,40],[89,41,92,41],[86,40,88,40],[86,41,88,41],[82,40,85,40],[82,41,85,41],[76,40,81,40],[76,41,81,41],[67,40,74,40],[67,41,74,41],[63,40,66,40],[63,41,66,41],[63,4,102,4],[63,3,102,3],[63,5,68,5],[69,5,73,5],[74,5,78,5],[79,5,83,5],[54,6,57,6],[54,7,57,7],[54,9,57,9],[54,12,57,12],[54,15,57,15],[54,18,57,18],[58,6,61,6],[58,7,61,7],[58,9,61,9],[58,12,61,12],[58,15,61,15],[58,18,61,18],[54,8,57,8],[58,8,61,8],[54,10,57,10],[54,11,57,11],[58,10,61,10],[58,11,61,11],[54,13,57,13],[54,14,57,14],[58,13,61,13],[58,14,61,14],[58,16,61,16],[58,17,61,17],[45,6,49,6],[45,7,49,7],[45,9,49,9],[45,12,49,12],[45,15,49,15],[45,18,49,18],[50,6,53,6],[50,7,53,7],[50,9,53,9],[50,12,53,12],[50,15,53,15],[50,18,53,18],[45,8,49,8],[50,8,53,8],[45,10,49,10],[45,11,49,11],[50,10,53,10],[50,11,53,11],[45,13,49,13],[45,14,49,14],[50,13,53,13],[50,14,53,14],[45,16,49,16],[45,17,49,17],[35,6,39,6],[35,7,39,7],[35,9,39,9],[35,12,39,12],[35,15,39,15],[35,18,39,18],[40,6,44,6],[40,7,44,7],[40,9,44,9],[40,12,44,12],[40,15,44,15],[40,18,44,18],[35,8,39,8],[40,8,44,8],[35,10,39,10],[35,11,39,11],[40,10,44,10],[40,11,44,11],[40,13,44,13],[40,14,44,14],[35,16,39,16],[35,17,39,17],[40,16,44,16],[40,17,44,17],[10,14,14,14],[25,6,29,6],[25,7,29,7],[25,9,29,9],[25,12,29,12],[25,15,29,15],[25,18,29,18],[30,6,34,6],[30,7,34,7],[30,9,34,9],[30,12,34,12],[30,15,34,15],[30,18,34,18],[25,8,29,8],[30,8,34,8],[25,10,29,10],[25,11,29,11],[30,10,34,10],[30,11,34,11],[15,13,19,13],[15,14,19,14],[20,13,24,13],[20,14,24,14],[25,13,29,13],[10,18,14,18],[15,6,19,6],[15,7,19,7],[15,9,19,9],[15,12,19,12],[15,15,19,15],[15,18,19,18],[10,12,14,12],[20,6,24,6],[20,7,24,7],[20,9,24,9],[20,12,24,12],[20,15,24,15],[20,18,24,18],[10,8,14,8],[15,8,19,8],[20,8,24,8],[10,10,14,10],[10,11,14,11],[15,10,19,10],[15,11,19,11],[20,10,24,10],[20,11,24,11],[10,13,14,13],[9,12,9,14],[43,41,61,41],[43,40,61,40],[39,41,42,41],[39,40,42,40],[23,41,38,41],[23,40,38,40],[58,5,61,5],[10,41,22,41],[10,40,22,40],[10,5,14,5],[15,5,19,5],[20,5,24,5],[25,5,29,5],[10,6,14,6],[10,7,14,7],[10,9,14,9],[30,5,34,5],[35,5,39,5],[40,5,44,5],[45,5,49,5],[50,5,53,5],[54,5,57,5],[10,15,14,15],[225,51,225,54],[2,1,2,97],[3,1,3,97],[4,1,4,97],[7,1,9,1],[7,2,9,2],[7,3,9,3],[7,4,9,4],[7,5,9,5],[7,6,9,6],[7,40,9,40],[7,41,9,41],[7,42,9,42],[7,43,9,43],[7,70,7,94],[7,96,9,96],[8,70,8,74],[8,75,8,79],[8,80,8,84],[8,85,8,89],[8,90,8,94],[7,9,8,20],[7,7,9,8],[9,9,9,11],[234,51,234,54],[233,51,233,54],[232,51,232,54],[231,51,231,54],[230,51,230,54],[229,51,229,54],[228,51,228,54],[227,51,227,54],[226,51,226,54]]}
[]
[]
[null,"ALCALDÍA DE BUCARAMANGA"]
[null,"PLAN DE DESARROLLO 2016 - 2019 \"GOBIERNO DE LAS CIUDADANAS Y LOS CIUDADANOS\""]
[null,"LÍNEA ESTRATÉGICA 4: CALIDAD DE VIDA"]
[]
[]
[null,"POND","LÍNEA ESTRATÉGICA","POND","COMPONENTE","META DE RESULTADO","LÍNEA BASE","RESULTADO CUATRIENIO",null,"LOGROS POR VIGENCIA",null,null,null,null,null,null,null,null,null,null,null,"LOGRO POR VIGENCIA",null,null,null,null,null,null,null,"PORCENTAJE DE CUMPLIMIENTO",null,null,null,null,null,null,null,null,null,null,"POND","PROGRAMA","META DE PRODUCTO","RUBRO PPTAL","INDICADOR DE PRODUCTO",null,null,null,null,null,null,null,null,null,null,"LOGRO POR VIGENCIA",null,null,null,"PORCENTAJE DE CUMPLIMIENTO",null,null,null,null,null,null,null,null,null,null,"RECURSOS POR FUENTE DE FINANCIACIÓN PARA CADA VIGENCIA (Cifras en Miles de Pesos)",null,null,null,null,null,null,null,null,null,null,null,null,null,null,null,null,null,null,null,null,null,null,null,null,"ODS","SECTOR"]
[null,null,null,null,null,null,null,null,null,null,null,null,null,null,null,null,null,null,null,null,null,null,null,null,null,null,null,null,null,null,null,null,null,null,null,null,null,null,null,null,null,null,null,null,null,null,null,null,null,null,null,null,null,null,null,null,null,null,null,null,null,null,null,null,null,null,null,null,null,null,2016,null,null,null,null,2017,null,null,null,null,2018,null,null,null,null,2019,null,null,null,null,"2016 - 2019"]
[null,null,null,null,null,null,null,null,null,2016,null,null,2017,null,null,2018,null,null,2019,null,null,2016,null,2017,null,2018,null,2019,null,2016,null,2017,null,2018,null,2019,null,"2016 - 2019",null,null,null,null,null,null,"NOMBRE INDICADOR","LÍNEA BASE","ESPERADO CUATRIENIO",2016,null,2017,null,2018,null,2019,null,2016,2017,2018,2019,2016,null,2017,null,2018,null,2019,null,"2016 - 2019",null,null,"RECURSOS PROGRAMADOS","RECURSOS EJECUTADOS","RECURSOS GESTIONADOS","PORCENTAJE EJECUCIÓN","NIVEL DE GESTIÓN","RECURSOS PROGRAMADOS","RECURSOS EJECUTADOS","RECURSOS GESTIONADOS","PORCENTAJE EJECUCIÓN","NIVEL DE GESTIÓN","RECURSOS PROGRAMADOS","RECURSOS EJECUTADOS","RECURSOS GESTIONADOS","PORCENTAJE EJECUCIÓN","NIVEL DE GESTIÓN","RECURSOS PROGRAMADOS","RECURSOS EJECUTADOS","RECURSOS GESTIONADOS","PORCENTAJE EJECUCIÓN","NIVEL DE GESTIÓN","RECURSOS PROGRAMADOS","RECURSOS EJECUTADOS","RECURSOS GESTIONADOS","PORCENTAJE EJECUCIÓN","NIVEL DE GESTIÓN",null,null,"RESPONSABLE"]
[null,{"$f":"+RESUMEN!J80","v":0.64588137113663124},"4 - CALIDAD DE VIDA",{"$f":"+RESUMEN!J81","v":0.59406292009648864},"EDUCACIÓN: BUCARAMANGA EDUCADA, CULTA E INNOVADORA","Aumentar al 72% la tasa de cobertura neta en transición.",0.68700000000000006,0.72,{"$f":"+H11-G11","v":3.2999999999999918E-2},0.69,{"$f":"+J11-G11","v":2.9999999999998916E-3},null,0.7,{"$f":"+M11-J11","v":1.0000000000000009E-2},null,0.71,{"$f":"+P11-M11","v":1.0000000000000009E-2},null,0.72,{"$f":"+S11-P11","v":1.0000000000000009E-2},null,0.69599999999999995,{"$f":"+IF(V11=0,0,V11-G11)","v":8.999999999999897E-3},null,{"$f":"+IF(X11=0,0,X11-V11)","v":0},null,{"$f":"+IF(Z11=0,0,Z11-X11)","v":0},null,{"$f":"+IF(AB11=0,0,AB11-Z11)","v":0},{"$f":"+IF(K11=0,\" -\",W11/K11)","v":3.0000000000000742},{"$f":"+IF(K11=0,\" -\",IF(AD11>100%,100%,AD11))","v":1},{"$f":"+IF(N11=0,\" -\",Y11/N11)","v":0},{"$f":"+IF(N11=0,\" -\",IF(AF11>100%,100%,AF11))","v":0},{"$f":"+IF(Q11=0,\" -\",AA11/Q11)","v":0},{"$f":"+IF(Q11=0,\" -\",IF(AH11>100%,100%,AH11))","v":0},{"$f":"+IF(T11=0,\" -\",AC11/T11)","v":0},{"$f":"+IF(T11=0,\" -\",IF(AJ11>100%,100%,AJ11))","v":0},{"$f":"+SUM(AC11,AA11,Y11,W11)/I11","v":0.27272727272727026},{"$f":"+IF(AL11>100%,100%,IF(AL11<0%,0%,AL11))","v":0.27272727272727026},null,{"$f":"+RESUMEN!J82","v":0.51740942728937689},"DISPONIBILIDAD (ASEQUIBILIDAD): \"ENTORNOS DE APRENDIZAJES BELLOS Y AGRADABLES\"","Mantener las 47 instituciones educativas con acceso a servicios públicos básicos.",{"$f":"'[1]LÍNEA 4'!P11","v":2210055},"Número de instituciones educativas mantenidas con accesos a servicios públicos básicos.",47,{"$f":"'[1]LÍNEA 4'!S11","v":47},{"$f":"'[1]LÍNEA 4'!T11","v":47},0.25,{"$f":"'[1]LÍNEA 4'!U11","v":47},0.25,{"$f":"'[1]LÍNEA 4'!V11","v":47},0.25,{"$f":"'[1]LÍNEA 4'!W11","v":47},0.25,{"$f":"'[4]2016'!K18","v":47},{"$f":"'[4]2017'!K18","v":47},{"$f":"'[4]2018'!K18","v":47},{"$f":"'[4]2019'!K18","v":0},{"$f":"IF(AV11=0,\" -\",BD11/AV11)","v":1},{"$f":"IF(AV11=0,\" -\",IF(BH11>100%,100%,BH11))","v":1},{"$f":"IF(AX11=0,\" -\",BE11/AX11)","v":1},{"$f":"IF(AX11=0,\" -\",IF(BJ11>100%,100%,BJ11))","v":1},{"$f":"IF(AZ11=0,\" -\",BF11/AZ11)","v":1},{"$f":"IF(AZ11=0,\" -\",IF(BL11>100%,100%,BL11))","v":1},{"$f":"IF(BB11=0,\" -\",BG11/BB11)","v":0},{"$f":"IF(BB11=0,\" -\",IF(BN11>100%,100%,BN11))","v":0},{"$f":"+AVERAGE(BD11:BG11)/AU11","v":0.75},{"$f":"+IF(BP11>100%,100%,BP11)","v":0.75},{"$f":"+BQ11","v":0.75},{"$f":"'[4]2016'!P18","v":2800000},{"$f":"'[4]2016'!Q18","v":2747182},{"$f":"'[4]2016'!R18","v":0},{"$f":"IF(BS11=0,\" -\",BT11/BS11)","v":0.98113642857142858},{"$f":"IF(BU11=0,\" -\",IF(BT11=0,100%,BU11/BT11))","v":" -"},{"$f":"'[4]2017'!P18","v":3151829},{"$f":"'[4]2017'!Q18","v":2875356},{"$f":"'[4]2017'!R18","v":0},{"$f":"IF(BX11=0,\" -\",BY11/BX11)","v":0.91228172594388846},{"$f":"IF(BZ11=0,\" -\",IF(BY11=0,100%,BZ11/BY11))","v":" -"},{"$f":"'[4]2018'!P18","v":3200000},{"$f":"'[4]2018'!Q18","v":1303460},{"$f":"'[4]2018'!R18","v":0},{"$f":"IF(CC11=0,\" -\",CD11/CC11)","v":0.40733124999999998},{"$f":"IF(CE11=0,\" -\",IF(CD11=0,100%,CE11/CD11))","v":" -"},{"$f":"'[4]2019'!P18","v":3300000},{"$f":"'[4]2019'!Q18","v":0},{"$f":"'[4]2019'!R18","v":0},{"$f":"IF(CH11=0,\" -\",CI11/CH11)","v":0},{"$f":"IF(CJ11=0,\" -\",IF(CI11=0,100%,CJ11/CI11))","v":" -"},{"$f":"+BS11+BX11+CC11+CH11","v":12451829},6925998,0,{"$f":"IF(CM11=0,\" -\",CN11/CM11)","v":0.55622334678704632},{"$f":"IF(CO11=0,\" -\",IF(CN11=0,100%,CO11/CN11))","v":" -"},"4. Educación de calidad ","Educación",{"$f":"'[1]LÍNEA 4'!AQ11","v":"Sec. Educación"}]
[null,null,null,null,null,null,null,null,null,null,null,null,null,null,null,null,null,null,null,null,null,null,null,null,null,null,null,null,null,null,null,null,null,null,null,null,null,null,null,null,null,null,"Mantener las 47 instituciones educativas dotadas con material didáctico, equipos y/o mobiliario escolar.",{"$f":"'[1]LÍNEA 4'!P12","v":2210645},"Número de instituciones educativas mantenidas con dotación de material didáctico, equipos y/o mobiliario escolar.",47,{"$f":"'[1]LÍNEA 4'!S12","v":47},{"$f":"'[1]LÍNEA 4'!T12","v":47},0.25,{"$f":"'[1]LÍNEA 4'!U12","v":47},0.25,{"$f":"'[1]LÍNEA 4'!V12","v":47},0.25,{"$f":"'[1]LÍNEA 4'!W12","v":47},0.25,{"$f":"'[4]2016'!K19","v":43},{"$f":"'[4]2017'!K19","v":32},{"$f":"'[4]2018'!K19","v":1},{"$f":"'[4]2019'!K19","v":0},{"$f":"IF(AV12=0,\" -\",BD12/AV12)","v":0.91489361702127658},{"$f":"IF(AV12=0,\" -\",IF(BH12>100%,100%,BH12))","v":0.91489361702127658},{"$f":"IF(AX12=0,\" -\",BE12/AX12)","v":0.68085106382978722},{"$f":"IF(AX12=0,\" -\",IF(BJ12>100%,100%,BJ12))","v":0.68085106382978722},{"$f":"IF(AZ12=0,\" -\",BF12/AZ12)","v":2.1276595744680851E-2},{"$f":"IF(AZ12=0,\" -\",IF(BL12>100%,100%,BL12))","v":2.1276595744680851E-2},{"$f":"IF(BB12=0,\" -\",BG12/BB12)","v":0},{"$f":"IF(BB12=0,\" -\",IF(BN12>100%,100%,BN12))","v":0},{"$f":"+AVERAGE(BD12:BG12)/AU12","v":0.40425531914893614},{"$f":"+IF(BP12>100%,100%,BP12)","v":0.40425531914893614},{"$f":"+BQ12","v":0.40425531914893614},{"$f":"'[4]2016'!P19","v":650000},{"$f":"'[4]2016'!Q19","v":619173},{"$f":"'[4]2016'!R19","v":582167},{"$f":"IF(BS12=0,\" -\",BT12/BS12)","v":0.9525738461538461},{"$f":"IF(BU12=0,\" -\",IF(BT12=0,100%,BU12/BT12))","v":0.94023318200244521},{"$f":"'[4]2017'!P19","v":1082479},{"$f":"'[4]2017'!Q19","v":312288},{"$f":"'[4]2017'!R19","v":622964},{"$f":"IF(BX12=0,\" -\",BY12/BX12)","v":0.28849335645310442},{"$f":"IF(BZ12=0,\" -\",IF(BY12=0,100%,BZ12/BY12))","v":1.9948380981657956},{"$f":"'[4]2018'!P19","v":2612259},{"$f":"'[4]2018'!Q19","v":283676},{"$f":"'[4]2018'!R19","v":0},{"$f":"IF(CC12=0,\" -\",CD12/CC12)","v":0.10859413251136277},{"$f":"IF(CE12=0,\" -\",IF(CD12=0,100%,CE12/CD12))","v":" -"},{"$f":"'[4]2019'!P19","v":252936},{"$f":"'[4]2019'!Q19","v":0},{"$f":"'[4]2019'!R19","v":0},{"$f":"IF(CH12=0,\" -\",CI12/CH12)","v":0},{"$f":"IF(CJ12=0,\" -\",IF(CI12=0,100%,CJ12/CI12))","v":" -"},4597674,1215137,1205131,{"$f":"IF(CM12=0,\" -\",CN12/CM12)","v":0.26429385815523243},{"$f":"IF(CO12=0,\" -\",IF(CN12=0,100%,CO12/CN12))","v":0.99176553754844099},"4. Educación de calidad ","Educación",{"$f":"'[1]LÍNEA 4'!AQ12","v":"Sec. Educación"}]
[null,null,null,null,null,null,null,null,null,null,null,null,null,null,null,null,null,null,null,null,null,null,null,null,null,null,null,null,null,null,null,null,null,null,null,null,null,null,null,null,null,null,"Dotar y/o repotenciar 23 talleres, laboratorios y/o aulas especializadas para la educación básica y media.",{"$f":"'[1]LÍNEA 4'!P13","v":2210645},"Número de talleres, laboratorios y/o aulas especializadas dotadas y/o repotenciadas para la educación básica y media.",20,{"$f":"'[1]LÍNEA 4'!S13","v":23},{"$f":"'[1]LÍNEA 4'!T13","v":0},{"$f":"+AV13/AU13","v":0},{"$f":"'[1]LÍNEA 4'!U13","v":9},{"$f":"+AX13/AU13","v":0.39130434782608697},{"$f":"'[1]LÍNEA 4'!V13","v":9},{"$f":"+AZ13/AU13","v":0.39130434782608697},{"$f":"'[1]LÍNEA 4'!W13","v":5},{"$f":"+BB13/AU13","v":0.21739130434782608},{"$f":"'[4]2016'!K20","v":0},{"$f":"'[4]2017'!K20","v":11},{"$f":"'[4]2018'!K20","v":0},{"$f":"'[4]2019'!K20","v":0}," -"," -",1.2222222222222223,1,0,0,0,0,{"$f":"+SUM(BD13:BG13)/AU13","v":0.47826086956521741},0.47826086956521741,0.47826086956521741,{"$f":"'[4]2016'!P20","v":322604},{"$f":"'[4]2016'!Q20","v":0},{"$f":"'[4]2016'!R20","v":0},{"$f":"IF(BS13=0,\" -\",BT13/BS13)","v":0},{"$f":"IF(BU13=0,\" -\",IF(BT13=0,100%,BU13/BT13))","v":" -"},{"$f":"'[4]2017'!P20","v":670000},{"$f":"'[4]2017'!Q20","v":662835},{"$f":"'[4]2017'!R20","v":0},{"$f":"IF(BX13=0,\" -\",BY13/BX13)","v":0.9893059701492537},{"$f":"IF(BZ13=0,\" -\",IF(BY13=0,100%,BZ13/BY13))","v":" -"},{"$f":"'[4]2018'!P20","v":798246},{"$f":"'[4]2018'!Q20","v":0},{"$f":"'[4]2018'!R20","v":0},{"$f":"IF(CC13=0,\" -\",CD13/CC13)","v":0},{"$f":"IF(CE13=0,\" -\",IF(CD13=0,100%,CE13/CD13))","v":" -"},{"$f":"'[4]2019'!P20","v":632341},{"$f":"'[4]2019'!Q20","v":0},{"$f":"'[4]2019'!R20","v":0},{"$f":"IF(CH13=0,\" -\",CI13/CH13)","v":0},{"$f":"IF(CJ13=0,\" -\",IF(CI13=0,100%,CJ13/CI13))","v":" -"},{"$f":"+BS13+BX13+CC13+CH13","v":2423191},{"$f":"+BT13+BY13+CD13+CI13","v":662835},{"$f":"+BU13+BZ13+CE13+CJ13","v":0},{"$f":"IF(CM13=0,\" -\",CN13/CM13)","v":0.27353807438208544},{"$f":"IF(CO13=0,\" -\",IF(CN13=0,100%,CO13/CN13))","v":" -"},"4. Educación de calidad ","Educación",{"$f":"'[1]LÍNEA 4'!AQ13","v":"Sec. Educación"}]
[null,null,null,null,null,null,null,null,null,null,null,null,null,null,null,null,null,null,null,null,null,null,null,null,null,null,null,null,null,null,null,null,null,null,null,null,null,null,null,null,null,null,"Entregar 17.400 equipos de cómputo a docentes y/o alumnos de instituciones educativas oficiales.",{"$f":"'[1]LÍNEA 4'!P14","v":2210645},"Número de equipos de cómputo entregados a docentes y/o alumnos de instituciones educativas oficiales.",3399,{"$f":"'[1]LÍNEA 4'!S14","v":17400},{"$f":"'[1]LÍNEA 4'!T14","v":2200},0.12643678160919541,{"$f":"'[1]LÍNEA 4'!U14","v":5000},0.28735632183908044,{"$f":"'[1]LÍNEA 4'!V14","v":5000},0.28735632183908044,{"$f":"'[1]LÍNEA 4'!W14","v":5200},0.2988505747126437,{"$f":"'[4]2016'!K21","v":2247},{"$f":"'[4]2017'!K21","v":691},{"$f":"'[4]2018'!K21","v":142},{"$f":"'[4]2019'!K21","v":0},1.0213636363636365,1,0.13819999999999999,0.13819999999999999,2.8400000000000002E-2,2.8400000000000002E-2,0,0,0.17701149425287357,0.17701149425287357,0.17701149425287357,{"$f":"'[4]2016'!P21","v":0},{"$f":"'[4]2016'!Q21","v":0},{"$f":"'[4]2016'!R21","v":330000}," -",1,{"$f":"'[4]2017'!P21","v":0},{"$f":"'[4]2017'!Q21","v":0},{"$f":"'[4]2017'!R21","v":0}," -"," -",{"$f":"'[4]2018'!P21","v":156354},{"$f":"'[4]2018'!Q21","v":156354},{"$f":"'[4]2018'!R21","v":0},1," -",{"$f":"'[4]2019'!P21","v":6000000},{"$f":"'[4]2019'!Q21","v":0},{"$f":"'[4]2019'!R21","v":0},0," -",6156354,156354,330000,2.5397175016251501E-2,2.1105951878429718,"4. Educación de calidad ","Educación",{"$f":"'[1]LÍNEA 4'!AQ14","v":"Sec. Educación"}]
[null,null,null,null,null,null,null,null,null,null,null,null,null,null,null,null,null,null,null,null,null,null,null,null,null,null,null,null,null,null,null,null,null,null,null,null,null,null,null,null,null,null,"Mantener y/o repotenciar las 47 instituciones educativas oficiales con conectividad.",{"$f":"'[1]LÍNEA 4'!P15","v":2210208},"Número de instituciones educativas oficiales mantenidas y/o repotenciadas en su conectividad.",47,{"$f":"'[1]LÍNEA 4'!S15","v":47},{"$f":"'[1]LÍNEA 4'!T15","v":47},0.25,{"$f":"'[1]LÍNEA 4'!U15","v":47},0.25,{"$f":"'[1]LÍNEA 4'!V15","v":47},0.25,{"$f":"'[1]LÍNEA 4'!W15","v":47},0.25,{"$f":"'[4]2016'!K22","v":47},{"$f":"'[4]2017'!K22","v":47},{"$f":"'[4]2018'!K22","v":47},{"$f":"'[4]2019'!K22","v":0},1,1,1,1,1,1,0,0,0.75,0.75,0.75,{"$f":"'[4]2016'!P22","v":1739595},{"$f":"'[4]2016'!Q22","v":1488133},{"$f":"'[4]2016'!R22","v":500000},0.85544796346275997,0.33599147388035883,{"$f":"'[4]2017'!P22","v":2559401},{"$f":"'[4]2017'!Q22","v":1883817},{"$f":"'[4]2017'!R22","v":0},0.73603823707187732," -",{"$f":"'[4]2018'!P22","v":773912},{"$f":"'[4]2018'!Q22","v":456960},{"$f":"'[4]2018'!R22","v":0},0.59045472870300497," -",{"$f":"'[4]2019'!P22","v":2271543},{"$f":"'[4]2019'!Q22","v":0},{"$f":"'[4]2019'!R22","v":0},0," -",7344451,3828910,500000,0.521333725284572,0.13058546688221975,"4. Educación de calidad ","Educación",{"$f":"'[1]LÍNEA 4'!AQ15","v":"Sec. Educación"}]
[null,null,null,null,null,"Aumentar al 100% la tasa de cobertura neta en educación básica primaria.",0.996,1,{"$f":"+H16-G16","v":4.0000000000000036E-3},0.997,{"$f":"+J16-G16","v":1.0000000000000009E-3},null,0.998,{"$f":"+M16-J16","v":1.0000000000000009E-3},null,0.999,{"$f":"+P16-M16","v":1.0000000000000009E-3},null,1,{"$f":"+S16-P16","v":1.0000000000000009E-3},null,1.0069999999999999,{"$f":"+IF(V16=0,0,V16-G16)","v":1.0999999999999899E-2},null,{"$f":"+IF(X16=0,0,X16-V16)","v":0},null,{"$f":"+IF(Z16=0,0,Z16-X16)","v":0},null,{"$f":"+IF(AB16=0,0,AB16-Z16)","v":0},{"$f":"+IF(K16=0,\" -\",W16/K16)","v":10.99999999999989},{"$f":"+IF(K16=0,\" -\",IF(AD16>100%,100%,AD16))","v":1},{"$f":"+IF(N16=0,\" -\",Y16/N16)","v":0},{"$f":"+IF(N16=0,\" -\",IF(AF16>100%,100%,AF16))","v":0},{"$f":"+IF(Q16=0,\" -\",AA16/Q16)","v":0},{"$f":"+IF(Q16=0,\" -\",IF(AH16>100%,100%,AH16))","v":0},{"$f":"+IF(T16=0,\" -\",AC16/T16)","v":0},{"$f":"+IF(T16=0,\" -\",IF(AJ16>100%,100%,AJ16))","v":0},{"$f":"+SUM(AC16,AA16,Y16,W16)/I16","v":2.7499999999999725},{"$f":"+IF(AL16>100%,100%,IF(AL16<0%,0%,AL16))","v":1},null,null,null,"Mantener las 47 instituciones educativas oficiales con planta de personal docente optimizada.",{"$f":"'[1]LÍNEA 4'!P16","v":"2210040  2210042 2210057 2210043 2210044 2210046 2210047  2210048"},"Número de instituciones educativas mantenidas con planta de personal docente optimizada.",47,{"$f":"'[1]LÍNEA 4'!S16","v":47},{"$f":"'[1]LÍNEA 4'!T16","v":47},0.25,{"$f":"'[1]LÍNEA 4'!U16","v":47},0.25,{"$f":"'[1]LÍNEA 4'!V16","v":47},0.25,{"$f":"'[1]LÍNEA 4'!W16","v":47},0.25,{"$f":"'[4]2016'!K23","v":47},{"$f":"'[4]2017'!K23","v":47},{"$f":"'[4]2018'!K23","v":47},{"$f":"'[4]2019'!K23","v":0},1,1,1,1,1,1,0,0,0.75,0.75,0.75,{"$f":"'[4]2016'!P23","v":178020305},{"$f":"'[4]2016'!Q23","v":177190425},{"$f":"'[4]2016'!R23","v":0},0.99533828458500839," -",{"$f":"'[4]2017'!P23","v":150475955},{"$f":"'[4]2017'!Q23","v":147238042},{"$f":"'[4]2017'!R23","v":0},0.97848219006152848," -",{"$f":"'[4]2018'!P23","v":144925560},{"$f":"'[4]2018'!Q23","v":70670406},{"$f":"'[4]2018'!R23","v":0},0.48763245075609851," -",{"$f":"'[4]2019'!P23","v":148581673},{"$f":"'[4]2019'!Q23","v":0},{"$f":"'[4]2019'!R23","v":0},0," -",622003493,395098873,0,0.6352036241700012," -","4. Educación de calidad ","Educación",{"$f":"'[1]LÍNEA 4'!AQ16","v":"Sec. Educación"}]
[null,null,null,null,null,null,null,null,null,null,null,null,null,null,null,null,null,null,null,null,null,null,null,null,null,null,null,null,null,null,null,null,null,null,null,null,null,null,null,null,null,null,"Mantener las 47 instituciones educativas oficiales con planta de personal administrativa y de apoyo.",{"$f":"'[1]LÍNEA 4'!P17","v":"2210015 2210052 2210054 2210954 2210954 2210001 2210003 2210008 2210002"},"Número de instituciones educativas mantenidas con planta de personal administrativa y de apoyo.",47,{"$f":"'[1]LÍNEA 4'!S17","v":47},{"$f":"'[1]LÍNEA 4'!T17","v":47},0.25,{"$f":"'[1]LÍNEA 4'!U17","v":47},0.25,{"$f":"'[1]LÍNEA 4'!V17","v":47},0.25,{"$f":"'[1]LÍNEA 4'!W17","v":47},0.25,{"$f":"'[4]2016'!K24","v":47},{"$f":"'[4]2017'!K24","v":47},{"$f":"'[4]2018'!K24","v":47},{"$f":"'[4]2019'!K24","v":0},1,1,1,1,1,1,0,0,0.75,0.75,0.75,{"$f":"'[4]2016'!P24","v":22226796},{"$f":"'[4]2016'!Q24","v":20348330},{"$f":"'[4]2016'!R24","v":0},0.91548642458409213," -",{"$f":"'[4]2017'!P24","v":31296277},{"$f":"'[4]2017'!Q24","v":27069159},{"$f":"'[4]2017'!R24","v":0},0.86493224098189059," -",{"$f":"'[4]2018'!P24","v":32534694},{"$f":"'[4]2018'!Q24","v":18881510},{"$f":"'[4]2018'!R24","v":0},0.580350010361247," -",{"$f":"'[4]2019'!P24","v":28148661},{"$f":"'[4]2019'!Q24","v":0},{"$f":"'[4]2019'!R24","v":0},0," -",114206428,66298999,0,0.58051897919441098," -","4. Educación de calidad ","Educación",{"$f":"'[1]LÍNEA 4'!AQ17","v":"Sec. Educación"}]
[null,null,null,null,null,null,null,null,null,null,null,null,null,null,null,null,null,null,null,null,null,null,null,null,null,null,null,null,null,null,null,null,null,null,null,null,null,null,null,null,null,null,"Adecuar y/o dotar 12 ambientes escolares para la atención a la primera infancia (transición).",{"$f":"'[1]LÍNEA 4'!P18","v":2210645},"Número de ambientes escolares para la atención a la primera infancia (transición) adecuados y/o dotados.",1,{"$f":"'[1]LÍNEA 4'!S18","v":12},{"$f":"'[1]LÍNEA 4'!T18","v":0},0,{"$f":"'[1]LÍNEA 4'!U18","v":4},0.33333333333333331,{"$f":"'[1]LÍNEA 4'!V18","v":4},0.33333333333333331,{"$f":"'[1]LÍNEA 4'!W18","v":4},0.33333333333333331,{"$f":"'[4]2016'!K25","v":0},{"$f":"'[4]2017'!K25","v":0.1},{"$f":"'[4]2018'!K25","v":0},{"$f":"'[4]2019'!K25","v":0}," -"," -",2.5000000000000001E-2,2.5000000000000001E-2,0,0,0,0,{"$f":"+SUM(BD18:BG18)/AU18","v":8.3333333333333332E-3},8.3333333333333332E-3,8.3333333333333332E-3,{"$f":"'[4]2016'!P25","v":0},{"$f":"'[4]2016'!Q25","v":0},{"$f":"'[4]2016'!R25","v":0}," -"," -",{"$f":"'[4]2017'!P25","v":1120000},{"$f":"'[4]2017'!Q25","v":40000},{"$f":"'[4]2017'!R25","v":211440},3.5714285714285712E-2,5.2859999999999996,{"$f":"'[4]2018'!P25","v":3368807},{"$f":"'[4]2018'!Q25","v":0},{"$f":"'[4]2018'!R25","v":0},0," -",{"$f":"'[4]2019'!P25","v":300000},{"$f":"'[4]2019'!Q25","v":0},{"$f":"'[4]2019'!R25","v":0},0," -",4788807,40000,211440,8.3528110445879322E-3,5.2859999999999996,"4. Educación de calidad ","Educación",{"$f":"'[1]LÍNEA 4'!AQ18","v":"Sec. Educación"}]
[null,null,null,null,null,null,null,null,null,null,null,null,null,null,null,null,null,null,null,null,null,null,null,null,null,null,null,null,null,null,null,null,null,null,null,null,null,null,null,null,null,null,"Construir y/o dotar 4 Centros de Desarrollo infantil (Inicio feliz).",{"$f":"'[1]LÍNEA 4'!P19","v":2210297},"Número de Centros de Desarrollo Infantil (Inicio feliz) construidos y/o dotados.",0,{"$f":"'[1]LÍNEA 4'!S19","v":4},{"$f":"'[1]LÍNEA 4'!T19","v":0},0,{"$f":"'[1]LÍNEA 4'!U19","v":1},0.25,{"$f":"'[1]LÍNEA 4'!V19","v":2},0.5,{"$f":"'[1]LÍNEA 4'!W19","v":1},0.25,{"$f":"'[4]2016'!K26","v":0},{"$f":"'[4]2017'!K26","v":0.17},{"$f":"'[4]2018'!K26","v":2},{"$f":"'[4]2019'!K26","v":0}," -"," -",0.17,0.17,1,1,0,0,0.54249999999999998,0.54249999999999998,0.54249999999999998,{"$f":"'[4]2016'!P26","v":0},{"$f":"'[4]2016'!Q26","v":0},{"$f":"'[4]2016'!R26","v":0}," -"," -",{"$f":"'[4]2017'!P26","v":525221},{"$f":"'[4]2017'!Q26","v":125351},{"$f":"'[4]2017'!R26","v":0},0.23866334362106617," -",{"$f":"'[4]2018'!P26","v":2100076},{"$f":"'[4]2018'!Q26","v":1750692},{"$f":"'[4]2018'!R26","v":0},0.83363268757892572," -",{"$f":"'[4]2019'!P26","v":3400000},{"$f":"'[4]2019'!Q26","v":0},{"$f":"'[4]2019'!R26","v":0},0," -",6025297,1876043,0,0.31136108311341332," -","4. Educación de calidad ","Educación",{"$f":"'[1]LÍNEA 4'!AQ19","v":"Sec. Educación"}]
[null,null,null,null,null,null,null,null,null,null,null,null,null,null,null,null,null,null,null,null,null,null,null,null,null,null,null,null,null,null,null,null,null,null,null,null,null,null,null,null,null,null,"Implementar y mantener 1 plan de infraestructura educativa para la remodelación y/o construcción de instituciones educativas oficiales.",{"$f":"'[1]LÍNEA 4'!P20","v":"2210005\r2210645"},"Número de planes de infraestructura educativa implementados y mantenidos para la remodelación y/o construcción de instituciones educativas oficiales.",0,{"$f":"'[1]LÍNEA 4'!S20","v":1},{"$f":"'[1]LÍNEA 4'!T20","v":1},0.25,{"$f":"'[1]LÍNEA 4'!U20","v":1},0.25,{"$f":"'[1]LÍNEA 4'!V20","v":1},0.25,{"$f":"'[1]LÍNEA 4'!W20","v":1},0.25,{"$f":"'[4]2016'!K27","v":0.4},{"$f":"'[4]2017'!K27","v":1},{"$f":"'[4]2018'!K27","v":0.01},{"$f":"'[4]2019'!K27","v":0},0.4,0.4,1,1,0.01,0.01,0,0,0.35249999999999998,0.35249999999999998,0.35249999999999998,{"$f":"'[4]2016'!P27","v":3103737},{"$f":"'[4]2016'!Q27","v":1300000},{"$f":"'[4]2016'!R27","v":1478710},0.41884992188448955,1.1374692307692307,{"$f":"'[4]2017'!P27","v":3524283},{"$f":"'[4]2017'!Q27","v":3432305},{"$f":"'[4]2017'!R27","v":0},0.97390164183750283," -",{"$f":"'[4]2018'!P27","v":13652639},{"$f":"'[4]2018'!Q27","v":58069},{"$f":"'[4]2018'!R27","v":0},4.2533168862078606E-3," -",{"$f":"'[4]2019'!P27","v":6750000},{"$f":"'[4]2019'!Q27","v":0},{"$f":"'[4]2019'!R27","v":0},0," -",27030659,4790374,1478710,0.17722002264169734,0.30868362261485222,"4. Educación de calidad ","Educación",{"$f":"'[1]LÍNEA 4'!AQ20","v":"Sec. Educación"}]
[null,null,null,null,null,"Aumentar al 88% la tasa de cobertura neta en educación básica secundaria.",0.86599999999999999,0.88,{"$f":"+H21-G21","v":1.4000000000000012E-2},0.87,{"$f":"+J21-G21","v":4.0000000000000036E-3},null,0.873,{"$f":"+M21-J21","v":3.0000000000000027E-3},null,0.877,{"$f":"+P21-M21","v":4.0000000000000036E-3},null,0.88,{"$f":"+S21-P21","v":3.0000000000000027E-3},null,0.86799999999999999,{"$f":"+IF(V21=0,0,V21-G21)","v":2.0000000000000018E-3},null,{"$f":"+IF(X21=0,0,X21-V21)","v":0},null,{"$f":"+IF(Z21=0,0,Z21-X21)","v":0},null,{"$f":"+IF(AB21=0,0,AB21-Z21)","v":0},{"$f":"+IF(K21=0,\" -\",W21/K21)","v":0.5},{"$f":"+IF(K21=0,\" -\",IF(AD21>100%,100%,AD21))","v":0.5},{"$f":"+IF(N21=0,\" -\",Y21/N21)","v":0},{"$f":"+IF(N21=0,\" -\",IF(AF21>100%,100%,AF21))","v":0},{"$f":"+IF(Q21=0,\" -\",AA21/Q21)","v":0},{"$f":"+IF(Q21=0,\" -\",IF(AH21>100%,100%,AH21))","v":0},{"$f":"+IF(T21=0,\" -\",AC21/T21)","v":0},{"$f":"+IF(T21=0,\" -\",IF(AJ21>100%,100%,AJ21))","v":0},{"$f":"+SUM(AC21,AA21,Y21,W21)/I21","v":0.14285714285714285},{"$f":"+IF(AL21>100%,100%,IF(AL21<0%,0%,AL21))","v":0.14285714285714285},null,null,null,"Realizar las adecuaciones necesarias a 10 instituciones educativas viabilizadas y/o intervenidas cofinanciadas con el MEN para la vinculación a la JORNADA ÚNICA.",{"$f":"'[1]LÍNEA 4'!P21","v":"2210298\r2210645"},"Número de instituciones educativas viabilizadas y/o intervenidas cofinanciadas con el MEN con adecuaciones necesarias para la vinculación a la JORNADA ÚNICA.",0,{"$f":"'[1]LÍNEA 4'!S21","v":10},{"$f":"'[1]LÍNEA 4'!T21","v":3},0.3,{"$f":"'[1]LÍNEA 4'!U21","v":3},0.3,{"$f":"'[1]LÍNEA 4'!V21","v":3},0.3,{"$f":"'[1]LÍNEA 4'!W21","v":1},0.1,{"$f":"'[4]2016'!K28","v":2},{"$f":"'[4]2017'!K28","v":4},{"$f":"'[4]2018'!K28","v":0},{"$f":"'[4]2019'!K28","v":0},0.66666666666666663,0.66666666666666663,1.3333333333333333,1,0,0,0,0,{"$f":"+SUM(BD21:BG21)/AU21","v":0.6},0.6,0.6,{"$f":"'[4]2016'!P28","v":0},{"$f":"'[4]2016'!Q28","v":0},{"$f":"'[4]2016'!R28","v":0}," -"," -",{"$f":"'[4]2017'!P28","v":13710000},{"$f":"'[4]2017'!Q28","v":11318331},{"$f":"'[4]2017'!R28","v":0},0.82555295404814," -",{"$f":"'[4]2018'!P28","v":0},{"$f":"'[4]2018'!Q28","v":0},{"$f":"'[4]2018'!R28","v":0}," -"," -",{"$f":"'[4]2019'!P28","v":0},{"$f":"'[4]2019'!Q28","v":0},{"$f":"'[4]2019'!R28","v":0}," -"," -",13710000,11318331,0,0.82555295404814," -","4. Educación de calidad ","Educación",{"$f":"'[1]LÍNEA 4'!AQ21","v":"Sec. Educación"}]
[null,null,null,null,null,null,null,null,null,null,null,null,null,null,null,null,null,null,null,null,null,null,null,null,null,null,null,null,null,null,null,null,null,null,null,null,null,null,null,null,null,null,"Realizar las dotaciones necesarias a 13 instituciones educativas viabilizadas para la vinculación a la JORNADA ÚNICA.",{"$f":"'[1]LÍNEA 4'!P22","v":2210645},"Número de instituciones educativas viabilizadas con dotaciones necesarias para la vinculación a la JORNADA ÚNICA.",0,{"$f":"'[1]LÍNEA 4'!S22","v":13},{"$f":"'[1]LÍNEA 4'!T22","v":0},0,{"$f":"'[1]LÍNEA 4'!U22","v":5},0.38461538461538464,{"$f":"'[1]LÍNEA 4'!V22","v":4},0.30769230769230771,{"$f":"'[1]LÍNEA 4'!W22","v":4},0.30769230769230771,{"$f":"'[4]2016'!K29","v":0},{"$f":"'[4]2017'!K29","v":7},{"$f":"'[4]2018'!K29","v":0},{"$f":"'[4]2019'!K29","v":0}," -"," -",1.4,1,0,0,0,0,0.53846153846153844,0.53846153846153844,0.53846153846153844,{"$f":"'[4]2016'!P29","v":0},{"$f":"'[4]2016'!Q29","v":0},{"$f":"'[4]2016'!R29","v":0}," -"," -",{"$f":"'[4]2017'!P29","v":638069},{"$f":"'[4]2017'!Q29","v":638069},{"$f":"'[4]2017'!R29","v":0},1," -",{"$f":"'[4]2018'!P29","v":1173899},{"$f":"'[4]2018'!Q29","v":0},{"$f":"'[4]2018'!R29","v":0},0," -",{"$f":"'[4]2019'!P29","v":2000000},{"$f":"'[4]2019'!Q29","v":0},{"$f":"'[4]2019'!R29","v":0},0," -",3811968,638069,0,0.16738571782344447," -","4. Educación de calidad ","Educación",{"$f":"'[1]LÍNEA 4'!AQ22","v":"Sec. Educación"}]
[null,null,null,null,null,null,null,null,null,null,null,null,null,null,null,null,null,null,null,null,null,null,null,null,null,null,null,null,null,null,null,null,null,null,null,null,null,null,null,null,null,null,"Garantizar el 100% de la ejecución y evaluación del plan de JORNADA ÚNICA de las instituciones educativas viabilizadas por el MEN.",{"$f":"'[1]LÍNEA 4'!P23","v":0},"Porcentaje de ejecución y evaluación del plan de JORNADA ÚNICA de las instituciones educativas viabilizadas por el MEN garantizada.",0,{"$f":"'[1]LÍNEA 4'!S23","v":1},{"$f":"'[1]LÍNEA 4'!T23","v":1},0.25,{"$f":"'[1]LÍNEA 4'!U23","v":1},0.25,{"$f":"'[1]LÍNEA 4'!V23","v":1},0.25,{"$f":"'[1]LÍNEA 4'!W23","v":1},0.25,{"$f":"'[4]2016'!K30","v":1},{"$f":"'[4]2017'!K30","v":1},{"$f":"'[4]2018'!K30","v":0.5},{"$f":"'[4]2019'!K30","v":0},1,1,1,1,0.5,0.5,0,0,0.625,0.625,0.625,{"$f":"'[4]2016'!P30","v":0},{"$f":"'[4]2016'!Q30","v":0},{"$f":"'[4]2016'!R30","v":0}," -"," -",{"$f":"'[4]2017'!P30","v":0},{"$f":"'[4]2017'!Q30","v":0},{"$f":"'[4]2017'!R30","v":0}," -"," -",{"$f":"'[4]2018'!P30","v":0},{"$f":"'[4]2018'!Q30","v":0},{"$f":"'[4]2018'!R30","v":0}," -"," -",{"$f":"'[4]2019'!P30","v":885227},{"$f":"'[4]2019'!Q30","v":0},{"$f":"'[4]2019'!R30","v":0},0," -",885227,0,0,0," -","4. Educación de calidad ","Educación",{"$f":"'[1]LÍNEA 4'!AQ23","v":"Sec. Educación"}]
[null,null,null,null,null,null,null,null,null,null,null,null,null,null,null,null,null,null,null,null,null,null,null,null,null,null,null,null,null,null,null,null,null,null,null,null,null,null,null,null,{"$f":"+RESUMEN!J83","v":0.73686088878153477},"ACCESO (ACCESIBILIDAD): \"EDUCACIÓN PARA UNA CIUDAD INTELIGENTE Y SOLIDARIA\"","Aumentar 581 cupos para la atención de la primera infancia (transición).",{"$f":"'[1]LÍNEA 4'!P24","v":" -"},"Número de cupos aumentados para la atención de la primera infancia (transición).",4919,{"$f":"'[1]LÍNEA 4'!S24","v":581},{"$f":"'[1]LÍNEA 4'!T24","v":146},0.2512908777969019,{"$f":"'[1]LÍNEA 4'!U24","v":145},0.24956970740103271,{"$f":"'[1]LÍNEA 4'!V24","v":145},0.24956970740103271,{"$f":"'[1]LÍNEA 4'!W24","v":145},0.24956970740103271,{"$f":"'[4]2016'!K31","v":157},{"$f":"'[4]2017'!K31","v":290},{"$f":"'[4]2018'!K31","v":209},{"$f":"'[4]2019'!K31","v":0},1.0753424657534247,1,2,1,1.4413793103448276,1,0,0,{"$f":"+SUM(BD24:BG24)/AU24","v":1.1290877796901893},1,1,{"$f":"'[4]2016'!P31","v":0},{"$f":"'[4]2016'!Q31","v":0},{"$f":"'[4]2016'!R31","v":0}," -"," -",{"$f":"'[4]2017'!P31","v":0},{"$f":"'[4]2017'!Q31","v":0},{"$f":"'[4]2017'!R31","v":0}," -"," -",{"$f":"'[4]2018'!P31","v":0},{"$f":"'[4]2018'!Q31","v":0},{"$f":"'[4]2018'!R31","v":0}," -"," -",{"$f":"'[4]2019'!P31","v":0},{"$f":"'[4]2019'!Q31","v":0},{"$f":"'[4]2019'!R31","v":0}," -"," -",0,0,0," -"," -","4. Educación de calidad ","Educación",{"$f":"'[1]LÍNEA 4'!AQ24","v":"Sec. Educación"}]
[null,null,null,null,null,null,null,null,null,null,null,null,null,null,null,null,null,null,null,null,null,null,null,null,null,null,null,null,null,null,null,null,null,null,null,null,null,null,null,null,null,null,"Mantener el 100% de los subsidios para educación superior de los estudiantes que cumplen los requisitos para la continuidad.",{"$f":"'[1]LÍNEA 4'!P25","v":2210146},"Porcentaje de subsidios mantenidos para educación superior de los estudiantes que cumplen los requisitos para la continuidad.",1,{"$f":"'[1]LÍNEA 4'!S25","v":1},{"$f":"'[1]LÍNEA 4'!T25","v":1},0.25,{"$f":"'[1]LÍNEA 4'!U25","v":1},0.25,{"$f":"'[1]LÍNEA 4'!V25","v":1},0.25,{"$f":"'[1]LÍNEA 4'!W25","v":1},0.25,{"$f":"'[4]2016'!K32","v":1},{"$f":"'[4]2017'!K32","v":1},{"$f":"'[4]2018'!K32","v":1},{"$f":"'[4]2019'!K32","v":0},1,1,1,1,1,1,0,0,0.75,0.75,0.75,{"$f":"'[4]2016'!P32","v":2819660},{"$f":"'[4]2016'!Q32","v":2752070},{"$f":"'[4]2016'!R32","v":799994},0.97602902477603681,0.29068810023000868,{"$f":"'[4]2017'!P32","v":1107223},{"$f":"'[4]2017'!Q32","v":1107223},{"$f":"'[4]2017'!R32","v":298623},1,0.26970447687593196,{"$f":"'[4]2018'!P32","v":236920},{"$f":"'[4]2018'!Q32","v":159918},{"$f":"'[4]2018'!R32","v":0},0.67498733749788953," -",{"$f":"'[4]2019'!P32","v":211673},{"$f":"'[4]2019'!Q32","v":0},{"$f":"'[4]2019'!R32","v":0},0," -",4375476,4019211,1098617,0.91857685883775841,0.27334145930631659,"4. Educación de calidad ","Educación",{"$f":"'[1]LÍNEA 4'!AQ25","v":"Sec. Educación"}]
[null,null,null,null,null,"Aumentar al 61% la tasa de cobertura neta para educación media.",0.56699999999999995,0.61,{"$f":"+H26-G26","v":4.3000000000000038E-2},0.56999999999999995,{"$f":"+J26-G26","v":3.0000000000000027E-3},null,0.59,{"$f":"+M26-J26","v":2.0000000000000018E-2},null,0.6,{"$f":"+P26-M26","v":1.0000000000000009E-2},null,0.61,{"$f":"+S26-P26","v":1.0000000000000009E-2},null,0.58299999999999996,{"$f":"+IF(V26=0,0,V26-G26)","v":1.6000000000000014E-2},null,{"$f":"+IF(X26=0,0,X26-V26)","v":0},null,{"$f":"+IF(Z26=0,0,Z26-X26)","v":0},null,{"$f":"+IF(AB26=0,0,AB26-Z26)","v":0},{"$f":"+IF(K26=0,\" -\",W26/K26)","v":5.333333333333333},{"$f":"+IF(K26=0,\" -\",IF(AD26>100%,100%,AD26))","v":1},{"$f":"+IF(N26=0,\" -\",Y26/N26)","v":0},{"$f":"+IF(N26=0,\" -\",IF(AF26>100%,100%,AF26))","v":0},{"$f":"+IF(Q26=0,\" -\",AA26/Q26)","v":0},{"$f":"+IF(Q26=0,\" -\",IF(AH26>100%,100%,AH26))","v":0},{"$f":"+IF(T26=0,\" -\",AC26/T26)","v":0},{"$f":"+IF(T26=0,\" -\",IF(AJ26>100%,100%,AJ26))","v":0},{"$f":"+SUM(AC26,AA26,Y26,W26)/I26","v":0.37209302325581395},{"$f":"+IF(AL26>100%,100%,IF(AL26<0%,0%,AL26))","v":0.37209302325581395},null,null,null,"Otorgar y mantener 4.570 nuevos subsidios para acceso a la educación superior del nivel técnico profesional, tecnológico y profesional.",{"$f":"'[1]LÍNEA 4'!P26","v":2210146},"Número de nuevos subsidios otorgados y mantenidos para acceso a la educación superior del nivel técnico profesional, tecnológico y profesional.",7048,{"$f":"'[1]LÍNEA 4'!S26","v":4570},{"$f":"'[1]LÍNEA 4'!T26","v":1091},0.2387308533916849,{"$f":"'[1]LÍNEA 4'!U26","v":967},0.21159737417943109,{"$f":"'[1]LÍNEA 4'!V26","v":1119},0.24485776805251641,{"$f":"'[1]LÍNEA 4'!W26","v":1393},0.30481400437636763,{"$f":"'[4]2016'!K33","v":969},{"$f":"'[4]2017'!K33","v":651},{"$f":"'[4]2018'!K33","v":1425},{"$f":"'[4]2019'!K33","v":0},0.88817598533455544,0.88817598533455544,0.67321613236814892,0.67321613236814892,1.2734584450402144,1,0,0,{"$f":"+SUM(BD26:BG26)/AU26","v":0.66630196936542674},0.66630196936542674,0.66630196936542674,{"$f":"'[4]2016'!P33","v":719278},{"$f":"'[4]2016'!Q33","v":719278},{"$f":"'[4]2016'!R33","v":454129},1,0.63136784386565414,{"$f":"'[4]2017'!P33","v":521590},{"$f":"'[4]2017'!Q33","v":520193},{"$f":"'[4]2017'!R33","v":140016},0.99732165110527426,0.26916163808432642,{"$f":"'[4]2018'!P33","v":2691950},{"$f":"'[4]2018'!Q33","v":2430963},{"$f":"'[4]2018'!R33","v":0},0.90304909080777873," -",{"$f":"'[4]2019'!P33","v":1306869},{"$f":"'[4]2019'!Q33","v":0},{"$f":"'[4]2019'!R33","v":0},0," -",5239687,3670434,594145,0.70050634703943193,0.16187322807057694,"4. Educación de calidad ","Educación",{"$f":"'[1]LÍNEA 4'!AQ26","v":"Sec. Educación"}]
[null,null,null,null,null,null,null,null,null,null,null,null,null,null,null,null,null,null,null,null,null,null,null,null,null,null,null,null,null,null,null,null,null,null,null,null,null,null,null,null,null,null,"Ofrecer 800 cupos de transporte escolar a estudiantes del colegio Villas de San Ignacio.",{"$f":"'[1]LÍNEA 4'!P27","v":2210940},"Número de cupos de transporte escolar ofrecidos a estudiantes del colegio Villas de San Ignacio.",800,{"$f":"'[1]LÍNEA 4'!S27","v":800},{"$f":"'[1]LÍNEA 4'!T27","v":800},1,{"$f":"'[1]LÍNEA 4'!U27","v":0},0,{"$f":"'[1]LÍNEA 4'!V27","v":0},0,{"$f":"'[1]LÍNEA 4'!W27","v":0},0,{"$f":"'[4]2016'!K34","v":1015},{"$f":"'[4]2017'!K34","v":0},{"$f":"'[4]2018'!K34","v":0},{"$f":"'[4]2019'!K34","v":0},1.26875,1," -"," -"," -"," -"," -"," -",1.26875,1,1,{"$f":"'[4]2016'!P34","v":603200},{"$f":"'[4]2016'!Q34","v":603200},{"$f":"'[4]2016'!R34","v":0},1," -",{"$f":"'[4]2017'!P34","v":0},{"$f":"'[4]2017'!Q34","v":0},{"$f":"'[4]2017'!R34","v":0}," -"," -",{"$f":"'[4]2018'!P34","v":0},{"$f":"'[4]2018'!Q34","v":0},{"$f":"'[4]2018'!R34","v":0}," -"," -",{"$f":"'[4]2019'!P34","v":0},{"$f":"'[4]2019'!Q34","v":0},{"$f":"'[4]2019'!R34","v":0}," -"," -",603200,603200,0,1," -","4. Educación de calidad ","Educación",{"$f":"'[1]LÍNEA 4'!AQ27","v":"Sec. Educación"}]
[null,null,null,null,null,null,null,null,null,null,null,null,null,null,null,null,null,null,null,null,null,null,null,null,null,null,null,null,null,null,null,null,null,null,null,null,null,null,null,null,null,null,"Mantener el 100% de los cupos de transporte escolar a estudiantes del sector rural que lo requieran.",{"$f":"'[1]LÍNEA 4'!P28","v":0},"Porcentaje de cupos de transporte escolar mantenidos a estudiantes del sector rural que lo requieran.",1,{"$f":"'[1]LÍNEA 4'!S28","v":1},{"$f":"'[1]LÍNEA 4'!T28","v":1},0.25,{"$f":"'[1]LÍNEA 4'!U28","v":1},0.25,{"$f":"'[1]LÍNEA 4'!V28","v":1},0.25,{"$f":"'[1]LÍNEA 4'!W28","v":1},0.25,{"$f":"'[4]2016'!K35","v":1},{"$f":"'[4]2017'!K35","v":1},{"$f":"'[4]2018'!K35","v":1},{"$f":"'[4]2019'!K35","v":0},1,1,1,1,1,1,0,0,0.75,0.75,0.75,{"$f":"'[4]2016'!P35","v":1216951},{"$f":"'[4]2016'!Q35","v":1216951},{"$f":"'[4]2016'!R35","v":0},1," -",{"$f":"'[4]2017'!P35","v":3365838},{"$f":"'[4]2017'!Q35","v":3180532},{"$f":"'[4]2017'!R35","v":0},0.94494506271543666," -",{"$f":"'[4]2018'!P35","v":3468805},{"$f":"'[4]2018'!Q35","v":3463101},{"$f":"'[4]2018'!R35","v":0},0.99835562967650238," -",{"$f":"'[4]2019'!P35","v":1540574},{"$f":"'[4]2019'!Q35","v":0},{"$f":"'[4]2019'!R35","v":0},0," -",9592168,7860584,0,0.8194793919372555," -","4. Educación de calidad ","Educación",{"$f":"'[1]LÍNEA 4'!AQ28","v":"Sec. Educación"}]
[null,null,null,null,null,null,null,null,null,null,null,null,null,null,null,null,null,null,null,null,null,null,null,null,null,null,null,null,null,null,null,null,null,null,null,null,null,null,null,null,null,null,"Atender 12.800 estudiantes con modelos educativos flexibles.",{"$f":"'[1]LÍNEA 4'!P29","v":2210913},"Número de estudiantes atendidos con modelos educativos flexibles.",17001,{"$f":"'[1]LÍNEA 4'!S29","v":12800},{"$f":"'[1]LÍNEA 4'!T29","v":2548},0.1990625,{"$f":"'[1]LÍNEA 4'!U29","v":3417},0.26695312500000001,{"$f":"'[1]LÍNEA 4'!V29","v":3418},0.26703125,{"$f":"'[1]LÍNEA 4'!W29","v":3417},0.26695312500000001,{"$f":"'[4]2016'!K36","v":2405},{"$f":"'[4]2017'!K36","v":2584},{"$f":"'[4]2018'!K36","v":2835},{"$f":"'[4]2019'!K36","v":0},0.94387755102040816,0.94387755102040816,0.75621890547263682,0.75621890547263682,0.82943241661790523,0.82943241661790523,0,0,{"$f":"+SUM(BD29:BG29)/AU29","v":0.61124999999999996},0.61124999999999996,0.61124999999999996,{"$f":"'[4]2016'!P36","v":165600},{"$f":"'[4]2016'!Q36","v":0},{"$f":"'[4]2016'!R36","v":0},0," -",{"$f":"'[4]2017'!P36","v":139520},{"$f":"'[4]2017'!Q36","v":139520},{"$f":"'[4]2017'!R36","v":59800},1,0.42861238532110091,{"$f":"'[4]2018'!P36","v":155618},{"$f":"'[4]2018'!Q36","v":0},{"$f":"'[4]2018'!R36","v":0},0," -",{"$f":"'[4]2019'!P36","v":277900},{"$f":"'[4]2019'!Q36","v":0},{"$f":"'[4]2019'!R36","v":0},0," -",738638,139520,59800,0.1888881969246099,0.42861238532110091,"4. Educación de calidad ","Educación",{"$f":"'[1]LÍNEA 4'!AQ29","v":"Sec. Educación"}]
[null,null,null,null,null,null,null,null,null,null,null,null,null,null,null,null,null,null,null,null,null,null,null,null,null,null,null,null,null,null,null,null,null,null,null,null,null,null,null,null,null,null,"Realizar la caracterización de la población en edad escolar para identificar discapacidades y talentos excepcionales en 47 instituciones educativas oficiales.",{"$f":"'[1]LÍNEA 4'!P30","v":2210005},"Número de instituciones educativas oficiales con caracterización realizada de la población en edad escolar para identificar discapacidades y talentos excepcionales.",0,{"$f":"'[1]LÍNEA 4'!S30","v":47},{"$f":"'[1]LÍNEA 4'!T30","v":0},0,{"$f":"'[1]LÍNEA 4'!U30","v":16},0.34042553191489361,{"$f":"'[1]LÍNEA 4'!V30","v":16},0.34042553191489361,{"$f":"'[1]LÍNEA 4'!W30","v":15},0.31914893617021278,{"$f":"'[4]2016'!K37","v":0},{"$f":"'[4]2017'!K37","v":16},{"$f":"'[4]2018'!K37","v":0},{"$f":"'[4]2019'!K37","v":0}," -"," -",1,1,0,0,0,0,0.34042553191489361,0.34042553191489361,0.34042553191489361,{"$f":"'[4]2016'!P37","v":90000},{"$f":"'[4]2016'!Q37","v":0},{"$f":"'[4]2016'!R37","v":0},0," -",{"$f":"'[4]2017'!P37","v":62378},{"$f":"'[4]2017'!Q37","v":62378},{"$f":"'[4]2017'!R37","v":0},1," -",{"$f":"'[4]2018'!P37","v":74540},{"$f":"'[4]2018'!Q37","v":0},{"$f":"'[4]2018'!R37","v":0},0," -",{"$f":"'[4]2019'!P37","v":113821},{"$f":"'[4]2019'!Q37","v":0},{"$f":"'[4]2019'!R37","v":0},0," -",340739,62378,0,0.18306680479780713," -","4. Educación de calidad ","Educación",{"$f":"'[1]LÍNEA 4'!AQ30","v":"Sec. Educación"}]
[null,null,null,null,null,"Reducir al 2% la tasa de deserción en educación básica primaria.",2.4E-2,0.02,{"$f":"+H31-G31","v":-4.0000000000000001E-3},2.3E-2,{"$f":"+J31-G31","v":-1.0000000000000009E-3},null,2.1999999999999999E-2,{"$f":"+M31-J31","v":-1.0000000000000009E-3},null,2.1000000000000001E-2,{"$f":"+P31-M31","v":-9.9999999999999742E-4},null,0.02,{"$f":"+S31-P31","v":-1.0000000000000009E-3},null,5.1999999999999998E-2,{"$f":"+IF(V31=0,0,V31-G31)","v":2.7999999999999997E-2},null,{"$f":"+IF(X31=0,0,X31-V31)","v":0},null,{"$f":"+IF(Z31=0,0,Z31-X31)","v":0},null,{"$f":"+IF(AB31=0,0,AB31-Z31)","v":0},{"$f":"+IF(K31=0,\" -\",W31/K31)","v":-27.999999999999972},{"$f":"+IF(K31=0,\" -\",IF(AD31>100%,100%,AD31))","v":-27.999999999999972},{"$f":"+IF(N31=0,\" -\",Y31/N31)","v":0},{"$f":"+IF(N31=0,\" -\",IF(AF31>100%,100%,AF31))","v":0},{"$f":"+IF(Q31=0,\" -\",AA31/Q31)","v":0},{"$f":"+IF(Q31=0,\" -\",IF(AH31>100%,100%,AH31))","v":0},{"$f":"+IF(T31=0,\" -\",AC31/T31)","v":0},{"$f":"+IF(T31=0,\" -\",IF(AJ31>100%,100%,AJ31))","v":0},{"$f":"+SUM(AC31,AA31,Y31,W31)/I31","v":-6.9999999999999991},{"$f":"+IF(AL31>100%,100%,IF(AL31<0%,0%,AL31))","v":0},null,null,null,"Lograr y mantener los servicios de apoyo al 100% de la población de estratos 1 y 2 con necesidades educativas especiales y/o discapacidad incluidas en las instituciones educativas oficiales.",{"$f":"'[1]LÍNEA 4'!P31","v":2210005},"Porcentaje de población de estratos 1 y 2 con necesidades educativas especiales y/o discapacidad mantenida en las instituciones educativas oficiales.",0.8,{"$f":"'[1]LÍNEA 4'!S31","v":1},{"$f":"'[1]LÍNEA 4'!T31","v":0.8},0.25,{"$f":"'[1]LÍNEA 4'!U31","v":1},0.25,{"$f":"'[1]LÍNEA 4'!V31","v":1},0.25,{"$f":"'[1]LÍNEA 4'!W31","v":1},0.25,{"$f":"'[4]2016'!K38","v":0.35},{"$f":"'[4]2017'!K38","v":0.83},{"$f":"'[4]2018'!K38","v":0.1},{"$f":"'[4]2019'!K38","v":0},0.43749999999999994,0.43749999999999994,0.83,0.83,0.1,0.1,0,0,0.32,0.32,0.32,{"$f":"'[4]2016'!P38","v":226156},{"$f":"'[4]2016'!Q38","v":45000},{"$f":"'[4]2016'!R38","v":0},0.19897769681105079," -",{"$f":"'[4]2017'!P38","v":588564},{"$f":"'[4]2017'!Q38","v":588564},{"$f":"'[4]2017'!R38","v":0},1," -",{"$f":"'[4]2018'!P38","v":1323920},{"$f":"'[4]2018'!Q38","v":153000},{"$f":"'[4]2018'!R38","v":0},0.115565895220255," -",{"$f":"'[4]2019'!P38","v":599854},{"$f":"'[4]2019'!Q38","v":0},{"$f":"'[4]2019'!R38","v":0},0," -",2738494,786564,0,0.28722502222024221," -","4. Educación de calidad ","Educación",{"$f":"'[1]LÍNEA 4'!AQ31","v":"Sec. Educación"}]
[null,null,null,null,null,null,null,null,null,null,null,null,null,null,null,null,null,null,null,null,null,null,null,null,null,null,null,null,null,null,null,null,null,null,null,null,null,null,null,null,null,null,"Mantener 9.599 estudiantes con la prestación del servicio educativo por el sistema de contratación.",{"$f":"'[1]LÍNEA 4'!P32","v":2210634},"Número de estudiantes mantenidos con la prestación del servicio educativo por el sistema de contratación.",9599,{"$f":"'[1]LÍNEA 4'!S32","v":9599},{"$f":"'[1]LÍNEA 4'!T32","v":9599},0.25,{"$f":"'[1]LÍNEA 4'!U32","v":9599},0.25,{"$f":"'[1]LÍNEA 4'!V32","v":9599},0.25,{"$f":"'[1]LÍNEA 4'!W32","v":9599},0.25,{"$f":"'[4]2016'!K39","v":9497},{"$f":"'[4]2017'!K39","v":9485},{"$f":"'[4]2018'!K39","v":9805},{"$f":"'[4]2019'!K39","v":0},0.98937389311386603,0.98937389311386603,0.98812376289196791,0.98812376289196791,1.0214605688092511,1,0,0,0.7497395562037712,0.7497395562037712,0.7497395562037712,{"$f":"'[4]2016'!P39","v":9954819},{"$f":"'[4]2016'!Q39","v":9927062},{"$f":"'[4]2016'!R39","v":0},0.99721170219167221," -",{"$f":"'[4]2017'!P39","v":12044123},{"$f":"'[4]2017'!Q39","v":11970119},{"$f":"'[4]2017'!R39","v":0},0.99385559247443755," -",{"$f":"'[4]2018'!P39","v":13258055},{"$f":"'[4]2018'!Q39","v":12732552},{"$f":"'[4]2018'!R39","v":0},0.9603634922317037," -",{"$f":"'[4]2019'!P39","v":12039988},{"$f":"'[4]2019'!Q39","v":0},{"$f":"'[4]2019'!R39","v":0},0," -",47296985,34629733,0,0.73217633217001044," -","4. Educación de calidad ","Educación",{"$f":"'[1]LÍNEA 4'!AQ32","v":"Sec. Educación"}]
[null,null,null,null,null,null,null,null,null,null,null,null,null,null,null,null,null,null,null,null,null,null,null,null,null,null,null,null,null,null,null,null,null,null,null,null,null,null,null,null,null,null,"Mantener la cobertura anual de complemento nutricional a 28.340 niñas y niños de estratos 1 y 2.",{"$f":"'[1]LÍNEA 4'!P33","v":2210803},"Número de niñas y niños de estratos 1 y 2 mantenidos con complemento nutricional.",27504,{"$f":"'[1]LÍNEA 4'!S33","v":28340},{"$f":"'[1]LÍNEA 4'!T33","v":28340},0.25,{"$f":"'[1]LÍNEA 4'!U33","v":28340},0.25,{"$f":"'[1]LÍNEA 4'!V33","v":28340},0.25,{"$f":"'[1]LÍNEA 4'!W33","v":28340},0.25,{"$f":"'[4]2016'!K40","v":25336},{"$f":"'[4]2017'!K40","v":24708},{"$f":"'[4]2018'!K40","v":25857},{"$f":"'[4]2019'!K40","v":0},0.89400141143260414,0.89400141143260414,0.87184191954834156,0.87184191954834156,0.91238532110091741,0.91238532110091741,0,0,0.66955716302046575,0.66955716302046575,0.66955716302046575,{"$f":"'[4]2016'!P40","v":8736890},{"$f":"'[4]2016'!Q40","v":7630051},{"$f":"'[4]2016'!R40","v":0},0.87331430291556833," -",{"$f":"'[4]2017'!P40","v":16625982},{"$f":"'[4]2017'!Q40","v":14663558},{"$f":"'[4]2017'!R40","v":0},0.88196643061444435," -",{"$f":"'[4]2018'!P40","v":19744099},{"$f":"'[4]2018'!Q40","v":19310741},{"$f":"'[4]2018'!R40","v":0},0.97805126483614169," -",{"$f":"'[4]2019'!P40","v":10017868},{"$f":"'[4]2019'!Q40","v":0},{"$f":"'[4]2019'!R40","v":0},0," -",55124839,41604350,0,0.75472964193147118," -","4. Educación de calidad ","Educación",{"$f":"'[1]LÍNEA 4'!AQ33","v":"Sec. Educación"}]
[null,null,null,null,null,null,null,null,null,null,null,null,null,null,null,null,null,null,null,null,null,null,null,null,null,null,null,null,null,null,null,null,null,null,null,null,null,null,null,null,null,null,"Mantener el 100% de la población en edad escolar en instituciones educativas oficiales pertenecientes a minorías étnicas.",{"$f":"'[1]LÍNEA 4'!P34","v":0},"Porcentaje de población en edad escolar pertenecientes a minorías étnicas mantenidas en instituciones educativas oficiales .",1,{"$f":"'[1]LÍNEA 4'!S34","v":1},{"$f":"'[1]LÍNEA 4'!T34","v":1},0.25,{"$f":"'[1]LÍNEA 4'!U34","v":1},0.25,{"$f":"'[1]LÍNEA 4'!V34","v":1},0.25,{"$f":"'[1]LÍNEA 4'!W34","v":1},0.25,{"$f":"'[4]2016'!K41","v":1},{"$f":"'[4]2017'!K41","v":1},{"$f":"'[4]2018'!K41","v":1},{"$f":"'[4]2019'!K41","v":0},1,1,1,1,1,1,0,0,0.75,0.75,0.75,{"$f":"'[4]2016'!P41","v":0},{"$f":"'[4]2016'!Q41","v":0},{"$f":"'[4]2016'!R41","v":0}," -"," -",{"$f":"'[4]2017'!P41","v":0},{"$f":"'[4]2017'!Q41","v":0},{"$f":"'[4]2017'!R41","v":0}," -"," -",{"$f":"'[4]2018'!P41","v":0},{"$f":"'[4]2018'!Q41","v":0},{"$f":"'[4]2018'!R41","v":0}," -"," -",{"$f":"'[4]2019'!P41","v":12647},{"$f":"'[4]2019'!Q41","v":0},{"$f":"'[4]2019'!R41","v":0},0," -",12647,0,0,0," -","4. Educación de calidad ","Educación",{"$f":"'[1]LÍNEA 4'!AQ34","v":"Sec. Educación"}]
[null,null,null,null,null,null,null,null,null,null,null,null,null,null,null,null,null,null,null,null,null,null,null,null,null,null,null,null,null,null,null,null,null,null,null,null,null,null,null,null,null,null,"Mantener el 100% de la población en edad escolar víctima del conflicto interno en instituciones educativas oficiales.",{"$f":"'[1]LÍNEA 4'!P35","v":0},"Porcentaje de población en edad escolar víctima del conflicto interno mantenidas en instituciones educativas oficiales.",1,{"$f":"'[1]LÍNEA 4'!S35","v":1},{"$f":"'[1]LÍNEA 4'!T35","v":1},0.25,{"$f":"'[1]LÍNEA 4'!U35","v":1},0.25,{"$f":"'[1]LÍNEA 4'!V35","v":1},0.25,{"$f":"'[1]LÍNEA 4'!W35","v":1},0.25,{"$f":"'[4]2016'!K42","v":1},{"$f":"'[4]2017'!K42","v":1},{"$f":"'[4]2018'!K42","v":1},{"$f":"'[4]2019'!K42","v":0},1,1,1,1,1,1,0,0,0.75,0.75,0.75,{"$f":"'[4]2016'!P42","v":0},{"$f":"'[4]2016'!Q42","v":0},{"$f":"'[4]2016'!R42","v":0}," -"," -",{"$f":"'[4]2017'!P42","v":30000},{"$f":"'[4]2017'!Q42","v":30000},{"$f":"'[4]2017'!R42","v":20000},1,0.66666666666666663,{"$f":"'[4]2018'!P42","v":0},{"$f":"'[4]2018'!Q42","v":0},{"$f":"'[4]2018'!R42","v":0}," -"," -",{"$f":"'[4]2019'!P42","v":311310},{"$f":"'[4]2019'!Q42","v":0},{"$f":"'[4]2019'!R42","v":0},0," -",341310,30000,20000,8.7896633558934692E-2,0.66666666666666663,"4. Educación de calidad ","Educación",{"$f":"'[1]LÍNEA 4'!AQ35","v":"Sec. Educación"}]
[null,null,null,null,null,"Reducir al 4% la tasa de deserción en educación básica secundaria.",4.3999999999999997E-2,0.04,{"$f":"+H36-G36","v":-3.9999999999999966E-3},4.2999999999999997E-2,{"$f":"+J36-G36","v":-1.0000000000000009E-3},null,4.2000000000000003E-2,-9.9999999999999395E-4,null,4.1000000000000002E-2,{"$f":"+P36-M36","v":-1.0000000000000009E-3},null,0.04,{"$f":"+S36-P36","v":-1.0000000000000009E-3},null,6.7000000000000004E-2,{"$f":"+IF(V36=0,0,V36-G36)","v":2.3000000000000007E-2},null,{"$f":"+IF(X36=0,0,X36-V36)","v":0},null,{"$f":"+IF(Z36=0,0,Z36-X36)","v":0},null,{"$f":"+IF(AB36=0,0,AB36-Z36)","v":0},{"$f":"+IF(K36=0,\" -\",W36/K36)","v":-22.999999999999986},{"$f":"+IF(K36=0,\" -\",IF(AD36>100%,100%,AD36))","v":-22.999999999999986},{"$f":"+IF(N36=0,\" -\",Y36/N36)","v":0},{"$f":"+IF(N36=0,\" -\",IF(AF36>100%,100%,AF36))","v":0},{"$f":"+IF(Q36=0,\" -\",AA36/Q36)","v":0},{"$f":"+IF(Q36=0,\" -\",IF(AH36>100%,100%,AH36))","v":0},{"$f":"+IF(T36=0,\" -\",AC36/T36)","v":0},{"$f":"+IF(T36=0,\" -\",IF(AJ36>100%,100%,AJ36))","v":0},{"$f":"+SUM(AC36,AA36,Y36,W36)/I36","v":-5.7500000000000062},{"$f":"+IF(AL36>100%,100%,IF(AL36<0%,0%,AL36))","v":0},null,null,null,"Implementar y mantener 1 estrategia de erradicación del trabajo infantil en niñas y niños en edad escolar caracterizados.",{"$f":"'[1]LÍNEA 4'!P36","v":0},"Número de estrategias de erradicación del trabajo infantil implememtados y mantenidos en niñas y niños en edad escolar caracterizados.",1,{"$f":"'[1]LÍNEA 4'!S36","v":1},{"$f":"'[1]LÍNEA 4'!T36","v":1},0.25,{"$f":"'[1]LÍNEA 4'!U36","v":1},0.25,{"$f":"'[1]LÍNEA 4'!V36","v":1},0.25,{"$f":"'[1]LÍNEA 4'!W36","v":1},0.25,{"$f":"'[4]2016'!K43","v":1},{"$f":"'[4]2017'!K43","v":1},{"$f":"'[4]2018'!K43","v":1},{"$f":"'[4]2019'!K43","v":0},1,1,1,1,1,1,0,0,{"$f":"+AVERAGE(BD36:BG36)/AU36","v":0.75},0.75,0.75,{"$f":"'[4]2016'!P43","v":0},{"$f":"'[4]2016'!Q43","v":0},{"$f":"'[4]2016'!R43","v":0}," -"," -",{"$f":"'[4]2017'!P43","v":0},{"$f":"'[4]2017'!Q43","v":0},{"$f":"'[4]2017'!R43","v":0}," -"," -",{"$f":"'[4]2018'!P43","v":0},{"$f":"'[4]2018'!Q43","v":0},{"$f":"'[4]2018'!R43","v":0}," -"," -",{"$f":"'[4]2019'!P43","v":75880},{"$f":"'[4]2019'!Q43","v":0},{"$f":"'[4]2019'!R43","v":0},0," -",75880,0,0,0," -","4. Educación de calidad ","Educación",{"$f":"'[1]LÍNEA 4'!AQ36","v":"Sec. Educación"}]
[null,null,null,null,null,null,null,null,null,null,null,null,null,null,null,null,null,null,null,null,null,null,null,null,null,null,null,null,null,null,null,null,null,null,null,null,null,null,null,null,null,null,"Brindar el servicio de alimentación al 100% del niñas y niños vinculados a la JORNADA ÚNICA.",{"$f":"'[1]LÍNEA 4'!P37","v":2210803},"Porcentaje de niñas y niños vinculados a la JORNADA ÚNICA el servicio de alimentación.",1,{"$f":"'[1]LÍNEA 4'!S37","v":1},{"$f":"'[1]LÍNEA 4'!T37","v":1},0.25,{"$f":"'[1]LÍNEA 4'!U37","v":1},0.25,{"$f":"'[1]LÍNEA 4'!V37","v":1},0.25,{"$f":"'[1]LÍNEA 4'!W37","v":1},0.25,{"$f":"'[4]2016'!K44","v":1},{"$f":"'[4]2017'!K44","v":0.85},{"$f":"'[4]2018'!K44","v":0.88},{"$f":"'[4]2019'!K44","v":0},1,1,0.85,0.85,0.88,0.88,0,0,0.6825,0.6825,0.6825,{"$f":"'[4]2016'!P44","v":195683},{"$f":"'[4]2016'!Q44","v":66082},{"$f":"'[4]2016'!R44","v":0},0.33769923805338226," -",{"$f":"'[4]2017'!P44","v":2550702},{"$f":"'[4]2017'!Q44","v":2120736},{"$f":"'[4]2017'!R44","v":0},0.83143228805246561," -",{"$f":"'[4]2018'!P44","v":1287526},{"$f":"'[4]2018'!Q44","v":0},{"$f":"'[4]2018'!R44","v":0},0," -",{"$f":"'[4]2019'!P44","v":12879000},{"$f":"'[4]2019'!Q44","v":0},{"$f":"'[4]2019'!R44","v":0},0," -",16912911,2186818,0,0.12929873514973264," -","4. Educación de calidad ","Educación",{"$f":"'[1]LÍNEA 4'!AQ37","v":"Sec. Educación"}]
[null,null,null,null,null,null,null,null,null,null,null,null,null,null,null,null,null,null,null,null,null,null,null,null,null,null,null,null,null,null,null,null,null,null,null,null,null,null,null,null,null,null,"Realizar 2 estudios de cobertura educativas.",{"$f":"'[1]LÍNEA 4'!P38","v":0},"Número de estudios de cobertura educativa realizadas.",1,{"$f":"'[1]LÍNEA 4'!S38","v":2},{"$f":"'[1]LÍNEA 4'!T38","v":1},0.5,{"$f":"'[1]LÍNEA 4'!U38","v":0},0,{"$f":"'[1]LÍNEA 4'!V38","v":1},0.5,{"$f":"'[1]LÍNEA 4'!W38","v":0},0,{"$f":"'[4]2016'!K45","v":1},{"$f":"'[4]2017'!K45","v":1},{"$f":"'[4]2018'!K45","v":0},{"$f":"'[4]2019'!K45","v":0},1,1," -"," -",0,0," -"," -",{"$f":"+SUM(BD38:BG38)/AU38","v":1},1,1,{"$f":"'[4]2016'!P45","v":0},{"$f":"'[4]2016'!Q45","v":0},{"$f":"'[4]2016'!R45","v":0}," -"," -",{"$f":"'[4]2017'!P45","v":0},{"$f":"'[4]2017'!Q45","v":0},{"$f":"'[4]2017'!R45","v":0}," -"," -",{"$f":"'[4]2018'!P45","v":0},{"$f":"'[4]2018'!Q45","v":0},{"$f":"'[4]2018'!R45","v":0}," -"," -",{"$f":"'[4]2019'!P45","v":0},{"$f":"'[4]2019'!Q45","v":0},{"$f":"'[4]2019'!R45","v":0}," -"," -",0,0,0," -"," -","4. Educación de calidad ","Educación",{"$f":"'[1]LÍNEA 4'!AQ38","v":"Sec. Educación"}]
[null,null,null,null,null,null,null,null,null,null,null,null,null,null,null,null,null,null,null,null,null,null,null,null,null,null,null,null,null,null,null,null,null,null,null,null,null,null,null,null,null,null,"Articular 10 instituciones educativas con la educación superior y SENA con el nuevo modelo.",{"$f":"'[1]LÍNEA 4'!P39","v":0},"Número de instituciones educativas articuladas con la educación superior y SENA con el nuevo modelo.",0,{"$f":"'[1]LÍNEA 4'!S39","v":10},{"$f":"'[1]LÍNEA 4'!T39","v":0},0,{"$f":"'[1]LÍNEA 4'!U39","v":3},0.3,{"$f":"'[1]LÍNEA 4'!V39","v":0},0,{"$f":"'[1]LÍNEA 4'!W39","v":7},0.7,{"$f":"'[22]2016'!$K$17","v":0},{"$f":"'[22]2017'!$K$17","v":25},{"$f":"'[22]2018'!$K$17","v":0},{"$f":"'[22]2019'!$K$17","v":0}," -"," -",8.3333333333333339,1," -"," -",0,0,2.5,1,1,{"$f":"'[22]2016'!P17","v":0},{"$f":"'[22]2016'!Q17","v":0},{"$f":"'[22]2016'!R17","v":0}," -"," -",{"$f":"'[22]2017'!P17","v":0},{"$f":"'[22]2017'!Q17","v":0},{"$f":"'[22]2017'!R17","v":0}," -"," -",{"$f":"'[22]2018'!P17","v":0},{"$f":"'[22]2018'!Q17","v":0},{"$f":"'[22]2018'!R17","v":0}," -"," -",{"$f":"'[22]2019'!P17","v":30000},{"$f":"'[22]2019'!Q17","v":0},{"$f":"'[22]2019'!R17","v":0},0," -",30000,0,0,0," -","4. Educación de calidad ","Educación",{"$f":"'[1]LÍNEA 4'!AQ39","v":"IMEBU"}]
[null,null,null,null,null,null,null,null,null,null,null,null,null,null,null,null,null,null,null,null,null,null,null,null,null,null,null,null,null,null,null,null,null,null,null,null,null,null,null,null,{"$f":"+RESUMEN!J84","v":0.59840425531914898},"PERMANENCIA EN EL SISTEMA EDUCATIVO (ADAPTABILIDAD)","Mantener el apoyo a los proyectos transversales (MEN-Municipio) en las 47 instituciones educativas oficiales.",{"$f":"'[1]LÍNEA 4'!P40","v":2210258},"Número de instituciones educativas oficiales con apoyo a los proyectos transversales (MEN-Municipio).",47,{"$f":"'[1]LÍNEA 4'!S40","v":47},{"$f":"'[1]LÍNEA 4'!T40","v":47},0.25,{"$f":"'[1]LÍNEA 4'!U40","v":47},0.25,{"$f":"'[1]LÍNEA 4'!V40","v":47},0.25,{"$f":"'[1]LÍNEA 4'!W40","v":47},0.25,{"$f":"'[4]2016'!K46","v":47},{"$f":"'[4]2017'!K46","v":47},{"$f":"'[4]2018'!K46","v":23},{"$f":"'[4]2019'!K46","v":0},1,1,1,1,0.48936170212765956,0.48936170212765956,0,0,0.62234042553191493,0.62234042553191493,0.62234042553191493,{"$f":"'[4]2016'!P46","v":0},{"$f":"'[4]2016'!Q46","v":0},{"$f":"'[4]2016'!R46","v":0}," -"," -",{"$f":"'[4]2017'!P46","v":124542},{"$f":"'[4]2017'!Q46","v":84542},{"$f":"'[4]2017'!R46","v":70961},0.67882320823497289,0.83935795226041499,{"$f":"'[4]2018'!P46","v":200000},{"$f":"'[4]2018'!Q46","v":0},{"$f":"'[4]2018'!R46","v":0},0," -",{"$f":"'[4]2019'!P46","v":330938},{"$f":"'[4]2019'!Q46","v":0},{"$f":"'[4]2019'!R46","v":0},0," -",655480,84542,70961,0.12897723805455544,0.83935795226041499,"4. Educación de calidad ","Educación",{"$f":"'[1]LÍNEA 4'!AQ40","v":"Sec. Educación"}]
[null,null,null,null,null,"Reducir al 5% la tasa de deserción para educación media.",5.6000000000000001E-2,0.05,{"$f":"+H41-G41","v":-5.9999999999999984E-3},5.5E-2,{"$f":"+J41-G41","v":-1.0000000000000009E-3},null,5.2999999999999999E-2,{"$f":"+M41-J41","v":-2.0000000000000018E-3},null,5.0999999999999997E-2,{"$f":"+P41-M41","v":-2.0000000000000018E-3},null,0.05,{"$f":"+S41-P41","v":-9.9999999999999395E-4},null,2.7E-2,-2.9000000000000001E-2,null,{"$f":"+IF(X41=0,0,X41-V41)","v":0},null,{"$f":"+IF(Z41=0,0,Z41-X41)","v":0},null,{"$f":"+IF(AB41=0,0,AB41-Z41)","v":0},{"$f":"+IF(K41=0,\" -\",W41/K41)","v":28.999999999999975},{"$f":"+IF(K41=0,\" -\",IF(AD41>100%,100%,AD41))","v":1},{"$f":"+IF(N41=0,\" -\",Y41/N41)","v":0},{"$f":"+IF(N41=0,\" -\",IF(AF41>100%,100%,AF41))","v":0},{"$f":"+IF(Q41=0,\" -\",AA41/Q41)","v":0},{"$f":"+IF(Q41=0,\" -\",IF(AH41>100%,100%,AH41))","v":0},{"$f":"+IF(T41=0,\" -\",AC41/T41)","v":0},{"$f":"+IF(T41=0,\" -\",IF(AJ41>100%,100%,AJ41))","v":0},{"$f":"+SUM(AC41,AA41,Y41,W41)/I41","v":4.8333333333333348},{"$f":"+IF(AL41>100%,100%,IF(AL41<0%,0%,AL41))","v":1},null,null,null,"Otorgar 188 estímulos a los estudiantes de las instituciones educativas oficiales.",{"$f":"'[1]LÍNEA 4'!P41","v":" -"},"Número de estímulos otorgados a los estudiantes de las instituciones oficiales.",9,{"$f":"'[1]LÍNEA 4'!S41","v":188},{"$f":"'[1]LÍNEA 4'!T41","v":0},0,{"$f":"'[1]LÍNEA 4'!U41","v":94},0.5,{"$f":"'[1]LÍNEA 4'!V41","v":47},0.25,{"$f":"'[1]LÍNEA 4'!W41","v":47},0.25,{"$f":"'[4]2016'!K47","v":0},{"$f":"'[4]2017'!K47","v":4},{"$f":"'[4]2018'!K47","v":0},{"$f":"'[4]2019'!K47","v":0}," -"," -",4.2553191489361701E-2,4.2553191489361701E-2,0,0,0,0,{"$f":"+SUM(BD41:BG41)/AU41","v":2.1276595744680851E-2},2.1276595744680851E-2,2.1276595744680851E-2,{"$f":"'[4]2016'!P47","v":0},{"$f":"'[4]2016'!Q47","v":0},{"$f":"'[4]2016'!R47","v":0}," -"," -",{"$f":"'[4]2017'!P47","v":0},{"$f":"'[4]2017'!Q47","v":0},{"$f":"'[4]2017'!R47","v":0}," -"," -",{"$f":"'[4]2018'!P47","v":0},{"$f":"'[4]2018'!Q47","v":0},{"$f":"'[4]2018'!R47","v":0}," -"," -",{"$f":"'[4]2019'!P47","v":0},{"$f":"'[4]2019'!Q47","v":0},{"$f":"'[4]2019'!R47","v":0}," -"," -",0,0,0," -"," -","4. Educación de calidad ","Educación",{"$f":"'[1]LÍNEA 4'!AQ41","v":"Sec. Educación"}]
[null,null,null,null,null,null,null,null,null,null,null,null,null,null,null,null,null,null,null,null,null,null,null,null,null,null,null,null,null,null,null,null,null,null,null,null,null,null,null,null,null,null,"Beneficiar al 100% de los estudiantes de los grados 10 y 11 que realizan las prácticas de la educación media técnica con el pago del ARL en cumplimiento del decreto 055 de 2015.",{"$f":"'[1]LÍNEA 4'!P42","v":2210257},"Porcentaje de estudiantes de los grados 10 y 11 que realizan las prácticas de la educación media técnica beneficiados con el pago del ARL en el cumplimiento del decreto 055 de 2015.",0,{"$f":"'[1]LÍNEA 4'!S42","v":1},{"$f":"'[1]LÍNEA 4'!T42","v":1},0.25,{"$f":"'[1]LÍNEA 4'!U42","v":1},0.25,{"$f":"'[1]LÍNEA 4'!V42","v":1},0.25,{"$f":"'[1]LÍNEA 4'!W42","v":1},0.25,{"$f":"'[4]2016'!K48","v":1},{"$f":"'[4]2017'!K48","v":1},{"$f":"'[4]2018'!K48","v":1},{"$f":"'[4]2019'!K48","v":0},1,1,1,1,1,1,0,0,0.75,0.75,0.75,{"$f":"'[4]2016'!P48","v":132496},{"$f":"'[4]2016'!Q48","v":35550},{"$f":"'[4]2016'!R48","v":0},0.26830998671658013," -",{"$f":"'[4]2017'!P48","v":154280},{"$f":"'[4]2017'!Q48","v":149900},{"$f":"'[4]2017'!R48","v":0},0.97161005963183822," -",{"$f":"'[4]2018'!P48","v":469074},{"$f":"'[4]2018'!Q48","v":35339},{"$f":"'[4]2018'!R48","v":0},7.5337793184017871E-2," -",{"$f":"'[4]2019'!P48","v":189280},{"$f":"'[4]2019'!Q48","v":0},{"$f":"'[4]2019'!R48","v":0},0," -",945130,220789,0,0.23360701702411307," -","4. Educación de calidad ","Educación",{"$f":"'[1]LÍNEA 4'!AQ42","v":"Sec. Educación"}]
[null,null,null,null,null,null,null,null,null,null,null,null,null,null,null,null,null,null,null,null,null,null,null,null,null,null,null,null,null,null,null,null,null,null,null,null,null,null,null,null,null,null,"Implementar y mantener en 15 instituciones educativas oficiales de bajo logro el programa de familias formadoras.",{"$f":"'[1]LÍNEA 4'!P43","v":2210900},"Número de instituciones educativas oficiales de bajo logro con el programa de familias formadoras implementada y mantenida.",0,{"$f":"'[1]LÍNEA 4'!S43","v":15},{"$f":"'[1]LÍNEA 4'!T43","v":0},0,{"$f":"'[1]LÍNEA 4'!U43","v":15},0.33,{"$f":"'[1]LÍNEA 4'!V43","v":15},0.33,{"$f":"'[1]LÍNEA 4'!W43","v":15},0.34,{"$f":"'[4]2016'!K49","v":0},{"$f":"'[4]2017'!K49","v":47},{"$f":"'[4]2018'!K49","v":11},{"$f":"'[4]2019'!K49","v":0}," -"," -",3.1333333333333333,1,0.73333333333333328,0.73333333333333328,0,0,{"$f":"+AVERAGE(BE43:BG43)/AU43","v":1.2888888888888888},1,1,{"$f":"'[4]2016'!P49","v":0},{"$f":"'[4]2016'!Q49","v":0},{"$f":"'[4]2016'!R49","v":0}," -"," -",{"$f":"'[4]2017'!P49","v":0},{"$f":"'[4]2017'!Q49","v":0},{"$f":"'[4]2017'!R49","v":0}," -"," -",{"$f":"'[4]2018'!P49","v":72596},{"$f":"'[4]2018'!Q49","v":0},{"$f":"'[4]2018'!R49","v":0},0," -",{"$f":"'[4]2019'!P49","v":168718},{"$f":"'[4]2019'!Q49","v":0},{"$f":"'[4]2019'!R49","v":0},0," -",241314,0,0,0," -","4. Educación de calidad ","Educación",{"$f":"'[1]LÍNEA 4'!AQ43","v":"Sec. Educación"}]
[null,null,null,null,null,null,null,null,null,null,null,null,null,null,null,null,null,null,null,null,null,null,null,null,null,null,null,null,null,null,null,null,null,null,null,null,null,null,null,null,{"$f":"+RESUMEN!J85","v":0.52357710899589405},"CALIDAD (ACEPTABILIDAD): \"INNOVADORES Y PROFESIONALES\"","Participar en el 100% de las iniciativas promovidas en el pacto por la educación \"Santander 2030\".",{"$f":"'[1]LÍNEA 4'!P44","v":" -"},"Porcentaje de iniciativas promovidas en el pacto por la educación \"Santander 2030\" con participación.",0,{"$f":"'[1]LÍNEA 4'!S44","v":1},{"$f":"'[1]LÍNEA 4'!T44","v":1},0.25,{"$f":"'[1]LÍNEA 4'!U44","v":1},0.25,{"$f":"'[1]LÍNEA 4'!V44","v":1},0.25,{"$f":"'[1]LÍNEA 4'!W44","v":1},0.25,{"$f":"'[4]2016'!K50","v":1},{"$f":"'[4]2017'!K50","v":1},{"$f":"'[4]2018'!K50","v":0.5},{"$f":"'[4]2019'!K50","v":0},1,1,1,1,0.5,0.5,0,0,0.625,0.625,0.625,{"$f":"'[4]2016'!P50","v":0},{"$f":"'[4]2016'!Q50","v":0},{"$f":"'[4]2016'!R50","v":0}," -"," -",{"$f":"'[4]2017'!P50","v":0},{"$f":"'[4]2017'!Q50","v":0},{"$f":"'[4]2017'!R50","v":0}," -"," -",{"$f":"'[4]2018'!P50","v":0},{"$f":"'[4]2018'!Q50","v":0},{"$f":"'[4]2018'!R50","v":0}," -"," -",{"$f":"'[4]2019'!P50","v":0},{"$f":"'[4]2019'!Q50","v":0},{"$f":"'[4]2019'!R50","v":0}," -"," -",0,0,0," -"," -","4. Educación de calidad ","Educación",{"$f":"'[1]LÍNEA 4'!AQ44","v":"Sec. Educación"}]
[null,null,null,null,null,null,null,null,null,null,null,null,null,null,null,null,null,null,null,null,null,null,null,null,null,null,null,null,null,null,null,null,null,null,null,null,null,null,null,null,null,null,"Capacitar 480 docentes de primaria de las instituciones educativas oficiales en el manejo de la segunda lengua.",{"$f":"'[1]LÍNEA 4'!P45","v":2210900},"Número de docentes de primaria de instituciones educativas oficiales capacitados en el manejo de una segunda lengua.",725,{"$f":"'[1]LÍNEA 4'!S45","v":480},{"$f":"'[1]LÍNEA 4'!T45","v":0},0,{"$f":"'[1]LÍNEA 4'!U45","v":160},0.33333333333333331,{"$f":"'[1]LÍNEA 4'!V45","v":160},0.33333333333333331,{"$f":"'[1]LÍNEA 4'!W45","v":160},0.33333333333333331,{"$f":"'[4]2016'!K51","v":0},{"$f":"'[4]2017'!K51","v":160},{"$f":"'[4]2018'!K51","v":247},{"$f":"'[4]2019'!K51","v":0}," -"," -",1,1,1.54375,1,0,0,{"$f":"+SUM(BD45:BG45)/AU45","v":0.84791666666666665},0.84791666666666665,0.84791666666666665,{"$f":"'[4]2016'!P51","v":70000},{"$f":"'[4]2016'!Q51","v":0},{"$f":"'[4]2016'!R51","v":0},0," -",{"$f":"'[4]2017'!P51","v":265000},{"$f":"'[4]2017'!Q51","v":265000},{"$f":"'[4]2017'!R51","v":206939},1,0.78090188679245287,{"$f":"'[4]2018'!P51","v":253500},{"$f":"'[4]2018'!Q51","v":253500},{"$f":"'[4]2018'!R51","v":204745},1,0.80767258382643004,{"$f":"'[4]2019'!P51","v":114117},{"$f":"'[4]2019'!Q51","v":0},{"$f":"'[4]2019'!R51","v":0},0," -",702617,518500,411684,0.73795538678967343,0.79399035679845709,"4. Educación de calidad ","Educación",{"$f":"'[1]LÍNEA 4'!AQ45","v":"Sec. Educación"}]
[null,null,null,null,null,"Reducir al 4% la tasa de repitencia en educación básica primaria.",5.0999999999999997E-2,0.04,{"$f":"+H46-G46","v":-1.0999999999999996E-2},0.05,{"$f":"+J46-G46","v":-9.9999999999999395E-4},null,4.7E-2,-3.0000000000000027E-3,null,4.2999999999999997E-2,-4.0000000000000036E-3,null,0.04,{"$f":"+S46-P46","v":-2.9999999999999957E-3},null,1.7000000000000001E-2,-3.3999999999999996E-2,null,{"$f":"+IF(X46=0,0,X46-V46)","v":0},null,{"$f":"+IF(Z46=0,0,Z46-X46)","v":0},null,{"$f":"+IF(AB46=0,0,AB46-Z46)","v":0},{"$f":"+IF(K46=0,\" -\",W46/K46)","v":34.000000000000199},{"$f":"+IF(K46=0,\" -\",IF(AD46>100%,100%,AD46))","v":1},{"$f":"+IF(N46=0,\" -\",Y46/N46)","v":0},{"$f":"+IF(N46=0,\" -\",IF(AF46>100%,100%,AF46))","v":0},0,{"$f":"+IF(Q46=0,\" -\",IF(AH46>100%,100%,AH46))","v":0},{"$f":"+IF(T46=0,\" -\",AC46/T46)","v":0},{"$f":"+IF(T46=0,\" -\",IF(AJ46>100%,100%,AJ46))","v":0},{"$f":"+SUM(AC46,AA46,Y46,W46)/I46","v":3.0909090909090917},{"$f":"+IF(AL46>100%,100%,IF(AL46<0%,0%,AL46))","v":1},null,null,null,"Mantener 8.173 estudiantes de instituciones educativas oficiales en el manejo de una segunda lengua, focalizadas en el progarama Colombia Bilingüe.",{"$f":"'[1]LÍNEA 4'!P46","v":2210900},"Número de estudiantes de instituciones educativas oficiales mantenidos en el manejo de una segunda lengua, focalizadas en el programa Colombia Bilingüe.",8173,{"$f":"'[1]LÍNEA 4'!S46","v":8173},{"$f":"'[1]LÍNEA 4'!T46","v":8173},0.25,{"$f":"'[1]LÍNEA 4'!U46","v":8173},0.25,{"$f":"'[1]LÍNEA 4'!V46","v":8173},0.25,{"$f":"'[1]LÍNEA 4'!W46","v":8173},0.25,{"$f":"'[4]2016'!K52","v":3461},{"$f":"'[4]2017'!K52","v":19407},{"$f":"'[4]2018'!K52","v":25721},{"$f":"'[4]2019'!K52","v":0},0.42346751498837637,0.42346751498837637,2.3745258778906155,1,3.1470696194787715,1,0,0,1.4862657530894408,1,1,{"$f":"'[4]2016'!P52","v":0},{"$f":"'[4]2016'!Q52","v":0},{"$f":"'[4]2016'!R52","v":385000}," -",1,{"$f":"'[4]2017'!P52","v":75000},{"$f":"'[4]2017'!Q52","v":75000},{"$f":"'[4]2017'!R52","v":100000},1,1.3333333333333333,{"$f":"'[4]2018'!P52","v":253500},{"$f":"'[4]2018'!Q52","v":253500},{"$f":"'[4]2018'!R52","v":204745},1,0.80767258382643004,{"$f":"'[4]2019'!P52","v":136940},{"$f":"'[4]2019'!Q52","v":0},{"$f":"'[4]2019'!R52","v":0},0," -",465440,328500,689745,0.70578377449295293,2.0996803652968037,"4. Educación de calidad ","Educación",{"$f":"'[1]LÍNEA 4'!AQ46","v":"Sec. Educación"}]
[null,null,null,null,null,null,null,null,null,null,null,null,null,null,null,null,null,null,null,null,null,null,null,null,null,null,null,null,null,null,null,null,null,null,null,null,null,null,null,null,null,null,"Crear y mantener en las 47 instituciones educativas oficiales el proyecto institucional de lectura, escritura y oralidad.",{"$f":"'[1]LÍNEA 4'!P47","v":2210900},"Número de instituciones educativas oficiales mantenidas con el apoyo en el proceso de lectura y escritura.",47,{"$f":"'[1]LÍNEA 4'!S47","v":47},{"$f":"'[1]LÍNEA 4'!T47","v":47},0.25,{"$f":"'[1]LÍNEA 4'!U47","v":47},0.25,{"$f":"'[1]LÍNEA 4'!V47","v":47},0.25,{"$f":"'[1]LÍNEA 4'!W47","v":47},0.25,{"$f":"'[4]2016'!K53","v":47},{"$f":"'[4]2017'!K53","v":30},{"$f":"'[4]2018'!K53","v":0},{"$f":"'[4]2019'!K53","v":0},1,1,0.63829787234042556,0.63829787234042556,0,0,0,0,0.40957446808510639,0.40957446808510639,0.40957446808510639,{"$f":"'[4]2016'!P53","v":0},{"$f":"'[4]2016'!Q53","v":0},{"$f":"'[4]2016'!R53","v":0}," -"," -",{"$f":"'[4]2017'!P53","v":50000},{"$f":"'[4]2017'!Q53","v":50000},{"$f":"'[4]2017'!R53","v":12000},1,0.24,{"$f":"'[4]2018'!P53","v":150000},{"$f":"'[4]2018'!Q53","v":0},{"$f":"'[4]2018'!R53","v":0},0," -",{"$f":"'[4]2019'!P53","v":114117},{"$f":"'[4]2019'!Q53","v":0},{"$f":"'[4]2019'!R53","v":0},0," -",314117,50000,12000,0.15917635785392067,0.24,"4. Educación de calidad ","Educación",{"$f":"'[1]LÍNEA 4'!AQ47","v":"Sec. Educación"}]
[null,null,null,null,null,null,null,null,null,null,null,null,null,null,null,null,null,null,null,null,null,null,null,null,null,null,null,null,null,null,null,null,null,null,null,null,null,null,null,null,null,null,"Capacitar en evaluación por competencias al 100% de los estudiantes de las instituciones educativas oficiales de bajo logro.",{"$f":"'[1]LÍNEA 4'!P48","v":2210900},"Porcentaje de estudiantes de instituciones educativas oficiales de bajo logro capacitados en evaluación por competencias.",0,{"$f":"'[1]LÍNEA 4'!S48","v":1},{"$f":"'[1]LÍNEA 4'!T48","v":1},0.25,{"$f":"'[1]LÍNEA 4'!U48","v":1},0.25,{"$f":"'[1]LÍNEA 4'!V48","v":1},0.25,{"$f":"'[1]LÍNEA 4'!W48","v":1},0.25,{"$f":"'[4]2016'!K54","v":0.1333},{"$f":"'[4]2017'!K54","v":1},{"$f":"'[4]2018'!K54","v":0},{"$f":"'[4]2019'!K54","v":0},0.1333,0.1333,1,1,0,0,0,0,0.28332499999999999,0.28332499999999999,0.28332499999999999,{"$f":"'[4]2016'!P54","v":0},{"$f":"'[4]2016'!Q54","v":0},{"$f":"'[4]2016'!R54","v":0}," -"," -",{"$f":"'[4]2017'!P54","v":49500},{"$f":"'[4]2017'!Q54","v":49500},{"$f":"'[4]2017'!R54","v":0},1," -",{"$f":"'[4]2018'!P54","v":100000},{"$f":"'[4]2018'!Q54","v":0},{"$f":"'[4]2018'!R54","v":0},0," -",{"$f":"'[4]2019'!P54","v":285292},{"$f":"'[4]2019'!Q54","v":0},{"$f":"'[4]2019'!R54","v":0},0," -",434792,49500,0,0.1138475408931167," -","4. Educación de calidad ","Educación",{"$f":"'[1]LÍNEA 4'!AQ48","v":"Sec. Educación"}]
[null,null,null,null,null,null,null,null,null,null,null,null,null,null,null,null,null,null,null,null,null,null,null,null,null,null,null,null,null,null,null,null,null,null,null,null,null,null,null,null,null,null,"Brindar orientación vocacional - proyecto de vida al 100% de los estudiantes de grado 10º de las instituciones educativas oficiales.",{"$f":"'[1]LÍNEA 4'!P49","v":0},"Porcentaje de estudiantes de grado 10º de las instituciones educativas oficiales con orientación vocacional - proyecto de vida.",0,{"$f":"'[1]LÍNEA 4'!S49","v":1},{"$f":"'[1]LÍNEA 4'!T49","v":1},0.25,{"$f":"'[1]LÍNEA 4'!U49","v":1},0.25,{"$f":"'[1]LÍNEA 4'!V49","v":1},0.25,{"$f":"'[1]LÍNEA 4'!W49","v":1},0.25,{"$f":"'[4]2016'!K55","v":0},{"$f":"'[4]2017'!K55","v":0.56999999999999995},{"$f":"'[4]2018'!K55","v":0.64},{"$f":"'[4]2019'!K55","v":0},0,0,0.56999999999999995,0.56999999999999995,0.64,0.64,0,0,0.30249999999999999,0.30249999999999999,0.30249999999999999,{"$f":"'[4]2016'!P55","v":0},{"$f":"'[4]2016'!Q55","v":0},{"$f":"'[4]2016'!R55","v":0}," -"," -",{"$f":"'[4]2017'!P55","v":0},{"$f":"'[4]2017'!Q55","v":0},{"$f":"'[4]2017'!R55","v":0}," -"," -",{"$f":"'[4]2018'!P55","v":0},{"$f":"'[4]2018'!Q55","v":0},{"$f":"'[4]2018'!R55","v":0}," -"," -",{"$f":"'[4]2019'!P55","v":136940},{"$f":"'[4]2019'!Q55","v":0},{"$f":"'[4]2019'!R55","v":0},0," -",136940,0,0,0," -","4. Educación de calidad ","Educación",{"$f":"'[1]LÍNEA 4'!AQ49","v":"Sec. Educación"}]
[null,null,null,null,null,null,null,null,null,null,null,null,null,null,null,null,null,null,null,null,null,null,null,null,null,null,null,null,null,null,null,null,null,null,null,null,null,null,null,null,null,null,"Fomentar proyectos de investigación, desarrollo, transferencia tecnológica y gestión del conocimiento en 12 instituciones educativas oficiales",{"$f":"'[1]LÍNEA 4'!P50","v":0},"Número de instituciones educativas oficiales fomentadas con proyectos de investigación, desarrollo, transferencia tecnológica y gestión del conocimiento.",8,{"$f":"'[1]LÍNEA 4'!S50","v":12},{"$f":"'[1]LÍNEA 4'!T50","v":0},0,{"$f":"'[1]LÍNEA 4'!U50","v":4},0.33333333333333331,{"$f":"'[1]LÍNEA 4'!V50","v":4},0.33333333333333331,{"$f":"'[1]LÍNEA 4'!W50","v":4},0.33333333333333331,{"$f":"'[4]2016'!K56","v":0},{"$f":"'[4]2017'!K56","v":16},{"$f":"'[4]2018'!K56","v":0},{"$f":"'[4]2019'!K56","v":0}," -"," -",4,1,0,0,0,0,{"$f":"+SUM(BD50:BG50)/AU50","v":1.3333333333333333},1,1,{"$f":"'[4]2016'!P56","v":0},{"$f":"'[4]2016'!Q56","v":0},{"$f":"'[4]2016'!R56","v":0}," -"," -",{"$f":"'[4]2017'!P56","v":0},{"$f":"'[4]2017'!Q56","v":0},{"$f":"'[4]2017'!R56","v":0}," -"," -",{"$f":"'[4]2018'!P56","v":0},{"$f":"'[4]2018'!Q56","v":0},{"$f":"'[4]2018'!R56","v":0}," -"," -",{"$f":"'[4]2019'!P56","v":650465},{"$f":"'[4]2019'!Q56","v":0},{"$f":"'[4]2019'!R56","v":0},0," -",650465,0,0,0," -","4. Educación de calidad ","Educación",{"$f":"'[1]LÍNEA 4'!AQ50","v":"Sec. Educación"}]
[null,null,null,null,null,"Reducir al 10% la tasa de repitencia en educación básica secundaria.",0.123,0.1,{"$f":"+H51-G51","v":-2.2999999999999993E-2},0.12,{"$f":"+J51-G51","v":-3.0000000000000027E-3},null,0.115,{"$f":"+M51-J51","v":-4.9999999999999906E-3},null,0.106,{"$f":"+P51-M51","v":-9.000000000000008E-3},null,0.1,{"$f":"+S51-P51","v":-5.9999999999999915E-3},null,3.4000000000000002E-2,{"$f":"+IF(V51=0,0,V51-G51)","v":-8.8999999999999996E-2},null,{"$f":"+IF(X51=0,0,X51-V51)","v":0},null,{"$f":"+IF(Z51=0,0,Z51-X51)","v":0},null,{"$f":"+IF(AB51=0,0,AB51-Z51)","v":0},{"$f":"+IF(K51=0,\" -\",W51/K51)","v":29.666666666666639},{"$f":"+IF(K51=0,\" -\",IF(AD51>100%,100%,AD51))","v":1},{"$f":"+IF(N51=0,\" -\",Y51/N51)","v":0},{"$f":"+IF(N51=0,\" -\",IF(AF51>100%,100%,AF51))","v":0},{"$f":"+IF(Q51=0,\" -\",AA51/Q51)","v":0},{"$f":"+IF(Q51=0,\" -\",IF(AH51>100%,100%,AH51))","v":0},{"$f":"+IF(T51=0,\" -\",AC51/T51)","v":0},{"$f":"+IF(T51=0,\" -\",IF(AJ51>100%,100%,AJ51))","v":0},{"$f":"+SUM(AC51,AA51,Y51,W51)/I51","v":3.8695652173913055},{"$f":"+IF(AL51>100%,100%,IF(AL51<0%,0%,AL51))","v":1},null,null,null,"Mantener el acompañamiento de 4 centros educativos (zona rural) en el desarrollo de Modelos Escolares Para la Equidad - MEPE.",{"$f":"'[1]LÍNEA 4'!P51","v":2210900},"Número de centros educativos (zona rural) mantenidos con el acompañamiento para el desarrollo de Modelos Escolares Para la Equidad - MEPE.",4,{"$f":"'[1]LÍNEA 4'!S51","v":4},{"$f":"'[1]LÍNEA 4'!T51","v":4},0.25,{"$f":"'[1]LÍNEA 4'!U51","v":4},0.25,{"$f":"'[1]LÍNEA 4'!V51","v":4},0.25,{"$f":"'[1]LÍNEA 4'!W51","v":4},0.25,{"$f":"'[4]2016'!K57","v":0},{"$f":"'[4]2017'!K57","v":4},{"$f":"'[4]2018'!K57","v":4},{"$f":"'[4]2019'!K57","v":0},0,0,1,1,1,1,0,0,0.5,0.5,0.5,{"$f":"'[4]2016'!P57","v":70000},{"$f":"'[4]2016'!Q57","v":0},{"$f":"'[4]2016'!R57","v":0},0," -",{"$f":"'[4]2017'!P57","v":120125},{"$f":"'[4]2017'!Q57","v":120125},{"$f":"'[4]2017'!R57","v":51801},1,0.4312258064516129,{"$f":"'[4]2018'!P57","v":228059},{"$f":"'[4]2018'!Q57","v":228059},{"$f":"'[4]2018'!R57","v":97829},1,0.42896355767586458,{"$f":"'[4]2019'!P57","v":88528},{"$f":"'[4]2019'!Q57","v":0},{"$f":"'[4]2019'!R57","v":0},0," -",506712,348184,149630,0.68714378187214831,0.42974404337936262,"4. Educación de calidad ","Educación",{"$f":"'[1]LÍNEA 4'!AQ51","v":"Sec. Educación"}]
[null,null,null,null,null,null,null,null,null,null,null,null,null,null,null,null,null,null,null,null,null,null,null,null,null,null,null,null,null,null,null,null,null,null,null,null,null,null,null,null,null,null,"Certificar 8 nuevas instituciones educativas oficiales en el sistema integrados de gestión de calidad.",{"$f":"'[1]LÍNEA 4'!P52","v":"2210900\r2210954"},"Número de nuevas instituciones educativas oficiales certificadas en el sistema integrados de gestión de calidad.",6,{"$f":"'[1]LÍNEA 4'!S52","v":8},{"$f":"'[1]LÍNEA 4'!T52","v":0},0,{"$f":"'[1]LÍNEA 4'!U52","v":4},0.5,{"$f":"'[1]LÍNEA 4'!V52","v":2},0.25,{"$f":"'[1]LÍNEA 4'!W52","v":2},0.25,{"$f":"'[4]2016'!K58","v":0},{"$f":"'[4]2017'!K58","v":2},{"$f":"'[4]2018'!K58","v":0},{"$f":"'[4]2019'!K58","v":0}," -"," -",0.5,0.5,0,0,0,0,{"$f":"+SUM(BD52:BG52)/AU52","v":0.25},0.25,0.25,{"$f":"'[4]2016'!P58","v":0},{"$f":"'[4]2016'!Q58","v":0},{"$f":"'[4]2016'!R58","v":0}," -"," -",{"$f":"'[4]2017'!P58","v":42432},{"$f":"'[4]2017'!Q58","v":42432},{"$f":"'[4]2017'!R58","v":0},1," -",{"$f":"'[4]2018'!P58","v":80143},{"$f":"'[4]2018'!Q58","v":0},{"$f":"'[4]2018'!R58","v":0},0," -",{"$f":"'[4]2019'!P58","v":53509},{"$f":"'[4]2019'!Q58","v":0},{"$f":"'[4]2019'!R58","v":0},0," -",176084,42432,0,0.24097589786692714," -","4. Educación de calidad ","Educación",{"$f":"'[1]LÍNEA 4'!AQ52","v":"Sec. Educación"}]
[null,null,null,null,null,null,null,null,null,null,null,null,null,null,null,null,null,null,null,null,null,null,null,null,null,null,null,null,null,null,null,null,null,null,null,null,null,null,null,null,null,null,"Otorgar 340 becas a nivel de maestría a docentes de instituciones educativas oficiales.",{"$f":"'[1]LÍNEA 4'!P53","v":0},"Número de becas otorgadas a nivel de maestría a docentes de instituciones educativas oficiales.",0,{"$f":"'[1]LÍNEA 4'!S53","v":340},{"$f":"'[1]LÍNEA 4'!T53","v":0},0,{"$f":"'[1]LÍNEA 4'!U53","v":110},0.3235294117647059,{"$f":"'[1]LÍNEA 4'!V53","v":115},0.33823529411764708,{"$f":"'[1]LÍNEA 4'!W53","v":115},0.33823529411764708,{"$f":"'[4]2016'!K59","v":51},{"$f":"'[4]2017'!K59","v":0},{"$f":"'[4]2018'!K59","v":0},{"$f":"'[4]2019'!K59","v":0}," -"," -",0,0,0,0,0,0,0.15,0.15,0.15,{"$f":"'[4]2016'!P59","v":0},{"$f":"'[4]2016'!Q59","v":0},{"$f":"'[4]2016'!R59","v":462000}," -",1,{"$f":"'[4]2017'!P59","v":0},{"$f":"'[4]2017'!Q59","v":0},{"$f":"'[4]2017'!R59","v":0}," -"," -",{"$f":"'[4]2018'!P59","v":0},{"$f":"'[4]2018'!Q59","v":0},{"$f":"'[4]2018'!R59","v":0}," -"," -",{"$f":"'[4]2019'!P59","v":2125000},{"$f":"'[4]2019'!Q59","v":0},{"$f":"'[4]2019'!R59","v":0},0," -",2125000,0,462000,0,1,"4. Educación de calidad ","Educación",{"$f":"'[1]LÍNEA 4'!AQ53","v":"Sec. Educación"}]
[null,null,null,null,null,null,null,null,null,null,null,null,null,null,null,null,null,null,null,null,null,null,null,null,null,null,null,null,null,null,null,null,null,null,null,null,null,null,null,null,null,null,"Capacitar 2.500 docentes y directivos docentes en áreas técnicas pedagógicas de desarrollo personal, competencias básicas y ciudadanas y otras áreas del conocimiento e investigación.",{"$f":"'[1]LÍNEA 4'!P54","v":2210900},"Número de docentes y directivos docentes capacitados en áreas técnicas pedagógicas de desarrollo personal, competencias básicas y ciudadanas y otras áreas del conocimiento e investigación.",5268,{"$f":"'[1]LÍNEA 4'!S54","v":2500},{"$f":"'[1]LÍNEA 4'!T54","v":725},0.28999999999999998,{"$f":"'[1]LÍNEA 4'!U54","v":625},0.25,{"$f":"'[1]LÍNEA 4'!V54","v":625},0.25,{"$f":"'[1]LÍNEA 4'!W54","v":525},0.21,{"$f":"'[4]2016'!K60","v":767},{"$f":"'[4]2017'!K60","v":791},{"$f":"'[4]2018'!K60","v":512},{"$f":"'[4]2019'!K60","v":0},1.0579310344827586,1,1.2656000000000001,1,0.81920000000000004,0.81920000000000004,0,0,0.82799999999999996,0.82799999999999996,0.82799999999999996,{"$f":"'[4]2016'!P60","v":160000},{"$f":"'[4]2016'!Q60","v":0},{"$f":"'[4]2016'!R60","v":0},0," -",{"$f":"'[4]2017'!P60","v":114736},{"$f":"'[4]2017'!Q60","v":0},{"$f":"'[4]2017'!R60","v":0},0," -",{"$f":"'[4]2018'!P60","v":300000},{"$f":"'[4]2018'!Q60","v":0},{"$f":"'[4]2018'!R60","v":0},0," -",{"$f":"'[4]2019'!P60","v":189702},{"$f":"'[4]2019'!Q60","v":0},{"$f":"'[4]2019'!R60","v":0},0," -",764438,0,0,0," -","4. Educación de calidad ","Educación",{"$f":"'[1]LÍNEA 4'!AQ54","v":"Sec. Educación"}]
[null,null,null,null,null,"Reducir al 5% la tasa de repitencia para educación media.",7.8E-2,0.05,{"$f":"+H55-G55","v":-2.7999999999999997E-2},7.4999999999999997E-2,{"$f":"+J55-G55","v":-3.0000000000000027E-3},null,6.5000000000000002E-2,{"$f":"+M55-J55","v":-9.999999999999995E-3},null,5.5E-2,{"$f":"+P55-M55","v":-1.0000000000000002E-2},null,0.05,{"$f":"+S55-P55","v":-4.9999999999999975E-3},null,1.2E-2,{"$f":"+IF(V55=0,0,V55-G55)","v":-6.6000000000000003E-2},null,{"$f":"+IF(X55=0,0,X55-V55)","v":0},null,{"$f":"+IF(Z55=0,0,Z55-X55)","v":0},null,{"$f":"+IF(AB55=0,0,AB55-Z55)","v":0},{"$f":"+IF(K55=0,\" -\",W55/K55)","v":21.999999999999982},{"$f":"+IF(K55=0,\" -\",IF(AD55>100%,100%,AD55))","v":1},{"$f":"+IF(N55=0,\" -\",Y55/N55)","v":0},{"$f":"+IF(N55=0,\" -\",IF(AF55>100%,100%,AF55))","v":0},{"$f":"+IF(Q55=0,\" -\",AA55/Q55)","v":0},{"$f":"+IF(Q55=0,\" -\",IF(AH55>100%,100%,AH55))","v":0},{"$f":"+IF(T55=0,\" -\",AC55/T55)","v":0},{"$f":"+IF(T55=0,\" -\",IF(AJ55>100%,100%,AJ55))","v":0},{"$f":"+SUM(AC55,AA55,Y55,W55)/I55","v":2.3571428571428577},{"$f":"+IF(AL55>100%,100%,IF(AL55<0%,0%,AL55))","v":1},null,null,null,"Realizar 4 foros educativos municipales sobre experiencias pedagógicas significativas y culturales.",{"$f":"'[1]LÍNEA 4'!P55","v":2210902},"Número de foros educativos realizados sobre experiencias pedagógicas significativas y culturales.",4,{"$f":"'[1]LÍNEA 4'!S55","v":4},{"$f":"'[1]LÍNEA 4'!T55","v":1},0.25,{"$f":"'[1]LÍNEA 4'!U55","v":1},0.25,{"$f":"'[1]LÍNEA 4'!V55","v":1},0.25,{"$f":"'[1]LÍNEA 4'!W55","v":1},0.25,{"$f":"'[4]2016'!K61","v":0},{"$f":"'[4]2017'!K61","v":2},{"$f":"'[4]2018'!K61","v":0},{"$f":"'[4]2019'!K61","v":0},0,0,2,1,0,0,0,0,0.5,0.5,0.5,{"$f":"'[4]2016'!P61","v":80000},{"$f":"'[4]2016'!Q61","v":0},{"$f":"'[4]2016'!R61","v":0},0," -",{"$f":"'[4]2017'!P61","v":145000},{"$f":"'[4]2017'!Q61","v":0},{"$f":"'[4]2017'!R61","v":0},0," -",{"$f":"'[4]2018'!P61","v":250000},{"$f":"'[4]2018'!Q61","v":0},{"$f":"'[4]2018'!R61","v":0},0," -",{"$f":"'[4]2019'!P61","v":75881},{"$f":"'[4]2019'!Q61","v":0},{"$f":"'[4]2019'!R61","v":0},0," -",550881,0,0,0," -","4. Educación de calidad ","Educación",{"$f":"'[1]LÍNEA 4'!AQ55","v":"Sec. Educación"}]
[null,null,null,null,null,null,null,null,null,null,null,null,null,null,null,null,null,null,null,null,null,null,null,null,null,null,null,null,null,null,null,null,null,null,null,null,null,null,null,null,null,null,"Mantener el acompañamiento a 47 instituciones educativas oficiales en planes de mejoramiento institucional.",{"$f":"'[1]LÍNEA 4'!P56","v":0},"Número de instituciones educativas oficiales con acompañamiento en planes de mejoramiento institucional.",47,{"$f":"'[1]LÍNEA 4'!S56","v":47},{"$f":"'[1]LÍNEA 4'!T56","v":47},0.25,{"$f":"'[1]LÍNEA 4'!U56","v":47},0.25,{"$f":"'[1]LÍNEA 4'!V56","v":47},0.25,{"$f":"'[1]LÍNEA 4'!W56","v":47},0.25,{"$f":"'[4]2016'!K62","v":12},{"$f":"'[4]2017'!K62","v":42},{"$f":"'[4]2018'!K62","v":6},{"$f":"'[4]2019'!K62","v":0},0.25531914893617019,0.25531914893617019,0.8936170212765957,0.8936170212765957,0.1276595744680851,0.1276595744680851,0,0,0.31914893617021278,0.31914893617021278,0.31914893617021278,{"$f":"'[4]2016'!P62","v":0},{"$f":"'[4]2016'!Q62","v":0},{"$f":"'[4]2016'!R62","v":0}," -"," -",{"$f":"'[4]2017'!P62","v":0},{"$f":"'[4]2017'!Q62","v":0},{"$f":"'[4]2017'!R62","v":0}," -"," -",{"$f":"'[4]2018'!P62","v":0},{"$f":"'[4]2018'!Q62","v":0},{"$f":"'[4]2018'!R62","v":0}," -"," -",{"$f":"'[4]2019'!P62","v":570583},{"$f":"'[4]2019'!Q62","v":0},{"$f":"'[4]2019'!R62","v":0},0," -",570583,0,0,0," -","4. Educación de calidad ","Educación",{"$f":"'[1]LÍNEA 4'!AQ56","v":"Sec. Educación"}]
[null,null,null,null,null,null,null,null,null,null,null,null,null,null,null,null,null,null,null,null,null,null,null,null,null,null,null,null,null,null,null,null,null,null,null,null,null,null,null,null,null,null,"Apoyar 20 proyectos artísticos en las instituciones educativas oficiales.",{"$f":"'[1]LÍNEA 4'!P57","v":0},"Número de proyectos artísticos en las instituciones educativas apoyadas.",0,{"$f":"'[1]LÍNEA 4'!S57","v":20},{"$f":"'[1]LÍNEA 4'!T57","v":0},0,{"$f":"'[1]LÍNEA 4'!U57","v":7},0.35,{"$f":"'[1]LÍNEA 4'!V57","v":7},0.35,{"$f":"'[1]LÍNEA 4'!W57","v":6},0.3,{"$f":"'[4]2016'!K63","v":0},{"$f":"'[4]2017'!K63","v":10},{"$f":"'[4]2018'!K63","v":0},{"$f":"'[4]2019'!K63","v":0}," -"," -",1.4285714285714286,1,0,0,0,0,{"$f":"+SUM(BD57:BG57)/AU57","v":0.5},0.5,0.5,{"$f":"'[4]2016'!P63","v":0},{"$f":"'[4]2016'!Q63","v":0},{"$f":"'[4]2016'!R63","v":0}," -"," -",{"$f":"'[4]2017'!P63","v":0},{"$f":"'[4]2017'!Q63","v":0},{"$f":"'[4]2017'!R63","v":20000}," -",1,{"$f":"'[4]2018'!P63","v":0},{"$f":"'[4]2018'!Q63","v":0},{"$f":"'[4]2018'!R63","v":0}," -"," -",{"$f":"'[4]2019'!P63","v":102705},{"$f":"'[4]2019'!Q63","v":0},{"$f":"'[4]2019'!R63","v":0},0," -",102705,0,20000,0,1,"4. Educación de calidad ","Educación",{"$f":"'[1]LÍNEA 4'!AQ57","v":"Sec. Educación"}]
[null,null,null,null,null,null,null,null,null,null,null,null,null,null,null,null,null,null,null,null,null,null,null,null,null,null,null,null,null,null,null,null,null,null,null,null,null,null,null,null,null,null,"Actualizar el Plan Educativo Municipal.",{"$f":"'[1]LÍNEA 4'!P58","v":" -"},"Número de Planes Educativos Municipales actualizados.",1,{"$f":"'[1]LÍNEA 4'!S58","v":1},{"$f":"'[1]LÍNEA 4'!T58","v":0},0,{"$f":"'[1]LÍNEA 4'!U58","v":1},1,{"$f":"'[1]LÍNEA 4'!V58","v":0},0,{"$f":"'[1]LÍNEA 4'!W58","v":0},0,{"$f":"'[4]2016'!K64","v":0},{"$f":"'[4]2017'!K64","v":0},{"$f":"'[4]2018'!K64","v":0},{"$f":"'[4]2019'!K64","v":0}," -"," -",0,0," -"," -"," -"," -",0,0,0,{"$f":"'[4]2016'!P64","v":0},{"$f":"'[4]2016'!Q64","v":0},{"$f":"'[4]2016'!R64","v":0}," -"," -",{"$f":"'[4]2017'!P64","v":0},{"$f":"'[4]2017'!Q64","v":0},{"$f":"'[4]2017'!R64","v":0}," -"," -",{"$f":"'[4]2018'!P64","v":0},{"$f":"'[4]2018'!Q64","v":0},{"$f":"'[4]2018'!R64","v":0}," -"," -",{"$f":"'[4]2019'!P64","v":0},{"$f":"'[4]2019'!Q64","v":0},{"$f":"'[4]2019'!R64","v":0}," -"," -",0,0,0," -"," -","4. Educación de calidad ","Educación",{"$f":"'[1]LÍNEA 4'!AQ58","v":"Sec. Educación"}]
[null,null,null,null,null,"Disminuir a 4 el número de alumnos por computador.",15,4,{"$f":"+H59-G59","v":-11},10,{"$f":"+J59-G59","v":-5},null,6,{"$f":"+M59-J59","v":-4},null,5,{"$f":"+P59-M59","v":-1},null,4,{"$f":"+S59-P59","v":-1},null,0.15,{"$f":"+IF(V59=0,0,V59-G59)","v":-14.85},null,{"$f":"+IF(X59=0,0,X59-V59)","v":0},null,{"$f":"+IF(Z59=0,0,Z59-X59)","v":0},null,{"$f":"+IF(AB59=0,0,AB59-Z59)","v":0},{"$f":"+IF(K59=0,\" -\",W59/K59)","v":2.9699999999999998},{"$f":"+IF(K59=0,\" -\",IF(AD59>100%,100%,AD59))","v":1},{"$f":"+IF(N59=0,\" -\",Y59/N59)","v":0},{"$f":"+IF(N59=0,\" -\",IF(AF59>100%,100%,AF59))","v":0},{"$f":"+IF(Q59=0,\" -\",AA59/Q59)","v":0},{"$f":"+IF(Q59=0,\" -\",IF(AH59>100%,100%,AH59))","v":0},{"$f":"+IF(T59=0,\" -\",AC59/T59)","v":0},{"$f":"+IF(T59=0,\" -\",IF(AJ59>100%,100%,AJ59))","v":0},{"$f":"+SUM(AC59,AA59,Y59,W59)/I59","v":1.3499999999999999},{"$f":"+IF(AL59>100%,100%,IF(AL59<0%,0%,AL59))","v":1},null,null,null,"Evaluar el 100% de los programas de educación para el trabajo y desarrollo humano solicitados para registro mediante los recursos del fondo para el desarrollo humano.",{"$f":"'[1]LÍNEA 4'!P59","v":2210326},"Porcentaje de los programas de educación evaluados para el trabajo y desarrollo humano solicitados para registro mediante los recursos del fondo para el desarrollo humano.",0,{"$f":"'[1]LÍNEA 4'!S59","v":1},{"$f":"'[1]LÍNEA 4'!T59","v":1},0.25,{"$f":"'[1]LÍNEA 4'!U59","v":1},0.25,{"$f":"'[1]LÍNEA 4'!V59","v":1},0.25,{"$f":"'[1]LÍNEA 4'!W59","v":1},0.25,{"$f":"'[4]2016'!K65","v":0},{"$f":"'[4]2017'!K65","v":0.8},{"$f":"'[4]2018'!K65","v":0.53},{"$f":"'[4]2019'!K65","v":0},0,0,0.8,0.8,0.53,0.53,0,0,0.33250000000000002,0.33250000000000002,0.33250000000000002,{"$f":"'[4]2016'!P65","v":273292},{"$f":"'[4]2016'!Q65","v":0},{"$f":"'[4]2016'!R65","v":0},0," -",{"$f":"'[4]2017'!P65","v":348428},{"$f":"'[4]2017'!Q65","v":0},{"$f":"'[4]2017'!R65","v":0},0," -",{"$f":"'[4]2018'!P65","v":525879},{"$f":"'[4]2018'!Q65","v":0},{"$f":"'[4]2018'!R65","v":0},0," -",{"$f":"'[4]2019'!P65","v":11412},{"$f":"'[4]2019'!Q65","v":0},{"$f":"'[4]2019'!R65","v":0},0," -",1159011,0,0,0," -","4. Educación de calidad ","Educación",{"$f":"'[1]LÍNEA 4'!AQ59","v":"Sec. Educación"}]
[null,null,null,null,null,null,null,null,null,null,null,null,null,null,null,null,null,null,null,null,null,null,null,null,null,null,null,null,null,null,null,null,null,null,null,null,null,null,null,null,null,null,"Mantener y/o fortalecer el 100% de los macropocresos adoptados en la Secretaría de Educación.",{"$f":"'[1]LÍNEA 4'!P60","v":2210899},"Porcentaje de macroprocesos adoptados en la Secretaría de Educación mantenidos y/o fortalecidos.",1,{"$f":"'[1]LÍNEA 4'!S60","v":1},{"$f":"'[1]LÍNEA 4'!T60","v":1},0.25,{"$f":"'[1]LÍNEA 4'!U60","v":1},0.25,{"$f":"'[1]LÍNEA 4'!V60","v":1},0.25,{"$f":"'[1]LÍNEA 4'!W60","v":1},0.25,{"$f":"'[4]2016'!K66","v":1},{"$f":"'[4]2017'!K66","v":1},{"$f":"'[4]2018'!K66","v":0.5},{"$f":"'[4]2019'!K66","v":0},1,1,1,1,0.5,0.5,0,0,0.625,0.625,0.625,{"$f":"'[4]2016'!P66","v":741905},{"$f":"'[4]2016'!Q66","v":693313},{"$f":"'[4]2016'!R66","v":0},0.93450374374077538," -",{"$f":"'[4]2017'!P66","v":1080833},{"$f":"'[4]2017'!Q66","v":1066033},{"$f":"'[4]2017'!R66","v":0},0.98630685776618587," -",{"$f":"'[4]2018'!P66","v":1600000},{"$f":"'[4]2018'!Q66","v":608400},{"$f":"'[4]2018'!R66","v":0},0.38024999999999998," -",{"$f":"'[4]2019'!P66","v":0},{"$f":"'[4]2019'!Q66","v":0},{"$f":"'[4]2019'!R66","v":0}," -"," -",3422738,2367746,0,0.69176957161196684," -","4. Educación de calidad ","Educación",{"$f":"'[1]LÍNEA 4'!AQ60","v":"Sec. Educación"}]
[null,null,null,null,null,null,null,null,null,null,null,null,null,null,null,null,null,null,null,null,null,null,null,null,null,null,null,null,null,null,null,null,null,null,null,null,null,null,null,null,null,null,"Mantener el Programa de bienestar laboral dirigido al personal docente, directivo y administrativo de las instituciones y centros educativos oficiales.",{"$f":"'[1]LÍNEA 4'!P61","v":2210013},"Número de Programas de bienestar laboral dirigido al personal docente, directivo y administrativo de las instituciones y centros educativos oficiales mantenidos.",1,{"$f":"'[1]LÍNEA 4'!S61","v":1},{"$f":"'[1]LÍNEA 4'!T61","v":1},0.25,{"$f":"'[1]LÍNEA 4'!U61","v":1},0.25,{"$f":"'[1]LÍNEA 4'!V61","v":1},0.25,{"$f":"'[1]LÍNEA 4'!W61","v":1},0.25,{"$f":"'[4]2016'!K67","v":0.7},{"$f":"'[4]2017'!K67","v":1},{"$f":"'[4]2018'!K67","v":0.2},{"$f":"'[4]2019'!K67","v":0},0.7,0.7,1,1,0.2,0.2,0,0,0.47499999999999998,0.47499999999999998,0.47499999999999998,{"$f":"'[4]2016'!P67","v":42687},{"$f":"'[4]2016'!Q67","v":42687},{"$f":"'[4]2016'!R67","v":0},1," -",{"$f":"'[4]2017'!P67","v":60000},{"$f":"'[4]2017'!Q67","v":60000},{"$f":"'[4]2017'!R67","v":25714},1,0.42856666666666665,{"$f":"'[4]2018'!P67","v":100000},{"$f":"'[4]2018'!Q67","v":0},{"$f":"'[4]2018'!R67","v":0},0," -",{"$f":"'[4]2019'!P67","v":595286},{"$f":"'[4]2019'!Q67","v":0},{"$f":"'[4]2019'!R67","v":0},0," -",797973,102687,25714,0.12868480512498542,0.25041144448664387,"4. Educación de calidad ","Educación",{"$f":"'[1]LÍNEA 4'!AQ61","v":"Sec. Educación"}]
[null,null,null,null,null,null,null,null,null,null,null,null,null,null,null,null,null,null,null,null,null,null,null,null,null,null,null,null,null,null,null,null,null,null,null,null,null,null,null,null,null,null,"Otorgar 20 estímulos a los docentes y/o directivos docentes de las instituciones educativas oficiales.",{"$f":"'[1]LÍNEA 4'!P62","v":0},"Número de estímulos otorgados a los docenes y/o directivos docentes de las instituciones educativas oficiales.",20,{"$f":"'[1]LÍNEA 4'!S62","v":20},{"$f":"'[1]LÍNEA 4'!T62","v":0},0,{"$f":"'[1]LÍNEA 4'!U62","v":7},0.35,{"$f":"'[1]LÍNEA 4'!V62","v":7},0.35,{"$f":"'[1]LÍNEA 4'!W62","v":6},0.3,{"$f":"'[4]2016'!K68","v":0},{"$f":"'[4]2017'!K68","v":21},{"$f":"'[4]2018'!K68","v":0},{"$f":"'[4]2019'!K68","v":0}," -"," -",3,1,0,0,0,0,{"$f":"+SUM(BD62:BG62)/AU62","v":1.05},1,1,{"$f":"'[4]2016'!P68","v":0},{"$f":"'[4]2016'!Q68","v":0},{"$f":"'[4]2016'!R68","v":0}," -"," -",{"$f":"'[4]2017'!P68","v":0},{"$f":"'[4]2017'!Q68","v":0},{"$f":"'[4]2017'!R68","v":0}," -"," -",{"$f":"'[4]2018'!P68","v":0},{"$f":"'[4]2018'!Q68","v":0},{"$f":"'[4]2018'!R68","v":0}," -"," -",{"$f":"'[4]2019'!P68","v":74175},{"$f":"'[4]2019'!Q68","v":0},{"$f":"'[4]2019'!R68","v":0},0," -",74175,0,0,0," -","4. Educación de calidad ","Educación",{"$f":"'[1]LÍNEA 4'!AQ62","v":"Sec. Educación"}]
[null,null,null,null,null,null,null,null,null,null,null,null,null,null,null,null,null,null,null,null,null,null,null,null,null,null,null,null,null,null,null,null,null,null,null,null,null,null,null,null,null,null,null,null,null,null,{"$f":"'[1]LÍNEA 4'!S63","v":0},{"$f":"'[1]LÍNEA 4'!T63","v":0},{"$f":"+AVERAGE(AW11:AW62)","v":0.19529848101534195},{"$f":"'[1]LÍNEA 4'!U63","v":0},{"$f":"+AVERAGE(AY11:AY62)","v":0.28529521547193493},{"$f":"'[1]LÍNEA 4'!V63","v":0},0.26454754863160701,{"$f":"'[1]LÍNEA 4'!W63","v":0},0.25485875488111615,null,null,null,null,null,{"$f":"+AVERAGE(BI11:BI62)","v":0.77423177806794397},null,0.82855839738434522,null,0.50655201925290982,null,0,null,{"$f":"+AVERAGE(BQ11:BQ62)","v":0.59341690129740454}]
[null,null,null,{"$f":"+RESUMEN!J86","v":0.66873051676647299},"SALUD PÚBLICA: SALUD PARA TODOS Y CON TODOS","Lograr y mantener en el 100% la afiliación al régimen subsidiado.",0.98,1,{"$f":"+H64-G64","v":2.0000000000000018E-2},1,{"$f":"+J64-G64","v":2.0000000000000018E-2},null,1,{"$f":"+M64-J64","v":0},null,1,{"$f":"+P64-M64","v":0},null,1,{"$f":"+S64-P64","v":0},null,0.997,{"$f":"+IF(V64=0,0,V64-G64)","v":1.7000000000000015E-2},null,{"$f":"+IF(X64=0,0,X64-V64)","v":0},null,{"$f":"+IF(Z64=0,0,Z64-X64)","v":0},null,{"$f":"+IF(AB64=0,0,AB64-Z64)","v":0},{"$f":"+IF(K64=0,\" -\",W64/K64)","v":0.85},{"$f":"+IF(K64=0,\" -\",IF(AD64>100%,100%,AD64))","v":0.85},{"$f":"+IF(N64=0,\" -\",Y64/N64)","v":" -"},{"$f":"+IF(N64=0,\" -\",IF(AF64>100%,100%,AF64))","v":" -"},{"$f":"+IF(Q64=0,\" -\",AA64/Q64)","v":" -"},{"$f":"+IF(Q64=0,\" -\",IF(AH64>100%,100%,AH64))","v":" -"},{"$f":"+IF(T64=0,\" -\",AC64/T64)","v":" -"},{"$f":"+IF(T64=0,\" -\",IF(AJ64>100%,100%,AJ64))","v":" -"},{"$f":"+SUM(AC64,AA64,Y64,W64)/I64","v":0.85},{"$f":"+IF(AL64>100%,100%,IF(AL64<0%,0%,AL64))","v":0.85},null,{"$f":"+RESUMEN!J87","v":0.74943749999999998},"ASEGURAMIENTO","Lograr y mantener el 100% de la población pobre afiliada al régimen subsidiado.",{"$f":"'[1]LÍNEA 4'!P64","v":"2210544\r2210545\r2210549"},"Porcentaje de población pobre afiliada al régimen subsidiado.",0.98,{"$f":"'[1]LÍNEA 4'!S64","v":1},{"$f":"'[1]LÍNEA 4'!T64","v":1},0.25,{"$f":"'[1]LÍNEA 4'!U64","v":1},0.25,{"$f":"'[1]LÍNEA 4'!V64","v":1},0.25,{"$f":"'[1]LÍNEA 4'!W64","v":1},0.25,{"$f":"'[17]2016'!K42","v":0.997},{"$f":"'[17]2017'!K42","v":0.997},{"$f":"'[17]2018'!K42","v":0.997},{"$f":"'[17]2019'!K42","v":0},0.997,0.997,0.997,0.997,0.997,0.997,0,0,0.74775000000000003,0.74775000000000003,0.74775000000000003,{"$f":"'[17]2016'!P42","v":127990553},{"$f":"'[17]2016'!Q42","v":115609299},{"$f":"'[17]2016'!R42","v":0},0.9032643135778935," -",{"$f":"'[17]2017'!P42","v":133090580},{"$f":"'[17]2017'!Q42","v":128835179},{"$f":"'[17]2017'!R42","v":0},0.96802627954585518," -",{"$f":"'[17]2018'!P42","v":138751984},{"$f":"'[17]2018'!Q42","v":71867529},{"$f":"'[17]2018'!R42","v":0},0.51795676665783752," -",{"$f":"'[17]2019'!P42","v":134434023},{"$f":"'[17]2019'!Q42","v":0},{"$f":"'[17]2019'!R42","v":0},0," -",534267140,316312007,0,0.59204840297683292," -","3. Salud y bienestar","Salud",{"$f":"'[1]LÍNEA 4'!AQ64","v":"Sec. Salud y Ambiente"}]
[null,null,null,null,null,null,null,null,null,null,null,null,null,null,null,null,null,null,null,null,null,null,null,null,null,null,null,null,null,null,null,null,null,null,null,null,null,null,null,null,null,null,"Mantener la garantía al 100% de la población pobre no afiliada la prestación del servicio de salud de primer nivel de atención.",{"$f":"'[1]LÍNEA 4'!P65","v":2210543},"Porcentaje de población pobre no afiliada con garantía de la prestación del servicio de salud de primer nivel de atención.",1,{"$f":"'[1]LÍNEA 4'!S65","v":1},{"$f":"'[1]LÍNEA 4'!T65","v":1},0.25,{"$f":"'[1]LÍNEA 4'!U65","v":1},0.25,{"$f":"'[1]LÍNEA 4'!V65","v":1},0.25,{"$f":"'[1]LÍNEA 4'!W65","v":1},0.25,{"$f":"'[17]2016'!K43","v":1},{"$f":"'[17]2017'!K43","v":1},{"$f":"'[17]2018'!K43","v":1},{"$f":"'[17]2019'!K43","v":0},1,1,1,1,1,1,0,0,0.75,0.75,0.75,{"$f":"'[17]2016'!P43","v":3046295},{"$f":"'[17]2016'!Q43","v":796590},{"$f":"'[17]2016'!R43","v":0},0.26149470093999433," -",{"$f":"'[17]2017'!P43","v":4217960},{"$f":"'[17]2017'!Q43","v":1194817},{"$f":"'[17]2017'!R43","v":0},0.28326892621077487," -",{"$f":"'[17]2018'!P43","v":4236942},{"$f":"'[17]2018'!Q43","v":953732},{"$f":"'[17]2018'!R43","v":0},0.22509913989854002," -",{"$f":"'[17]2019'!P43","v":1049559},{"$f":"'[17]2019'!Q43","v":0},{"$f":"'[17]2019'!R43","v":0},0," -",12550756,2945139,0,0.23465829468758695," -","3. Salud y bienestar","Salud",{"$f":"'[1]LÍNEA 4'!AQ65","v":"Sec. Salud y Ambiente"}]
[null,null,null,null,null,null,null,null,null,null,null,null,null,null,null,null,null,null,null,null,null,null,null,null,null,null,null,null,null,null,null,null,null,null,null,null,null,null,null,null,null,null,"Mantener la auditoría al 100% de las EPS contributivas que maneje población subsidiada y EPS subsidiada.",{"$f":"'[1]LÍNEA 4'!P66","v":"2210544 2210289"},"Porcentaje de EPS contributivas que manejan población subsidiada y EPS subsidiada con auditoría mantenida.",1,{"$f":"'[1]LÍNEA 4'!S66","v":1},{"$f":"'[1]LÍNEA 4'!T66","v":1},0.25,{"$f":"'[1]LÍNEA 4'!U66","v":1},0.25,{"$f":"'[1]LÍNEA 4'!V66","v":1},0.25,{"$f":"'[1]LÍNEA 4'!W66","v":1},0.25,{"$f":"'[17]2016'!K44","v":1},{"$f":"'[17]2017'!K44","v":1},{"$f":"'[17]2018'!K44","v":1},{"$f":"'[17]2019'!K44","v":0},1,1,1,1,1,1,0,0,0.75,0.75,0.75,{"$f":"'[17]2016'!P44","v":749379},{"$f":"'[17]2016'!Q44","v":669950},{"$f":"'[17]2016'!R44","v":0},0.89400690438349617," -",{"$f":"'[17]2017'!P44","v":843014},{"$f":"'[17]2017'!Q44","v":795959},{"$f":"'[17]2017'!R44","v":0},0.94418242164424315," -",{"$f":"'[17]2018'!P44","v":893333},{"$f":"'[17]2018'!Q44","v":452320},{"$f":"'[17]2018'!R44","v":0},0.50632854713751763," -",{"$f":"'[17]2019'!P44","v":365173},{"$f":"'[17]2019'!Q44","v":0},{"$f":"'[17]2019'!R44","v":0},0," -",2850899,1918229,0,0.67285056397999365," -","3. Salud y bienestar","Salud",{"$f":"'[1]LÍNEA 4'!AQ66","v":"Sec. Salud y Ambiente"}]
[null,null,null,null,null,null,null,null,null,null,null,null,null,null,null,null,null,null,null,null,null,null,null,null,null,null,null,null,null,null,null,null,null,null,null,null,null,null,null,null,null,null,"Mantener auditoria al 100% de las IPS públicas y privadas que presten servicios de salud a los usuarios del régimen subsidiado.",{"$f":"'[1]LÍNEA 4'!P67","v":"2210246\r2210289\r2210544"},"Porcentaje de IPS públicas y privadas que prestan servicios de salud a los usuarios del régimen subsididado con auditoría mantenida.",1,{"$f":"'[1]LÍNEA 4'!S67","v":1},{"$f":"'[1]LÍNEA 4'!T67","v":1},0.25,{"$f":"'[1]LÍNEA 4'!U67","v":1},0.25,{"$f":"'[1]LÍNEA 4'!V67","v":1},0.25,{"$f":"'[1]LÍNEA 4'!W67","v":1},0.25,{"$f":"'[17]2016'!K45","v":1},{"$f":"'[17]2017'!K45","v":1},{"$f":"'[17]2018'!K45","v":1},{"$f":"'[17]2019'!K45","v":0},1,1,1,1,1,1,0,0,0.75,0.75,0.75,{"$f":"'[17]2016'!P45","v":238060},{"$f":"'[17]2016'!Q45","v":159909},{"$f":"'[17]2016'!R45","v":0},0.67171721414769381," -",{"$f":"'[17]2017'!P45","v":348950},{"$f":"'[17]2017'!Q45","v":297000},{"$f":"'[17]2017'!R45","v":0},0.85112480298036963," -",{"$f":"'[17]2018'!P45","v":435925},{"$f":"'[17]2018'!Q45","v":235350},{"$f":"'[17]2018'!R45","v":0},0.53988644835694211," -",{"$f":"'[17]2019'!P45","v":399408},{"$f":"'[17]2019'!Q45","v":0},{"$f":"'[17]2019'!R45","v":0},0," -",1422343,692259,0,0.48670327762009585," -","3. Salud y bienestar","Salud",{"$f":"'[1]LÍNEA 4'!AQ67","v":"Sec. Salud y Ambiente"}]
[null,null,null,null,null,null,null,null,null,null,null,null,null,null,null,null,null,null,null,null,null,null,null,null,null,null,null,null,null,null,null,null,null,null,null,null,null,null,null,null,{"$f":"+RESUMEN!J88","v":0.48249348635235734},"SALUD AMBIENTAL","Construir y dotar el Centro de Zoonosis Municipal.",{"$f":"'[1]LÍNEA 4'!P68","v":0},"Número de centros de zoonosis municipal construidos y dotados.",0,{"$f":"'[1]LÍNEA 4'!S68","v":1},{"$f":"'[1]LÍNEA 4'!T68","v":0},0,{"$f":"'[1]LÍNEA 4'!U68","v":1},1,{"$f":"'[1]LÍNEA 4'!V68","v":0},0,{"$f":"'[1]LÍNEA 4'!W68","v":0},0,{"$f":"'[17]2016'!K46","v":0},{"$f":"'[17]2017'!K46","v":0},{"$f":"'[17]2018'!K46","v":0},{"$f":"'[17]2019'!K46","v":0}," -"," -",0,0," -"," -"," -"," -",{"$f":"+SUM(BD68:BG68)/AU68","v":0},0,0,{"$f":"'[17]2016'!P46","v":0},{"$f":"'[17]2016'!Q46","v":0},{"$f":"'[17]2016'!R46","v":0}," -"," -",{"$f":"'[17]2017'!P46","v":0},{"$f":"'[17]2017'!Q46","v":0},{"$f":"'[17]2017'!R46","v":0}," -"," -",{"$f":"'[17]2018'!P46","v":0},{"$f":"'[17]2018'!Q46","v":0},{"$f":"'[17]2018'!R46","v":0}," -"," -",{"$f":"'[17]2019'!P46","v":0},{"$f":"'[17]2019'!Q46","v":0},{"$f":"'[17]2019'!R46","v":0}," -"," -",0,0,0," -"," -","3. Salud y bienestar","Salud",{"$f":"'[1]LÍNEA 4'!AQ68","v":"Sec. Salud y Ambiente"}]
[null,null,null,null,null,null,null,null,null,null,null,null,null,null,null,null,null,null,null,null,null,null,null,null,null,null,null,null,null,null,null,null,null,null,null,null,null,null,null,null,null,null,"Realizar 12.000 visitas a establecimientos comerciales de alto riesgo.",{"$f":"'[1]LÍNEA 4'!P69","v":"2210206 2210289"},"Número de visitas a establecimientos comerciales de alto riesgo realizadas.",18158,{"$f":"'[1]LÍNEA 4'!S69","v":12000},{"$f":"'[1]LÍNEA 4'!T69","v":3000},0.25,{"$f":"'[1]LÍNEA 4'!U69","v":3000},0.25,{"$f":"'[1]LÍNEA 4'!V69","v":3000},0.25,{"$f":"'[1]LÍNEA 4'!W69","v":3000},0.25,{"$f":"'[17]2016'!K47","v":5687},{"$f":"'[17]2017'!K47","v":6357},{"$f":"'[17]2018'!K47","v":4282},{"$f":"'[17]2019'!K47","v":0},1.8956666666666666,1,2.1190000000000002,1,1.4273333333333333,1,0,0,1.3605,1,1,{"$f":"'[17]2016'!P47","v":308476},{"$f":"'[17]2016'!Q47","v":41450},{"$f":"'[17]2016'!R47","v":0},0.13437025895045321," -",{"$f":"'[17]2017'!P47","v":397531},{"$f":"'[17]2017'!Q47","v":155799},{"$f":"'[17]2017'!R47","v":0},0.39191660524588018," -",{"$f":"'[17]2018'!P47","v":682336},{"$f":"'[17]2018'!Q47","v":83322},{"$f":"'[17]2018'!R47","v":0},0.12211285935374948," -",{"$f":"'[17]2019'!P47","v":148352},{"$f":"'[17]2019'!Q47","v":0},{"$f":"'[17]2019'!R47","v":0},0," -",1536695,280571,0,0.18258079840176483," -","3. Salud y bienestar","Salud",{"$f":"'[1]LÍNEA 4'!AQ69","v":"Sec. Salud y Ambiente"}]
[null,null,null,null,null,"Mantener por debajo de 0,6 la prevalencia de VIH-SIDA en población general.",0.6,0.6,{"$f":"+H70","v":0.6},0.6,{"$f":"+J70-G70","v":0},null,0.6,{"$f":"+M70-J70","v":0},null,0.6,{"$f":"+P70-M70","v":0},null,0.6,{"$f":"+S70-P70","v":0},null,0.52,{"$f":"+V70","v":0.52},null,{"$f":"+X70","v":0},null,{"$f":"+Z70","v":0},null,{"$f":"+AB70","v":0},null,{"$f":"+AD70","v":0},null,{"$f":"+AF70","v":0},null,{"$f":"+AH70","v":0},null,{"$f":"+AJ70","v":0},null,{"$f":"+AL70","v":0},null,null,null,"Realizar 6.000 visitas a establecimientos comerciales de bajo riesgo.",{"$f":"'[1]LÍNEA 4'!P70","v":"2210206 2210289"},"Número de visitas a establecimientos comerciales de bajo riesgo realizadas.",5695,{"$f":"'[1]LÍNEA 4'!S70","v":6000},{"$f":"'[1]LÍNEA 4'!T70","v":1500},0.25,{"$f":"'[1]LÍNEA 4'!U70","v":1500},0.25,{"$f":"'[1]LÍNEA 4'!V70","v":1500},0.25,{"$f":"'[1]LÍNEA 4'!W70","v":1500},0.25,{"$f":"'[17]2016'!K48","v":3655},{"$f":"'[17]2017'!K48","v":1808},{"$f":"'[17]2018'!K48","v":474},{"$f":"'[17]2019'!K48","v":0},2.4366666666666665,1,1.2053333333333334,1,0.316,0.316,0,0,0.98950000000000005,0.98950000000000005,0.98950000000000005,{"$f":"'[17]2016'!P48","v":299751},{"$f":"'[17]2016'!Q48","v":207124},{"$f":"'[17]2016'!R48","v":0},0.69098685242084268," -",{"$f":"'[17]2017'!P48","v":127443},{"$f":"'[17]2017'!Q48","v":52743},{"$f":"'[17]2017'!R48","v":0},0.41385560603563948," -",{"$f":"'[17]2018'!P48","v":538850},{"$f":"'[17]2018'!Q48","v":52160},{"$f":"'[17]2018'!R48","v":0},9.6798738053261571E-2," -",{"$f":"'[17]2019'!P48","v":57059},{"$f":"'[17]2019'!Q48","v":0},{"$f":"'[17]2019'!R48","v":0},0," -",1023103,312027,0,0.30498102341601968," -","3. Salud y bienestar","Salud",{"$f":"'[1]LÍNEA 4'!AQ70","v":"Sec. Salud y Ambiente"}]
[null,null,null,null,null,null,null,null,null,null,null,null,null,null,null,null,null,null,null,null,null,null,null,null,null,null,null,null,null,null,null,null,null,null,null,null,null,null,null,null,null,null,"Realizar el censo de mascotas en el municipio.",{"$f":"'[1]LÍNEA 4'!P71","v":2210289},"Número de censos de mascotas realizados en el municipio.",0,{"$f":"'[1]LÍNEA 4'!S71","v":1},{"$f":"'[1]LÍNEA 4'!T71","v":1},1,{"$f":"'[1]LÍNEA 4'!U71","v":0},0,{"$f":"'[1]LÍNEA 4'!V71","v":0},0,{"$f":"'[1]LÍNEA 4'!W71","v":0},0,{"$f":"'[17]2016'!K49","v":0},{"$f":"'[17]2017'!K49","v":0.4},{"$f":"'[17]2018'!K49","v":0.2},{"$f":"'[17]2019'!K49","v":0},0,0," -"," -"," -"," -"," -"," -",0.60000000000000009,0.60000000000000009,0.60000000000000009,{"$f":"'[17]2016'!P49","v":74147},{"$f":"'[17]2016'!Q49","v":0},{"$f":"'[17]2016'!R49","v":0},0," -",{"$f":"'[17]2017'!P49","v":17000},{"$f":"'[17]2017'!Q49","v":14999},{"$f":"'[17]2017'!R49","v":0},0.88229411764705878," -",{"$f":"'[17]2018'!P49","v":0},{"$f":"'[17]2018'!Q49","v":0},{"$f":"'[17]2018'!R49","v":0}," -"," -",{"$f":"'[17]2019'!P49","v":0},{"$f":"'[17]2019'!Q49","v":0},{"$f":"'[17]2019'!R49","v":0}," -"," -",91147,14999,0,0.16455835079596695," -","3. Salud y bienestar","Salud",{"$f":"'[1]LÍNEA 4'!AQ71","v":"Sec. Salud y Ambiente"}]
[null,null,null,null,null,null,null,null,null,null,null,null,null,null,null,null,null,null,null,null,null,null,null,null,null,null,null,null,null,null,null,null,null,null,null,null,null,null,null,null,null,null,"Realizar 62 jornadas de vacunación de caninos y felinos.",{"$f":"'[1]LÍNEA 4'!P72","v":2210206},"Número de jornadas de vacunación de caninos y felinos realizadas.",80,{"$f":"'[1]LÍNEA 4'!S72","v":62},{"$f":"'[1]LÍNEA 4'!T72","v":2},3.2258064516129031E-2,{"$f":"'[1]LÍNEA 4'!U72","v":20},0.32258064516129031,{"$f":"'[1]LÍNEA 4'!V72","v":20},0.32258064516129031,{"$f":"'[1]LÍNEA 4'!W72","v":20},0.32258064516129031,{"$f":"'[17]2016'!K50","v":2},{"$f":"'[17]2017'!K50","v":41},{"$f":"'[17]2018'!K50","v":18},{"$f":"'[17]2019'!K50","v":0},1,1,2.0499999999999998,1,0.9,0.9,0,0,0.9838709677419355,0.9838709677419355,0.9838709677419355,{"$f":"'[17]2016'!P50","v":196947},{"$f":"'[17]2016'!Q50","v":94483},{"$f":"'[17]2016'!R50","v":0},0.47973820367916242," -",{"$f":"'[17]2017'!P50","v":212567},{"$f":"'[17]2017'!Q50","v":204907},{"$f":"'[17]2017'!R50","v":0},0.96396430301975378," -",{"$f":"'[17]2018'!P50","v":308704},{"$f":"'[17]2018'!Q50","v":156007},{"$f":"'[17]2018'!R50","v":0},0.50536112262879651," -",{"$f":"'[17]2019'!P50","v":68470},{"$f":"'[17]2019'!Q50","v":0},{"$f":"'[17]2019'!R50","v":0},0," -",786688,455397,0,0.57887879311747481," -","3. Salud y bienestar","Salud",{"$f":"'[1]LÍNEA 4'!AQ72","v":"Sec. Salud y Ambiente"}]
[null,null,null,null,null,null,null,null,null,null,null,null,null,null,null,null,null,null,null,null,null,null,null,null,null,null,null,null,null,null,null,null,null,null,null,null,null,null,null,null,null,null,"Realizar 26.000 esterilizaciones de caninos y felinos en el municipio.",{"$f":"'[1]LÍNEA 4'!P73","v":2210206},"Número de esterilizaciones de caninos y felinos realizadas en el municipio.",6700,{"$f":"'[1]LÍNEA 4'!S73","v":26000},{"$f":"'[1]LÍNEA 4'!T73","v":3000},0.11538461538461539,{"$f":"'[1]LÍNEA 4'!U73","v":8000},0.30769230769230771,{"$f":"'[1]LÍNEA 4'!V73","v":3000},0.11538461538461539,{"$f":"'[1]LÍNEA 4'!W73","v":12000},0.46153846153846156,{"$f":"'[17]2016'!K51","v":1111},{"$f":"'[17]2017'!K51","v":1092},{"$f":"'[17]2018'!K51","v":48},{"$f":"'[17]2019'!K51","v":0},0.37033333333333335,0.37033333333333335,0.13650000000000001,0.13650000000000001,1.6E-2,1.6E-2,0,0,8.6576923076923079E-2,8.6576923076923079E-2,8.6576923076923079E-2,{"$f":"'[17]2016'!P51","v":148293},{"$f":"'[17]2016'!Q51","v":51772},{"$f":"'[17]2016'!R51","v":0},0.34911964826390995," -",{"$f":"'[17]2017'!P51","v":468073},{"$f":"'[17]2017'!Q51","v":131490},{"$f":"'[17]2017'!R51","v":0},0.28091772009921528," -",{"$f":"'[17]2018'!P51","v":779000},{"$f":"'[17]2018'!Q51","v":68000},{"$f":"'[17]2018'!R51","v":0},8.7291399229781769E-2," -",{"$f":"'[17]2019'!P51","v":256308},{"$f":"'[17]2019'!Q51","v":0},{"$f":"'[17]2019'!R51","v":0},0," -",1651674,251262,0,0.15212566160150248," -","3. Salud y bienestar","Salud",{"$f":"'[1]LÍNEA 4'!AQ73","v":"Sec. Salud y Ambiente"}]
[null,null,null,null,null,null,null,null,null,null,null,null,null,null,null,null,null,null,null,null,null,null,null,null,null,null,null,null,null,null,null,null,null,null,null,null,null,null,null,null,null,null,"Construir el Centro de Bienestar Animal.",{"$f":"'[1]LÍNEA 4'!P74","v":2210304},"Porcentaje de avance en la construcción del centro de bienestar animal.",0,{"$f":"'[1]LÍNEA 4'!S74","v":1},{"$f":"'[1]LÍNEA 4'!T74","v":0},0,{"$f":"'[1]LÍNEA 4'!U74","v":0.1},0.1,{"$f":"'[1]LÍNEA 4'!V74","v":0.4},0.4,{"$f":"'[1]LÍNEA 4'!W74","v":0.5},0.5,{"$f":"'[7]2016'!K28","v":0},{"$f":"'[7]2017'!K32","v":0.1},{"$f":"'[7]2018'!K32","v":0},{"$f":"'[7]2019'!K32","v":0}," -"," -",1,1,0,0,0,0,0.1,0.1,0.1,{"$f":"'[7]2016'!P28","v":0},{"$f":"'[7]2016'!Q28","v":0},{"$f":"'[7]2016'!R28","v":0}," -"," -",{"$f":"'[7]2017'!P32","v":0},{"$f":"'[7]2017'!Q32","v":0},{"$f":"'[7]2017'!R32","v":0}," -"," -",{"$f":"'[7]2018'!P32","v":97187},{"$f":"'[7]2018'!Q32","v":0},{"$f":"'[7]2018'!R32","v":0},0," -",{"$f":"'[7]2019'!P32","v":1500000},{"$f":"'[7]2019'!Q32","v":0},{"$f":"'[7]2019'!R32","v":0},0," -",1597187,0,0,0," -","3. Salud y bienestar","Equipamiento",{"$f":"'[1]LÍNEA 4'!AQ74","v":"Sec. Infraestructura"}]
[null,null,null,null,null,"Mantener la tasa de curación del 85% de los casos de tuberculosis pulmonar con baciloscopia positivo.",0.67,0.85,{"$f":"+H75-G75","v":0.17999999999999994},0.67,{"$f":"+J75-G75","v":0},null,0.7,{"$f":"+M75-J75","v":2.9999999999999916E-2},null,0.78,{"$f":"+P75-M75","v":8.0000000000000071E-2},null,0.85,{"$f":"+S75-P75","v":6.9999999999999951E-2},null,0.63,{"$f":"+IF(V75=0,0,V75-G75)","v":-4.0000000000000036E-2},null,{"$f":"+IF(X75=0,0,X75-V75)","v":0},null,{"$f":"+IF(Z75=0,0,Z75-X75)","v":0},null,{"$f":"+IF(AB75=0,0,AB75-Z75)","v":0},{"$f":"+IF(K75=0,\" -\",W75/K75)","v":" -"},{"$f":"+IF(K75=0,\" -\",IF(AD75>100%,100%,AD75))","v":" -"},{"$f":"+IF(N75=0,\" -\",Y75/N75)","v":0},{"$f":"+IF(N75=0,\" -\",IF(AF75>100%,100%,AF75))","v":0},{"$f":"+IF(Q75=0,\" -\",AA75/Q75)","v":0},{"$f":"+IF(Q75=0,\" -\",IF(AH75>100%,100%,AH75))","v":0},{"$f":"+IF(T75=0,\" -\",AC75/T75)","v":0},{"$f":"+IF(T75=0,\" -\",IF(AJ75>100%,100%,AJ75))","v":0},{"$f":"+SUM(AC75,AA75,Y75,W75)/I75","v":-0.22222222222222249},{"$f":"+IF(AL75>100%,100%,IF(AL75<0%,0%,AL75))","v":0},null,null,null,"Construir el Coso Municipal.",{"$f":"'[1]LÍNEA 4'!P75","v":2210304},"Porcentaje de avance en la construcción del coso municipal.",0,{"$f":"'[1]LÍNEA 4'!S75","v":1},{"$f":"'[1]LÍNEA 4'!T75","v":0},0,{"$f":"'[1]LÍNEA 4'!U75","v":0.1},0.1,{"$f":"'[1]LÍNEA 4'!V75","v":0.4},0.4,{"$f":"'[1]LÍNEA 4'!W75","v":0.5},0.5,{"$f":"'[7]2016'!K29","v":0},{"$f":"'[7]2017'!K33","v":0.1},{"$f":"'[7]2018'!K33","v":0},{"$f":"'[7]2019'!K33","v":0}," -"," -",1,1,0,0,0,0,0.1,0.1,0.1,{"$f":"'[7]2016'!P29","v":0},{"$f":"'[7]2016'!Q29","v":0},{"$f":"'[7]2016'!R29","v":0}," -"," -",{"$f":"'[7]2017'!P33","v":0},{"$f":"'[7]2017'!Q33","v":0},{"$f":"'[7]2017'!R33","v":0}," -"," -",{"$f":"'[7]2018'!P33","v":97187},{"$f":"'[7]2018'!Q33","v":0},{"$f":"'[7]2018'!R33","v":0},0," -",{"$f":"'[7]2019'!P33","v":1000000},{"$f":"'[7]2019'!Q33","v":0},{"$f":"'[7]2019'!R33","v":0},0," -",1097187,0,0,0," -","3. Salud y bienestar","Equipamiento",{"$f":"'[1]LÍNEA 4'!AQ75","v":"Sec. Infraestructura"}]
[null,null,null,null,null,null,null,null,null,null,null,null,null,null,null,null,null,null,null,null,null,null,null,null,null,null,null,null,null,null,null,null,null,null,null,null,null,null,null,null,{"$f":"+RESUMEN!J89","v":0.75},"VIDA SALUDABLE Y CONDICIONES NO TRANSMISIBLES","Implementar y mantener 1 campaña educomunicativa para prevención y manejo de enfermedades no transmisibles.",{"$f":"'[1]LÍNEA 4'!P76","v":2210241},"Número de campañas educomunicativas implementadas y mantenidas para prevención y manejo de enfermedades no transmisibles.",0,{"$f":"'[1]LÍNEA 4'!S76","v":1},{"$f":"'[1]LÍNEA 4'!T76","v":1},0.25,{"$f":"'[1]LÍNEA 4'!U76","v":1},0.25,{"$f":"'[1]LÍNEA 4'!V76","v":1},0.25,{"$f":"'[1]LÍNEA 4'!W76","v":1},0.25,{"$f":"'[17]2016'!K52","v":1},{"$f":"'[17]2017'!K52","v":1},{"$f":"'[17]2018'!K52","v":1},{"$f":"'[17]2019'!K52","v":0},{"$f":"IF(AV76=0,\" -\",BD76/AV76)","v":1},{"$f":"IF(AV76=0,\" -\",IF(BH76>100%,100%,BH76))","v":1},{"$f":"IF(AX76=0,\" -\",BE76/AX76)","v":1},{"$f":"IF(AX76=0,\" -\",IF(BJ76>100%,100%,BJ76))","v":1},{"$f":"IF(AZ76=0,\" -\",BF76/AZ76)","v":1},{"$f":"IF(AZ76=0,\" -\",IF(BL76>100%,100%,BL76))","v":1},{"$f":"IF(BB76=0,\" -\",BG76/BB76)","v":0},{"$f":"IF(BB76=0,\" -\",IF(BN76>100%,100%,BN76))","v":0},{"$f":"+AVERAGE(BD76:BG76)/AU76","v":0.75},{"$f":"+IF(BP76>100%,100%,BP76)","v":0.75},{"$f":"+BQ76","v":0.75},{"$f":"'[17]2016'!P52","v":338666},{"$f":"'[17]2016'!Q52","v":308255},{"$f":"'[17]2016'!R52","v":0},0.91020356339284136," -",{"$f":"'[17]2017'!P52","v":1017328},{"$f":"'[17]2017'!Q52","v":894662},{"$f":"'[17]2017'!R52","v":0},0.87942335215387757," -",{"$f":"'[17]2018'!P52","v":806888},{"$f":"'[17]2018'!Q52","v":355084},{"$f":"'[17]2018'!R52","v":0},0.44006603146905149," -",{"$f":"'[17]2019'!P52","v":568871},{"$f":"'[17]2019'!Q52","v":0},{"$f":"'[17]2019'!R52","v":0},0," -",2731753,1558001,0,0.57033011403300371," -","3. Salud y bienestar","Salud",{"$f":"'[1]LÍNEA 4'!AQ76","v":"Sec. Salud y Ambiente"}]
[null,null,null,null,null,null,null,null,null,null,null,null,null,null,null,null,null,null,null,null,null,null,null,null,null,null,null,null,null,null,null,null,null,null,null,null,null,null,null,null,{"$f":"+RESUMEN!J90","v":0.60083333333333344},"CONVIVENCIA SOCIAL Y SALUD MENTAL","Realizar la línea base de eventos de causa externa de morbilidad desagregada por edad y sexo.",{"$f":"'[1]LÍNEA 4'!P77","v":2210220},"Número de líneas base de eventos de causa eterna de morbilidad desagregada por edad y sexo realizadas.",0,{"$f":"'[1]LÍNEA 4'!S77","v":1},{"$f":"'[1]LÍNEA 4'!T77","v":1},{"$f":"+AV77/AU77","v":1},{"$f":"'[1]LÍNEA 4'!U77","v":0},{"$f":"+AX77/AU77","v":0},{"$f":"'[1]LÍNEA 4'!V77","v":0},{"$f":"+AZ77/AU77","v":0},{"$f":"'[1]LÍNEA 4'!W77","v":0},{"$f":"+BB77/AU77","v":0},{"$f":"'[17]2016'!K53","v":0},{"$f":"'[17]2017'!K53","v":0.1},{"$f":"'[17]2018'!K53","v":0.6},{"$f":"'[17]2019'!K53","v":0},0,0," -"," -"," -"," -"," -"," -",0.7,0.7,0.7,{"$f":"'[17]2016'!P53","v":0},{"$f":"'[17]2016'!Q53","v":0},{"$f":"'[17]2016'!R53","v":0},{"$f":"IF(BS77=0,\" -\",BT77/BS77)","v":" -"},{"$f":"IF(BU77=0,\" -\",IF(BT77=0,100%,BU77/BT77))","v":" -"},{"$f":"'[17]2017'!P53","v":5318},{"$f":"'[17]2017'!Q53","v":5318},{"$f":"'[17]2017'!R53","v":0},{"$f":"IF(BX77=0,\" -\",BY77/BX77)","v":1},{"$f":"IF(BZ77=0,\" -\",IF(BY77=0,100%,BZ77/BY77))","v":" -"},{"$f":"'[17]2018'!P53","v":6282},{"$f":"'[17]2018'!Q53","v":3231},{"$f":"'[17]2018'!R53","v":0},{"$f":"IF(CC77=0,\" -\",CD77/CC77)","v":0.51432664756446989},{"$f":"IF(CE77=0,\" -\",IF(CD77=0,100%,CE77/CD77))","v":" -"},{"$f":"'[17]2019'!P53","v":0},{"$f":"'[17]2019'!Q53","v":0},{"$f":"'[17]2019'!R53","v":0},{"$f":"IF(CH77=0,\" -\",CI77/CH77)","v":" -"},{"$f":"IF(CJ77=0,\" -\",IF(CI77=0,100%,CJ77/CI77))","v":" -"},{"$f":"+BS77+BX77+CC77+CH77","v":11600},{"$f":"+BT77+BY77+CD77+CI77","v":8549},{"$f":"+BU77+BZ77+CE77+CJ77","v":0},{"$f":"IF(CM77=0,\" -\",CN77/CM77)","v":0.73698275862068963},{"$f":"IF(CO77=0,\" -\",IF(CN77=0,100%,CO77/CN77))","v":" -"},"3. Salud y bienestar","Salud",{"$f":"'[1]LÍNEA 4'!AQ77","v":"Sec. Salud y Ambiente"}]
[null,null,null,null,null,null,null,null,null,null,null,null,null,null,null,null,null,null,null,null,null,null,null,null,null,null,null,null,null,null,null,null,null,null,null,null,null,null,null,null,null,null,"Realizar 1 estudio de carga de enfermemdad por eventos no transmisibles y causa externa.",{"$f":"'[1]LÍNEA 4'!P78","v":2210220},"Número de estudios de carga de enfermedad por eventos no transmisibles y causa externa realizados.",0,{"$f":"'[1]LÍNEA 4'!S78","v":1},{"$f":"'[1]LÍNEA 4'!T78","v":0},0,{"$f":"'[1]LÍNEA 4'!U78","v":1},1,{"$f":"'[1]LÍNEA 4'!V78","v":0},0,{"$f":"'[1]LÍNEA 4'!W78","v":0},0,{"$f":"'[17]2016'!K54","v":0},{"$f":"'[17]2017'!K54","v":0},{"$f":"'[17]2018'!K54","v":0.4},{"$f":"'[17]2019'!K54","v":0}," -"," -",0,0," -"," -"," -"," -",0.4,0.4,0.4,{"$f":"'[17]2016'!P54","v":50000},{"$f":"'[17]2016'!Q54","v":0},{"$f":"'[17]2016'!R54","v":0},0," -",{"$f":"'[17]2017'!P54","v":42000},{"$f":"'[17]2017'!Q54","v":0},{"$f":"'[17]2017'!R54","v":0},0," -",{"$f":"'[17]2018'!P54","v":6282},{"$f":"'[17]2018'!Q54","v":3231},{"$f":"'[17]2018'!R54","v":0},0.51432664756446989," -",{"$f":"'[17]2019'!P54","v":0},{"$f":"'[17]2019'!Q54","v":0},{"$f":"'[17]2019'!R54","v":0}," -"," -",98282,3231,0,3.2874788872835313E-2," -","3. Salud y bienestar","Salud",{"$f":"'[1]LÍNEA 4'!AQ78","v":"Sec. Salud y Ambiente"}]
[null,null,null,null,null,null,null,null,null,null,null,null,null,null,null,null,null,null,null,null,null,null,null,null,null,null,null,null,null,null,null,null,null,null,null,null,null,null,null,null,null,null,"Implementar y mantener la política pública de salud mental nacional con el acuerdo municipal 015 de 2011.",{"$f":"'[1]LÍNEA 4'!P79","v":2210220},"Número de políticas públicas de salud mental nacionales implementadas y mantenidas con el acuerdo municipal 015 de 2011.",0,{"$f":"'[1]LÍNEA 4'!S79","v":1},{"$f":"'[1]LÍNEA 4'!T79","v":1},0.25,{"$f":"'[1]LÍNEA 4'!U79","v":1},0.25,{"$f":"'[1]LÍNEA 4'!V79","v":1},0.25,{"$f":"'[1]LÍNEA 4'!W79","v":1},0.25,{"$f":"'[17]2016'!K55","v":0.6},{"$f":"'[17]2017'!K55","v":1},{"$f":"'[17]2018'!K55","v":0.5},{"$f":"'[17]2019'!K55","v":0},0.6,0.6,1,1,0.5,0.5,0,0,0.52500000000000002,0.52500000000000002,0.52500000000000002,{"$f":"'[17]2016'!P55","v":165600},{"$f":"'[17]2016'!Q55","v":126669},{"$f":"'[17]2016'!R55","v":0},0.76490942028985509," -",{"$f":"'[17]2017'!P55","v":701909},{"$f":"'[17]2017'!Q55","v":701909},{"$f":"'[17]2017'!R55","v":0},1," -",{"$f":"'[17]2018'!P55","v":721744},{"$f":"'[17]2018'!Q55","v":189385},{"$f":"'[17]2018'!R55","v":0},0.26239913321066749," -",{"$f":"'[17]2019'!P55","v":0},{"$f":"'[17]2019'!Q55","v":0},{"$f":"'[17]2019'!R55","v":0}," -"," -",1589253,1017963,0,0.64052922977021276," -","3. Salud y bienestar","Salud",{"$f":"'[1]LÍNEA 4'!AQ79","v":"Sec. Salud y Ambiente"}]
[null,null,null,null,null,"Mantener en 0 los casos de rabia humana.",0,0,1E-3,0,{"$f":"+J80-G80","v":0},null,0,{"$f":"+M80-J80","v":0},null,0,{"$f":"+P80-M80","v":0},null,0,{"$f":"+S80-P80","v":0},null,0,{"$f":"+V80","v":0},null,{"$f":"+X80","v":0},null,{"$f":"+Z80","v":0},null,{"$f":"+AB80","v":0},null,{"$f":"+AD80","v":0},null,{"$f":"+AF80","v":0},null,{"$f":"+AH80","v":0},null,{"$f":"+AJ80","v":0},null,{"$f":"+AL80","v":0},null,null,null,"Mantener el seguimiento al 100% de los casos de violencia intrafamiliar reportados a SIVIGILA.",{"$f":"'[1]LÍNEA 4'!P80","v":2210220},"Porcentaje de casos de violencia intrafamiliar reportados a SIVIGILA con seguimiento.",1,{"$f":"'[1]LÍNEA 4'!S80","v":1},{"$f":"'[1]LÍNEA 4'!T80","v":1},0.25,{"$f":"'[1]LÍNEA 4'!U80","v":1},0.25,{"$f":"'[1]LÍNEA 4'!V80","v":1},0.25,{"$f":"'[1]LÍNEA 4'!W80","v":1},0.25,{"$f":"'[17]2016'!K56","v":0.02},{"$f":"'[17]2017'!K56","v":1},{"$f":"'[17]2018'!K56","v":0.7},{"$f":"'[17]2019'!K56","v":0},0.02,0.02,1,1,0.7,0.7,0,0,0.43,0.43,0.43,{"$f":"'[17]2016'!P56","v":59742},{"$f":"'[17]2016'!Q56","v":45115},{"$f":"'[17]2016'!R56","v":0},0.75516387131331386," -",{"$f":"'[17]2017'!P56","v":15954},{"$f":"'[17]2017'!Q56","v":15954},{"$f":"'[17]2017'!R56","v":0},1," -",{"$f":"'[17]2018'!P56","v":18846},{"$f":"'[17]2018'!Q56","v":9692},{"$f":"'[17]2018'!R56","v":0},0.5142735859068237," -",{"$f":"'[17]2019'!P56","v":296398},{"$f":"'[17]2019'!Q56","v":0},{"$f":"'[17]2019'!R56","v":0},0," -",390940,70761,0,0.18100219982606028," -","3. Salud y bienestar","Salud",{"$f":"'[1]LÍNEA 4'!AQ80","v":"Sec. Salud y Ambiente"}]
[null,null,null,null,null,null,null,null,null,null,null,null,null,null,null,null,null,null,null,null,null,null,null,null,null,null,null,null,null,null,null,null,null,null,null,null,null,null,null,null,null,null,"Realizar 1 estudio de consumo de sustancias psicoactivas en población en edad escolar en instituciones educativas oficiales.",{"$f":"'[1]LÍNEA 4'!P81","v":2210220},"Número de estudios de consumo de sustancias psicoactivas en población en edad escolar en instituciones educativas oficiales realizados.",0,{"$f":"'[1]LÍNEA 4'!S81","v":1},{"$f":"'[1]LÍNEA 4'!T81","v":0},0,{"$f":"'[1]LÍNEA 4'!U81","v":1},1,{"$f":"'[1]LÍNEA 4'!V81","v":0},0,{"$f":"'[1]LÍNEA 4'!W81","v":0},0,{"$f":"'[17]2016'!K57","v":0.5},{"$f":"'[17]2017'!K57","v":0},{"$f":"'[17]2018'!K57","v":0.3},{"$f":"'[17]2019'!K57","v":0}," -"," -",0,0," -"," -"," -"," -",{"$f":"+SUM(BD81:BG81)/AU81","v":0.8},0.8,0.8,{"$f":"'[17]2016'!P57","v":40000},{"$f":"'[17]2016'!Q57","v":40000},{"$f":"'[17]2016'!R57","v":0},1," -",{"$f":"'[17]2017'!P57","v":50000},{"$f":"'[17]2017'!Q57","v":0},{"$f":"'[17]2017'!R57","v":0},0," -",{"$f":"'[17]2018'!P57","v":6282},{"$f":"'[17]2018'!Q57","v":3231},{"$f":"'[17]2018'!R57","v":0},0.51432664756446989," -",{"$f":"'[17]2019'!P57","v":0},{"$f":"'[17]2019'!Q57","v":0},{"$f":"'[17]2019'!R57","v":0}," -"," -",96282,43231,0,0.44900396751209987," -","3. Salud y bienestar","Salud",{"$f":"'[1]LÍNEA 4'!AQ81","v":"Sec. Salud y Ambiente"}]
[null,null,null,null,null,null,null,null,null,null,null,null,null,null,null,null,null,null,null,null,null,null,null,null,null,null,null,null,null,null,null,null,null,null,null,null,null,null,null,null,null,null,"Implementar y mantener 2 estrategias para la reducción del consumo de sustancias psicoactivas en niñas, niños, adolescentes y comunidad de mayor vulnerabilidad.",{"$f":"'[1]LÍNEA 4'!P82","v":2210220},"Número de estrategias implementadas y mantenidas para la reducción del consumo de sustancias psicoactivas en niñas, niños, adolescentes y comunidad de mayor vulnerabilidad.",0,{"$f":"'[1]LÍNEA 4'!S82","v":2},{"$f":"'[1]LÍNEA 4'!T82","v":2},0.25,{"$f":"'[1]LÍNEA 4'!U82","v":2},0.25,{"$f":"'[1]LÍNEA 4'!V82","v":2},0.25,{"$f":"'[1]LÍNEA 4'!W82","v":2},0.25,{"$f":"'[17]2016'!K58","v":2},{"$f":"'[17]2017'!K58","v":2},{"$f":"'[17]2018'!K58","v":2},{"$f":"'[17]2019'!K58","v":0},1,1,1,1,1,1,0,0,0.75,0.75,0.75,{"$f":"'[17]2016'!P58","v":127200},{"$f":"'[17]2016'!Q58","v":121124},{"$f":"'[17]2016'!R58","v":0},0.95223270440251573," -",{"$f":"'[17]2017'!P58","v":146118},{"$f":"'[17]2017'!Q58","v":146118},{"$f":"'[17]2017'!R58","v":0},1," -",{"$f":"'[17]2018'!P58","v":147282},{"$f":"'[17]2018'!Q58","v":144231},{"$f":"'[17]2018'!R58","v":0},0.9792846376339267," -",{"$f":"'[17]2019'!P58","v":329531},{"$f":"'[17]2019'!Q58","v":0},{"$f":"'[17]2019'!R58","v":0},0," -",750131,411473,0,0.54853485591183404," -","3. Salud y bienestar","Salud",{"$f":"'[1]LÍNEA 4'!AQ82","v":"Sec. Salud y Ambiente"}]
[null,null,null,null,null,null,null,null,null,null,null,null,null,null,null,null,null,null,null,null,null,null,null,null,null,null,null,null,null,null,null,null,null,null,null,null,null,null,null,null,{"$f":"+RESUMEN!J91","v":0.8},"SEGURIDAD ALIMENTARIA Y NUTRICIONAL","Inplementar y mantener 1 estrategia de seguimiento a los casos de bajo peso al nacer.",{"$f":"'[1]LÍNEA 4'!P83","v":2210233},"Número de estrategias de seguimiento a los casos de bajo peso al nacer implementadas y mantenidas.",0,{"$f":"'[1]LÍNEA 4'!S83","v":1},{"$f":"'[1]LÍNEA 4'!T83","v":1},0.25,{"$f":"'[1]LÍNEA 4'!U83","v":1},0.25,{"$f":"'[1]LÍNEA 4'!V83","v":1},0.25,{"$f":"'[1]LÍNEA 4'!W83","v":1},0.25,{"$f":"'[17]2016'!K59","v":1},{"$f":"'[17]2017'!K59","v":1},{"$f":"'[17]2018'!K59","v":1},{"$f":"'[17]2019'!K59","v":0},1,1,1,1,1,1,0,0,0.75,0.75,0.75,{"$f":"'[17]2016'!P59","v":10800},{"$f":"'[17]2016'!Q59","v":7338},{"$f":"'[17]2016'!R59","v":0},0.67944444444444441," -",{"$f":"'[17]2017'!P59","v":12150},{"$f":"'[17]2017'!Q59","v":12150},{"$f":"'[17]2017'!R59","v":0},1," -",{"$f":"'[17]2018'!P59","v":9317},{"$f":"'[17]2018'!Q59","v":5082},{"$f":"'[17]2018'!R59","v":0},0.54545454545454541," -",{"$f":"'[17]2019'!P59","v":82164},{"$f":"'[17]2019'!Q59","v":0},{"$f":"'[17]2019'!R59","v":0},0," -",114431,24570,0,0.2147145441357674," -","3. Salud y bienestar","Salud",{"$f":"'[1]LÍNEA 4'!AQ83","v":"Sec. Salud y Ambiente"}]
[null,null,null,null,null,null,null,null,null,null,null,null,null,null,null,null,null,null,null,null,null,null,null,null,null,null,null,null,null,null,null,null,null,null,null,null,null,null,null,null,null,null,"Implementar y mantener el Plan de seguridad alimentaria y nutricional.",{"$f":"'[1]LÍNEA 4'!P84","v":2210233},"Número de Planes de seguridad alimentaria y nutricional implementados y mantenidos.",0,{"$f":"'[1]LÍNEA 4'!S84","v":1},{"$f":"'[1]LÍNEA 4'!T84","v":1},0.25,{"$f":"'[1]LÍNEA 4'!U84","v":1},0.25,{"$f":"'[1]LÍNEA 4'!V84","v":1},0.25,{"$f":"'[1]LÍNEA 4'!W84","v":1},0.25,{"$f":"'[17]2016'!K60","v":0.8},{"$f":"'[17]2017'!K60","v":1},{"$f":"'[17]2018'!K60","v":1},{"$f":"'[17]2019'!K60","v":0},0.8,0.8,1,1,1,1,0,0,0.7,0.7,0.7,{"$f":"'[17]2016'!P60","v":105400},{"$f":"'[17]2016'!Q60","v":54583},{"$f":"'[17]2016'!R60","v":0},0.51786527514231495," -",{"$f":"'[17]2017'!P60","v":108050},{"$f":"'[17]2017'!Q60","v":78050},{"$f":"'[17]2017'!R60","v":0},0.72235076353540029," -",{"$f":"'[17]2018'!P60","v":181318},{"$f":"'[17]2018'!Q60","v":127082},{"$f":"'[17]2018'!R60","v":0},0.70087911845486939," -",{"$f":"'[17]2019'!P60","v":0},{"$f":"'[17]2019'!Q60","v":0},{"$f":"'[17]2019'!R60","v":0}," -"," -",394768,259715,0,0.65789273699995943," -","3. Salud y bienestar","Salud",{"$f":"'[1]LÍNEA 4'!AQ84","v":"Sec. Salud y Ambiente"}]
[null,null,null,null,null,"Mantener por debajo de 2% la incidencia de dengue.",0.02,0.02,1.0000000000000001E-5,0.02,{"$f":"+J85-G85","v":0},null,0.02,{"$f":"+M85-J85","v":0},null,0.02,{"$f":"+P85-M85","v":0},null,0.02,{"$f":"+S85-P85","v":0},null,2.8400000000000002E-2,{"$f":"+V85","v":2.8400000000000002E-2},null,{"$f":"+X85","v":0},null,{"$f":"+Z85","v":0},null,{"$f":"+AB85","v":0},null,{"$f":"+AD85","v":0},null,{"$f":"+AF85","v":0},null,{"$f":"+AH85","v":0},null,{"$f":"+AJ85","v":0},null,{"$f":"+AL85","v":0},null,null,null,"Realizar 1 estudio sobre alimentación y nutrición a familias de los sectores más vulnerables.",{"$f":"'[1]LÍNEA 4'!P85","v":2210233},"Número de estudios sobre alimentación y nutrición a familias de los sectores más vulnerables realizadas.",0,{"$f":"'[1]LÍNEA 4'!S85","v":1},{"$f":"'[1]LÍNEA 4'!T85","v":1},1,{"$f":"'[1]LÍNEA 4'!U85","v":0},0,{"$f":"'[1]LÍNEA 4'!V85","v":0},0,{"$f":"'[1]LÍNEA 4'!W85","v":0},0,{"$f":"'[17]2016'!K61","v":0.5},{"$f":"'[17]2017'!K61","v":0.3},{"$f":"'[17]2018'!K61","v":0.3},{"$f":"'[17]2019'!K61","v":0},0.5,0.5," -"," -"," -"," -"," -"," -",{"$f":"+SUM(BD85:BG85)/AU85","v":1.1000000000000001},1,1,{"$f":"'[17]2016'!P61","v":109600},{"$f":"'[17]2016'!Q61","v":106638},{"$f":"'[17]2016'!R61","v":0},0.97297445255474457," -",{"$f":"'[17]2017'!P61","v":113250},{"$f":"'[17]2017'!Q61","v":51050},{"$f":"'[17]2017'!R61","v":0},0.45077262693156733," -",{"$f":"'[17]2018'!P61","v":9318},{"$f":"'[17]2018'!Q61","v":5082},{"$f":"'[17]2018'!R61","v":0},0.54539600772698005," -",{"$f":"'[17]2019'!P61","v":0},{"$f":"'[17]2019'!Q61","v":0},{"$f":"'[17]2019'!R61","v":0}," -"," -",232168,162770,0,0.7010871437924262," -","3. Salud y bienestar","Salud",{"$f":"'[1]LÍNEA 4'!AQ85","v":"Sec. Salud y Ambiente"}]
[null,null,null,null,null,null,null,null,null,null,null,null,null,null,null,null,null,null,null,null,null,null,null,null,null,null,null,null,null,null,null,null,null,null,null,null,null,null,null,null,null,null,"Mantener el seguimiento al 100% de los casos y/o brotes reportados al SIVIGILA.",{"$f":"'[1]LÍNEA 4'!P86","v":"2210233 2210246 2210246 2210289"},"Porcentaje de casos y/o brotes reportados al SIVIGILA con seguimiento.",1,{"$f":"'[1]LÍNEA 4'!S86","v":1},{"$f":"'[1]LÍNEA 4'!T86","v":1},0.25,{"$f":"'[1]LÍNEA 4'!U86","v":1},0.25,{"$f":"'[1]LÍNEA 4'!V86","v":1},0.25,{"$f":"'[1]LÍNEA 4'!W86","v":1},0.25,{"$f":"'[17]2016'!K62","v":1},{"$f":"'[17]2017'!K62","v":1},{"$f":"'[17]2018'!K62","v":1},{"$f":"'[17]2019'!K62","v":0},1,1,1,1,1,1,0,0,0.75,0.75,0.75,{"$f":"'[17]2016'!P62","v":641200},{"$f":"'[17]2016'!Q62","v":404758},{"$f":"'[17]2016'!R62","v":0},0.63125077978789768," -",{"$f":"'[17]2017'!P62","v":834897},{"$f":"'[17]2017'!Q62","v":777465},{"$f":"'[17]2017'!R62","v":0},0.93121067628701504," -",{"$f":"'[17]2018'!P62","v":799530},{"$f":"'[17]2018'!Q62","v":649052},{"$f":"'[17]2018'!R62","v":0},0.8117919277575576," -",{"$f":"'[17]2019'!P62","v":559742},{"$f":"'[17]2019'!Q62","v":0},{"$f":"'[17]2019'!R62","v":0},0," -",2835369,1831275,0,0.64586831555257884," -","3. Salud y bienestar","Salud",{"$f":"'[1]LÍNEA 4'!AQ86","v":"Sec. Salud y Ambiente"}]
[null,null,null,null,null,null,null,null,null,null,null,null,null,null,null,null,null,null,null,null,null,null,null,null,null,null,null,null,null,null,null,null,null,null,null,null,null,null,null,null,{"$f":"+RESUMEN!J92","v":0.65},"SEXUALIDAD, DERECHOS SEXUALES Y REPRODUCTIVOS","Implementar y mantener 1 campaña educomunicativa para fortalecer valores en derechos sexuales y reproductivos.",{"$f":"'[1]LÍNEA 4'!P87","v":2210247},"Número de campañas educomunicativas implementadas y mantenidas para fortalecer valores en derechos sexuales y reproductivos.",0,{"$f":"'[1]LÍNEA 4'!S87","v":1},{"$f":"'[1]LÍNEA 4'!T87","v":1},0.25,{"$f":"'[1]LÍNEA 4'!U87","v":1},0.25,{"$f":"'[1]LÍNEA 4'!V87","v":1},0.25,{"$f":"'[1]LÍNEA 4'!W87","v":1},0.25,{"$f":"'[17]2016'!K63","v":1},{"$f":"'[17]2017'!K63","v":1},{"$f":"'[17]2018'!K63","v":1},{"$f":"'[17]2019'!K63","v":0},1,1,1,1,1,1,0,0,0.75,0.75,0.75,{"$f":"'[17]2016'!P63","v":373471},{"$f":"'[17]2016'!Q63","v":367703},{"$f":"'[17]2016'!R63","v":0},0.98455569508743646," -",{"$f":"'[17]2017'!P63","v":312225},{"$f":"'[17]2017'!Q63","v":312225},{"$f":"'[17]2017'!R63","v":0},1," -",{"$f":"'[17]2018'!P63","v":450037},{"$f":"'[17]2018'!Q63","v":293475},{"$f":"'[17]2018'!R63","v":0},0.65211304848268026," -",{"$f":"'[17]2019'!P63","v":216822},{"$f":"'[17]2019'!Q63","v":0},{"$f":"'[17]2019'!R63","v":0},0," -",1352555,973403,0,0.71967720351482933," -","3. Salud y bienestar","Salud",{"$f":"'[1]LÍNEA 4'!AQ87","v":"Sec. Salud y Ambiente"}]
[null,null,null,null,null,null,null,null,null,null,null,null,null,null,null,null,null,null,null,null,null,null,null,null,null,null,null,null,null,null,null,null,null,null,null,null,null,null,null,null,null,null,"Mantener la estrategia de servicios amigables para adolescentes y jóvenes.",{"$f":"'[1]LÍNEA 4'!P88","v":2210247},"Número de estrategias de servicios amigables para adolescentes y jóvenes mantenidos.",1,{"$f":"'[1]LÍNEA 4'!S88","v":1},{"$f":"'[1]LÍNEA 4'!T88","v":1},0.25,{"$f":"'[1]LÍNEA 4'!U88","v":1},0.25,{"$f":"'[1]LÍNEA 4'!V88","v":1},0.25,{"$f":"'[1]LÍNEA 4'!W88","v":1},0.25,{"$f":"'[17]2016'!K64","v":1},{"$f":"'[17]2017'!K64","v":1},{"$f":"'[17]2018'!K64","v":1},{"$f":"'[17]2019'!K64","v":0},1,1,1,1,1,1,0,0,0.75,0.75,0.75,{"$f":"'[17]2016'!P64","v":60871},{"$f":"'[17]2016'!Q64","v":60871},{"$f":"'[17]2016'!R64","v":0},1," -",{"$f":"'[17]2017'!P64","v":70125},{"$f":"'[17]2017'!Q64","v":70125},{"$f":"'[17]2017'!R64","v":0},1," -",{"$f":"'[17]2018'!P64","v":71688},{"$f":"'[17]2018'!Q64","v":66375},{"$f":"'[17]2018'!R64","v":0},0.92588717777033813," -",{"$f":"'[17]2019'!P64","v":264751},{"$f":"'[17]2019'!Q64","v":0},{"$f":"'[17]2019'!R64","v":0},0," -",467435,197371,0,0.42224266475552752," -","3. Salud y bienestar","Salud",{"$f":"'[1]LÍNEA 4'!AQ88","v":"Sec. Salud y Ambiente"}]
[null,null,null,null,null,null,null,null,null,null,null,null,null,null,null,null,null,null,null,null,null,null,null,null,null,null,null,null,null,null,null,null,null,null,null,null,null,null,null,null,null,null,"Diseñar e implementar 1 estrategia para incentivar la consulta a la totalidad de los controles prenatales requeridos.",{"$f":"'[1]LÍNEA 4'!P89","v":"2210247\r2210997\r2210289\r2210222"},"Número de estrategias implementadas y mantenidas para incentivar la consulta a la totalidad de los controles prenatales requeridos.",0,{"$f":"'[1]LÍNEA 4'!S89","v":1},{"$f":"'[1]LÍNEA 4'!T89","v":1},0.25,{"$f":"'[1]LÍNEA 4'!U89","v":1},0.25,{"$f":"'[1]LÍNEA 4'!V89","v":1},0.25,{"$f":"'[1]LÍNEA 4'!W89","v":1},0.25,{"$f":"'[17]2016'!K65","v":0.3},{"$f":"'[17]2017'!K65","v":1},{"$f":"'[17]2018'!K65","v":0.5},{"$f":"'[17]2019'!K65","v":0},0.3,0.3,1,1,0.5,0.5,0,0,0.45,0.45,0.45,{"$f":"'[17]2016'!P65","v":343362},{"$f":"'[17]2016'!Q65","v":30412},{"$f":"'[17]2016'!R65","v":0},8.8571245507656646E-2," -",{"$f":"'[17]2017'!P65","v":966090},{"$f":"'[17]2017'!Q65","v":229032},{"$f":"'[17]2017'!R65","v":0},0.23707108033413035," -",{"$f":"'[17]2018'!P65","v":237951},{"$f":"'[17]2018'!Q65","v":42750},{"$f":"'[17]2018'!R65","v":0},0.17965883732365068," -",{"$f":"'[17]2019'!P65","v":521725},{"$f":"'[17]2019'!Q65","v":0},{"$f":"'[17]2019'!R65","v":0},0," -",2069128,302194,0,0.14604896362139028," -","3. Salud y bienestar","Salud",{"$f":"'[1]LÍNEA 4'!AQ89","v":"Sec. Salud y Ambiente"}]
[null,null,null,null,null,null,null,null,null,null,null,null,null,null,null,null,null,null,null,null,null,null,null,null,null,null,null,null,null,null,null,null,null,null,null,null,null,null,null,null,{"$f":"+RESUMEN!J93","v":0.6026853312125664},"VIDA SALUDABLE Y ENFERMEDADES TRANSMISIBLES","Mantener el seguimiento (unidad de análisis) al 100% de los casos de mortalidad por enfermedades transmisibles.",{"$f":"'[1]LÍNEA 4'!P90","v":"2210239\r2210246"},"Porcentaje de casos de mortalidad por enfermedades transmisibles mantenidos con seguimiento.",1,{"$f":"'[1]LÍNEA 4'!S90","v":1},{"$f":"'[1]LÍNEA 4'!T90","v":1},0.25,{"$f":"'[1]LÍNEA 4'!U90","v":1},0.25,{"$f":"'[1]LÍNEA 4'!V90","v":1},0.25,{"$f":"'[1]LÍNEA 4'!W90","v":1},0.25,{"$f":"'[17]2016'!K66","v":1},{"$f":"'[17]2017'!K66","v":1},{"$f":"'[17]2018'!K66","v":1},{"$f":"'[17]2019'!K66","v":0},1,1,1,1,1,1,0,0,0.75,0.75,0.75,{"$f":"'[17]2016'!P66","v":238231},{"$f":"'[17]2016'!Q66","v":122597},{"$f":"'[17]2016'!R66","v":0},0.51461396711595053," -",{"$f":"'[17]2017'!P66","v":226143},{"$f":"'[17]2017'!Q66","v":170743},{"$f":"'[17]2017'!R66","v":0},0.75502226467323774," -",{"$f":"'[17]2018'!P66","v":303614},{"$f":"'[17]2018'!Q66","v":133920},{"$f":"'[17]2018'!R66","v":0},0.44108637941596895," -",{"$f":"'[17]2019'!P66","v":523249},{"$f":"'[17]2019'!Q66","v":0},{"$f":"'[17]2019'!R66","v":0},0," -",1291237,427260,0,0.33089200510827987," -","3. Salud y bienestar","Salud",{"$f":"'[1]LÍNEA 4'!AQ90","v":"Sec. Salud y Ambiente"}]
[null,null,null,null,null,"Mantener por debajo de 3 los casos de mortalidad por dengue.",3,3,{"$f":"+H91-G91","v":0},3,{"$f":"+J91-G91","v":0},null,3,{"$f":"+M91-J91","v":0},null,3,{"$f":"+P91-M91","v":0},null,3,{"$f":"+S91-P91","v":0},null,2,{"$f":"+V91","v":2},null,{"$f":"+X91","v":0},null,{"$f":"+Z91","v":0},null,{"$f":"+AB91","v":0},null,{"$f":"+AD91","v":0},null,{"$f":"+AF91","v":0},null,{"$f":"+AH91","v":0},null,{"$f":"+AJ91","v":0},null,{"$f":"+AL91","v":0},null,null,null,"Formular y mantener el plan de contingencia para enfermedades transmitidas por vectores.",{"$f":"'[1]LÍNEA 4'!P91","v":2210239},"Número de planes de contingencia formulados y mantenidos para enfermedades transmitidas por vectores.",0,{"$f":"'[1]LÍNEA 4'!S91","v":1},{"$f":"'[1]LÍNEA 4'!T91","v":1},0.25,{"$f":"'[1]LÍNEA 4'!U91","v":1},0.25,{"$f":"'[1]LÍNEA 4'!V91","v":1},0.25,{"$f":"'[1]LÍNEA 4'!W91","v":1},0.25,{"$f":"'[17]2016'!K67","v":1},{"$f":"'[17]2017'!K67","v":1},{"$f":"'[17]2018'!K67","v":1},{"$f":"'[17]2019'!K67","v":0},1,1,1,1,1,1,0,0,0.75,0.75,0.75,{"$f":"'[17]2016'!P67","v":3375},{"$f":"'[17]2016'!Q67","v":2220},{"$f":"'[17]2016'!R67","v":0},0.65777777777777779," -",{"$f":"'[17]2017'!P67","v":4050},{"$f":"'[17]2017'!Q67","v":4050},{"$f":"'[17]2017'!R67","v":0},1," -",{"$f":"'[17]2018'!P67","v":8727},{"$f":"'[17]2018'!Q67","v":4909},{"$f":"'[17]2018'!R67","v":0},0.56250716168213588," -",{"$f":"'[17]2019'!P67","v":107270},{"$f":"'[17]2019'!Q67","v":0},{"$f":"'[17]2019'!R67","v":0},0," -",123422,11179,0,9.057542415452674E-2," -","3. Salud y bienestar","Salud",{"$f":"'[1]LÍNEA 4'!AQ91","v":"Sec. Salud y Ambiente"}]
[null,null,null,null,null,null,null,null,null,null,null,null,null,null,null,null,null,null,null,null,null,null,null,null,null,null,null,null,null,null,null,null,null,null,null,null,null,null,null,null,null,null,"Mantener la estrategia de gestión integral para la prevención y control del dengue, chikunguya y zika.",{"$f":"'[1]LÍNEA 4'!P92","v":"2210239 2212398"},"Número de estrategias de gestión integral mantenidas para la prevención y control del dengue, chikunguya y zika.",1,{"$f":"'[1]LÍNEA 4'!S92","v":1},{"$f":"'[1]LÍNEA 4'!T92","v":1},0.25,{"$f":"'[1]LÍNEA 4'!U92","v":1},0.25,{"$f":"'[1]LÍNEA 4'!V92","v":1},0.25,{"$f":"'[1]LÍNEA 4'!W92","v":1},0.25,{"$f":"'[17]2016'!K68","v":1},{"$f":"'[17]2017'!K68","v":1},{"$f":"'[17]2018'!K68","v":1},{"$f":"'[17]2019'!K68","v":0},1,1,1,1,1,1,0,0,0.75,0.75,0.75,{"$f":"'[17]2016'!P68","v":647812},{"$f":"'[17]2016'!Q68","v":444591},{"$f":"'[17]2016'!R68","v":0},0.68629633288670167," -",{"$f":"'[17]2017'!P68","v":469657},{"$f":"'[17]2017'!Q68","v":157821},{"$f":"'[17]2017'!R68","v":0},0.33603459546009107," -",{"$f":"'[17]2018'!P68","v":106698},{"$f":"'[17]2018'!Q68","v":38171},{"$f":"'[17]2018'!R68","v":0},0.35774803651427395," -",{"$f":"'[17]2019'!P68","v":373611},{"$f":"'[17]2019'!Q68","v":0},{"$f":"'[17]2019'!R68","v":0},0," -",1597778,640583,0,0.40092115425296881," -","3. Salud y bienestar","Salud",{"$f":"'[1]LÍNEA 4'!AQ92","v":"Sec. Salud y Ambiente"}]
[null,null,null,null,null,null,null,null,null,null,null,null,null,null,null,null,null,null,null,null,null,null,null,null,null,null,null,null,null,null,null,null,null,null,null,null,null,null,null,null,null,null,"Aplicar 3.560.976 vacunas a niñas y niños menores de 5 años.",{"$f":"'[1]LÍNEA 4'!P93","v":2210239},"Número de vacunas aplicadas a niñas y niños menores de 5 años.",3451964,{"$f":"'[1]LÍNEA 4'!S93","v":3560976},{"$f":"'[1]LÍNEA 4'!T93","v":890244},0.25,{"$f":"'[1]LÍNEA 4'!U93","v":890244},0.25,{"$f":"'[1]LÍNEA 4'!V93","v":890244},0.25,{"$f":"'[1]LÍNEA 4'!W93","v":890244},0.25,{"$f":"'[17]2016'!K69","v":232429},{"$f":"'[17]2017'!K69","v":222994},{"$f":"'[17]2018'!K69","v":116973},{"$f":"'[17]2019'!K69","v":0},0.2610846015249752,0.2610846015249752,0.25048638350834151,0.25048638350834151,0.13139431436774637,0.13139431436774637,0,0,{"$f":"+SUM(BD93:BG93)/AU93","v":0.16074132485026577},0.16074132485026577,0.16074132485026577,{"$f":"'[17]2016'!P69","v":142500},{"$f":"'[17]2016'!Q69","v":138603},{"$f":"'[17]2016'!R69","v":0},0.97265263157894732," -",{"$f":"'[17]2017'!P69","v":193000},{"$f":"'[17]2017'!Q69","v":182150},{"$f":"'[17]2017'!R69","v":0},0.94378238341968912," -",{"$f":"'[17]2018'!P69","v":198311},{"$f":"'[17]2018'!Q69","v":132000},{"$f":"'[17]2018'!R69","v":0},0.66562117078729877," -",{"$f":"'[17]2019'!P69","v":101564},{"$f":"'[17]2019'!Q69","v":0},{"$f":"'[17]2019'!R69","v":0},0," -",635375,452753,0,0.71257603777296874," -","3. Salud y bienestar","Salud",{"$f":"'[1]LÍNEA 4'!AQ93","v":"Sec. Salud y Ambiente"}]
[null,null,null,null,null,null,null,null,null,null,null,null,null,null,null,null,null,null,null,null,null,null,null,null,null,null,null,null,null,null,null,null,null,null,null,null,null,null,null,null,{"$f":"+RESUMEN!J94","v":0.76666666666666661},"SALUD Y ÁMBITO LABORAL","Capacitar a las empresas de 2 sectores económicos sobre la cobertura de riesgos laborales.",{"$f":"'[1]LÍNEA 4'!P94","v":2210242},"Número de sectores económicos capacitados a través de las empresas sobre la cobertura de riesgos laborales.",0,{"$f":"'[1]LÍNEA 4'!S94","v":2},{"$f":"'[1]LÍNEA 4'!T94","v":1},0.5,{"$f":"'[1]LÍNEA 4'!U94","v":1},0.5,{"$f":"'[1]LÍNEA 4'!V94","v":0},0,{"$f":"'[1]LÍNEA 4'!W94","v":0},0,{"$f":"'[17]2016'!K70","v":2},{"$f":"'[17]2017'!K70","v":1},{"$f":"'[17]2018'!K70","v":2},{"$f":"'[17]2019'!K70","v":0},2,1,1,1," -"," -"," -"," -",2.5,1,1,{"$f":"'[17]2016'!P70","v":54900},{"$f":"'[17]2016'!Q70","v":21960},{"$f":"'[17]2016'!R70","v":0},0.4," -",{"$f":"'[17]2017'!P70","v":54340},{"$f":"'[17]2017'!Q70","v":45060},{"$f":"'[17]2017'!R70","v":0},0.82922340817077655," -",{"$f":"'[17]2018'!P70","v":54340},{"$f":"'[17]2018'!Q70","v":29640},{"$f":"'[17]2018'!R70","v":0},0.54545454545454541," -",{"$f":"'[17]2019'!P70","v":0},{"$f":"'[17]2019'!Q70","v":0},{"$f":"'[17]2019'!R70","v":0}," -"," -",163580,96660,0,0.5909035334392958," -","3. Salud y bienestar","Salud",{"$f":"'[1]LÍNEA 4'!AQ94","v":"Sec. Salud y Ambiente"}]
[null,null,null,null,null,null,null,null,null,null,null,null,null,null,null,null,null,null,null,null,null,null,null,null,null,null,null,null,null,null,null,null,null,null,null,null,null,null,null,null,null,null,"Mejorar en 3 sectores económicos la cobertura de riesgos laborales.",{"$f":"'[1]LÍNEA 4'!P95","v":0},"Número de sectores económicos mejorados en la cobertura de riesgos laborales.",0,{"$f":"'[1]LÍNEA 4'!S95","v":3},{"$f":"'[1]LÍNEA 4'!T95","v":0},0,{"$f":"'[1]LÍNEA 4'!U95","v":1},0.33333333333333331,{"$f":"'[1]LÍNEA 4'!V95","v":1},0.33333333333333331,{"$f":"'[1]LÍNEA 4'!W95","v":1},0.33333333333333331,{"$f":"'[17]2016'!K71","v":0},{"$f":"'[17]2017'!K71","v":1},{"$f":"'[17]2018'!K71","v":0.6},{"$f":"'[17]2019'!K71","v":0}," -"," -",1,1,0.6,0.6,0,0,0.53333333333333333,0.53333333333333333,0.53333333333333333,{"$f":"'[17]2016'!P71","v":0},{"$f":"'[17]2016'!Q71","v":0},{"$f":"'[17]2016'!R71","v":0}," -"," -",{"$f":"'[17]2017'!P71","v":3960},{"$f":"'[17]2017'!Q71","v":3240},{"$f":"'[17]2017'!R71","v":0},0.81818181818181823," -",{"$f":"'[17]2018'!P71","v":3960},{"$f":"'[17]2018'!Q71","v":2160},{"$f":"'[17]2018'!R71","v":0},0.54545454545454541," -",{"$f":"'[17]2019'!P71","v":136940},{"$f":"'[17]2019'!Q71","v":0},{"$f":"'[17]2019'!R71","v":0},0," -",144860,5400,0,3.7277371255004833E-2," -","3. Salud y bienestar","Salud",{"$f":"'[1]LÍNEA 4'!AQ95","v":"Sec. Salud y Ambiente"}]
[null,null,null,null,null,null,null,null,null,null,null,null,null,null,null,null,null,null,null,null,null,null,null,null,null,null,null,null,null,null,null,null,null,null,null,null,null,null,null,null,{"$f":"+RESUMEN!J95","v":0.61645833333333333},"FORTALECIMIENTO DE LA AUTORIDAD SANITARIA PARA LA GESTIÓN DE LA SALUD","Construir 5 centros de salud de la ESE ISABU.",{"$f":"'[1]LÍNEA 4'!P96","v":2210544},"Porcentaje de avance en la construcción de los centros de salud de la ESE ISABU.",10,{"$f":"'[1]LÍNEA 4'!S96","v":1},{"$f":"'[1]LÍNEA 4'!T96","v":0},0,{"$f":"'[1]LÍNEA 4'!U96","v":0.2},0.2,{"$f":"'[1]LÍNEA 4'!V96","v":0.3},0.3,{"$f":"'[1]LÍNEA 4'!W96","v":0.5},0.5,{"$f":"'[17]2016'!K72","v":0},{"$f":"'[17]2017'!K72","v":0.01},{"$f":"'[17]2018'!K72","v":0.1},{"$f":"'[17]2019'!K72","v":0}," -"," -",4.9999999999999996E-2,4.9999999999999996E-2,0.33333333333333337,0.33333333333333337,0,0,0.11,0.11,0.11,{"$f":"'[17]2016'!P72","v":32869713},{"$f":"'[17]2016'!Q72","v":0},{"$f":"'[17]2016'!R72","v":0},0," -",{"$f":"'[17]2017'!P72","v":30821984},{"$f":"'[17]2017'!Q72","v":489357},{"$f":"'[17]2017'!R72","v":0},1.5876881903514065E-2," -",{"$f":"'[17]2018'!P72","v":30821984},{"$f":"'[17]2018'!Q72","v":1109208},{"$f":"'[17]2018'!R72","v":0},3.5987560048048824E-2," -",{"$f":"'[17]2019'!P72","v":25909856},{"$f":"'[17]2019'!Q72","v":0},{"$f":"'[17]2019'!R72","v":0},0," -",120423537,1598565,0,1.327452290327596E-2," -","3. Salud y bienestar","Salud",{"$f":"'[1]LÍNEA 4'!AQ96","v":"Sec. Salud y Ambiente"}]
[null,null,null,null,null,null,null,null,null,null,null,null,null,null,null,null,null,null,null,null,null,null,null,null,null,null,null,null,null,null,null,null,null,null,null,null,null,null,null,null,null,null,"Ampliar y mantener la estrategia de atención primaria en salud en la totalidad de comunas y corregimientos.",{"$f":"'[1]LÍNEA 4'!P97","v":2210506},"Número de estrategias de atención primaria en salud ampliadas y mantenidas en la totalidad de comunas y corregimientos.",1,{"$f":"'[1]LÍNEA 4'!S97","v":1},{"$f":"'[1]LÍNEA 4'!T97","v":1},0.25,{"$f":"'[1]LÍNEA 4'!U97","v":1},0.25,{"$f":"'[1]LÍNEA 4'!V97","v":1},0.25,{"$f":"'[1]LÍNEA 4'!W97","v":1},0.25,{"$f":"'[17]2016'!K73","v":0.3},{"$f":"'[17]2017'!K73","v":0.8},{"$f":"'[17]2018'!K73","v":1},{"$f":"'[17]2019'!K73","v":0},0.3,0.3,0.8,0.8,1,1,0,0,0.52500000000000002,0.52500000000000002,0.52500000000000002,{"$f":"'[17]2016'!P73","v":900000},{"$f":"'[17]2016'!Q73","v":509616},{"$f":"'[17]2016'!R73","v":0},0.56623999999999997," -",{"$f":"'[17]2017'!P73","v":1089885},{"$f":"'[17]2017'!Q73","v":954886},{"$f":"'[17]2017'!R73","v":0},0.87613463805814373," -",{"$f":"'[17]2018'!P73","v":772000},{"$f":"'[17]2018'!Q73","v":609000},{"$f":"'[17]2018'!R73","v":0},0.78886010362694303," -",{"$f":"'[17]2019'!P73","v":912933},{"$f":"'[17]2019'!Q73","v":0},{"$f":"'[17]2019'!R73","v":0},0," -",3674818,2073502,0,0.56424617491260787," -","3. Salud y bienestar","Salud",{"$f":"'[1]LÍNEA 4'!AQ97","v":"Sec. Salud y Ambiente"}]
[null,null,null,null,null,"Aumentar al 100% los servicios quirúrgicos de mediana complejidad en la ESE ISABU.",0.3,1,{"$f":"+H98-G98","v":0.7},0.3,{"$f":"+J98-G98","v":0},null,0.6,{"$f":"+M98-J98","v":0.3},null,0.9,{"$f":"+P98-M98","v":0.30000000000000004},null,1,{"$f":"+S98-P98","v":9.9999999999999978E-2},null,0.3,{"$f":"+IF(V98=0,0,V98-G98)","v":0},null,{"$f":"+IF(X98=0,0,X98-V98)","v":0},null,{"$f":"+IF(Z98=0,0,Z98-X98)","v":0},null,{"$f":"+IF(AB98=0,0,AB98-Z98)","v":0},{"$f":"+IF(K98=0,\" -\",W98/K98)","v":" -"},{"$f":"+IF(K98=0,\" -\",IF(AD98>100%,100%,AD98))","v":" -"},{"$f":"+IF(N98=0,\" -\",Y98/N98)","v":0},{"$f":"+IF(N98=0,\" -\",IF(AF98>100%,100%,AF98))","v":0},{"$f":"+IF(Q98=0,\" -\",AA98/Q98)","v":0},{"$f":"+IF(Q98=0,\" -\",IF(AH98>100%,100%,AH98))","v":0},{"$f":"+IF(T98=0,\" -\",AC98/T98)","v":0},{"$f":"+IF(T98=0,\" -\",IF(AJ98>100%,100%,AJ98))","v":0},{"$f":"+SUM(AC98,AA98,Y98,W98)/I98","v":0},{"$f":"+IF(AL98>100%,100%,IF(AL98<0%,0%,AL98))","v":0},null,null,null,"Adquirir 4 centros de salud móviles.",{"$f":"'[1]LÍNEA 4'!P98","v":2210546},"Número de centros de salud móviles adquiridos.",0,{"$f":"'[1]LÍNEA 4'!S98","v":4},{"$f":"'[1]LÍNEA 4'!T98","v":0},0,{"$f":"'[1]LÍNEA 4'!U98","v":2},0.5,{"$f":"'[1]LÍNEA 4'!V98","v":0},0,{"$f":"'[1]LÍNEA 4'!W98","v":2},0.5,{"$f":"'[17]2016'!K74","v":0},{"$f":"'[17]2017'!K74","v":0},{"$f":"'[17]2018'!K74","v":0},{"$f":"'[17]2019'!K74","v":0}," -"," -",0,0," -"," -",0,0,{"$f":"+SUM(BD98:BG98)/AU98","v":0},0,0,{"$f":"'[17]2016'!P74","v":0},{"$f":"'[17]2016'!Q74","v":0},{"$f":"'[17]2016'!R74","v":0}," -"," -",{"$f":"'[17]2017'!P74","v":0},{"$f":"'[17]2017'!Q74","v":0},{"$f":"'[17]2017'!R74","v":0}," -"," -",{"$f":"'[17]2018'!P74","v":500000},{"$f":"'[17]2018'!Q74","v":0},{"$f":"'[17]2018'!R74","v":0},0," -",{"$f":"'[17]2019'!P74","v":0},{"$f":"'[17]2019'!Q74","v":0},{"$f":"'[17]2019'!R74","v":0}," -"," -",500000,0,0,0," -","3. Salud y bienestar","Salud",{"$f":"'[1]LÍNEA 4'!AQ98","v":"Sec. Salud y Ambiente"}]
[null,null,null,null,null,null,null,null,null,null,null,null,null,null,null,null,null,null,null,null,null,null,null,null,null,null,null,null,null,null,null,null,null,null,null,null,null,null,null,null,null,null,"Garantizar que el 100% del personal en salud esté capacitado e implemente la estrategia AIEPI e IAMI en las unidades operativas de la ESE ISABU.",{"$f":"'[1]LÍNEA 4'!P99","v":" -"},"Porcentaje del personal en salud que está capacitado e implementando la estrategia AIEPI e IAMI en las unidades operativas de la ESE ISABU.",0.25,{"$f":"'[1]LÍNEA 4'!S99","v":1},{"$f":"'[1]LÍNEA 4'!T99","v":0.25},0.25,{"$f":"'[1]LÍNEA 4'!U99","v":0.25},0.25,{"$f":"'[1]LÍNEA 4'!V99","v":0.25},0.25,{"$f":"'[1]LÍNEA 4'!W99","v":0.25},0.25,{"$f":"'[26]2016'!K12","v":0.25},{"$f":"'[26]2017'!K12","v":0.25},{"$f":"'[26]2018'!K12","v":0.13},{"$f":"'[26]2019'!K12","v":0},1,1,1,1,0.52,0.52,0,0,0.63,0.63,0.63,{"$f":"'[26]2016'!P12","v":43854},{"$f":"'[26]2016'!Q12","v":43854},{"$f":"'[26]2016'!R12","v":0},1," -",{"$f":"'[26]2017'!P12","v":0},{"$f":"'[26]2017'!Q12","v":0},{"$f":"'[26]2017'!R12","v":0}," -"," -",{"$f":"'[26]2018'!P12","v":0},{"$f":"'[26]2018'!Q12","v":0},{"$f":"'[26]2018'!R12","v":0}," -"," -",{"$f":"'[26]2019'!P12","v":0},{"$f":"'[26]2019'!Q12","v":0},{"$f":"'[26]2019'!R12","v":0}," -"," -",43854,43854,0,1," -","3. Salud y bienestar","Salud",{"$f":"'[1]LÍNEA 4'!AQ99","v":"ISABU"}]
[null,null,null,null,null,null,null,null,null,null,null,null,null,null,null,null,null,null,null,null,null,null,null,null,null,null,null,null,null,null,null,null,null,null,null,null,null,null,null,null,null,null,"Implementar la historia clínica digital en todas las unidades operativas de la ESE ISABU.",{"$f":"'[1]LÍNEA 4'!P100","v":0},"Porcentaje de avance en la implementación de la historia clínica digital en todas las unidades operativas de la ESE ISABU.",0.48,{"$f":"'[1]LÍNEA 4'!S100","v":1},{"$f":"'[1]LÍNEA 4'!T100","v":1},1,{"$f":"'[1]LÍNEA 4'!U100","v":0},0,{"$f":"'[1]LÍNEA 4'!V100","v":0},0,{"$f":"'[1]LÍNEA 4'!W100","v":0},0,{"$f":"'[26]2016'!K13","v":1},{"$f":"'[26]2017'!K13","v":0},{"$f":"'[26]2018'!K13","v":0},{"$f":"'[26]2019'!K13","v":0},1,1," -"," -"," -"," -"," -"," -",1,1,1,{"$f":"'[26]2016'!P13","v":200000},{"$f":"'[26]2016'!Q13","v":200000},{"$f":"'[26]2016'!R13","v":0},1," -",{"$f":"'[26]2017'!P13","v":0},{"$f":"'[26]2017'!Q13","v":0},{"$f":"'[26]2017'!R13","v":0}," -"," -",{"$f":"'[26]2018'!P13","v":0},{"$f":"'[26]2018'!Q13","v":0},{"$f":"'[26]2018'!R13","v":0}," -"," -",{"$f":"'[26]2019'!P13","v":200000},{"$f":"'[26]2019'!Q13","v":0},{"$f":"'[26]2019'!R13","v":0},0," -",400000,200000,0,0.5," -","3. Salud y bienestar","Salud",{"$f":"'[1]LÍNEA 4'!AQ100","v":"ISABU"}]
[null,null,null,null,null,null,null,null,null,null,null,null,null,null,null,null,null,null,null,null,null,null,null,null,null,null,null,null,null,null,null,null,null,null,null,null,null,null,null,null,null,null,"Ampliar y mantener en un 1 punto de atención el servicios de imagenología (UIMIST).",{"$f":"'[1]LÍNEA 4'!P101","v":0},"Número de puntos de atención ampliados y mantenidos de servicios de imagenología.",0,{"$f":"'[1]LÍNEA 4'!S101","v":1},{"$f":"'[1]LÍNEA 4'!T101","v":0},0,{"$f":"'[1]LÍNEA 4'!U101","v":1},0.33,{"$f":"'[1]LÍNEA 4'!V101","v":1},0.33,{"$f":"'[1]LÍNEA 4'!W101","v":1},0.34,{"$f":"'[26]2016'!K14","v":0},{"$f":"'[26]2017'!K14","v":1},{"$f":"'[26]2018'!K14","v":1},{"$f":"'[26]2019'!K14","v":0}," -"," -",1,1,1,1,0,0,{"$f":"+AVERAGE(BE101:BG101)/AU101","v":0.66666666666666663},0.66666666666666663,0.66666666666666663,{"$f":"'[26]2016'!P14","v":0},{"$f":"'[26]2016'!Q14","v":0},{"$f":"'[26]2016'!R14","v":0}," -"," -",{"$f":"'[26]2017'!P14","v":2000},{"$f":"'[26]2017'!Q14","v":2000},{"$f":"'[26]2017'!R14","v":0},1," -",{"$f":"'[26]2018'!P14","v":0},{"$f":"'[26]2018'!Q14","v":0},{"$f":"'[26]2018'!R14","v":0}," -"," -",{"$f":"'[26]2019'!P14","v":80000},{"$f":"'[26]2019'!Q14","v":0},{"$f":"'[26]2019'!R14","v":0},0," -",82000,2000,0,2.4390243902439025E-2," -","3. Salud y bienestar","Salud",{"$f":"'[1]LÍNEA 4'!AQ101","v":"ISABU"}]
[null,null,null,null,null,null,null,null,null,null,null,null,null,null,null,null,null,null,null,null,null,null,null,null,null,null,null,null,null,null,null,null,null,null,null,null,null,null,null,null,null,null,"Habilitar y mantener 2 ambulancias con el fin de mejorar el sistema de referencia y contrareferencia interna de la ESE ISABU.",{"$f":"'[1]LÍNEA 4'!P102","v":201020201},"Número de ambulancias habilitadas y mantenidas con el fin de mejorar el sistema de referencia y contrareferencia interna de la ESE ISABU.",2,{"$f":"'[1]LÍNEA 4'!S102","v":2},{"$f":"'[1]LÍNEA 4'!T102","v":2},0.25,{"$f":"'[1]LÍNEA 4'!U102","v":2},0.25,{"$f":"'[1]LÍNEA 4'!V102","v":2},0.25,{"$f":"'[1]LÍNEA 4'!W102","v":2},0.25,{"$f":"'[26]2016'!K15","v":2},{"$f":"'[26]2017'!K15","v":3},{"$f":"'[26]2018'!K15","v":3},{"$f":"'[26]2019'!K15","v":0},1,1,1.5,1,1.5,1,0,0,1,1,1,{"$f":"'[26]2016'!P15","v":7},{"$f":"'[26]2016'!Q15","v":7},{"$f":"'[26]2016'!R15","v":0},1," -",{"$f":"'[26]2017'!P15","v":40000},{"$f":"'[26]2017'!Q15","v":24701},{"$f":"'[26]2017'!R15","v":0},0.61752499999999999," -",{"$f":"'[26]2018'!P15","v":0},{"$f":"'[26]2018'!Q15","v":0},{"$f":"'[26]2018'!R15","v":0}," -"," -",{"$f":"'[26]2019'!P15","v":60000},{"$f":"'[26]2019'!Q15","v":0},{"$f":"'[26]2019'!R15","v":0},0," -",100007,24708,0,0.24706270561060725," -","3. Salud y bienestar","Salud",{"$f":"'[1]LÍNEA 4'!AQ102","v":"ISABU"}]
[null,null,null,null,null,null,null,null,null,null,null,null,null,null,null,null,null,null,null,null,null,null,null,null,null,null,null,null,null,null,null,null,null,null,null,null,null,null,null,null,null,null,"Fortalecer el Hospital Local del Norte.",{"$f":"'[1]LÍNEA 4'!P103","v":2010547},"Número de Hospitales Locales del Norte fortalecidos.",1,{"$f":"'[1]LÍNEA 4'!S103","v":1},{"$f":"'[1]LÍNEA 4'!T103","v":0},0,{"$f":"'[1]LÍNEA 4'!U103","v":1},1,{"$f":"'[1]LÍNEA 4'!V103","v":0},0,{"$f":"'[1]LÍNEA 4'!W103","v":0},0,{"$f":"'[26]2016'!K16","v":0},{"$f":"'[26]2017'!K16","v":1},{"$f":"'[26]2018'!K16","v":0},{"$f":"'[26]2019'!K16","v":0}," -"," -",1,1," -"," -"," -"," -",{"$f":"+SUM(BD103:BG103)/AU103","v":1},1,1,{"$f":"'[26]2016'!P16","v":0},{"$f":"'[26]2016'!Q16","v":0},{"$f":"'[26]2016'!R16","v":0}," -"," -",{"$f":"'[26]2017'!P16","v":1334985},{"$f":"'[26]2017'!Q16","v":1031571},{"$f":"'[26]2017'!R16","v":0},0.77272104180945855," -",{"$f":"'[26]2018'!P16","v":0},{"$f":"'[26]2018'!Q16","v":0},{"$f":"'[26]2018'!R16","v":0}," -"," -",{"$f":"'[26]2019'!P16","v":0},{"$f":"'[26]2019'!Q16","v":0},{"$f":"'[26]2019'!R16","v":0}," -"," -",1334985,1031571,0,0.77272104180945855," -","3. Salud y bienestar","Salud",{"$f":"'[1]LÍNEA 4'!AQ103","v":"ISABU"}]
[null,null,null,null,null,null,null,null,null,null,null,null,null,null,null,null,null,null,null,null,null,null,null,null,null,null,null,null,null,null,null,null,null,null,null,null,null,null,null,null,null,null,null,null,null,null,{"$f":"'[1]LÍNEA 4'!S104","v":0},{"$f":"'[1]LÍNEA 4'!T104","v":0},{"$f":"+AVERAGE(AW64:AW103)","v":0.25994106699751862},{"$f":"'[1]LÍNEA 4'!U104","v":0},{"$f":"+AVERAGE(AY64:AY103)","v":0.31109015715467325},{"$f":"'[1]LÍNEA 4'!V104","v":0},0.19878246484698098,{"$f":"'[1]LÍNEA 4'!W104","v":0},0.23018631100082709,null,null,null,null,null,{"$f":"+AVERAGE(BI64:BI103)","v":0.77161393116194366},null,0.81205517731967614,null,0.75045758825670272,null,0,null,{"$f":"+AVERAGE(BQ64:BQ103)","v":0.6309609803917281}]
[null,null,null,{"$f":"+RESUMEN!J96","v":0.73633145667507938},"ACTIVIDAD FÍSICA, EDUCACIÓN FÍSICA, RECREACIÓN Y DEPORTE","Lograr la participación de 420.000 personas en hábitos y estilos de vida saludable.",416200,420000,{"$f":"+H105-G105","v":3800},417000,{"$f":"+J105-G105","v":800},null,418200,{"$f":"+M105-J105","v":1200},null,419100,{"$f":"+P105-M105","v":900},null,420000,{"$f":"+S105-P105","v":900},null,405556,{"$f":"+IF(V105=0,0,V105-G105)","v":-10644},null,{"$f":"+IF(X105=0,0,X105-V105)","v":0},null,{"$f":"+IF(Z105=0,0,Z105-X105)","v":0},null,{"$f":"+IF(AB105=0,0,AB105-Z105)","v":0},{"$f":"+IF(K105=0,\" -\",W105/K105)","v":-13.305},{"$f":"+IF(K105=0,\" -\",IF(AD105>100%,100%,AD105))","v":-13.305},{"$f":"+IF(N105=0,\" -\",Y105/N105)","v":0},{"$f":"+IF(N105=0,\" -\",IF(AF105>100%,100%,AF105))","v":0},{"$f":"+IF(Q105=0,\" -\",AA105/Q105)","v":0},{"$f":"+IF(Q105=0,\" -\",IF(AH105>100%,100%,AH105))","v":0},{"$f":"+IF(T105=0,\" -\",AC105/T105)","v":0},{"$f":"+IF(T105=0,\" -\",IF(AJ105>100%,100%,AJ105))","v":0},{"$f":"+SUM(AC105,AA105,Y105,W105)/I105","v":-2.8010526315789472},{"$f":"+IF(AL105>100%,100%,IF(AL105<0%,0%,AL105))","v":0},null,{"$f":"+RESUMEN!J97","v":0.92647058823529416},"ACTIVIDAD FÍSICA Y SALUD \"BUCARAMANGA ACTIVA Y SALUDABLE\"","Realizar 170 eventos de hábitos de vida saludable (recreovías, ciclovías y ciclopaseos).",{"$f":"'[1]LÍNEA 4'!P105","v":"2,4,1,1,1,1"},"Número de eventos de hábitos de vida saludable (recreovías, ciclovías y ciclopaseos) realizados.",320,{"$f":"'[1]LÍNEA 4'!S105","v":170},{"$f":"'[1]LÍNEA 4'!T105","v":40},0.23529411764705882,{"$f":"'[1]LÍNEA 4'!U105","v":42},0.24705882352941178,{"$f":"'[1]LÍNEA 4'!V105","v":43},0.25294117647058822,{"$f":"'[1]LÍNEA 4'!W105","v":45},0.26470588235294118,{"$f":"'[23]2016'!K23","v":46},{"$f":"'[23]2017'!K23","v":58},{"$f":"'[23]2018'!K23","v":41},{"$f":"'[23]2019'!K23","v":0},1.1499999999999999,1,1.3809523809523809,1,0.95348837209302328,0.95348837209302328,0,0,{"$f":"+SUM(BD105:BG105)/AU105","v":0.8529411764705882},0.8529411764705882,0.8529411764705882,{"$f":"'[23]2016'!P23","v":297000},{"$f":"'[23]2016'!Q23","v":282411},{"$f":"'[23]2016'!R23","v":19000},0.95087878787878788,6.7277832662325482E-2,{"$f":"'[23]2017'!P23","v":403547},{"$f":"'[23]2017'!Q23","v":347318},{"$f":"'[23]2017'!R23","v":62188},0.86066307022478172,0.17905205028245008,{"$f":"'[23]2018'!P23","v":478848},{"$f":"'[23]2018'!Q23","v":322174},{"$f":"'[23]2018'!R23","v":0},0.67281057872226679," -",{"$f":"'[23]2019'!P23","v":342349},{"$f":"'[23]2019'!Q23","v":0},{"$f":"'[23]2019'!R23","v":0},0," -",1521744,951903,81188,0.62553425543323971,8.5290202888319497E-2,"3. Salud y bienestar","Deporte y recreación",{"$f":"'[1]LÍNEA 4'!AQ105","v":"INDERBU"}]
[null,null,null,null,null,null,null,null,null,null,null,null,null,null,null,null,null,null,null,null,null,null,null,null,null,null,null,null,null,null,null,null,null,null,null,null,null,null,null,null,null,null,"Crear 90 grupos comunitarios para la práctica de la actividad física regular.",{"$f":"'[1]LÍNEA 4'!P106","v":"2,4,1,1,1,2"},"Número de grupos comunitarios creados para la práctica de la actividad física regular.",120,{"$f":"'[1]LÍNEA 4'!S106","v":90},{"$f":"'[1]LÍNEA 4'!T106","v":20},0.22222222222222221,{"$f":"'[1]LÍNEA 4'!U106","v":22},0.24444444444444444,{"$f":"'[1]LÍNEA 4'!V106","v":23},0.25555555555555554,{"$f":"'[1]LÍNEA 4'!W106","v":25},0.27777777777777779,{"$f":"'[23]2016'!K24","v":20},{"$f":"'[23]2017'!K24","v":58},{"$f":"'[23]2018'!K24","v":132},{"$f":"'[23]2019'!K24","v":0},1,1,2.6363636363636362,1,5.7391304347826084,1,0,0,2.3333333333333335,1,1,{"$f":"'[23]2016'!P24","v":25574},{"$f":"'[23]2016'!Q24","v":23467},{"$f":"'[23]2016'!R24","v":0},0.91761163681864388," -",{"$f":"'[23]2017'!P24","v":737661},{"$f":"'[23]2017'!Q24","v":703141},{"$f":"'[23]2017'!R24","v":0},0.9532034362667946," -",{"$f":"'[23]2018'!P24","v":686394},{"$f":"'[23]2018'!Q24","v":669846},{"$f":"'[23]2018'!R24","v":0},0.97589139765207733," -",{"$f":"'[23]2019'!P24","v":281290},{"$f":"'[23]2019'!Q24","v":0},{"$f":"'[23]2019'!R24","v":0},0," -",1730919,1396454,0,0.80677027636764054," -","3. Salud y bienestar","Deporte y recreación",{"$f":"'[1]LÍNEA 4'!AQ106","v":"INDERBU"}]
[null,null,null,null,null,null,null,null,null,null,null,null,null,null,null,null,null,null,null,null,null,null,null,null,null,null,null,null,null,null,null,null,null,null,null,null,null,null,null,null,{"$f":"+RESUMEN!J98","v":0.99151815181518155},"DEPORTE FORMATIVO","Vincular 30.300 estudiantes en competencias y festivales deportivos en los juegos estudiantiles.",{"$f":"'[1]LÍNEA 4'!P107","v":"2,4,1,1,2,1"},"Número de estudiantes vinculados en competencias y festivales deportivos en los juegos estudiantiles.",30000,{"$f":"'[1]LÍNEA 4'!S107","v":30300},{"$f":"'[1]LÍNEA 4'!T107","v":7000},0.23102310231023102,{"$f":"'[1]LÍNEA 4'!U107","v":7500},0.24752475247524752,{"$f":"'[1]LÍNEA 4'!V107","v":7800},0.25742574257425743,{"$f":"'[1]LÍNEA 4'!W107","v":8000},0.264026402640264,{"$f":"'[23]2016'!K25","v":9116},{"$f":"'[23]2017'!K25","v":10930},{"$f":"'[23]2018'!K25","v":9483},{"$f":"'[23]2019'!K25","v":0},1.3022857142857143,1,1.4573333333333334,1,1.2157692307692307,1,0,0,0.97455445544554453,0.97455445544554453,0.97455445544554453,{"$f":"'[23]2016'!P25","v":412792},{"$f":"'[23]2016'!Q25","v":262371},{"$f":"'[23]2016'!R25","v":0},0.63560098063915971," -",{"$f":"'[23]2017'!P25","v":610712},{"$f":"'[23]2017'!Q25","v":534909},{"$f":"'[23]2017'!R25","v":0},0.87587766410353818," -",{"$f":"'[23]2018'!P25","v":412409},{"$f":"'[23]2018'!Q25","v":281955},{"$f":"'[23]2018'!R25","v":0},0.68367809625881104," -",{"$f":"'[23]2019'!P25","v":310968},{"$f":"'[23]2019'!Q25","v":0},{"$f":"'[23]2019'!R25","v":0},0," -",1746881,1079235,0,0.61780682255975072," -","3. Salud y bienestar","Deporte y recreación",{"$f":"'[1]LÍNEA 4'!AQ107","v":"INDERBU"}]
[null,null,null,null,null,null,null,null,null,null,null,null,null,null,null,null,null,null,null,null,null,null,null,null,null,null,null,null,null,null,null,null,null,null,null,null,null,null,null,null,null,null,"Vincular 4.300 niñas, niños y adolescentes en las escuelas de iniciación, formación y especialización deportiva.",{"$f":"'[1]LÍNEA 4'!P108","v":"2,4,1,1,2,2"},"Número de niñas, niños y adolescentes vinculados en las escuelas de iniciación, formación y especialización deportiva.",10000,{"$f":"'[1]LÍNEA 4'!S108","v":4300},{"$f":"'[1]LÍNEA 4'!T108","v":1000},0.23255813953488372,{"$f":"'[1]LÍNEA 4'!U108","v":1100},0.2558139534883721,{"$f":"'[1]LÍNEA 4'!V108","v":1200},0.27906976744186046,{"$f":"'[1]LÍNEA 4'!W108","v":1000},0.23255813953488372,{"$f":"'[23]2016'!K26","v":1485},{"$f":"'[23]2017'!K26","v":2242},{"$f":"'[23]2018'!K26","v":1435},{"$f":"'[23]2019'!K26","v":0},1.4850000000000001,1,2.0381818181818181,1,1.1958333333333333,1,0,0,1.2004651162790698,1,1,{"$f":"'[23]2016'!P26","v":474845},{"$f":"'[23]2016'!Q26","v":398287},{"$f":"'[23]2016'!R26","v":85342},0.83877265212858931,0.21427262250588144,{"$f":"'[23]2017'!P26","v":637522},{"$f":"'[23]2017'!Q26","v":504522},{"$f":"'[23]2017'!R26","v":0},0.79137974846358239," -",{"$f":"'[23]2018'!P26","v":861316},{"$f":"'[23]2018'!Q26","v":485600},{"$f":"'[23]2018'!R26","v":0},0.56378843537099044," -",{"$f":"'[23]2019'!P26","v":421352},{"$f":"'[23]2019'!Q26","v":0},{"$f":"'[23]2019'!R26","v":0},0," -",2395035,1388409,85342,0.5797030106031853,6.1467478243082553E-2,"3. Salud y bienestar","Deporte y recreación",{"$f":"'[1]LÍNEA 4'!AQ108","v":"INDERBU"}]
[null,null,null,null,null,null,null,null,null,null,null,null,null,null,null,null,null,null,null,null,null,null,null,null,null,null,null,null,null,null,null,null,null,null,null,null,null,null,null,null,null,null,"Vincular 3.000 estudiantes en edad pre-escolar y escolar a los procesos de educación física.",{"$f":"'[1]LÍNEA 4'!P109","v":"2,4,1,1,2,3"},"Número de estudiantes en edad pre-escolar y escolar vinculados a los procesos de educación física.",0,{"$f":"'[1]LÍNEA 4'!S109","v":3000},{"$f":"'[1]LÍNEA 4'!T109","v":0},0,{"$f":"'[1]LÍNEA 4'!U109","v":1000},0.33333333333333331,{"$f":"'[1]LÍNEA 4'!V109","v":1000},0.33333333333333331,{"$f":"'[1]LÍNEA 4'!W109","v":1000},0.33333333333333331,{"$f":"'[23]2016'!K27","v":0},{"$f":"'[23]2017'!K27","v":8671},{"$f":"'[23]2018'!K27","v":9245},{"$f":"'[23]2019'!K27","v":0}," -"," -",8.6709999999999994,1,9.2449999999999992,1,0,0,5.9720000000000004,1,1,{"$f":"'[23]2016'!P27","v":0},{"$f":"'[23]2016'!Q27","v":0},{"$f":"'[23]2016'!R27","v":0}," -"," -",{"$f":"'[23]2017'!P27","v":232403},{"$f":"'[23]2017'!Q27","v":238203},{"$f":"'[23]2017'!R27","v":0},1.0249566485802679," -",{"$f":"'[23]2018'!P27","v":310800},{"$f":"'[23]2018'!Q27","v":240000},{"$f":"'[23]2018'!R27","v":0},0.77220077220077221," -",{"$f":"'[23]2019'!P27","v":262086},{"$f":"'[23]2019'!Q27","v":0},{"$f":"'[23]2019'!R27","v":0},0," -",805289,478203,0,0.59382780591812379," -","3. Salud y bienestar","Deporte y recreación",{"$f":"'[1]LÍNEA 4'!AQ109","v":"INDERBU"}]
[null,null,null,null,null,null,null,null,null,null,null,null,null,null,null,null,null,null,null,null,null,null,null,null,null,null,null,null,null,null,null,null,null,null,null,null,null,null,null,null,{"$f":"+RESUMEN!J99","v":0.69444444444444453},"DEPORTE Y RECREACIÓN SOCIAL COMUNITARIA","Desarrollar 12 eventos deportivos comunitarios en diferentes disciplinas.",{"$f":"'[1]LÍNEA 4'!P110","v":"2,4,1,1,3,1"},"Número de eventos deportivos comunitarios desarrollados en diferentes disciplinas.",16,{"$f":"'[1]LÍNEA 4'!S110","v":12},{"$f":"'[1]LÍNEA 4'!T110","v":3},0.25,{"$f":"'[1]LÍNEA 4'!U110","v":3},0.25,{"$f":"'[1]LÍNEA 4'!V110","v":3},0.25,{"$f":"'[1]LÍNEA 4'!W110","v":3},0.25,{"$f":"'[23]2016'!K28","v":3},{"$f":"'[23]2017'!K28","v":3},{"$f":"'[23]2018'!K28","v":1},{"$f":"'[23]2019'!K28","v":0},1,1,1,1,0.33333333333333331,0.33333333333333331,0,0,0.58333333333333337,0.58333333333333337,0.58333333333333337,{"$f":"'[23]2016'!P28","v":217483},{"$f":"'[23]2016'!Q28","v":129880},{"$f":"'[23]2016'!R28","v":0},0.5971961026838879," -",{"$f":"'[23]2017'!P28","v":233481},{"$f":"'[23]2017'!Q28","v":233481},{"$f":"'[23]2017'!R28","v":0},1," -",{"$f":"'[23]2018'!P28","v":262992},{"$f":"'[23]2018'!Q28","v":165368},{"$f":"'[23]2018'!R28","v":0},0.62879479223702617," -",{"$f":"'[23]2019'!P28","v":376584},{"$f":"'[23]2019'!Q28","v":0},{"$f":"'[23]2019'!R28","v":0},0," -",1090540,528729,0,0.48483228492306563," -","3. Salud y bienestar","Deporte y recreación",{"$f":"'[1]LÍNEA 4'!AQ110","v":"INDERBU"}]
[null,null,null,null,null,null,null,null,null,null,null,null,null,null,null,null,null,null,null,null,null,null,null,null,null,null,null,null,null,null,null,null,null,null,null,null,null,null,null,null,null,null,"Desarrollar 40 eventos recreodeportivos comunitarios.",{"$f":"'[1]LÍNEA 4'!P111","v":"2,4,1,1,3,3"},"Número de eventos recreodeportivos comunitarios desarrollados.",90,{"$f":"'[1]LÍNEA 4'!S111","v":40},{"$f":"'[1]LÍNEA 4'!T111","v":10},0.25,{"$f":"'[1]LÍNEA 4'!U111","v":10},0.25,{"$f":"'[1]LÍNEA 4'!V111","v":10},0.25,{"$f":"'[1]LÍNEA 4'!W111","v":10},0.25,{"$f":"'[23]2016'!K29","v":10},{"$f":"'[23]2017'!K29","v":19},{"$f":"'[23]2018'!K29","v":12},{"$f":"'[23]2019'!K29","v":0},1,1,1.9,1,1.2,1,0,0,1.0249999999999999,1,1,{"$f":"'[23]2016'!P29","v":47000},{"$f":"'[23]2016'!Q29","v":20000},{"$f":"'[23]2016'!R29","v":0},0.42553191489361702," -",{"$f":"'[23]2017'!P29","v":60305},{"$f":"'[23]2017'!Q29","v":60305},{"$f":"'[23]2017'!R29","v":0},1," -",{"$f":"'[23]2018'!P29","v":65694},{"$f":"'[23]2018'!Q29","v":24397},{"$f":"'[23]2018'!R29","v":0},0.37137333698663499," -",{"$f":"'[23]2019'!P29","v":146069},{"$f":"'[23]2019'!Q29","v":0},{"$f":"'[23]2019'!R29","v":0},0," -",319068,104702,0,0.32814948537615807," -","3. Salud y bienestar","Deporte y recreación",{"$f":"'[1]LÍNEA 4'!AQ111","v":"INDERBU"}]
[null,null,null,null,null,null,null,null,null,null,null,null,null,null,null,null,null,null,null,null,null,null,null,null,null,null,null,null,null,null,null,null,null,null,null,null,null,null,null,null,null,null,"Realizar 8 eventos de vacaciones creativas dirigidas a la primera infancia e infancia.",{"$f":"'[1]LÍNEA 4'!P112","v":"2,4,1,1,3,2"},"Número de eventos de vacaciones creativas dirigidas a la primera infancia e infancia realizadas.",8,{"$f":"'[1]LÍNEA 4'!S112","v":8},{"$f":"'[1]LÍNEA 4'!T112","v":2},0.25,{"$f":"'[1]LÍNEA 4'!U112","v":2},0.25,{"$f":"'[1]LÍNEA 4'!V112","v":2},0.25,{"$f":"'[1]LÍNEA 4'!W112","v":2},0.25,{"$f":"'[23]2016'!K30","v":2},{"$f":"'[23]2017'!K30","v":2},{"$f":"'[23]2018'!K30","v":0},{"$f":"'[23]2019'!K30","v":0},1,1,1,1,0,0,0,0,0.5,0.5,0.5,{"$f":"'[23]2016'!P30","v":81000},{"$f":"'[23]2016'!Q30","v":15243},{"$f":"'[23]2016'!R30","v":0},0.18818518518518518," -",{"$f":"'[23]2017'!P30","v":70000},{"$f":"'[23]2017'!Q30","v":69998},{"$f":"'[23]2017'!R30","v":0},0.99997142857142862," -",{"$f":"'[23]2018'!P30","v":98803},{"$f":"'[23]2018'!Q30","v":0},{"$f":"'[23]2018'!R30","v":0},0," -",{"$f":"'[23]2019'!P30","v":68469},{"$f":"'[23]2019'!Q30","v":0},{"$f":"'[23]2019'!R30","v":0},0," -",318272,85241,0,0.26782437663382264," -","3. Salud y bienestar","Deporte y recreación",{"$f":"'[1]LÍNEA 4'!AQ112","v":"INDERBU"}]
[null,null,null,null,null,null,null,null,null,null,null,null,null,null,null,null,null,null,null,null,null,null,null,null,null,null,null,null,null,null,null,null,null,null,null,null,null,null,null,null,{"$f":"+RESUMEN!J100","v":1},"CUALIFICACIÓN DEL TALENTO DEPORTIVO","Capacitar 600 personas en áreas afines a la actividad física, recreación y deporte.",{"$f":"'[1]LÍNEA 4'!P113","v":"2,4,1,1,4,1"},"Número de personas capacitadas en áreas afines a la actividad física, recreación y deporte.",1500,{"$f":"'[1]LÍNEA 4'!S113","v":600},{"$f":"'[1]LÍNEA 4'!T113","v":100},0.16666666666666666,{"$f":"'[1]LÍNEA 4'!U113","v":150},0.25,{"$f":"'[1]LÍNEA 4'!V113","v":200},0.33333333333333331,{"$f":"'[1]LÍNEA 4'!W113","v":150},0.25,{"$f":"'[23]2016'!K31","v":242},{"$f":"'[23]2017'!K31","v":572},{"$f":"'[23]2018'!K31","v":336},{"$f":"'[23]2019'!K31","v":0},2.42,1,3.8133333333333335,1,1.68,1,0,0,1.9166666666666667,1,1,{"$f":"'[23]2016'!P31","v":16800},{"$f":"'[23]2016'!Q31","v":16000},{"$f":"'[23]2016'!R31","v":0},0.95238095238095233," -",{"$f":"'[23]2017'!P31","v":31266},{"$f":"'[23]2017'!Q31","v":31266},{"$f":"'[23]2017'!R31","v":0},1," -",{"$f":"'[23]2018'!P31","v":32673},{"$f":"'[23]2018'!Q31","v":0},{"$f":"'[23]2018'!R31","v":0},0," -",{"$f":"'[23]2019'!P31","v":34143},{"$f":"'[23]2019'!Q31","v":0},{"$f":"'[23]2019'!R31","v":0},0," -",114882,47266,0,0.41143085949060776," -","3. Salud y bienestar","Deporte y recreación",{"$f":"'[1]LÍNEA 4'!AQ113","v":"INDERBU"}]
[null,null,null,null,null,null,null,null,null,null,null,null,null,null,null,null,null,null,null,null,null,null,null,null,null,null,null,null,null,null,null,null,null,null,null,null,null,null,null,null,{"$f":"+RESUMEN!J101","v":0.24722222222222223},"AMBIENTES DEPORTIVOS Y RECREATIVOS","Realizar mantenimiento a 120 escenarios y/o campos deportivos.",{"$f":"'[1]LÍNEA 4'!P114","v":"2,4,1,1,5,1"},"Número de escenarios y/o campos deportivos con mantenimiento realizado.",120,{"$f":"'[1]LÍNEA 4'!S114","v":120},{"$f":"'[1]LÍNEA 4'!T114","v":20},0.16666666666666666,{"$f":"'[1]LÍNEA 4'!U114","v":30},0.25,{"$f":"'[1]LÍNEA 4'!V114","v":35},0.29166666666666669,{"$f":"'[1]LÍNEA 4'!W114","v":35},0.29166666666666669,{"$f":"'[23]2016'!K32","v":22},{"$f":"'[23]2017'!K32","v":32},{"$f":"'[23]2018'!K32","v":35},{"$f":"'[23]2019'!K32","v":0},1.1000000000000001,1,1.0666666666666667,1,1,1,0,0,0.7416666666666667,0.7416666666666667,0.7416666666666667,{"$f":"'[23]2016'!P32","v":932268},{"$f":"'[23]2016'!Q32","v":679594},{"$f":"'[23]2016'!R32","v":0},0.72896849403819508," -",{"$f":"'[23]2017'!P32","v":1265854},{"$f":"'[23]2017'!Q32","v":1246979},{"$f":"'[23]2017'!R32","v":41085},0.98508911770235741,3.2947627826932127E-2,{"$f":"'[23]2018'!P32","v":2711042},{"$f":"'[23]2018'!Q32","v":1645056},{"$f":"'[23]2018'!R32","v":0},0.60679841920560429," -",{"$f":"'[23]2019'!P32","v":1367551},{"$f":"'[23]2019'!Q32","v":0},{"$f":"'[23]2019'!R32","v":0},0," -",6276715,3571629,41085,0.56902838507085318,1.150315444297266E-2,"3. Salud y bienestar","Deporte y recreación",{"$f":"'[1]LÍNEA 4'!AQ114","v":"INDERBU"}]
[null,null,null,null,null,null,null,null,null,null,null,null,null,null,null,null,null,null,null,null,null,null,null,null,null,null,null,null,null,null,null,null,null,null,null,null,null,null,null,null,null,null,"Adecuar y/o modernizar 3 parques RECREAR.",{"$f":"'[1]LÍNEA 4'!P115","v":0},"Número de parques RECREAR adecuados y/o modernizados.",0,{"$f":"'[1]LÍNEA 4'!S115","v":3},{"$f":"'[1]LÍNEA 4'!T115","v":0},0,{"$f":"'[1]LÍNEA 4'!U115","v":1},0.33333333333333331,{"$f":"'[1]LÍNEA 4'!V115","v":1},0.33333333333333331,{"$f":"'[1]LÍNEA 4'!W115","v":1},0.33333333333333331,{"$f":"'[7]2016'!K31","v":0},{"$f":"'[7]2017'!K35","v":0},{"$f":"'[7]2018'!K35","v":0},{"$f":"'[7]2019'!K35","v":0}," -"," -",0,0,0,0,0,0,0,0,0,{"$f":"'[7]2016'!P31","v":0},{"$f":"'[7]2016'!Q31","v":0},{"$f":"'[7]2016'!R31","v":0}," -"," -",{"$f":"'[7]2017'!P35","v":160735},{"$f":"'[7]2017'!Q35","v":0},{"$f":"'[7]2017'!R35","v":0},0," -",{"$f":"'[7]2018'!P35","v":0},{"$f":"'[7]2018'!Q35","v":0},{"$f":"'[7]2018'!R35","v":0}," -"," -",{"$f":"'[7]2019'!P35","v":3000000},{"$f":"'[7]2019'!Q35","v":0},{"$f":"'[7]2019'!R35","v":0},0," -",3160735,0,0,0," -","3. Salud y bienestar","Deporte y recreación",{"$f":"'[1]LÍNEA 4'!AQ115","v":"Sec. Infraestructura"}]
[null,null,null,null,null,null,null,null,null,null,null,null,null,null,null,null,null,null,null,null,null,null,null,null,null,null,null,null,null,null,null,null,null,null,null,null,null,null,null,null,null,null,"Construir 1 parque RECREAR.",{"$f":"'[1]LÍNEA 4'!P116","v":0},"Número de parques RECREAR construidos.",0,{"$f":"'[1]LÍNEA 4'!S116","v":1},{"$f":"'[1]LÍNEA 4'!T116","v":0},0,{"$f":"'[1]LÍNEA 4'!U116","v":0},0,{"$f":"'[1]LÍNEA 4'!V116","v":1},1,{"$f":"'[1]LÍNEA 4'!W116","v":0},0,{"$f":"'[7]2016'!K32","v":0},{"$f":"'[7]2017'!K36","v":0},{"$f":"'[7]2018'!K36","v":0},{"$f":"'[7]2019'!K36","v":0}," -"," -"," -"," -",0,0," -"," -",0,0,0,{"$f":"'[7]2016'!P32","v":0},{"$f":"'[7]2016'!Q32","v":0},{"$f":"'[7]2016'!R32","v":0}," -"," -",{"$f":"'[7]2017'!P36","v":0},{"$f":"'[7]2017'!Q36","v":0},{"$f":"'[7]2017'!R36","v":0}," -"," -",{"$f":"'[7]2018'!P36","v":0},{"$f":"'[7]2018'!Q36","v":0},{"$f":"'[7]2018'!R36","v":0}," -"," -",{"$f":"'[7]2019'!P36","v":0},{"$f":"'[7]2019'!Q36","v":0},{"$f":"'[7]2019'!R36","v":0}," -"," -",0,0,0," -"," -","9. Industria, innovación e infraestructura","Deporte y recreación",{"$f":"'[1]LÍNEA 4'!AQ116","v":"Sec. Infraestructura"}]
[null,null,null,null,null,null,null,null,null,null,null,null,null,null,null,null,null,null,null,null,null,null,null,null,null,null,null,null,null,null,null,null,null,null,null,null,null,null,null,null,{"$f":"+RESUMEN!J102","v":0.55833333333333335},"DEPORTE ASOCIADO Y COMUNITARIO","Apoyar 80 iniciativas de organismos del deporte asociado.",{"$f":"'[1]LÍNEA 4'!P117","v":"2,4,1,1,6,1"},"Número de iniciativas apoyadas del deporte asociado.",250,{"$f":"'[1]LÍNEA 4'!S117","v":80},{"$f":"'[1]LÍNEA 4'!T117","v":20},0.25,{"$f":"'[1]LÍNEA 4'!U117","v":20},0.25,{"$f":"'[1]LÍNEA 4'!V117","v":20},0.25,{"$f":"'[1]LÍNEA 4'!W117","v":20},0.25,{"$f":"'[23]2016'!K33","v":20},{"$f":"'[23]2017'!K33","v":20},{"$f":"'[23]2018'!K33","v":4},{"$f":"'[23]2019'!K33","v":0},1,1,1,1,0.2,0.2,0,0,0.55000000000000004,0.55000000000000004,0.55000000000000004,{"$f":"'[23]2016'!P33","v":90404},{"$f":"'[23]2016'!Q33","v":0},{"$f":"'[23]2016'!R33","v":0},0," -",{"$f":"'[23]2017'!P33","v":80500},{"$f":"'[23]2017'!Q33","v":70500},{"$f":"'[23]2017'!R33","v":0},0.87577639751552794," -",{"$f":"'[23]2018'!P33","v":134587},{"$f":"'[23]2018'!Q33","v":6000},{"$f":"'[23]2018'!R33","v":0},4.4580828757606605E-2," -",{"$f":"'[23]2019'!P33","v":171994},{"$f":"'[23]2019'!Q33","v":0},{"$f":"'[23]2019'!R33","v":0},0," -",477485,76500,0,0.16021445699864917," -","3. Salud y bienestar","Deporte y recreación",{"$f":"'[1]LÍNEA 4'!AQ117","v":"INDERBU"}]
[null,null,null,null,null,null,null,null,null,null,null,null,null,null,null,null,null,null,null,null,null,null,null,null,null,null,null,null,null,null,null,null,null,null,null,null,null,null,null,null,null,null,"Realizar 8 eventos deportivos y recreativos de inclusión con carácter diferencial.",{"$f":"'[1]LÍNEA 4'!P118","v":"2,4,1,1,6,2"},"Número de eventos deportivos y recreativos de inclusión con carácter diferencial realizados.",0,{"$f":"'[1]LÍNEA 4'!S118","v":8},{"$f":"'[1]LÍNEA 4'!T118","v":2},0.25,{"$f":"'[1]LÍNEA 4'!U118","v":1},0.125,{"$f":"'[1]LÍNEA 4'!V118","v":2},0.25,{"$f":"'[1]LÍNEA 4'!W118","v":3},0.375,{"$f":"'[23]2016'!K34","v":2},{"$f":"'[23]2017'!K34","v":1},{"$f":"'[23]2018'!K34","v":1},{"$f":"'[23]2019'!K34","v":0},1,1,1,1,0.5,0.5,0,0,0.5,0.5,0.5,{"$f":"'[23]2016'!P34","v":16803},{"$f":"'[23]2016'!Q34","v":0},{"$f":"'[23]2016'!R34","v":0},0," -",{"$f":"'[23]2017'!P34","v":0},{"$f":"'[23]2017'!Q34","v":0},{"$f":"'[23]2017'!R34","v":0}," -"," -",{"$f":"'[23]2018'!P34","v":26633},{"$f":"'[23]2018'!Q34","v":0},{"$f":"'[23]2018'!R34","v":0},0," -",{"$f":"'[23]2019'!P34","v":27518},{"$f":"'[23]2019'!Q34","v":0},{"$f":"'[23]2019'!R34","v":0},0," -",70954,0,0,0," -","3. Salud y bienestar","Deporte y recreación",{"$f":"'[1]LÍNEA 4'!AQ118","v":"INDERBU"}]
[null,null,null,null,null,null,null,null,null,null,null,null,null,null,null,null,null,null,null,null,null,null,null,null,null,null,null,null,null,null,null,null,null,null,null,null,null,null,null,null,null,null,"Apoyar 8 iniciativas comunitarias deportivas y recreativas.",{"$f":"'[1]LÍNEA 4'!P119","v":"2,4,1,1,6,3"},"Número de iniciativas comunitarias deportivas y recreativas apoyadas.",0,{"$f":"'[1]LÍNEA 4'!S119","v":8},{"$f":"'[1]LÍNEA 4'!T119","v":2},0.25,{"$f":"'[1]LÍNEA 4'!U119","v":2},0.25,{"$f":"'[1]LÍNEA 4'!V119","v":2},0.25,{"$f":"'[1]LÍNEA 4'!W119","v":2},0.25,{"$f":"'[23]2016'!K35","v":2},{"$f":"'[23]2017'!K35","v":2},{"$f":"'[23]2018'!K35","v":1},{"$f":"'[23]2019'!K35","v":0},1,1,1,1,0.5,0.5,0,0,0.625,0.625,0.625,{"$f":"'[23]2016'!P35","v":25194},{"$f":"'[23]2016'!Q35","v":0},{"$f":"'[23]2016'!R35","v":0},0," -",{"$f":"'[23]2017'!P35","v":22800},{"$f":"'[23]2017'!Q35","v":22800},{"$f":"'[23]2017'!R35","v":0},1," -",{"$f":"'[23]2018'!P35","v":39501},{"$f":"'[23]2018'!Q35","v":0},{"$f":"'[23]2018'!R35","v":0},0," -",{"$f":"'[23]2019'!P35","v":41279},{"$f":"'[23]2019'!Q35","v":0},{"$f":"'[23]2019'!R35","v":0},0," -",128774,22800,0,0.17705437433022195," -","3. Salud y bienestar","Deporte y recreación",{"$f":"'[1]LÍNEA 4'!AQ119","v":"INDERBU"}]
[null,null,null,null,null,null,null,null,null,null,null,null,null,null,null,null,null,null,null,null,null,null,null,null,null,null,null,null,null,null,null,null,null,null,null,null,null,null,null,null,null,null,null,null,null,null,{"$f":"'[1]LÍNEA 4'!S120","v":0},{"$f":"'[1]LÍNEA 4'!T120","v":0},{"$f":"+AVERAGE(AW105:AW119)","v":0.18362872766984861},{"$f":"'[1]LÍNEA 4'!U120","v":0},{"$f":"+AVERAGE(AY105:AY119)","v":0.23576724270694285},{"$f":"'[1]LÍNEA 4'!V120","v":0},0.3224439272472619,{"$f":"'[1]LÍNEA 4'!W120","v":0},0.25816010237594667,null,null,null,null,null,{"$f":"+AVERAGE(BI105:BI119)","v":1},null,0.9285714285714286,null,0.63245478036175695,null,0,null,{"$f":"+AVERAGE(BQ105:BQ119)","v":0.6884997087944088}]
[null,null,null,{"$f":"+RESUMEN!J103","v":0.63167670003607501},"CIUDADANAS Y CIUDADANOS INTELIGENTES","Lograr la asistencia de 250.000 personas a las actividades culturales y artísticas de la ciudad y la Biblioteca Pública Gabriel Turbay.",200000,250000,{"$f":"+H121-G121","v":50000},210000,{"$f":"+J121-G121","v":10000},null,222000,{"$f":"+M121-J121","v":12000},null,235000,{"$f":"+P121-M121","v":13000},null,250000,{"$f":"+S121-P121","v":15000},null,409462,{"$f":"+IF(V121=0,0,V121-G121)","v":209462},null,{"$f":"+IF(X121=0,0,X121-V121)","v":0},null,{"$f":"+IF(Z121=0,0,Z121-X121)","v":0},null,{"$f":"+IF(AB121=0,0,AB121-Z121)","v":0},{"$f":"+IF(K121=0,\" -\",W121/K121)","v":20.946200000000001},{"$f":"+IF(K121=0,\" -\",IF(AD121>100%,100%,AD121))","v":1},{"$f":"+IF(N121=0,\" -\",Y121/N121)","v":0},{"$f":"+IF(N121=0,\" -\",IF(AF121>100%,100%,AF121))","v":0},{"$f":"+IF(Q121=0,\" -\",AA121/Q121)","v":0},{"$f":"+IF(Q121=0,\" -\",IF(AH121>100%,100%,AH121))","v":0},{"$f":"+IF(T121=0,\" -\",AC121/T121)","v":0},{"$f":"+IF(T121=0,\" -\",IF(AJ121>100%,100%,AJ121))","v":0},{"$f":"+SUM(AC121,AA121,Y121,W121)/I121","v":4.1892399999999999},{"$f":"+IF(AL121>100%,100%,IF(AL121<0%,0%,AL121))","v":1},null,{"$f":"+RESUMEN!J104","v":0.5},"TRANSFORMACIÓN DE LOS DETERMINANTES DEL COMPORTAMIENTO SOCIAL (CULTURA CIUDADANA)","Implementar 2 programas de acción colectiva que conduzca a la defensa de los bienes públicos.",{"$f":"'[1]LÍNEA 4'!P121","v":"2.2.1.40.2"},"Número de programas de acción colectiva que conduzca a la defensa de los bienes públicos implementados.",0,{"$f":"'[1]LÍNEA 4'!S121","v":2},{"$f":"'[1]LÍNEA 4'!T121","v":0},0,{"$f":"'[1]LÍNEA 4'!U121","v":1},0.5,{"$f":"'[1]LÍNEA 4'!V121","v":0},0,{"$f":"'[1]LÍNEA 4'!W121","v":1},0.5,{"$f":"'[12]2016'!K18","v":0},{"$f":"'[12]2017'!K18","v":1},{"$f":"'[12]2018'!K18","v":0},{"$f":"'[12]2019'!K18","v":0}," -"," -",1,1," -"," -",0,0,0.5,0.5,0.5,{"$f":"'[12]2016'!P18","v":0},{"$f":"'[12]2016'!Q18","v":0},{"$f":"'[12]2016'!R18","v":0}," -"," -",{"$f":"'[12]2017'!P18","v":211000},{"$f":"'[12]2017'!Q18","v":44703},{"$f":"'[12]2017'!R18","v":0},0.21186255924170616," -",{"$f":"'[12]2018'!P18","v":25297},{"$f":"'[12]2018'!Q18","v":0},{"$f":"'[12]2018'!R18","v":0},0," -",{"$f":"'[12]2019'!P18","v":200000},{"$f":"'[12]2019'!Q18","v":0},{"$f":"'[12]2019'!R18","v":0},0," -",436297,44703,0,0.10246002149911643," -","16. Paz, justicia e instituciones sólidas","Cultura",{"$f":"'[1]LÍNEA 4'!AQ121","v":"IMCT"}]
[null,null,null,null,null,null,null,null,null,null,null,null,null,null,null,null,null,null,null,null,null,null,null,null,null,null,null,null,null,null,null,null,null,null,null,null,null,null,null,null,{"$f":"+RESUMEN!J105","v":0.71115169552669555},"LECTURA, ESCRITURA Y ORALIDAD - LEO","Mantener el fortalecimiento de la Bibloteca Pública Municipal Gabriel Turbay.",{"$f":"'[1]LÍNEA 4'!P122","v":"2.2.1.32.1"},"Número de Bibliotecas Públicas Municipales fortalecidas.",1,{"$f":"'[1]LÍNEA 4'!S122","v":1},{"$f":"'[1]LÍNEA 4'!T122","v":1},0.25,{"$f":"'[1]LÍNEA 4'!U122","v":1},0.25,{"$f":"'[1]LÍNEA 4'!V122","v":1},0.25,{"$f":"'[1]LÍNEA 4'!W122","v":1},0.25,{"$f":"'[12]2016'!K19","v":1},{"$f":"'[12]2017'!K19","v":1},{"$f":"'[12]2018'!K19","v":1},{"$f":"'[12]2019'!K19","v":0},1,1,1,1,1,1,0,0,0.75,0.75,0.75,{"$f":"'[12]2016'!P19","v":1879701},{"$f":"'[12]2016'!Q19","v":795451},{"$f":"'[12]2016'!R19","v":0},0.42317953759667098," -",{"$f":"'[12]2017'!P19","v":3239203},{"$f":"'[12]2017'!Q19","v":3045524},{"$f":"'[12]2017'!R19","v":0},0.9402078227267634," -",{"$f":"'[12]2018'!P19","v":6227191},{"$f":"'[12]2018'!Q19","v":1708989},{"$f":"'[12]2018'!R19","v":0},0.27443979155288478," -",{"$f":"'[12]2019'!P19","v":640000},{"$f":"'[12]2019'!Q19","v":0},{"$f":"'[12]2019'!R19","v":0},0," -",11986095,5549964,0,0.46303354011460779," -","4. Educación de calidad ","Cultura",{"$f":"'[1]LÍNEA 4'!AQ122","v":"IMCT"}]
[null,null,null,null,null,null,null,null,null,null,null,null,null,null,null,null,null,null,null,null,null,null,null,null,null,null,null,null,null,null,null,null,null,null,null,null,null,null,null,null,null,null,"Mantener en funcionamiento las 2 puntos de lectura y las 2 bibliotecas satélites.",{"$f":"'[1]LÍNEA 4'!P123","v":"2.2.1.32.2"},"Número de puntos de lectura y bibliotecas satélites mantenidas en funcionamiento.",4,{"$f":"'[1]LÍNEA 4'!S123","v":4},{"$f":"'[1]LÍNEA 4'!T123","v":4},0.25,{"$f":"'[1]LÍNEA 4'!U123","v":4},0.25,{"$f":"'[1]LÍNEA 4'!V123","v":4},0.25,{"$f":"'[1]LÍNEA 4'!W123","v":4},0.25,{"$f":"'[12]2016'!K20","v":2},{"$f":"'[12]2017'!K20","v":5},{"$f":"'[12]2018'!K20","v":4},{"$f":"'[12]2019'!K20","v":0},0.5,0.5,1.25,1,1,1,0,0,0.6875,0.6875,0.6875,{"$f":"'[12]2016'!P20","v":28000},{"$f":"'[12]2016'!Q20","v":0},{"$f":"'[12]2016'!R20","v":0},0," -",{"$f":"'[12]2017'!P20","v":78000},{"$f":"'[12]2017'!Q20","v":40000},{"$f":"'[12]2017'!R20","v":0},0.51282051282051277," -",{"$f":"'[12]2018'!P20","v":106176},{"$f":"'[12]2018'!Q20","v":105000},{"$f":"'[12]2018'!R20","v":0},0.98892405063291144," -",{"$f":"'[12]2019'!P20","v":100000},{"$f":"'[12]2019'!Q20","v":0},{"$f":"'[12]2019'!R20","v":0},0," -",312176,145000,0,0.4644815744964379," -","4. Educación de calidad ","Cultura",{"$f":"'[1]LÍNEA 4'!AQ123","v":"IMCT"}]
[null,null,null,null,null,null,null,null,null,null,null,null,null,null,null,null,null,null,null,null,null,null,null,null,null,null,null,null,null,null,null,null,null,null,null,null,null,null,null,null,null,null,"Poner en funcionamiento 8 nuevos puntos de lectura y 3 nuevas bibliotecas satélites.",{"$f":"'[1]LÍNEA 4'!P124","v":"2.2.1.32.3"},"Número de nuevos puntos de lectura y/o nuevas bibliotecas satélites puestas en funcionamiento.",0,{"$f":"'[1]LÍNEA 4'!S124","v":11},{"$f":"'[1]LÍNEA 4'!T124","v":2},0.18181818181818182,{"$f":"'[1]LÍNEA 4'!U124","v":4},0.36363636363636365,{"$f":"'[1]LÍNEA 4'!V124","v":3},0.27272727272727271,{"$f":"'[1]LÍNEA 4'!W124","v":2},0.18181818181818182,{"$f":"'[12]2016'!K21","v":2},{"$f":"'[12]2017'!K21","v":3},{"$f":"'[12]2018'!K21","v":3},{"$f":"'[12]2019'!K21","v":0},1,1,0.75,0.75,1,1,0,0,{"$f":"+SUM(BD124:BG124)/AU124","v":0.72727272727272729},0.72727272727272729,0.72727272727272729,{"$f":"'[12]2016'!P21","v":115081},{"$f":"'[12]2016'!Q21","v":3000},{"$f":"'[12]2016'!R21","v":0},2.6068595163406642E-2," -",{"$f":"'[12]2017'!P21","v":162581},{"$f":"'[12]2017'!Q21","v":93335},{"$f":"'[12]2017'!R21","v":0},0.57408307243773871," -",{"$f":"'[12]2018'!P21","v":212501},{"$f":"'[12]2018'!Q21","v":102500},{"$f":"'[12]2018'!R21","v":0},0.48235067129095865," -",{"$f":"'[12]2019'!P21","v":300000},{"$f":"'[12]2019'!Q21","v":0},{"$f":"'[12]2019'!R21","v":0},0," -",790163,198835,0,0.25163795318181187," -","4. Educación de calidad ","Cultura",{"$f":"'[1]LÍNEA 4'!AQ124","v":"IMCT"}]
[null,null,null,null,null,null,null,null,null,null,null,null,null,null,null,null,null,null,null,null,null,null,null,null,null,null,null,null,null,null,null,null,null,null,null,null,null,null,null,null,null,null,"Mantener 1 estrategia de biblioteca móvil para niñas y niños.",{"$f":"'[1]LÍNEA 4'!P125","v":"2.2.1.32.4"},"Número de estrategias de biblioteca móvil para niñas y niños mantenidas",1,{"$f":"'[1]LÍNEA 4'!S125","v":1},{"$f":"'[1]LÍNEA 4'!T125","v":1},0.25,{"$f":"'[1]LÍNEA 4'!U125","v":1},0.25,{"$f":"'[1]LÍNEA 4'!V125","v":1},0.25,{"$f":"'[1]LÍNEA 4'!W125","v":1},0.25,{"$f":"'[12]2016'!K22","v":1},{"$f":"'[12]2017'!K22","v":1},{"$f":"'[12]2018'!K22","v":1},{"$f":"'[12]2019'!K22","v":0},1,1,1,1,1,1,0,0,0.75,0.75,0.75,{"$f":"'[12]2016'!P22","v":0},{"$f":"'[12]2016'!Q22","v":0},{"$f":"'[12]2016'!R22","v":0}," -"," -",{"$f":"'[12]2017'!P22","v":30000},{"$f":"'[12]2017'!Q22","v":17400},{"$f":"'[12]2017'!R22","v":0},0.57999999999999996," -",{"$f":"'[12]2018'!P22","v":25000},{"$f":"'[12]2018'!Q22","v":22500},{"$f":"'[12]2018'!R22","v":0},0.9," -",{"$f":"'[12]2019'!P22","v":120000},{"$f":"'[12]2019'!Q22","v":0},{"$f":"'[12]2019'!R22","v":0},0," -",175000,39900,0,0.22800000000000001," -","4. Educación de calidad ","Cultura",{"$f":"'[1]LÍNEA 4'!AQ125","v":"IMCT"}]
[null,null,null,null,null,null,null,null,null,null,null,null,null,null,null,null,null,null,null,null,null,null,null,null,null,null,null,null,null,null,null,null,null,null,null,null,null,null,null,null,null,null,"Adecuar 4 bibliotecas escolares para convertirlas en doble puerta.",{"$f":"'[1]LÍNEA 4'!P126","v":"2.2.1.32.5"},"Número de bibliotecas escolares adecuadas para convertirlas en doble puerta.",0,{"$f":"'[1]LÍNEA 4'!S126","v":4},{"$f":"'[1]LÍNEA 4'!T126","v":1},0.25,{"$f":"'[1]LÍNEA 4'!U126","v":1},0.25,{"$f":"'[1]LÍNEA 4'!V126","v":1},0.25,{"$f":"'[1]LÍNEA 4'!W126","v":1},0.25,{"$f":"'[12]2016'!K23","v":1},{"$f":"'[12]2017'!K23","v":1},{"$f":"'[12]2018'!K23","v":1},{"$f":"'[12]2019'!K23","v":0},1,1,1,1,1,1,0,0,{"$f":"+SUM(BD126:BG126)/AU126","v":0.75},0.75,0.75,{"$f":"'[12]2016'!P23","v":0},{"$f":"'[12]2016'!Q23","v":0},{"$f":"'[12]2016'!R23","v":0}," -"," -",{"$f":"'[12]2017'!P23","v":20000},{"$f":"'[12]2017'!Q23","v":20000},{"$f":"'[12]2017'!R23","v":0},1," -",{"$f":"'[12]2018'!P23","v":25000},{"$f":"'[12]2018'!Q23","v":22500},{"$f":"'[12]2018'!R23","v":0},0.9," -",{"$f":"'[12]2019'!P23","v":400000},{"$f":"'[12]2019'!Q23","v":0},{"$f":"'[12]2019'!R23","v":0},0," -",445000,42500,0,9.5505617977528087E-2," -","4. Educación de calidad ","Cultura",{"$f":"'[1]LÍNEA 4'!AQ126","v":"IMCT"}]
[null,null,null,null,null,null,null,null,null,null,null,null,null,null,null,null,null,null,null,null,null,null,null,null,null,null,null,null,null,null,null,null,null,null,null,null,null,null,null,null,null,null,"Mantener el Plan de lectura, escritura y oralidad.",{"$f":"'[1]LÍNEA 4'!P127","v":"2.2.1.32.6"},"Número de Planes de lectura, escritura y oralidad mantenidos.",1,{"$f":"'[1]LÍNEA 4'!S127","v":1},{"$f":"'[1]LÍNEA 4'!T127","v":1},0.25,{"$f":"'[1]LÍNEA 4'!U127","v":1},0.25,{"$f":"'[1]LÍNEA 4'!V127","v":1},0.25,{"$f":"'[1]LÍNEA 4'!W127","v":1},0.25,{"$f":"'[12]2016'!K24","v":1},{"$f":"'[12]2017'!K24","v":1},{"$f":"'[12]2018'!K24","v":1},{"$f":"'[12]2019'!K24","v":0},1,1,1,1,1,1,0,0,0.75,0.75,0.75,{"$f":"'[12]2016'!P24","v":159000},{"$f":"'[12]2016'!Q24","v":59000},{"$f":"'[12]2016'!R24","v":0},0.37106918238993708," -",{"$f":"'[12]2017'!P24","v":50000},{"$f":"'[12]2017'!Q24","v":36000},{"$f":"'[12]2017'!R24","v":0},0.72," -",{"$f":"'[12]2018'!P24","v":216750},{"$f":"'[12]2018'!Q24","v":216750},{"$f":"'[12]2018'!R24","v":0},1," -",{"$f":"'[12]2019'!P24","v":420000},{"$f":"'[12]2019'!Q24","v":0},{"$f":"'[12]2019'!R24","v":0},0," -",845750,311750,0,0.36860774460537982," -","4. Educación de calidad ","Cultura",{"$f":"'[1]LÍNEA 4'!AQ127","v":"IMCT"}]
[null,null,null,null,null,null,null,null,null,null,null,null,null,null,null,null,null,null,null,null,null,null,null,null,null,null,null,null,null,null,null,null,null,null,null,null,null,null,null,null,null,null,"Realizar 840 talleres con niñas, niños y adolescentes con el fin de fomentar la lectura a través de actividades artísticas y culturales complementarias.",{"$f":"'[1]LÍNEA 4'!P128","v":"2.2.1.32.7"},"Número de talleres realizados con niñas, niños y adolescenes con el fin de fomentar la lectura a través de actividades artísticas y culturales complementarias.",680,{"$f":"'[1]LÍNEA 4'!S128","v":840},{"$f":"'[1]LÍNEA 4'!T128","v":250},0.29761904761904762,{"$f":"'[1]LÍNEA 4'!U128","v":240},{"$f":"+AX128/AU128","v":0.2857142857142857},{"$f":"'[1]LÍNEA 4'!V128","v":110},{"$f":"+AZ128/AU128","v":0.13095238095238096},{"$f":"'[1]LÍNEA 4'!W128","v":240},0.2857142857142857,{"$f":"'[12]2016'!K25","v":296},{"$f":"'[12]2017'!K25","v":240},{"$f":"'[12]2018'!K25","v":110},{"$f":"'[12]2019'!K25","v":0},1.1839999999999999,1,1,1,1,1,0,0,{"$f":"+SUM(BD128:BG128)/AU128","v":0.76904761904761909},0.76904761904761909,0.76904761904761909,{"$f":"'[12]2016'!P25","v":141000},{"$f":"'[12]2016'!Q25","v":141000},{"$f":"'[12]2016'!R25","v":0},1," -",{"$f":"'[12]2017'!P25","v":351000},{"$f":"'[12]2017'!Q25","v":163680},{"$f":"'[12]2017'!R25","v":35670},0.4663247863247863,0.21792521994134897,{"$f":"'[12]2018'!P25","v":290500},{"$f":"'[12]2018'!Q25","v":22500},{"$f":"'[12]2018'!R25","v":0},7.7452667814113599E-2," -",{"$f":"'[12]2019'!P25","v":72000},{"$f":"'[12]2019'!Q25","v":0},{"$f":"'[12]2019'!R25","v":0},0," -",854500,327180,35670,0.38289057928613224,0.10902255639097744,"4. Educación de calidad ","Cultura",{"$f":"'[1]LÍNEA 4'!AQ128","v":"IMCT"}]
[null,null,null,null,null,null,null,null,null,null,null,null,null,null,null,null,null,null,null,null,null,null,null,null,null,null,null,null,null,null,null,null,null,null,null,null,null,null,null,null,null,null,"Vincular la Biblioteca Pública Municipal a la red nacional de bibliotecas del Banco de la República.",{"$f":"'[1]LÍNEA 4'!P129","v":"2.2.1.32.8"},"Número de bibliotecas públicas municipales vinculadas a la red nacional de bibliotecas de Banco de la República.",0,{"$f":"'[1]LÍNEA 4'!S129","v":1},{"$f":"'[1]LÍNEA 4'!T129","v":1},0.25,{"$f":"'[1]LÍNEA 4'!U129","v":1},0.25,{"$f":"'[1]LÍNEA 4'!V129","v":1},0.25,{"$f":"'[1]LÍNEA 4'!W129","v":1},0.25,{"$f":"'[12]2016'!K26","v":1},{"$f":"'[12]2017'!K26","v":0},{"$f":"'[12]2018'!K26","v":0},{"$f":"'[12]2019'!K26","v":0},1,1,0,0,0,0,0,0,0.25,0.25,0.25,{"$f":"'[12]2016'!P26","v":0},{"$f":"'[12]2016'!Q26","v":0},{"$f":"'[12]2016'!R26","v":0}," -"," -",{"$f":"'[12]2017'!P26","v":0},{"$f":"'[12]2017'!Q26","v":0},{"$f":"'[12]2017'!R26","v":0}," -"," -",{"$f":"'[12]2018'!P26","v":0},{"$f":"'[12]2018'!Q26","v":0},{"$f":"'[12]2018'!R26","v":0}," -"," -",{"$f":"'[12]2019'!P26","v":0},{"$f":"'[12]2019'!Q26","v":0},{"$f":"'[12]2019'!R26","v":0}," -"," -",0,0,0," -"," -","17. Alianza para lograr los objetivos","Cultura",{"$f":"'[1]LÍNEA 4'!AQ129","v":"IMCT"}]
[null,null,null,null,null,null,null,null,null,null,null,null,null,null,null,null,null,null,null,null,null,null,null,null,null,null,null,null,null,null,null,null,null,null,null,null,null,null,null,null,null,null,"Implementar 5 estrategias de aprendizaje y formación en artes (música, danza, teatro, artes plásticas y literatura).",{"$f":"'[1]LÍNEA 4'!P130","v":"2.2.1.34"},"Numero de estrategias de aprendizaje y formación en artes implementadas (música, danza, teatro, artes plásticas y literatura).",5,{"$f":"'[1]LÍNEA 4'!S130","v":5},{"$f":"'[1]LÍNEA 4'!T130","v":1},0.2,{"$f":"'[1]LÍNEA 4'!U130","v":2},{"$f":"+AX130/AU130","v":0.4},{"$f":"'[1]LÍNEA 4'!V130","v":1},{"$f":"+AZ130/AU130","v":0.2},{"$f":"'[1]LÍNEA 4'!W130","v":1},0.2,{"$f":"'[12]2016'!K27","v":1},{"$f":"'[12]2017'!K27","v":2},{"$f":"'[12]2018'!K27","v":0},{"$f":"'[12]2019'!K27","v":0},1,1,1,1,0,0,0,0,{"$f":"+SUM(BD130:BG130)/AU130","v":0.6},0.6,0.6,{"$f":"'[12]2016'!P27","v":0},{"$f":"'[12]2016'!Q27","v":0},{"$f":"'[12]2016'!R27","v":0}," -"," -",{"$f":"'[12]2017'!P27","v":71431},{"$f":"'[12]2017'!Q27","v":70720},{"$f":"'[12]2017'!R27","v":0},0.99004633842449352," -",{"$f":"'[12]2018'!P27","v":0},{"$f":"'[12]2018'!Q27","v":0},{"$f":"'[12]2018'!R27","v":0}," -"," -",{"$f":"'[12]2019'!P27","v":0},{"$f":"'[12]2019'!Q27","v":0},{"$f":"'[12]2019'!R27","v":0}," -"," -",71431,70720,0,0.99004633842449352," -","4. Educación de calidad ","Cultura",{"$f":"'[1]LÍNEA 4'!AQ130","v":"IMCT"}]
[null,null,null,null,null,null,null,null,null,null,null,null,null,null,null,null,null,null,null,null,null,null,null,null,null,null,null,null,null,null,null,null,null,null,null,null,null,null,null,null,null,null,"Garantizar la participacion del sector cultural en el acceso a bienes patrimoniales y de interés publico del municipio.",{"$f":"'[1]LÍNEA 4'!P131","v":"2.2.1.32.9"},"Número de participaciones del sector cultural garantizadas en el acceso a bienes patrimoniales y de interés publico del municipio.",0,{"$f":"'[1]LÍNEA 4'!S131","v":1},{"$f":"'[1]LÍNEA 4'!T131","v":1},0.25,{"$f":"'[1]LÍNEA 4'!U131","v":1},0.25,{"$f":"'[1]LÍNEA 4'!V131","v":1},0.25,{"$f":"'[1]LÍNEA 4'!W131","v":1},0.25,{"$f":"'[12]2016'!K28","v":1},{"$f":"'[12]2017'!K28","v":1},{"$f":"'[12]2018'!K28","v":1},{"$f":"'[12]2019'!K28","v":0},1,1,1,1,1,1,0,0,0.75,0.75,0.75,{"$f":"'[12]2016'!P28","v":5000},{"$f":"'[12]2016'!Q28","v":0},{"$f":"'[12]2016'!R28","v":0},0," -",{"$f":"'[12]2017'!P28","v":5000},{"$f":"'[12]2017'!Q28","v":2400},{"$f":"'[12]2017'!R28","v":0},0.48," -",{"$f":"'[12]2018'!P28","v":98000},{"$f":"'[12]2018'!Q28","v":86000},{"$f":"'[12]2018'!R28","v":0},0.87755102040816324," -",{"$f":"'[12]2019'!P28","v":0},{"$f":"'[12]2019'!Q28","v":0},{"$f":"'[12]2019'!R28","v":0}," -"," -",108000,88400,0,0.81851851851851853," -","17. Alianza para lograr los objetivos","Cultura",{"$f":"'[1]LÍNEA 4'!AQ131","v":"IMCT"}]
[null,null,null,null,null,null,null,null,null,null,null,null,null,null,null,null,null,null,null,null,null,null,null,null,null,null,null,null,null,null,null,null,null,null,null,null,null,null,null,null,null,null,"Implementar y mantener 1 estrategia para descentralizar la escuela municipal de artes satélites en las diferentes comunas y corregimientos.",{"$f":"'[1]LÍNEA 4'!P132","v":"2.2.1.34"},"Número de estrategias para descentralizar la escuela municipal de artes satélites en las diferentes comunas y corregimientos implementadas y mantenidas.",0,{"$f":"'[1]LÍNEA 4'!S132","v":1},{"$f":"'[1]LÍNEA 4'!T132","v":1},0.25,{"$f":"'[1]LÍNEA 4'!U132","v":1},0.25,{"$f":"'[1]LÍNEA 4'!V132","v":1},0.25,{"$f":"'[1]LÍNEA 4'!W132","v":1},0.25,{"$f":"'[12]2016'!K29","v":1},{"$f":"'[12]2017'!K29","v":1},{"$f":"'[12]2018'!K29","v":1},{"$f":"'[12]2019'!K29","v":0},1,1,1,1,1,1,0,0,0.75,0.75,0.75,{"$f":"'[12]2016'!P29","v":0},{"$f":"'[12]2016'!Q29","v":0},{"$f":"'[12]2016'!R29","v":0}," -"," -",{"$f":"'[12]2017'!P29","v":200000},{"$f":"'[12]2017'!Q29","v":199558},{"$f":"'[12]2017'!R29","v":0},0.99778999999999995," -",{"$f":"'[12]2018'!P29","v":237000},{"$f":"'[12]2018'!Q29","v":17000},{"$f":"'[12]2018'!R29","v":0},7.1729957805907171E-2," -",{"$f":"'[12]2019'!P29","v":0},{"$f":"'[12]2019'!Q29","v":0},{"$f":"'[12]2019'!R29","v":0}," -"," -",437000,216558,0,0.49555606407322655," -","17. Alianza para lograr los objetivos","Cultura",{"$f":"'[1]LÍNEA 4'!AQ132","v":"IMCT"}]
[null,null,null,null,null,null,null,null,null,null,null,null,null,null,null,null,null,null,null,null,null,null,null,null,null,null,null,null,null,null,null,null,null,null,null,null,null,null,null,null,null,null,"Adoptar 1 Políticas Nacional de Desarrollo de Competencias Comunicativas para el mejoramiento de los niveles de lectura y escritura (leer es mi cuento).",{"$f":"'[1]LÍNEA 4'!P133","v":"2.2.1.32.10"},"Número de políticas nacionales de desarrollo de competencias comunicativas, adoptadas para el mejoramiento de los niveles de lectura y escritura (leer es mi cuento).",0,{"$f":"'[1]LÍNEA 4'!S133","v":1},{"$f":"'[1]LÍNEA 4'!T133","v":1},1,{"$f":"'[1]LÍNEA 4'!U133","v":0},{"$f":"+AX133/AU133","v":0},{"$f":"'[1]LÍNEA 4'!V133","v":0},{"$f":"+AZ133/AU133","v":0},{"$f":"'[1]LÍNEA 4'!W133","v":0},0,{"$f":"'[12]2016'!K30","v":1},{"$f":"'[12]2017'!K30","v":1},{"$f":"'[12]2018'!K30","v":0},{"$f":"'[12]2019'!K30","v":0},1,1," -"," -"," -"," -"," -"," -",{"$f":"+SUM(BD133:BG133)/AU133","v":2},1,1,{"$f":"'[12]2016'!P30","v":0},{"$f":"'[12]2016'!Q30","v":0},{"$f":"'[12]2016'!R30","v":0}," -"," -",{"$f":"'[12]2017'!P30","v":0},{"$f":"'[12]2017'!Q30","v":0},{"$f":"'[12]2017'!R30","v":0}," -"," -",{"$f":"'[12]2018'!P30","v":0},{"$f":"'[12]2018'!Q30","v":0},{"$f":"'[12]2018'!R30","v":0}," -"," -",{"$f":"'[12]2019'!P30","v":0},{"$f":"'[12]2019'!Q30","v":0},{"$f":"'[12]2019'!R30","v":0}," -"," -",0,0,0," -"," -","4. Educación de calidad ","Cultura",{"$f":"'[1]LÍNEA 4'!AQ133","v":"IMCT"}]
[null,null,null,null,null,null,null,null,null,null,null,null,null,null,null,null,null,null,null,null,null,null,null,null,null,null,null,null,null,null,null,null,null,null,null,null,null,null,null,null,{"$f":"+RESUMEN!J106","v":0.8214285714285714},"PROCESOS DE FORMACIÓN EN ARTE","Mantener en funcionamiento la Escuela Municipal de Artes (EMA).",{"$f":"'[1]LÍNEA 4'!P134","v":"2.2.1.34.2"},"Número de Escuelas Municipales de Artes (EMA) mantenidas en funcionamiento.",1,{"$f":"'[1]LÍNEA 4'!S134","v":1},{"$f":"'[1]LÍNEA 4'!T134","v":1},0.25,{"$f":"'[1]LÍNEA 4'!U134","v":1},0.25,{"$f":"'[1]LÍNEA 4'!V134","v":1},0.25,{"$f":"'[1]LÍNEA 4'!W134","v":1},0.25,{"$f":"'[12]2016'!K31","v":1},{"$f":"'[12]2017'!K31","v":1},{"$f":"'[12]2018'!K31","v":1},{"$f":"'[12]2019'!K31","v":0},1,1,1,1,1,1,0,0,0.75,0.75,0.75,{"$f":"'[12]2016'!P31","v":279000},{"$f":"'[12]2016'!Q31","v":206001},{"$f":"'[12]2016'!R31","v":0},0.73835483870967744," -",{"$f":"'[12]2017'!P31","v":380566},{"$f":"'[12]2017'!Q31","v":359700},{"$f":"'[12]2017'!R31","v":0},0.94517113982857115," -",{"$f":"'[12]2018'!P31","v":753304},{"$f":"'[12]2018'!Q31","v":696624},{"$f":"'[12]2018'!R31","v":0},0.92475813217505809," -",{"$f":"'[12]2019'!P31","v":2045000},{"$f":"'[12]2019'!Q31","v":0},{"$f":"'[12]2019'!R31","v":0},0," -",3457870,1262325,0,0.36505854760300416," -","4. Educación de calidad ","Cultura",{"$f":"'[1]LÍNEA 4'!AQ134","v":"IMCT"}]
[null,null,null,null,null,null,null,null,null,null,null,null,null,null,null,null,null,null,null,null,null,null,null,null,null,null,null,null,null,null,null,null,null,null,null,null,null,null,null,null,null,null,"Implementar y mantener el sistema municipal de formación en artes.",{"$f":"'[1]LÍNEA 4'!P135","v":"2.2.1.34.3"},"Número de sistemas municipales de formación en artes implementadas y mantenidas.",0,{"$f":"'[1]LÍNEA 4'!S135","v":1},{"$f":"'[1]LÍNEA 4'!T135","v":1},0.25,{"$f":"'[1]LÍNEA 4'!U135","v":1},0.25,{"$f":"'[1]LÍNEA 4'!V135","v":1},0.25,{"$f":"'[1]LÍNEA 4'!W135","v":1},0.25,{"$f":"'[12]2016'!K32","v":1},{"$f":"'[12]2017'!K32","v":1},{"$f":"'[12]2018'!K32","v":1},{"$f":"'[12]2019'!K32","v":0},1,1,1,1,1,1,0,0,{"$f":"+AVERAGE(BD135:BG135)/AU135","v":0.75},0.75,0.75,{"$f":"'[12]2016'!P32","v":13000},{"$f":"'[12]2016'!Q32","v":12926},{"$f":"'[12]2016'!R32","v":0},0.99430769230769234," -",{"$f":"'[12]2017'!P32","v":20200},{"$f":"'[12]2017'!Q32","v":17300},{"$f":"'[12]2017'!R32","v":0},0.85643564356435642," -",{"$f":"'[12]2018'!P32","v":261719},{"$f":"'[12]2018'!Q32","v":193400},{"$f":"'[12]2018'!R32","v":0},0.73896048815714566," -",{"$f":"'[12]2019'!P32","v":100000},{"$f":"'[12]2019'!Q32","v":0},{"$f":"'[12]2019'!R32","v":0},0," -",394919,223626,0,0.56625789085863176," -","4. Educación de calidad ","Cultura",{"$f":"'[1]LÍNEA 4'!AQ135","v":"IMCT"}]
[null,null,null,null,null,null,null,null,null,null,null,null,null,null,null,null,null,null,null,null,null,null,null,null,null,null,null,null,null,null,null,null,null,null,null,null,null,null,null,null,null,null,"Implementar y mantener 1 estrategia de aprendizaje y formación en artes.",{"$f":"'[1]LÍNEA 4'!P136","v":"2.2.1.34.4"},"Número de estrategias de aprendizaje y formación en artes implementadas y mantenidas.",0,{"$f":"'[1]LÍNEA 4'!S136","v":1},{"$f":"'[1]LÍNEA 4'!T136","v":1},0.25,{"$f":"'[1]LÍNEA 4'!U136","v":1},0.25,{"$f":"'[1]LÍNEA 4'!V136","v":1},0.25,{"$f":"'[1]LÍNEA 4'!W136","v":1},0.25,{"$f":"'[12]2016'!K33","v":1},{"$f":"'[12]2017'!K33","v":1},{"$f":"'[12]2018'!K33","v":1},{"$f":"'[12]2019'!K33","v":0},1,1,1,1,1,1,0,0,0.75,0.75,0.75,{"$f":"'[12]2016'!P33","v":87000},{"$f":"'[12]2016'!Q33","v":51280},{"$f":"'[12]2016'!R33","v":0},0.58942528735632183," -",{"$f":"'[12]2017'!P33","v":108471},{"$f":"'[12]2017'!Q33","v":104667},{"$f":"'[12]2017'!R33","v":0},0.96493071880963577," -",{"$f":"'[12]2018'!P33","v":213548},{"$f":"'[12]2018'!Q33","v":47100},{"$f":"'[12]2018'!R33","v":0},0.2205593121921067," -",{"$f":"'[12]2019'!P33","v":600000},{"$f":"'[12]2019'!Q33","v":0},{"$f":"'[12]2019'!R33","v":0},0," -",1009019,203047,0,0.20123208780013063," -","4. Educación de calidad ","Cultura",{"$f":"'[1]LÍNEA 4'!AQ136","v":"IMCT"}]
[null,null,null,null,null,null,null,null,null,null,null,null,null,null,null,null,null,null,null,null,null,null,null,null,null,null,null,null,null,null,null,null,null,null,null,null,null,null,null,null,null,null,"Implementar 1 estrategia de formación de públicos.",{"$f":"'[1]LÍNEA 4'!P137","v":"2.2.1.34.5"},"Número de estrategias de formación de públicos implementadas.",0,{"$f":"'[1]LÍNEA 4'!S137","v":1},{"$f":"'[1]LÍNEA 4'!T137","v":1},0.25,{"$f":"'[1]LÍNEA 4'!U137","v":1},0.25,{"$f":"'[1]LÍNEA 4'!V137","v":1},0.25,{"$f":"'[1]LÍNEA 4'!W137","v":1},0.25,{"$f":"'[12]2016'!K34","v":1},{"$f":"'[12]2017'!K34","v":1},{"$f":"'[12]2018'!K34","v":1},{"$f":"'[12]2019'!K34","v":0},1,1,1,1,1,1,0,0,{"$f":"+SUM(BD137:BG137)/AU137","v":3},1,1,{"$f":"'[12]2016'!P34","v":69000},{"$f":"'[12]2016'!Q34","v":65673},{"$f":"'[12]2016'!R34","v":0},0.95178260869565212," -",{"$f":"'[12]2017'!P34","v":81401},{"$f":"'[12]2017'!Q34","v":81401},{"$f":"'[12]2017'!R34","v":0},1," -",{"$f":"'[12]2018'!P34","v":428780},{"$f":"'[12]2018'!Q34","v":58780},{"$f":"'[12]2018'!R34","v":0},0.13708661784598161," -",{"$f":"'[12]2019'!P34","v":0},{"$f":"'[12]2019'!Q34","v":0},{"$f":"'[12]2019'!R34","v":0}," -"," -",579181,205854,0,0.35542257083709583," -","17. Alianza para lograr los objetivos","Cultura",{"$f":"'[1]LÍNEA 4'!AQ137","v":"IMCT"}]
[null,null,null,null,null,null,null,null,null,null,null,null,null,null,null,null,null,null,null,null,null,null,null,null,null,null,null,null,null,null,null,null,null,null,null,null,null,null,null,null,null,null,"Implementar 1 estrategia para descentralizar la escuela municipal de artes satélites en las diferentes comunas y corregimientos.",{"$f":"'[1]LÍNEA 4'!P138","v":"2.2.1.34.6"},"Número de estrategias implementadas para descentralizar la escuela municipal de artes satélites en las diferentes comunas y corregimientos implementadas.",0,{"$f":"'[1]LÍNEA 4'!S138","v":1},{"$f":"'[1]LÍNEA 4'!T138","v":0},0,{"$f":"'[1]LÍNEA 4'!U138","v":1},{"$f":"+AX138/AU138","v":1},{"$f":"'[1]LÍNEA 4'!V138","v":0},{"$f":"+AZ138/AU138","v":0},{"$f":"'[1]LÍNEA 4'!W138","v":0},0,{"$f":"'[12]2016'!K35","v":1},{"$f":"'[12]2017'!K35","v":1},{"$f":"'[12]2018'!K35","v":1},{"$f":"'[12]2019'!K35","v":0}," -"," -",1,1," -"," -"," -"," -",3,1,1,{"$f":"'[12]2016'!P35","v":0},{"$f":"'[12]2016'!Q35","v":0},{"$f":"'[12]2016'!R35","v":0}," -"," -",{"$f":"'[12]2017'!P35","v":49000},{"$f":"'[12]2017'!Q35","v":42180},{"$f":"'[12]2017'!R35","v":0},0.86081632653061224," -",{"$f":"'[12]2018'!P35","v":607670},{"$f":"'[12]2018'!Q35","v":323550},{"$f":"'[12]2018'!R35","v":0},0.53244359603074032," -",{"$f":"'[12]2019'!P35","v":0},{"$f":"'[12]2019'!Q35","v":0},{"$f":"'[12]2019'!R35","v":0}," -"," -",656670,365730,0,0.55694641143953583," -","17. Alianza para lograr los objetivos","Cultura",{"$f":"'[1]LÍNEA 4'!AQ138","v":"IMCT"}]
[null,null,null,null,null,null,null,null,null,null,null,null,null,null,null,null,null,null,null,null,null,null,null,null,null,null,null,null,null,null,null,null,null,null,null,null,null,null,null,null,null,null,"Implementar y mantener 1 estrategia de formación, creación y difusión de la filarmónica del municipio.",{"$f":"'[1]LÍNEA 4'!P139","v":"2.2.1.34.7"},"Número de estrategias de formación, creación y difusión de la filarmónica del municipio implementadas y mantenidas.",0,{"$f":"'[1]LÍNEA 4'!S139","v":1},{"$f":"'[1]LÍNEA 4'!T139","v":1},0.25,{"$f":"'[1]LÍNEA 4'!U139","v":1},0.25,{"$f":"'[1]LÍNEA 4'!V139","v":1},0.25,{"$f":"'[1]LÍNEA 4'!W139","v":1},0.25,{"$f":"'[12]2016'!K36","v":1},{"$f":"'[12]2017'!K36","v":1},{"$f":"'[12]2018'!K36","v":1},{"$f":"'[12]2019'!K36","v":0},1,1,1,1,1,1,0,0,{"$f":"+AVERAGE(BD139:BG139)/AU139","v":0.75},0.75,0.75,{"$f":"'[12]2016'!P36","v":43000},{"$f":"'[12]2016'!Q36","v":37280},{"$f":"'[12]2016'!R36","v":0},0.86697674418604653," -",{"$f":"'[12]2017'!P36","v":185074},{"$f":"'[12]2017'!Q36","v":184280},{"$f":"'[12]2017'!R36","v":0},0.99570982417843679," -",{"$f":"'[12]2018'!P36","v":223590},{"$f":"'[12]2018'!Q36","v":89000},{"$f":"'[12]2018'!R36","v":0},0.39805000223623599," -",{"$f":"'[12]2019'!P36","v":700000},{"$f":"'[12]2019'!Q36","v":0},{"$f":"'[12]2019'!R36","v":0},0," -",1151664,310560,0,0.26966198474555081," -","4. Educación de calidad ","Cultura",{"$f":"'[1]LÍNEA 4'!AQ139","v":"IMCT"}]
[null,null,null,null,null,null,null,null,null,null,null,null,null,null,null,null,null,null,null,null,null,null,null,null,null,null,null,null,null,null,null,null,null,null,null,null,null,null,null,null,null,null,"Implementar y mantener 1 estrategia  de formación, creación y difusión del “Coro Bucaramanga”.",{"$f":"'[1]LÍNEA 4'!P140","v":"2.2.1.34.8"},"Número de estrategias de formación, creación y difusión del “Coro Bucaramanga” implementadas y mantenidas.",0,{"$f":"'[1]LÍNEA 4'!S140","v":1},{"$f":"'[1]LÍNEA 4'!T140","v":1},0.25,{"$f":"'[1]LÍNEA 4'!U140","v":1},0.25,{"$f":"'[1]LÍNEA 4'!V140","v":1},0.25,{"$f":"'[1]LÍNEA 4'!W140","v":1},0.25,{"$f":"'[12]2016'!K37","v":1},{"$f":"'[12]2017'!K37","v":1},{"$f":"'[12]2018'!K37","v":1},{"$f":"'[12]2019'!K37","v":0},{"$f":"IF(AV140=0,\" -\",BD140/AV140)","v":1},{"$f":"IF(AV140=0,\" -\",IF(BH140>100%,100%,BH140))","v":1},{"$f":"IF(AX140=0,\" -\",BE140/AX140)","v":1},{"$f":"IF(AX140=0,\" -\",IF(BJ140>100%,100%,BJ140))","v":1},{"$f":"IF(AZ140=0,\" -\",BF140/AZ140)","v":1},{"$f":"IF(AZ140=0,\" -\",IF(BL140>100%,100%,BL140))","v":1},{"$f":"IF(BB140=0,\" -\",BG140/BB140)","v":0},{"$f":"IF(BB140=0,\" -\",IF(BN140>100%,100%,BN140))","v":0},{"$f":"+AVERAGE(BD140:BG140)/AU140","v":0.75},{"$f":"+IF(BP140>100%,100%,BP140)","v":0.75},{"$f":"+BQ140","v":0.75},{"$f":"'[12]2016'!P37","v":34000},{"$f":"'[12]2016'!Q37","v":31680},{"$f":"'[12]2016'!R37","v":0},0.93176470588235294," -",{"$f":"'[12]2017'!P37","v":47840},{"$f":"'[12]2017'!Q37","v":47840},{"$f":"'[12]2017'!R37","v":0},1," -",{"$f":"'[12]2018'!P37","v":60200},{"$f":"'[12]2018'!Q37","v":32200},{"$f":"'[12]2018'!R37","v":0},0.53488372093023251," -",{"$f":"'[12]2019'!P37","v":300000},{"$f":"'[12]2019'!Q37","v":0},{"$f":"'[12]2019'!R37","v":0},0," -",442040,111720,0,0.2527373088408289," -","4. Educación de calidad ","Cultura",{"$f":"'[1]LÍNEA 4'!AQ140","v":"IMCT"}]
[null,null,null,null,null,null,null,null,null,null,null,null,null,null,null,null,null,null,null,null,null,null,null,null,null,null,null,null,null,null,null,null,null,null,null,null,null,null,null,null,{"$f":"+RESUMEN!J107","v":0.75},"FOMENTO DE LA PRODUCCIÓN ARTÍSTICA","Realizar 4 convocatorias de estímulos a la creación artística y cultural.",{"$f":"'[1]LÍNEA 4'!P141","v":"2.2.1.33.3"},"Número de convocatorias de estímulos a la creación artística y cultural realizadas.",0,{"$f":"'[1]LÍNEA 4'!S141","v":4},{"$f":"'[1]LÍNEA 4'!T141","v":0},{"$f":"+AV141/AU141","v":0},{"$f":"'[1]LÍNEA 4'!U141","v":2},{"$f":"+AX141/AU141","v":0.5},{"$f":"'[1]LÍNEA 4'!V141","v":1},{"$f":"+AZ141/AU141","v":0.25},{"$f":"'[1]LÍNEA 4'!W141","v":1},{"$f":"+BB141/AU141","v":0.25},{"$f":"'[12]2016'!K38","v":0},{"$f":"'[12]2017'!K38","v":1},{"$f":"'[12]2018'!K38","v":1},{"$f":"'[12]2019'!K38","v":0}," -"," -",0.5,0.5,1,1,0,0,{"$f":"+SUM(BD141:BG141)/AU141","v":0.5},0.5,0.5,{"$f":"'[12]2016'!P38","v":0},{"$f":"'[12]2016'!Q38","v":0},{"$f":"'[12]2016'!R38","v":0},{"$f":"IF(BS141=0,\" -\",BT141/BS141)","v":" -"},{"$f":"IF(BU141=0,\" -\",IF(BT141=0,100%,BU141/BT141))","v":" -"},{"$f":"'[12]2017'!P38","v":511744},{"$f":"'[12]2017'!Q38","v":261885},{"$f":"'[12]2017'!R38","v":0},{"$f":"IF(BX141=0,\" -\",BY141/BX141)","v":0.51175001563281641},{"$f":"IF(BZ141=0,\" -\",IF(BY141=0,100%,BZ141/BY141))","v":" -"},{"$f":"'[12]2018'!P38","v":400000},{"$f":"'[12]2018'!Q38","v":400000},{"$f":"'[12]2018'!R38","v":0},{"$f":"IF(CC141=0,\" -\",CD141/CC141)","v":1},{"$f":"IF(CE141=0,\" -\",IF(CD141=0,100%,CE141/CD141))","v":" -"},{"$f":"'[12]2019'!P38","v":815000},{"$f":"'[12]2019'!Q38","v":0},{"$f":"'[12]2019'!R38","v":0},{"$f":"IF(CH141=0,\" -\",CI141/CH141)","v":0},{"$f":"IF(CJ141=0,\" -\",IF(CI141=0,100%,CJ141/CI141))","v":" -"},{"$f":"+BS141+BX141+CC141+CH141","v":1726744},{"$f":"+BT141+BY141+CD141+CI141","v":661885},{"$f":"+BU141+BZ141+CE141+CJ141","v":0},{"$f":"IF(CM141=0,\" -\",CN141/CM141)","v":0.38331391335368764},{"$f":"IF(CO141=0,\" -\",IF(CN141=0,100%,CO141/CN141))","v":" -"},"4. Educación de calidad ","Cultura",{"$f":"'[1]LÍNEA 4'!AQ141","v":"IMCT"}]
[null,null,null,null,null,null,null,null,null,null,null,null,null,null,null,null,null,null,null,null,null,null,null,null,null,null,null,null,null,null,null,null,null,null,null,null,null,null,null,null,null,null,"Realizar 4 convocatorias de estímulos a la creación artística y cultural para primera infancia, infancia y adolescencia.",{"$f":"'[1]LÍNEA 4'!P142","v":"2.2.1.33.4"},"Número de convocatorias de estímulos a la creación artística y cultural para primera infancia, infancia y adolescencia realizadas.",0,{"$f":"'[1]LÍNEA 4'!S142","v":4},{"$f":"'[1]LÍNEA 4'!T142","v":0},0,{"$f":"'[1]LÍNEA 4'!U142","v":2},{"$f":"+AX142/AU142","v":0.5},{"$f":"'[1]LÍNEA 4'!V142","v":1},{"$f":"+AZ142/AU142","v":0.25},{"$f":"'[1]LÍNEA 4'!W142","v":1},0.25,{"$f":"'[12]2016'!K39","v":0},{"$f":"'[12]2017'!K39","v":1},{"$f":"'[12]2018'!K39","v":1},{"$f":"'[12]2019'!K39","v":0}," -"," -",0.5,0.5,1,1,0,0,0.5,0.5,0.5,{"$f":"'[12]2016'!P39","v":0},{"$f":"'[12]2016'!Q39","v":0},{"$f":"'[12]2016'!R39","v":0}," -"," -",{"$f":"'[12]2017'!P39","v":29700},{"$f":"'[12]2017'!Q39","v":14159},{"$f":"'[12]2017'!R39","v":0},0.47673400673400673," -",{"$f":"'[12]2018'!P39","v":100000},{"$f":"'[12]2018'!Q39","v":40000},{"$f":"'[12]2018'!R39","v":0},0.4," -",{"$f":"'[12]2019'!P39","v":300000},{"$f":"'[12]2019'!Q39","v":0},{"$f":"'[12]2019'!R39","v":0},0," -",429700,54159,0,0.12603909704444963," -","4. Educación de calidad ","Cultura",{"$f":"'[1]LÍNEA 4'!AQ142","v":"IMCT"}]
[null,null,null,null,null,null,null,null,null,null,null,null,null,null,null,null,null,null,null,null,null,null,null,null,null,null,null,null,null,null,null,null,null,null,null,null,null,null,null,null,null,null,"Implementar y mantener 1 sistema municipal de información cultural.",{"$f":"'[1]LÍNEA 4'!P143","v":"2.2.1.33.5"},"Número de sistemas municipales de información cultural implementadas y mantenidas.",0,{"$f":"'[1]LÍNEA 4'!S143","v":1},{"$f":"'[1]LÍNEA 4'!T143","v":1},0.25,{"$f":"'[1]LÍNEA 4'!U143","v":1},0.25,{"$f":"'[1]LÍNEA 4'!V143","v":1},0.25,{"$f":"'[1]LÍNEA 4'!W143","v":1},0.25,{"$f":"'[12]2016'!K40","v":1},{"$f":"'[12]2017'!K40","v":1},{"$f":"'[12]2018'!K40","v":1},{"$f":"'[12]2019'!K40","v":0},1,1,1,1,1,1,0,0,{"$f":"+AVERAGE(BD143:BG143)/AU143","v":0.75},0.75,0.75,{"$f":"'[12]2016'!P40","v":187072},{"$f":"'[12]2016'!Q40","v":51489},{"$f":"'[12]2016'!R40","v":0},0.27523627266507011," -",{"$f":"'[12]2017'!P40","v":252569},{"$f":"'[12]2017'!Q40","v":153374},{"$f":"'[12]2017'!R40","v":0},0.60725583899845192," -",{"$f":"'[12]2018'!P40","v":749195},{"$f":"'[12]2018'!Q40","v":477412},{"$f":"'[12]2018'!R40","v":0},0.63723329707219079," -",{"$f":"'[12]2019'!P40","v":40000},{"$f":"'[12]2019'!Q40","v":0},{"$f":"'[12]2019'!R40","v":0},0," -",1228836,682275,0,0.55522055017919392," -","4. Educación de calidad ","Cultura",{"$f":"'[1]LÍNEA 4'!AQ143","v":"IMCT"}]
[null,null,null,null,null,null,null,null,null,null,null,null,null,null,null,null,null,null,null,null,null,null,null,null,null,null,null,null,null,null,null,null,null,null,null,null,null,null,null,null,null,null,"Mantener el programa institucional de concertación de proyectos artísticos y culturales.",{"$f":"'[1]LÍNEA 4'!P144","v":"2.2.1.33.6"},"Número de programas institucionales de concertación de proyectos artísticos y culturales mantenidos.",1,{"$f":"'[1]LÍNEA 4'!S144","v":1},{"$f":"'[1]LÍNEA 4'!T144","v":1},0.25,{"$f":"'[1]LÍNEA 4'!U144","v":1},0.25,{"$f":"'[1]LÍNEA 4'!V144","v":1},0.25,{"$f":"'[1]LÍNEA 4'!W144","v":1},0.25,{"$f":"'[12]2016'!K41","v":1},{"$f":"'[12]2017'!K41","v":1},{"$f":"'[12]2018'!K41","v":1},{"$f":"'[12]2019'!K41","v":0},1,1,1,1,1,1,0,0,0.75,0.75,0.75,{"$f":"'[12]2016'!P41","v":736084},{"$f":"'[12]2016'!Q41","v":551771},{"$f":"'[12]2016'!R41","v":0},0.7496033061444074," -",{"$f":"'[12]2017'!P41","v":542500},{"$f":"'[12]2017'!Q41","v":542500},{"$f":"'[12]2017'!R41","v":0},1," -",{"$f":"'[12]2018'!P41","v":489819},{"$f":"'[12]2018'!Q41","v":18900},{"$f":"'[12]2018'!R41","v":0},3.8585681649752256E-2," -",{"$f":"'[12]2019'!P41","v":315000},{"$f":"'[12]2019'!Q41","v":0},{"$f":"'[12]2019'!R41","v":0},0," -",2083403,1113171,0,0.53430421286712171," -","17. Alianza para lograr los objetivos","Cultura",{"$f":"'[1]LÍNEA 4'!AQ144","v":"IMCT"}]
[null,null,null,null,null,null,null,null,null,null,null,null,null,null,null,null,null,null,null,null,null,null,null,null,null,null,null,null,null,null,null,null,null,null,null,null,null,null,null,null,null,null,"Concertar, realizar y apoyar 1 programa de sala.",{"$f":"'[1]LÍNEA 4'!P145","v":" -"},"Número de programas de salas concertadas realizadas y apoyadas.",0,{"$f":"'[1]LÍNEA 4'!S145","v":1},{"$f":"'[1]LÍNEA 4'!T145","v":0},0,{"$f":"'[1]LÍNEA 4'!U145","v":1},{"$f":"+AX145/AU145","v":1},{"$f":"'[1]LÍNEA 4'!V145","v":0},{"$f":"+AZ145/AU145","v":0},{"$f":"'[1]LÍNEA 4'!W145","v":0},0,{"$f":"'[12]2016'!K42","v":1},{"$f":"'[12]2017'!K42","v":1},{"$f":"'[12]2018'!K42","v":1},{"$f":"'[12]2019'!K42","v":0}," -"," -",1,1," -"," -"," -"," -",{"$f":"+SUM(BD145:BG145)/AU145","v":3},1,1,{"$f":"'[12]2016'!P42","v":0},{"$f":"'[12]2016'!Q42","v":0},{"$f":"'[12]2016'!R42","v":0}," -"," -",{"$f":"'[12]2017'!P42","v":150000},{"$f":"'[12]2017'!Q42","v":150000},{"$f":"'[12]2017'!R42","v":0},1," -",{"$f":"'[12]2018'!P42","v":200000},{"$f":"'[12]2018'!Q42","v":100000},{"$f":"'[12]2018'!R42","v":0},0.5," -",{"$f":"'[12]2019'!P42","v":0},{"$f":"'[12]2019'!Q42","v":0},{"$f":"'[12]2019'!R42","v":0}," -"," -",350000,250000,0,0.7142857142857143," -","4. Educación de calidad ","Cultura",{"$f":"'[1]LÍNEA 4'!AQ145","v":"IMCT"}]
[null,null,null,null,null,null,null,null,null,null,null,null,null,null,null,null,null,null,null,null,null,null,null,null,null,null,null,null,null,null,null,null,null,null,null,null,null,null,null,null,null,null,"Crear 1 fondo de circulación e itinerancia para los artistas locales.",{"$f":"'[1]LÍNEA 4'!P146","v":" -"},"Numero de fondos de circulación e itinerancia para los artistas locales creados.",0,{"$f":"'[1]LÍNEA 4'!S146","v":1},{"$f":"'[1]LÍNEA 4'!T146","v":0},0,{"$f":"'[1]LÍNEA 4'!U146","v":1},{"$f":"+AX146/AU146","v":1},{"$f":"'[1]LÍNEA 4'!V146","v":0},{"$f":"+AZ146/AU146","v":0},{"$f":"'[1]LÍNEA 4'!W146","v":0},0,{"$f":"'[12]2016'!K43","v":0},{"$f":"'[12]2017'!K43","v":0},{"$f":"'[12]2018'!K43","v":1},{"$f":"'[12]2019'!K43","v":0}," -"," -",0,0," -"," -"," -"," -",1,1,1,{"$f":"'[12]2016'!P43","v":0},{"$f":"'[12]2016'!Q43","v":0},{"$f":"'[12]2016'!R43","v":0}," -"," -",{"$f":"'[12]2017'!P43","v":0},{"$f":"'[12]2017'!Q43","v":0},{"$f":"'[12]2017'!R43","v":0}," -"," -",{"$f":"'[12]2018'!P43","v":100000},{"$f":"'[12]2018'!Q43","v":28830},{"$f":"'[12]2018'!R43","v":0},0.2883," -",{"$f":"'[12]2019'!P43","v":0},{"$f":"'[12]2019'!Q43","v":0},{"$f":"'[12]2019'!R43","v":0}," -"," -",100000,28830,0,0.2883," -","17. Alianza para lograr los objetivos","Cultura",{"$f":"'[1]LÍNEA 4'!AQ146","v":"IMCT"}]
[null,null,null,null,null,null,null,null,null,null,null,null,null,null,null,null,null,null,null,null,null,null,null,null,null,null,null,null,null,null,null,null,null,null,null,null,null,null,null,null,null,null,"Mantener el fortalecimiento de 1 escenarios dedicados al fomento de las manifestaciones culturales.",{"$f":"'[1]LÍNEA 4'!P147","v":"2.2.1.33.9"},"Número de escenarios dedicados al fomento de las manifestaciones culturales mantenidos.",1,{"$f":"'[1]LÍNEA 4'!S147","v":1},{"$f":"'[1]LÍNEA 4'!T147","v":1},0.25,{"$f":"'[1]LÍNEA 4'!U147","v":1},0.25,{"$f":"'[1]LÍNEA 4'!V147","v":1},0.25,{"$f":"'[1]LÍNEA 4'!W147","v":1},0.25,{"$f":"'[12]2016'!K44","v":1},{"$f":"'[12]2017'!K44","v":0},{"$f":"'[12]2018'!K44","v":0},{"$f":"'[12]2019'!K44","v":0},1,1,0,0,0,0,0,0,0.25,0.25,0.25,{"$f":"'[12]2016'!P44","v":68176},{"$f":"'[12]2016'!Q44","v":0},{"$f":"'[12]2016'!R44","v":0},0," -",{"$f":"'[12]2017'!P44","v":819964},{"$f":"'[12]2017'!Q44","v":0},{"$f":"'[12]2017'!R44","v":0},0," -",{"$f":"'[12]2018'!P44","v":942403},{"$f":"'[12]2018'!Q44","v":0},{"$f":"'[12]2018'!R44","v":0},0," -",{"$f":"'[12]2019'!P44","v":322014},{"$f":"'[12]2019'!Q44","v":0},{"$f":"'[12]2019'!R44","v":0},0," -",2152557,0,0,0," -","17. Alianza para lograr los objetivos","Cultura",{"$f":"'[1]LÍNEA 4'!AQ147","v":"IMCT"}]
[null,null,null,null,null,null,null,null,null,null,null,null,null,null,null,null,null,null,null,null,null,null,null,null,null,null,null,null,null,null,null,null,null,null,null,null,null,null,null,null,{"$f":"+RESUMEN!J108","v":1},"LA CULTURA A LA CALLE","Realizar 48  intervenciones en los espacios de encuentro ciudadano desde la apropiación artística y cultural.",{"$f":"'[1]LÍNEA 4'!P148","v":"2.2.1.38.2"},"Número de intervenciones realizadas en  los espacios de encuentro ciudadano desde la apropiación artística y cultural.",0,{"$f":"'[1]LÍNEA 4'!S148","v":48},{"$f":"'[1]LÍNEA 4'!T148","v":12},0.25,{"$f":"'[1]LÍNEA 4'!U148","v":12},{"$f":"+AX148/AU148","v":0.25},{"$f":"'[1]LÍNEA 4'!V148","v":10},{"$f":"+AZ148/AU148","v":0.20833333333333334},{"$f":"'[1]LÍNEA 4'!W148","v":14},0.29166666666666669,{"$f":"'[12]2016'!K45","v":12},{"$f":"'[12]2017'!K45","v":150},{"$f":"'[12]2018'!K45","v":0},{"$f":"'[12]2019'!K45","v":0},1,1,12.5,1,0,0,0,0,{"$f":"+SUM(BD148:BG148)/AU148","v":3.375},1,1,{"$f":"'[12]2016'!P45","v":536400},{"$f":"'[12]2016'!Q45","v":453400},{"$f":"'[12]2016'!R45","v":0},0.84526472781506334," -",{"$f":"'[12]2017'!P45","v":1301693},{"$f":"'[12]2017'!Q45","v":664889},{"$f":"'[12]2017'!R45","v":511235},0.51078787394569991,0.76890277926089923,{"$f":"'[12]2018'!P45","v":793796},{"$f":"'[12]2018'!Q45","v":489905},{"$f":"'[12]2018'!R45","v":0},0.61716738305559615," -",{"$f":"'[12]2019'!P45","v":300000},{"$f":"'[12]2019'!Q45","v":0},{"$f":"'[12]2019'!R45","v":0},0," -",2931889,1608194,511235,0.54851803734725291,0.31789386106402584,"17. Alianza para lograr los objetivos","Cultura",{"$f":"'[1]LÍNEA 4'!AQ148","v":"IMCT"}]
[null,null,null,null,null,null,null,null,null,null,null,null,null,null,null,null,null,null,null,null,null,null,null,null,null,null,null,null,null,null,null,null,null,null,null,null,null,null,null,null,{"$f":"+RESUMEN!J109","v":0.4375},"\"A CUIDAR LO QUE ES VALIOSO\": RECUPERACIÓN Y CONSERVACIÓN DEL PATRIMONIO","Implementar 8 programas de recuperación, mantenimiento, conservación, promoción y difusión del patrimonio mueble, inmueble y cultural del municipio implementados.",{"$f":"'[1]LÍNEA 4'!P149","v":"2,2,1,36,2"},"Número de programas de recuperación, mantenimiento, conservación, promoción y difusión del patrimonio mueble, inmueble y cultural del municipio implementados.",0,{"$f":"'[1]LÍNEA 4'!S149","v":8},{"$f":"'[1]LÍNEA 4'!T149","v":0},0,{"$f":"'[1]LÍNEA 4'!U149","v":3},0.375,{"$f":"'[1]LÍNEA 4'!V149","v":3},0.375,{"$f":"'[1]LÍNEA 4'!W149","v":2},0.25,{"$f":"'[12]2016'!K46","v":0},{"$f":"'[12]2017'!K46","v":2},{"$f":"'[12]2018'!K46","v":0},{"$f":"'[12]2019'!K46","v":0}," -"," -",0.66666666666666663,0.66666666666666663,0,0,0,0,0.25,0.25,0.25,{"$f":"'[12]2016'!P46","v":0},{"$f":"'[12]2016'!Q46","v":0},{"$f":"'[12]2016'!R46","v":0}," -"," -",{"$f":"'[12]2017'!P46","v":142679},{"$f":"'[12]2017'!Q46","v":142679},{"$f":"'[12]2017'!R46","v":0},1," -",{"$f":"'[12]2018'!P46","v":110000},{"$f":"'[12]2018'!Q46","v":0},{"$f":"'[12]2018'!R46","v":0},0," -",{"$f":"'[12]2019'!P46","v":100000},{"$f":"'[12]2019'!Q46","v":0},{"$f":"'[12]2019'!R46","v":0},0," -",352679,142679,0,0.40455768560078714," -","17. Alianza para lograr los objetivos","Cultura",{"$f":"'[1]LÍNEA 4'!AQ149","v":"IMCT"}]
[null,null,null,null,null,null,null,null,null,null,null,null,null,null,null,null,null,null,null,null,null,null,null,null,null,null,null,null,null,null,null,null,null,null,null,null,null,null,null,null,null,null,"Realizar 8 acciones de recuperación, mantenimiento y/o conservación del patrimonio mueble e inmueble del Municipio.",{"$f":"'[1]LÍNEA 4'!P150","v":"2,2,1,36,3"},"Número de acciones de recuperación, mantenimiento y/o conservación del patrimonio mueble e inmueble del Municipio realizados.",4,{"$f":"'[1]LÍNEA 4'!S150","v":8},{"$f":"'[1]LÍNEA 4'!T150","v":0},0,{"$f":"'[1]LÍNEA 4'!U150","v":3},0.375,{"$f":"'[1]LÍNEA 4'!V150","v":3},0.375,{"$f":"'[1]LÍNEA 4'!W150","v":2},0.25,{"$f":"'[12]2016'!K47","v":0},{"$f":"'[12]2017'!K47","v":1},{"$f":"'[12]2018'!K47","v":1},{"$f":"'[12]2019'!K47","v":0}," -"," -",0.33333333333333331,0.33333333333333331,0.33333333333333331,0.33333333333333331,0,0,0.25,0.25,0.25,{"$f":"'[12]2016'!P47","v":0},{"$f":"'[12]2016'!Q47","v":0},{"$f":"'[12]2016'!R47","v":0}," -"," -",{"$f":"'[12]2017'!P47","v":34850},{"$f":"'[12]2017'!Q47","v":34850},{"$f":"'[12]2017'!R47","v":0},1," -",{"$f":"'[12]2018'!P47","v":1077000},{"$f":"'[12]2018'!Q47","v":921975},{"$f":"'[12]2018'!R47","v":0},0.85605849582172699," -",{"$f":"'[12]2019'!P47","v":100000},{"$f":"'[12]2019'!Q47","v":0},{"$f":"'[12]2019'!R47","v":0},0," -",1211850,956825,0,0.78955728844328921," -","17. Alianza para lograr los objetivos","Cultura",{"$f":"'[1]LÍNEA 4'!AQ150","v":"IMCT"}]
[null,null,null,null,null,null,null,null,null,null,null,null,null,null,null,null,null,null,null,null,null,null,null,null,null,null,null,null,null,null,null,null,null,null,null,null,null,null,null,null,null,null,"Realizar 4  investigaciones para el rescate y difusión de la memoria y el patrimonio intangible de la ciudad.",{"$f":"'[1]LÍNEA 4'!P151","v":"2,2,1,36,4"},"Número de investigaciones realizadas para el rescate y difusión de la memoria y el patrimonio intangible de la ciudad realizadas.",0,{"$f":"'[1]LÍNEA 4'!S151","v":4},{"$f":"'[1]LÍNEA 4'!T151","v":0},0,{"$f":"'[1]LÍNEA 4'!U151","v":2},0.5,{"$f":"'[1]LÍNEA 4'!V151","v":1},0.25,{"$f":"'[1]LÍNEA 4'!W151","v":1},0.25,{"$f":"'[12]2016'!K48","v":0},{"$f":"'[12]2017'!K48","v":1},{"$f":"'[12]2018'!K48","v":0},{"$f":"'[12]2019'!K48","v":0}," -"," -",0.5,0.5,0,0,0,0,0.25,0.25,0.25,{"$f":"'[12]2016'!P48","v":0},{"$f":"'[12]2016'!Q48","v":0},{"$f":"'[12]2016'!R48","v":0}," -"," -",{"$f":"'[12]2017'!P48","v":20000},{"$f":"'[12]2017'!Q48","v":4000},{"$f":"'[12]2017'!R48","v":0},0.2," -",{"$f":"'[12]2018'!P48","v":136000},{"$f":"'[12]2018'!Q48","v":0},{"$f":"'[12]2018'!R48","v":0},0," -",{"$f":"'[12]2019'!P48","v":50000},{"$f":"'[12]2019'!Q48","v":0},{"$f":"'[12]2019'!R48","v":0},0," -",206000,4000,0,1.9417475728155338E-2," -","17. Alianza para lograr los objetivos","Cultura",{"$f":"'[1]LÍNEA 4'!AQ151","v":"IMCT"}]
[null,null,null,null,null,null,null,null,null,null,null,null,null,null,null,null,null,null,null,null,null,null,null,null,null,null,null,null,null,null,null,null,null,null,null,null,null,null,null,null,null,null,"Fortalecer el Teatro Santander.",{"$f":"'[1]LÍNEA 4'!P152","v":" -"},"Número de acciones de fortalecimiento para el Teatro Santander.",1,{"$f":"'[1]LÍNEA 4'!S152","v":1},{"$f":"'[1]LÍNEA 4'!T152","v":1},1,{"$f":"'[1]LÍNEA 4'!U152","v":0},0,{"$f":"'[1]LÍNEA 4'!V152","v":0},0,{"$f":"'[1]LÍNEA 4'!W152","v":0},0,{"$f":"'[12]2016'!$K$49","v":1},{"$f":"'[7]2017'!$K$38","v":1},{"$f":"'[7]2018'!$K$38","v":0},{"$f":"'[7]2019'!$K$38","v":0},1,1," -"," -"," -"," -"," -"," -",2,1,1,{"$f":"'[12]2016'!P49","v":0},{"$f":"'[12]2016'!Q49","v":0},{"$f":"'[12]2016'!R49","v":0}," -"," -",{"$f":"'[7]2017'!P38","v":2814631},{"$f":"'[7]2017'!Q38","v":2500000},{"$f":"'[7]2017'!R38","v":0},0.88821589757236385," -",{"$f":"'[7]2018'!P38","v":0},{"$f":"'[7]2018'!Q38","v":0},{"$f":"'[7]2018'!R38","v":0}," -"," -",{"$f":"'[7]2019'!P38","v":0},{"$f":"'[7]2019'!Q38","v":0},{"$f":"'[7]2019'!R38","v":0}," -"," -",2814631,2500000,0,0.88821589757236385," -","17. Alianza para lograr los objetivos","Cultura",{"$f":"'[1]LÍNEA 4'!AQ152","v":"Sec. Infraestructura"}]
[null,null,null,null,null,null,null,null,null,null,null,null,null,null,null,null,null,null,null,null,null,null,null,null,null,null,null,null,null,null,null,null,null,null,null,null,null,null,null,null,null,null,"Desarrollar 1 acción para el aprovechamiento y fortalecimiento del Centro Cultural del Oriente.",{"$f":"'[1]LÍNEA 4'!P153","v":" -"},"Número de acciones desarrolladas para el aprovechamiento y fortalecimiento del Centro Cultural del Oriente.",0,{"$f":"'[1]LÍNEA 4'!S153","v":1},{"$f":"'[1]LÍNEA 4'!T153","v":0},0,{"$f":"'[1]LÍNEA 4'!U153","v":1},1,{"$f":"'[1]LÍNEA 4'!V153","v":0},0,{"$f":"'[1]LÍNEA 4'!W153","v":0},0,{"$f":"'[12]2016'!K50","v":0},{"$f":"'[12]2017'!K49","v":1},{"$f":"'[12]2018'!K49","v":1},{"$f":"'[12]2019'!K49","v":0}," -"," -",1,1," -"," -"," -"," -",2,1,1,{"$f":"'[12]2016'!P50","v":0},{"$f":"'[12]2016'!Q50","v":0},{"$f":"'[12]2016'!R50","v":0}," -"," -",{"$f":"'[12]2017'!P49","v":210000},{"$f":"'[12]2017'!Q49","v":190000},{"$f":"'[12]2017'!R49","v":0},0.90476190476190477," -",{"$f":"'[12]2018'!P49","v":150000},{"$f":"'[12]2018'!Q49","v":100000},{"$f":"'[12]2018'!R49","v":0},0.66666666666666663," -",{"$f":"'[12]2019'!P49","v":0},{"$f":"'[12]2019'!Q49","v":0},{"$f":"'[12]2019'!R49","v":0}," -"," -",360000,290000,0,0.80555555555555558," -","17. Alianza para lograr los objetivos","Cultura",{"$f":"'[1]LÍNEA 4'!AQ153","v":"IMCT"}]
[null,null,null,null,null,null,null,null,null,null,null,null,null,null,null,null,null,null,null,null,null,null,null,null,null,null,null,null,null,null,null,null,null,null,null,null,null,null,null,null,null,null,"Adquirir 2 bienes de interés cultural para el fortalecimiento de las actividades del Municipio.",{"$f":"'[1]LÍNEA 4'!P154","v":"2,2,1,36,6"},"Número de bienes de interés cultural adquiridos para el fortalecimiento de las actividades del Municipio.",0,{"$f":"'[1]LÍNEA 4'!S154","v":2},{"$f":"'[1]LÍNEA 4'!T154","v":0},0,{"$f":"'[1]LÍNEA 4'!U154","v":0},0,{"$f":"'[1]LÍNEA 4'!V154","v":0},0,{"$f":"'[1]LÍNEA 4'!W154","v":2},1,{"$f":"'[12]2016'!K51","v":0},{"$f":"'[12]2017'!K50","v":0},{"$f":"'[12]2018'!K50","v":0},{"$f":"'[12]2019'!K50","v":0}," -"," -"," -"," -"," -"," -",0,0,0,0,0,{"$f":"'[12]2016'!P51","v":0},{"$f":"'[12]2016'!Q51","v":0},{"$f":"'[12]2016'!R51","v":0}," -"," -",{"$f":"'[12]2017'!P50","v":0},{"$f":"'[12]2017'!Q50","v":0},{"$f":"'[12]2017'!R50","v":0}," -"," -",{"$f":"'[12]2018'!P50","v":0},{"$f":"'[12]2018'!Q50","v":0},{"$f":"'[12]2018'!R50","v":0}," -"," -",{"$f":"'[12]2019'!P50","v":3000000},{"$f":"'[12]2019'!Q50","v":0},{"$f":"'[12]2019'!R50","v":0},0," -",3000000,0,0,0," -","17. Alianza para lograr los objetivos","Cultura",{"$f":"'[1]LÍNEA 4'!AQ154","v":"IMCT"}]
[null,null,null,null,null,null,null,null,null,null,null,null,null,null,null,null,null,null,null,null,null,null,null,null,null,null,null,null,null,null,null,null,null,null,null,null,null,null,null,null,null,null,"Implementar y mantener 1 estrategias de recuperación, mantenimiento, conservación, promoción, difusión del patrimonio fílmico y audiovisual de la CINETECA PÚBLICA.",{"$f":"'[1]LÍNEA 4'!P155","v":"2,2,1,36,7"},"Número de estrategias de recuperación, mantenimiento, conservación, promoción, difusión del patrimonio fílmico y audiovisual de la CINETECA PÚBLICA implementadas y mantenidas.",0,{"$f":"'[1]LÍNEA 4'!S155","v":1},{"$f":"'[1]LÍNEA 4'!T155","v":1},0.25,{"$f":"'[1]LÍNEA 4'!U155","v":1},0.25,{"$f":"'[1]LÍNEA 4'!V155","v":1},0.25,{"$f":"'[1]LÍNEA 4'!W155","v":1},0.25,{"$f":"'[12]2016'!K52","v":1},{"$f":"'[12]2017'!K51","v":1},{"$f":"'[12]2018'!K51","v":0},{"$f":"'[12]2019'!K51","v":0},1,1,1,1,0,0,0,0,0.5,0.5,0.5,{"$f":"'[12]2016'!P52","v":10000},{"$f":"'[12]2016'!Q52","v":0},{"$f":"'[12]2016'!R52","v":0},0," -",{"$f":"'[12]2017'!P51","v":30000},{"$f":"'[12]2017'!Q51","v":30000},{"$f":"'[12]2017'!R51","v":0},1," -",{"$f":"'[12]2018'!P51","v":30000},{"$f":"'[12]2018'!Q51","v":0},{"$f":"'[12]2018'!R51","v":0},0," -",{"$f":"'[12]2019'!P51","v":250000},{"$f":"'[12]2019'!Q51","v":0},{"$f":"'[12]2019'!R51","v":0},0," -",320000,30000,0,9.375E-2," -","4. Educación de calidad ","Cultura",{"$f":"'[1]LÍNEA 4'!AQ155","v":"IMCT"}]
[null,null,null,null,null,null,null,null,null,null,null,null,null,null,null,null,null,null,null,null,null,null,null,null,null,null,null,null,null,null,null,null,null,null,null,null,null,null,null,null,null,null,"Implementar y mantener 1 estrategia de recuperación, mantenimiento, conservación, promoción de piezas museológicas y documentales.",{"$f":"'[1]LÍNEA 4'!P156","v":"2,2,1,36,8"},"Número de estrategias de recuperación, mantenimiento, conservación, promoción de piezas museológicas y documentales implementadas y mantenidas.",0,{"$f":"'[1]LÍNEA 4'!S156","v":1},{"$f":"'[1]LÍNEA 4'!T156","v":1},0.25,{"$f":"'[1]LÍNEA 4'!U156","v":1},0.25,{"$f":"'[1]LÍNEA 4'!V156","v":1},0.25,{"$f":"'[1]LÍNEA 4'!W156","v":1},0.25,{"$f":"'[12]2016'!K53","v":0},{"$f":"'[12]2017'!K52","v":1},{"$f":"'[12]2018'!K52","v":0},{"$f":"'[12]2019'!K52","v":0},0,0,1,1,0,0,0,0,0.25,0.25,0.25,{"$f":"'[12]2016'!P53","v":10000},{"$f":"'[12]2016'!Q53","v":0},{"$f":"'[12]2016'!R53","v":0},0," -",{"$f":"'[12]2017'!P52","v":70000},{"$f":"'[12]2017'!Q52","v":33714},{"$f":"'[12]2017'!R52","v":0},0.48162857142857141," -",{"$f":"'[12]2018'!P52","v":80000},{"$f":"'[12]2018'!Q52","v":0},{"$f":"'[12]2018'!R52","v":0},0," -",{"$f":"'[12]2019'!P52","v":100000},{"$f":"'[12]2019'!Q52","v":0},{"$f":"'[12]2019'!R52","v":0},0," -",260000,33714,0,0.12966923076923076," -","4. Educación de calidad ","Cultura",{"$f":"'[1]LÍNEA 4'!AQ156","v":"IMCT"}]
[null,null,null,null,null,null,null,null,null,null,null,null,null,null,null,null,null,null,null,null,null,null,null,null,null,null,null,null,null,null,null,null,null,null,null,null,null,null,null,null,{"$f":"+RESUMEN!J110","v":0.33333333333333331},"PROCESOS DE FORTALECIMIENTO DE LOS OFICIOS","Implementar y mantener 1 Programa de soporte y apoyo al fortalecimiento de los procesos existentes en oficios.",{"$f":"'[1]LÍNEA 4'!P157","v":"2,2,1,41,2"},"Número de programas de soporte y apoyo al fortalecimiento de los procesos existentes en oficios implementados.",0,{"$f":"'[1]LÍNEA 4'!S157","v":1},{"$f":"'[1]LÍNEA 4'!T157","v":0},0,{"$f":"'[1]LÍNEA 4'!U157","v":1},0.33,{"$f":"'[1]LÍNEA 4'!V157","v":1},0.33,{"$f":"'[1]LÍNEA 4'!W157","v":1},0.34,{"$f":"'[12]2016'!K54","v":0},{"$f":"'[12]2017'!K53","v":1},{"$f":"'[12]2018'!K53","v":0},{"$f":"'[12]2019'!K53","v":0}," -"," -",1,1,0,0,0,0,{"$f":"+AVERAGE(BE157:BG157)/AU157","v":0.33333333333333331},0.33333333333333331,0.33333333333333331,{"$f":"'[12]2016'!P54","v":0},{"$f":"'[12]2016'!Q54","v":0},{"$f":"'[12]2016'!R54","v":0}," -"," -",{"$f":"'[12]2017'!P53","v":90000},{"$f":"'[12]2017'!Q53","v":90000},{"$f":"'[12]2017'!R53","v":0},1," -",{"$f":"'[12]2018'!P53","v":50000},{"$f":"'[12]2018'!Q53","v":0},{"$f":"'[12]2018'!R53","v":0},0," -",{"$f":"'[12]2019'!P53","v":100000},{"$f":"'[12]2019'!Q53","v":0},{"$f":"'[12]2019'!R53","v":0},0," -",240000,90000,0,0.375," -","17. Alianza para lograr los objetivos","Cultura",{"$f":"'[1]LÍNEA 4'!AQ157","v":"IMCT"}]
[null,null,null,null,null,null,null,null,null,null,null,null,null,null,null,null,null,null,null,null,null,null,null,null,null,null,null,null,null,null,null,null,null,null,null,null,null,null,null,null,{"$f":"+RESUMEN!J111","v":0.5},"OBSERVAR Y SER OBSERVADO: FOMENTO AL TURISMO","Mantener 1 estrategia de reconocimiento y difusión tirística.",{"$f":"'[1]LÍNEA 4'!P158","v":"2,2,1,37,2"},"Número de estrategias de reconocimiento y difusión artística mantenidas.",1,{"$f":"'[1]LÍNEA 4'!S158","v":1},{"$f":"'[1]LÍNEA 4'!T158","v":1},0.25,{"$f":"'[1]LÍNEA 4'!U158","v":1},0.25,{"$f":"'[1]LÍNEA 4'!V158","v":1},0.25,{"$f":"'[1]LÍNEA 4'!W158","v":1},0.25,{"$f":"'[12]2016'!K55","v":1},{"$f":"'[12]2017'!K54","v":1},{"$f":"'[12]2018'!K54","v":0},{"$f":"'[12]2019'!K54","v":0},1,1,1,1,0,0,0,0,0.5,0.5,0.5,{"$f":"'[12]2016'!P55","v":200000},{"$f":"'[12]2016'!Q55","v":200000},{"$f":"'[12]2016'!R55","v":0},1," -",{"$f":"'[12]2017'!P54","v":50000},{"$f":"'[12]2017'!Q54","v":50000},{"$f":"'[12]2017'!R54","v":0},1," -",{"$f":"'[12]2018'!P54","v":300000},{"$f":"'[12]2018'!Q54","v":0},{"$f":"'[12]2018'!R54","v":0},0," -",{"$f":"'[12]2019'!P54","v":500000},{"$f":"'[12]2019'!Q54","v":0},{"$f":"'[12]2019'!R54","v":0},0," -",1050000,250000,0,0.23809523809523808," -","17. Alianza para lograr los objetivos","Cultura",{"$f":"'[1]LÍNEA 4'!AQ158","v":"IMCT"}]
[null,null,null,null,null,null,null,null,null,null,null,null,null,null,null,null,null,null,null,null,null,null,null,null,null,null,null,null,null,null,null,null,null,null,null,null,null,null,null,null,null,null,"Implementar y mantener 1 programa de alianzas globales con ciudades que permita la promoción cultural de la ciudad.",{"$f":"'[1]LÍNEA 4'!P159","v":"2,2,1,37,3"},"Número de programas de alianzas globales implementadas y mantenidas con ciudades que permita la promoción cultural de la ciudad.",0,{"$f":"'[1]LÍNEA 4'!S159","v":1},{"$f":"'[1]LÍNEA 4'!T159","v":0},0,{"$f":"'[1]LÍNEA 4'!U159","v":1},0.33,{"$f":"'[1]LÍNEA 4'!V159","v":1},0.33,{"$f":"'[1]LÍNEA 4'!W159","v":1},0.34,{"$f":"'[12]2016'!K56","v":0},{"$f":"'[12]2017'!K55","v":0},{"$f":"'[12]2018'!K55","v":0},{"$f":"'[12]2019'!K55","v":0}," -"," -",0,0,0,0,0,0,0,0,0,{"$f":"'[12]2016'!P56","v":0},{"$f":"'[12]2016'!Q56","v":0},{"$f":"'[12]2016'!R56","v":0}," -"," -",{"$f":"'[12]2017'!P55","v":0},{"$f":"'[12]2017'!Q55","v":0},{"$f":"'[12]2017'!R55","v":0}," -"," -",{"$f":"'[12]2018'!P55","v":0},{"$f":"'[12]2018'!Q55","v":0},{"$f":"'[12]2018'!R55","v":0}," -"," -",{"$f":"'[12]2019'!P55","v":50000},{"$f":"'[12]2019'!Q55","v":0},{"$f":"'[12]2019'!R55","v":0},0," -",50000,0,0,0," -","17. Alianza para lograr los objetivos","Cultura",{"$f":"'[1]LÍNEA 4'!AQ159","v":"IMCT"}]
[null,null,null,null,null,null,null,null,null,null,null,null,null,null,null,null,null,null,null,null,null,null,null,null,null,null,null,null,null,null,null,null,null,null,null,null,null,null,null,null,null,null,"Implementar y mantener 1 estrategia de promoción y difusión del patrimonio cultural como medio para  incrementar la oferta turistica del municipio.",{"$f":"'[1]LÍNEA 4'!P160","v":"2.2.1.37.4"},"Número de estrategias de promoción y difusión del patrimonio cultural implementadas y mantenidas como medio para  incrementar la oferta turistica del municipio.",0,{"$f":"'[1]LÍNEA 4'!S160","v":1},{"$f":"'[1]LÍNEA 4'!T160","v":1},0.25,{"$f":"'[1]LÍNEA 4'!U160","v":1},0.25,{"$f":"'[1]LÍNEA 4'!V160","v":1},0.25,{"$f":"'[1]LÍNEA 4'!W160","v":1},0.25,{"$f":"'[12]2016'!K57","v":0},{"$f":"'[12]2017'!K56","v":1},{"$f":"'[12]2018'!K56","v":1},{"$f":"'[12]2019'!K56","v":0},0,0,1,1,1,1,0,0,{"$f":"+AVERAGE(BD160:BG160)/AU160","v":0.5},0.5,0.5,{"$f":"'[12]2016'!P57","v":26000},{"$f":"'[12]2016'!Q57","v":2800},{"$f":"'[12]2016'!R57","v":0},0.1076923076923077," -",{"$f":"'[12]2017'!P56","v":89148},{"$f":"'[12]2017'!Q56","v":58648},{"$f":"'[12]2017'!R56","v":0},0.65787230223897342," -",{"$f":"'[12]2018'!P56","v":176559},{"$f":"'[12]2018'!Q56","v":82237},{"$f":"'[12]2018'!R56","v":0},0.46577631273398695," -",{"$f":"'[12]2019'!P56","v":0},{"$f":"'[12]2019'!Q56","v":0},{"$f":"'[12]2019'!R56","v":0}," -"," -",291707,143685,0,0.49256617084951682," -","17. Alianza para lograr los objetivos","Cultura",{"$f":"'[1]LÍNEA 4'!AQ160","v":"IMCT"}]
[null,null,null,null,null,null,null,null,null,null,null,null,null,null,null,null,null,null,null,null,null,null,null,null,null,null,null,null,null,null,null,null,null,null,null,null,null,null,null,null,null,null,"Formular e implementar la política pública que impulse a Bucaramanga como industria turística.",{"$f":"'[1]LÍNEA 4'!P161","v":" -"},"Número de políticas públicas formuladas e implementadas que impulsen a Bucaramanga como industria turística.",0,{"$f":"'[1]LÍNEA 4'!S161","v":1},{"$f":"'[1]LÍNEA 4'!T161","v":1},0.25,{"$f":"'[1]LÍNEA 4'!U161","v":1},0.25,{"$f":"'[1]LÍNEA 4'!V161","v":1},0.25,{"$f":"'[1]LÍNEA 4'!W161","v":1},0.25,{"$f":"'[12]2016'!K58","v":1},{"$f":"'[12]2017'!K57","v":1},{"$f":"'[12]2018'!K57","v":1},{"$f":"'[12]2019'!K57","v":0},1,1,1,1,1,1,0,0,0.75,0.75,0.75,{"$f":"'[12]2016'!P58","v":0},{"$f":"'[12]2016'!Q58","v":0},{"$f":"'[12]2016'!R58","v":0}," -"," -",{"$f":"'[12]2017'!P57","v":0},{"$f":"'[12]2017'!Q57","v":0},{"$f":"'[12]2017'!R57","v":0}," -"," -",{"$f":"'[12]2018'!P57","v":15000},{"$f":"'[12]2018'!Q57","v":15000},{"$f":"'[12]2018'!R57","v":0},1," -",{"$f":"'[12]2019'!P57","v":0},{"$f":"'[12]2019'!Q57","v":0},{"$f":"'[12]2019'!R57","v":0}," -"," -",15000,15000,0,1," -","17. Alianza para lograr los objetivos","Cultura",{"$f":"'[1]LÍNEA 4'!AQ161","v":"IMCT"}]
[null,null,null,null,null,null,null,null,null,null,null,null,null,null,null,null,null,null,null,null,null,null,null,null,null,null,null,null,null,null,null,null,null,null,null,null,null,null,null,null,null,null,"Formular e implementar el Plan Estratégico de Turismo.",{"$f":"'[1]LÍNEA 4'!P162","v":"2.2.1.37.6"},"Número de Planes Estratégicos de Turismo formulados e implementados.",0,{"$f":"'[1]LÍNEA 4'!S162","v":1},{"$f":"'[1]LÍNEA 4'!T162","v":1},0.25,{"$f":"'[1]LÍNEA 4'!U162","v":1},0.25,{"$f":"'[1]LÍNEA 4'!V162","v":1},0.25,{"$f":"'[1]LÍNEA 4'!W162","v":1},0.25,{"$f":"'[12]2016'!K59","v":0},{"$f":"'[12]2017'!K58","v":1},{"$f":"'[12]2018'!K58","v":1},{"$f":"'[12]2019'!K58","v":0},0,0,1,1,1,1,0,0,0.5,0.5,0.5,{"$f":"'[12]2016'!P59","v":0},{"$f":"'[12]2016'!Q59","v":0},{"$f":"'[12]2016'!R59","v":0}," -"," -",{"$f":"'[12]2017'!P58","v":20000},{"$f":"'[12]2017'!Q58","v":20000},{"$f":"'[12]2017'!R58","v":0},1," -",{"$f":"'[12]2018'!P58","v":15000},{"$f":"'[12]2018'!Q58","v":15000},{"$f":"'[12]2018'!R58","v":0},1," -",{"$f":"'[12]2019'!P58","v":0},{"$f":"'[12]2019'!Q58","v":0},{"$f":"'[12]2019'!R58","v":0}," -"," -",35000,35000,0,1," -","17. Alianza para lograr los objetivos","Cultura",{"$f":"'[1]LÍNEA 4'!AQ162","v":"IMCT"}]
[null,null,null,null,null,null,null,null,null,null,null,null,null,null,null,null,null,null,null,null,null,null,null,null,null,null,null,null,null,null,null,null,null,null,null,null,null,null,null,null,null,null,"Capacitar 200 personas en temáticas asociadas a turismo que cuentan con el registro nacional de turismo vigente.",{"$f":"'[1]LÍNEA 4'!P163","v":"2.2.1.37.7"},"Número de personas capacitadas en temáticas asociadas a turismo que cuentan con el registro nacional de turismo vigente.",0,{"$f":"'[1]LÍNEA 4'!S163","v":200},{"$f":"'[1]LÍNEA 4'!T163","v":100},0.5,{"$f":"'[1]LÍNEA 4'!U163","v":50},{"$f":"+AX163/AU163","v":0.25},{"$f":"'[1]LÍNEA 4'!V163","v":25},{"$f":"+AZ163/AU163","v":0.125},{"$f":"'[1]LÍNEA 4'!W163","v":25},0.125,{"$f":"'[12]2016'!K60","v":100},{"$f":"'[12]2017'!K59","v":50},{"$f":"'[12]2018'!K59","v":0},{"$f":"'[12]2019'!K59","v":0},1,1,1,1,0,0,0,0,{"$f":"+SUM(BD163:BG163)/AU163","v":0.75},0.75,0.75,{"$f":"'[12]2016'!P60","v":100000},{"$f":"'[12]2016'!Q60","v":100000},{"$f":"'[12]2016'!R60","v":0},1," -",{"$f":"'[12]2017'!P59","v":57905},{"$f":"'[12]2017'!Q59","v":26946},{"$f":"'[12]2017'!R59","v":0},0.46534841550815992," -",{"$f":"'[12]2018'!P59","v":70585},{"$f":"'[12]2018'!Q59","v":0},{"$f":"'[12]2018'!R59","v":0},0," -",{"$f":"'[12]2019'!P59","v":0},{"$f":"'[12]2019'!Q59","v":0},{"$f":"'[12]2019'!R59","v":0}," -"," -",228490,126946,0,0.55558667775394988," -","17. Alianza para lograr los objetivos","Cultura",{"$f":"'[1]LÍNEA 4'!AQ163","v":"IMCT"}]
[null,null,null,null,null,null,null,null,null,null,null,null,null,null,null,null,null,null,null,null,null,null,null,null,null,null,null,null,null,null,null,null,null,null,null,null,null,null,null,null,null,null,"Garantizar el espacio y la operación del Centro de Convenciones de Bucaramanga como eje central del desarrollo del turismo de reuniones en el municipio.",{"$f":"'[1]LÍNEA 4'!P164","v":" -"},"Número de espacios garantizados del centro de convenciones de Bucaramanga como eje central del desarrollo del turismo de reuniones en el municipio.",0,{"$f":"'[1]LÍNEA 4'!S164","v":1},{"$f":"'[1]LÍNEA 4'!T164","v":0},0,{"$f":"'[1]LÍNEA 4'!U164","v":0},{"$f":"+AX164/AU164","v":0},{"$f":"'[1]LÍNEA 4'!V164","v":0},0,{"$f":"'[1]LÍNEA 4'!W164","v":1},1,{"$f":"'[22]2016'!$K$19","v":0},{"$f":"'[7]2017'!$K$39","v":0},{"$f":"'[7]2018'!$K$39","v":0},{"$f":"'[7]2019'!$K$39","v":0}," -"," -"," -"," -"," -"," -",0,0,{"$f":"+AVERAGE(BE164:BG164)/AU164","v":0},0,0,{"$f":"'[22]2016'!P19","v":0},{"$f":"'[22]2016'!Q19","v":0},{"$f":"'[22]2016'!R19","v":0}," -"," -",{"$f":"'[7]2017'!P39","v":0},{"$f":"'[7]2017'!Q39","v":0},{"$f":"'[7]2017'!R39","v":0}," -"," -",{"$f":"'[7]2018'!P39","v":0},{"$f":"'[7]2018'!Q39","v":0},{"$f":"'[7]2018'!R39","v":0}," -"," -",{"$f":"'[7]2019'!P39","v":0},{"$f":"'[7]2019'!Q39","v":0},{"$f":"'[7]2019'!R39","v":0}," -"," -",0,0,0," -"," -","17. Alianza para lograr los objetivos","Equipamiento",{"$f":"'[1]LÍNEA 4'!AQ164","v":"Sec. Infraestructura"}]
[null,null,null,null,null,null,null,null,null,null,null,null,null,null,null,null,null,null,null,null,null,null,null,null,null,null,null,null,null,null,null,null,null,null,null,null,null,null,null,null,null,null,"Celebrar 4 ferias.",{"$f":"'[1]LÍNEA 4'!P165","v":"2.2.1.37.8"},"Número de ferias celebradas.",4,{"$f":"'[1]LÍNEA 4'!S165","v":4},{"$f":"'[1]LÍNEA 4'!T165","v":1},0.25,{"$f":"'[1]LÍNEA 4'!U165","v":1},{"$f":"+AX165/AU165","v":0.25},{"$f":"'[1]LÍNEA 4'!V165","v":1},{"$f":"+AZ165/AU165","v":0.25},{"$f":"'[1]LÍNEA 4'!W165","v":1},0.25,{"$f":"'[12]2016'!K61","v":1},{"$f":"'[12]2017'!K60","v":1},{"$f":"'[12]2018'!K60","v":0},{"$f":"'[12]2019'!K60","v":0},1,1,1,1,0,0,0,0,{"$f":"+SUM(BD165:BG165)/AU165","v":0.5},0.5,0.5,{"$f":"'[12]2016'!P61","v":500000},{"$f":"'[12]2016'!Q61","v":500000},{"$f":"+'[22]2016'!$R$20","v":200000},1,0.4,{"$f":"'[12]2017'!P60","v":1691604},{"$f":"'[12]2017'!Q60","v":1690297},{"$f":"'[12]2017'!R60","v":0},0.99922736054064665," -",{"$f":"'[12]2018'!P60","v":2150000},{"$f":"'[12]2018'!Q60","v":0},{"$f":"'[12]2018'!R60","v":0},0," -",{"$f":"'[12]2019'!P60","v":0},{"$f":"'[12]2019'!Q60","v":0},{"$f":"'[12]2019'!R60","v":0}," -"," -",4341604,2190297,200000,0.50449027594409812,9.1311817529768788E-2,"17. Alianza para lograr los objetivos","Cultura",{"$f":"'[1]LÍNEA 4'!AQ165","v":"IMCT"}]
[null,null,null,null,null,null,null,null,null,null,null,null,null,null,null,null,null,null,null,null,null,null,null,null,null,null,null,null,null,null,null,null,null,null,null,null,null,null,null,null,null,null,"Realizar 1 acción para el fortalecimiento del Bureau de Convenciones y Visitantes de Bucaramanga.",{"$f":"'[1]LÍNEA 4'!P166","v":"-"},"Número de acciones realizadas para el fortalecimiento del Bureau de Convenciones y Visitantes de Bucaramanga.",1,{"$f":"'[1]LÍNEA 4'!S166","v":1},{"$f":"'[1]LÍNEA 4'!T166","v":0},0,{"$f":"'[1]LÍNEA 4'!U166","v":0},{"$f":"+AX166/AU166","v":0},{"$f":"'[1]LÍNEA 4'!V166","v":1},{"$f":"+AZ166/AU166","v":1},{"$f":"'[1]LÍNEA 4'!W166","v":0},0,{"$f":"'[12]2016'!K62","v":1},{"$f":"'[12]2017'!K61","v":0},{"$f":"'[12]2018'!K61","v":0},{"$f":"'[12]2019'!K61","v":0}," -"," -"," -"," -",0,0," -"," -",1,1,1,{"$f":"'[12]2016'!P62","v":10000},{"$f":"'[12]2016'!Q62","v":10000},{"$f":"'[12]2016'!R62","v":0},1," -",{"$f":"'[12]2017'!P61","v":0},{"$f":"'[12]2017'!Q61","v":0},{"$f":"'[12]2017'!R61","v":0}," -"," -",{"$f":"'[12]2018'!P61","v":0},{"$f":"'[12]2018'!Q61","v":0},{"$f":"'[12]2018'!R61","v":0}," -"," -",{"$f":"'[12]2019'!P61","v":0},{"$f":"'[12]2019'!Q61","v":0},{"$f":"'[12]2019'!R61","v":0}," -"," -",10000,10000,0,1," -","17. Alianza para lograr los objetivos","Equipamiento",{"$f":"'[1]LÍNEA 4'!AQ166","v":"IMCT"}]
[null,null,null,null,null,null,null,null,null,null,null,null,null,null,null,null,null,null,null,null,null,null,null,null,null,null,null,null,null,null,null,null,null,null,null,null,null,null,null,null,null,null,"Terminar el Centro de Convenciones - NEOMUNDO.",{"$f":"'[1]LÍNEA 4'!P167","v":2210904},"Número de centros de convenciones - NEOMUNDO terminados.",0,{"$f":"'[1]LÍNEA 4'!S167","v":1},{"$f":"'[1]LÍNEA 4'!T167","v":1},1,{"$f":"'[1]LÍNEA 4'!U167","v":0},{"$f":"+AX167/AU167","v":0},{"$f":"'[1]LÍNEA 4'!V167","v":0},{"$f":"+AZ167/AU167","v":0},{"$f":"'[1]LÍNEA 4'!W167","v":0},0,{"$f":"'[7]2016'!$K$34","v":0.5},{"$f":"'[7]2017'!$K$40","v":0},{"$f":"'[7]2018'!$K$40","v":0},{"$f":"'[7]2019'!$K$40","v":0},0.5,0.5," -"," -"," -"," -"," -"," -",0.5,0.5,0.5,{"$f":"'[7]2016'!P34","v":3287402},{"$f":"'[7]2016'!Q34","v":3287402},{"$f":"'[7]2016'!R34","v":0},1," -",{"$f":"'[7]2017'!P40","v":0},{"$f":"'[7]2017'!Q40","v":0},{"$f":"'[7]2017'!R40","v":0}," -"," -",{"$f":"'[7]2018'!P40","v":4097188},{"$f":"'[7]2018'!Q40","v":4000000},{"$f":"'[7]2018'!R40","v":0},0.97627934085524026," -",{"$f":"'[7]2019'!P40","v":0},{"$f":"'[7]2019'!Q40","v":0},{"$f":"'[7]2019'!R40","v":0}," -"," -",7384590,7287402,0,0.98683907975933671," -","9. Industria, innovación e infraestructura","Equipamiento",{"$f":"'[1]LÍNEA 4'!AQ167","v":"Sec. Infraestructura"}]
[null,null,null,null,null,null,null,null,null,null,null,null,null,null,null,null,null,null,null,null,null,null,null,null,null,null,null,null,null,null,null,null,null,null,null,null,null,null,null,null,null,null,null,null,null,null,{"$f":"'[1]LÍNEA 4'!S168","v":0},{"$f":"'[1]LÍNEA 4'!T168","v":0},{"$f":"+AVERAGE(AW121:AW167)","v":0.22190291977526022},{"$f":"'[1]LÍNEA 4'!U168","v":0},{"$f":"+AVERAGE(AY121:AY167)","v":0.31828405636916279},{"$f":"'[1]LÍNEA 4'!V168","v":0},0.21483006355346784,{"$f":"'[1]LÍNEA 4'!W168","v":0},0.24498296030210925,null,null,null,null,null,{"$f":"+AVERAGE(BI121:BI167)","v":0.875},null,0.83536585365853655,null,0.60360360360360354,null,0,null,{"$f":"+AVERAGE(BQ121:BQ167)","v":0.62483305701390812}]
[null,null,null,{"$f":"+RESUMEN!J112","v":0.58650768518518515},"RED DE ESPACIO PÚBLICO","Lograr 2.700.000 M2 de espacio público efectivo en el perímetro urbano.",2367260,2700000,{"$f":"+H169-G169","v":332740},2367260,{"$f":"+J169-G169","v":0},null,2400000,{"$f":"+M169-J169","v":32740},null,2600000,{"$f":"+P169-M169","v":200000},null,2700000,{"$f":"+S169-P169","v":100000},null,{"$f":"+G169+80071","v":2447331},{"$f":"+IF(V169=0,0,V169-G169)","v":80071},null,{"$f":"+IF(X169=0,0,X169-V169)","v":0},null,{"$f":"+IF(Z169=0,0,Z169-X169)","v":0},null,{"$f":"+IF(AB169=0,0,AB169-Z169)","v":0},{"$f":"+IF(K169=0,\" -\",W169/K169)","v":" -"},{"$f":"+IF(K169=0,\" -\",IF(AD169>100%,100%,AD169))","v":" -"},{"$f":"+IF(N169=0,\" -\",Y169/N169)","v":0},{"$f":"+IF(N169=0,\" -\",IF(AF169>100%,100%,AF169))","v":0},{"$f":"+IF(Q169=0,\" -\",AA169/Q169)","v":0},{"$f":"+IF(Q169=0,\" -\",IF(AH169>100%,100%,AH169))","v":0},{"$f":"+IF(T169=0,\" -\",AC169/T169)","v":0},{"$f":"+IF(T169=0,\" -\",IF(AJ169>100%,100%,AJ169))","v":0},{"$f":"+SUM(AC169,AA169,Y169,W169)/I169","v":0.24064134158802669},{"$f":"+IF(AL169>100%,100%,IF(AL169<0%,0%,AL169))","v":0.24064134158802669},null,{"$f":"+RESUMEN!J113","v":0.83177833333333329},"APROVECHAMIENTO SOCIAL DEL ESPACIO PÚBLICO","Habilitar 5.000 M2 de espacio público para garantizar el uso y goce colectivo.",{"$f":"'[1]LÍNEA 4'!P169","v":" -"},"Número de M2 de espacio público habilitados para garantizar el uso y goce efectivo.",2066,{"$f":"'[1]LÍNEA 4'!S169","v":5000},{"$f":"'[1]LÍNEA 4'!T169","v":2000},0.4,{"$f":"'[1]LÍNEA 4'!U169","v":1000},{"$f":"+AX169/AU169","v":0.2},{"$f":"'[1]LÍNEA 4'!V169","v":1000},{"$f":"+AZ169/AU169","v":0.2},{"$f":"'[1]LÍNEA 4'!W169","v":1000},0.2,{"$f":"'[18]2016'!K15","v":3138},{"$f":"'[18]2017'!K15","v":11192},{"$f":"'[18]2018'!K15","v":12228},{"$f":"'[18]2019'!K15","v":0},1.569,1,11.192,1,12.228,1,0,0,{"$f":"+SUM(BD169:BG169)/AU169","v":5.3116000000000003},1,1,{"$f":"'[18]2016'!P15","v":0},{"$f":"'[18]2016'!Q15","v":0},{"$f":"'[18]2016'!R15","v":0}," -"," -",{"$f":"'[18]2017'!P15","v":0},{"$f":"'[18]2017'!Q15","v":0},{"$f":"'[18]2017'!R15","v":0}," -"," -",{"$f":"'[18]2018'!P15","v":0},{"$f":"'[18]2018'!Q15","v":0},{"$f":"'[18]2018'!R15","v":0}," -"," -",{"$f":"'[18]2019'!P15","v":0},{"$f":"'[18]2019'!Q15","v":0},{"$f":"'[18]2019'!R15","v":0}," -"," -",0,0,0," -"," -","9. Industria, innovación e infraestructura","Equipamiento",{"$f":"'[1]LÍNEA 4'!AQ169","v":"DADEP"}]
[null,null,null,null,null,null,null,null,null,null,null,null,null,null,null,null,null,null,null,null,null,null,null,null,null,null,null,null,null,null,null,null,null,null,null,null,null,null,null,null,null,null,"Incorporar 200.000 M2 de cesiones tipo A, cesiones obligatorias, andenes y vías.",{"$f":"'[1]LÍNEA 4'!P170","v":" -"},"Número de M2 de cesiones tipo A, cesiones obligatorias, andenes y vías.",162461,{"$f":"'[1]LÍNEA 4'!S170","v":200000},{"$f":"'[1]LÍNEA 4'!T170","v":50000},0.25,{"$f":"'[1]LÍNEA 4'!U170","v":50000},{"$f":"+AX170/AU170","v":0.25},{"$f":"'[1]LÍNEA 4'!V170","v":50000},{"$f":"+AZ170/AU170","v":0.25},{"$f":"'[1]LÍNEA 4'!W170","v":50000},0.25,{"$f":"'[18]2016'!K16","v":79794},{"$f":"'[18]2017'!K16","v":75273},{"$f":"'[18]2018'!K16","v":0},{"$f":"'[18]2019'!K16","v":0},1.59588,1,1.50546,1,0,0,0,0,0.775335,0.775335,0.775335,{"$f":"'[18]2016'!P16","v":0},{"$f":"'[18]2016'!Q16","v":0},{"$f":"'[18]2016'!R16","v":0}," -"," -",{"$f":"'[18]2017'!P16","v":0},{"$f":"'[18]2017'!Q16","v":0},{"$f":"'[18]2017'!R16","v":0}," -"," -",{"$f":"'[18]2018'!P16","v":0},{"$f":"'[18]2018'!Q16","v":0},{"$f":"'[18]2018'!R16","v":0}," -"," -",{"$f":"'[18]2019'!P16","v":0},{"$f":"'[18]2019'!Q16","v":0},{"$f":"'[18]2019'!R16","v":0}," -"," -",0,0,0," -"," -","9. Industria, innovación e infraestructura","Equipamiento",{"$f":"'[1]LÍNEA 4'!AQ170","v":"DADEP"}]
[null,null,null,null,null,null,null,null,null,null,null,null,null,null,null,null,null,null,null,null,null,null,null,null,null,null,null,null,null,null,null,null,null,null,null,null,null,null,null,null,null,null,"Beneficiar 200 vendedores informales con proyectos estratégicos o de reubicación.",{"$f":"'[1]LÍNEA 4'!P171","v":" -"},"Número de vendedores informales beneficiados con proyectos estratégicos o de reubicación.",236,{"$f":"'[1]LÍNEA 4'!S171","v":200},{"$f":"'[1]LÍNEA 4'!T171","v":50},0.25,{"$f":"'[1]LÍNEA 4'!U171","v":50},{"$f":"+AX171/AU171","v":0.25},{"$f":"'[1]LÍNEA 4'!V171","v":50},{"$f":"+AZ171/AU171","v":0.25},{"$f":"'[1]LÍNEA 4'!W171","v":50},0.25,{"$f":"'[18]2016'!K17","v":68},{"$f":"'[18]2017'!K17","v":51},{"$f":"'[18]2018'!K17","v":25},{"$f":"'[18]2019'!K17","v":0},1.36,1,1.02,1,0.5,0.5,0,0,0.72,0.72,0.72,{"$f":"'[18]2016'!P17","v":0},{"$f":"'[18]2016'!Q17","v":0},{"$f":"'[18]2016'!R17","v":0}," -"," -",{"$f":"'[18]2017'!P17","v":0},{"$f":"'[18]2017'!Q17","v":0},{"$f":"'[18]2017'!R17","v":0}," -"," -",{"$f":"'[18]2018'!P17","v":0},{"$f":"'[18]2018'!Q17","v":0},{"$f":"'[18]2018'!R17","v":0}," -"," -",{"$f":"'[18]2019'!P17","v":0},{"$f":"'[18]2019'!Q17","v":0},{"$f":"'[18]2019'!R17","v":0}," -"," -",0,0,0," -"," -","8. Trabajo decente y crecimiento económico","Promoción del desarrollo",{"$f":"'[1]LÍNEA 4'!AQ171","v":"DADEP"}]
[null,null,null,null,null,null,null,null,null,null,null,null,null,null,null,null,null,null,null,null,null,null,null,null,null,null,null,null,null,null,null,null,null,null,null,null,null,null,null,null,{"$f":"+RESUMEN!J114","v":0.34123703703703706},"INTERVENCIÓN SOCIAL DEL ESPACIO PÚBLICO","Realizar mantenimiento anual al 100% de los parques \"Ciudad de los parques\".",{"$f":"'[1]LÍNEA 4'!P172","v":2210606},"Porcentaje de parques con mantenimiento anual realizado.","ND",{"$f":"'[1]LÍNEA 4'!S172","v":1},{"$f":"'[1]LÍNEA 4'!T172","v":1},0.25,{"$f":"'[1]LÍNEA 4'!U172","v":1},0.25,{"$f":"'[1]LÍNEA 4'!V172","v":1},0.25,{"$f":"'[1]LÍNEA 4'!W172","v":1},0.25,{"$f":"'[7]2016'!K36","v":1},{"$f":"'[7]2017'!K42","v":1},{"$f":"'[7]2018'!K42","v":1},{"$f":"'[7]2019'!K42","v":0},1,1,1,1,1,1,0,0,0.75,0.75,0.75,{"$f":"'[7]2016'!P36","v":2404458},{"$f":"'[7]2016'!Q36","v":2048199},{"$f":"'[7]2016'!R36","v":0},0.85183396840369019," -",{"$f":"'[7]2017'!P42","v":5065417},{"$f":"'[7]2017'!Q42","v":4965816},{"$f":"'[7]2017'!R42","v":0},0.98033705813361471," -",{"$f":"'[7]2018'!P42","v":4590605},{"$f":"'[7]2018'!Q42","v":4492299},{"$f":"'[7]2018'!R42","v":0},0.97858539342853501," -",{"$f":"'[7]2019'!P42","v":7000000},{"$f":"'[7]2019'!Q42","v":0},{"$f":"'[7]2019'!R42","v":0},0," -",19060480,11506314,0,0.60367388439325764," -","9. Industria, innovación e infraestructura","Equipamiento",{"$f":"'[1]LÍNEA 4'!AQ172","v":"Sec. Infraestructura"}]
[null,null,null,null,null,null,null,null,null,null,null,null,null,null,null,null,null,null,null,null,null,null,null,null,null,null,null,null,null,null,null,null,null,null,null,null,null,null,null,null,null,null,"Intervenir y/o construir 100 equipamientos comunitarios (sociales, deportivos y culturales: canchas sintéticas, muulticentros deportivos, salones comunales, entre otros).",{"$f":"'[1]LÍNEA 4'!P173","v":"2210818\r2210330\r2210293"},"Número de equipamientos comunitarios (sociales, deportivos y culturales: canchas sintéticas, muulticentros deportivos, salones comunales, entre otros) intervenidos y/o constuidos.",400,{"$f":"'[1]LÍNEA 4'!S173","v":100},{"$f":"'[1]LÍNEA 4'!T173","v":5},0.05,{"$f":"'[1]LÍNEA 4'!U173","v":30},{"$f":"+AX173/AU173","v":0.3},{"$f":"'[1]LÍNEA 4'!V173","v":30},{"$f":"+AZ173/AU173","v":0.3},{"$f":"'[1]LÍNEA 4'!W173","v":35},0.35,{"$f":"'[7]2016'!K37","v":9},{"$f":"'[7]2017'!K43","v":80},{"$f":"'[7]2018'!K43","v":20},{"$f":"'[7]2019'!K43","v":0},1.8,1,2.6666666666666665,1,0.66666666666666663,0.66666666666666663,0,0,{"$f":"+SUM(BD173:BG173)/AU173","v":1.0900000000000001},1,1,{"$f":"'[7]2016'!P37","v":10222538},{"$f":"'[7]2016'!Q37","v":9982828},{"$f":"'[7]2016'!R37","v":0},0.97655083307100443," -",{"$f":"'[7]2017'!P43","v":16411601},{"$f":"'[7]2017'!Q43","v":16411601},{"$f":"'[7]2017'!R43","v":0},1," -",{"$f":"'[7]2018'!P43","v":14565475},{"$f":"'[7]2018'!Q43","v":6626339},{"$f":"'[7]2018'!R43","v":0},0.4549346313800271," -",{"$f":"'[7]2019'!P43","v":17075000},{"$f":"'[7]2019'!Q43","v":0},{"$f":"'[7]2019'!R43","v":0},0," -",58274614,33020768,0,0.56664069881269397," -","9. Industria, innovación e infraestructura","Equipamiento",{"$f":"'[1]LÍNEA 4'!AQ173","v":"Sec. Infraestructura"}]
[null,null,null,null,null,null,null,null,null,null,null,null,null,null,null,null,null,null,null,null,null,null,null,null,null,null,null,null,null,null,null,null,null,null,null,null,null,null,null,null,null,null,"Construir 30.000 M2 de andenes.",{"$f":"'[1]LÍNEA 4'!P174","v":2210818},"Número de M2 de andenes construidos.",28850,{"$f":"'[1]LÍNEA 4'!S174","v":30000},{"$f":"'[1]LÍNEA 4'!T174","v":1000},3.3333333333333333E-2,{"$f":"'[1]LÍNEA 4'!U174","v":8200},0.27333333333333332,{"$f":"'[1]LÍNEA 4'!V174","v":10400},0.34666666666666668,{"$f":"'[1]LÍNEA 4'!W174","v":10400},0.34666666666666668,{"$f":"'[7]2016'!K38","v":1972},{"$f":"'[7]2017'!K44","v":10771},{"$f":"'[7]2018'!K44","v":0},{"$f":"'[7]2019'!K44","v":0},1.972,1,1.3135365853658536,1,0,0,0,0,0.42476666666666668,0.42476666666666668,0.42476666666666668,{"$f":"'[7]2016'!P38","v":482500},{"$f":"'[7]2016'!Q38","v":458594},{"$f":"'[7]2016'!R38","v":0},0.95045388601036274," -",{"$f":"'[7]2017'!P44","v":1564632},{"$f":"'[7]2017'!Q44","v":1499959},{"$f":"'[7]2017'!R44","v":0},0.95866567985315398," -",{"$f":"'[7]2018'!P44","v":1438620},{"$f":"'[7]2018'!Q44","v":0},{"$f":"'[7]2018'!R44","v":0},0," -",{"$f":"'[7]2019'!P44","v":4500000},{"$f":"'[7]2019'!Q44","v":0},{"$f":"'[7]2019'!R44","v":0},0," -",7985752,1958553,0,0.24525592580385666," -","9. Industria, innovación e infraestructura","Equipamiento",{"$f":"'[1]LÍNEA 4'!AQ174","v":"Sec. Infraestructura"}]
[null,null,null,null,null,null,null,null,null,null,null,null,null,null,null,null,null,null,null,null,null,null,null,null,null,null,null,null,null,null,null,null,null,null,null,null,null,null,null,null,null,null,"Realizar 4 adecuaciones y/o mantenimientos a las plazas de mercado a cargo del municipio.",{"$f":"'[1]LÍNEA 4'!P175","v":2210818},"Número de adecuaciones y/o mantenimientos realizados a las plazas de mercado a cargo del municipio.",4,{"$f":"'[1]LÍNEA 4'!S175","v":4},{"$f":"'[1]LÍNEA 4'!T175","v":0},0,{"$f":"'[1]LÍNEA 4'!U175","v":1},0.25,{"$f":"'[1]LÍNEA 4'!V175","v":1},0.25,{"$f":"'[1]LÍNEA 4'!W175","v":2},0.5,{"$f":"'[7]2016'!K39","v":0},{"$f":"'[7]2017'!K45","v":1},{"$f":"'[7]2018'!K45","v":0},{"$f":"'[7]2019'!K45","v":0}," -"," -",1,1,0,0,0,0,0.25,0.25,0.25,{"$f":"'[7]2016'!P39","v":0},{"$f":"'[7]2016'!Q39","v":0},{"$f":"'[7]2016'!R39","v":0}," -"," -",{"$f":"'[7]2017'!P45","v":664631},{"$f":"'[7]2017'!Q45","v":585621},{"$f":"'[7]2017'!R45","v":0},0.88112200604545976," -",{"$f":"'[7]2018'!P45","v":1097187},{"$f":"'[7]2018'!Q45","v":0},{"$f":"'[7]2018'!R45","v":0},0," -",{"$f":"'[7]2019'!P45","v":3000000},{"$f":"'[7]2019'!Q45","v":0},{"$f":"'[7]2019'!R45","v":0},0," -",4761818,585621,0,0.12298265074389655," -","9. Industria, innovación e infraestructura","Equipamiento",{"$f":"'[1]LÍNEA 4'!AQ175","v":"Sec. Infraestructura"}]
[null,null,null,null,null,null,null,null,null,null,null,null,null,null,null,null,null,null,null,null,null,null,null,null,null,null,null,null,null,null,null,null,null,null,null,null,null,null,null,null,null,null,"Realizar 50 intervenciones en espacios públicos \"La piel de la democracia\".",{"$f":"'[1]LÍNEA 4'!P176","v":2210231},"Número de intervenciones en espacio público \"La piel de la democracia\" realizadas.",0,{"$f":"'[1]LÍNEA 4'!S176","v":50},{"$f":"'[1]LÍNEA 4'!T176","v":5},0.1,{"$f":"'[1]LÍNEA 4'!U176","v":15},0.3,{"$f":"'[1]LÍNEA 4'!V176","v":15},0.3,{"$f":"'[1]LÍNEA 4'!W176","v":15},0.3,{"$f":"'[7]2016'!K40","v":11},{"$f":"'[7]2017'!K46","v":9},{"$f":"'[7]2018'!K46","v":0},{"$f":"'[7]2019'!K46","v":0},2.2000000000000002,1,0.6,0.6,0,0,0,0,0.4,0.4,0.4,{"$f":"'[7]2016'!P40","v":1000000},{"$f":"'[7]2016'!Q40","v":0},{"$f":"'[7]2016'!R40","v":0},0," -",{"$f":"'[7]2017'!P46","v":564631},{"$f":"'[7]2017'!Q46","v":481173},{"$f":"'[7]2017'!R46","v":0},0.85219019147018138," -",{"$f":"'[7]2018'!P46","v":1617187},{"$f":"'[7]2018'!Q46","v":0},{"$f":"'[7]2018'!R46","v":0},0," -",{"$f":"'[7]2019'!P46","v":7500000},{"$f":"'[7]2019'!Q46","v":0},{"$f":"'[7]2019'!R46","v":0},0," -",10681818,481173,0,4.504598374546355E-2," -","9. Industria, innovación e infraestructura","Equipamiento",{"$f":"'[1]LÍNEA 4'!AQ176","v":"Sec. Infraestructura"}]
[null,null,null,null,null,null,null,null,null,null,null,null,null,null,null,null,null,null,null,null,null,null,null,null,null,null,null,null,null,null,null,null,null,null,null,null,null,null,null,null,null,null,"Mejorar 6.600 M2 de espacio público en el centro de la ciudad.",{"$f":"'[1]LÍNEA 4'!P177","v":0},"Número de M2 de espacio público mejorados en el centro de la ciudad.",0,{"$f":"'[1]LÍNEA 4'!S177","v":6600},{"$f":"'[1]LÍNEA 4'!T177","v":0},0,{"$f":"'[1]LÍNEA 4'!U177","v":0},0,{"$f":"'[1]LÍNEA 4'!V177","v":3300},0.5,{"$f":"'[1]LÍNEA 4'!W177","v":3300},0.5,{"$f":"'[7]2016'!K41","v":0},{"$f":"'[6]2017'!$K$55","v":0},{"$f":"'[6]2018'!$K$55","v":0},{"$f":"'[6]2019'!$K$55","v":0}," -"," -"," -"," -",0,0,0,0,0,0,0,{"$f":"'[7]2016'!P41","v":0},{"$f":"'[7]2016'!Q41","v":0},{"$f":"'[7]2016'!R41","v":0}," -"," -",{"$f":"'[6]2017'!P55","v":0},{"$f":"'[6]2017'!Q55","v":0},{"$f":"'[6]2017'!R55","v":0}," -"," -",{"$f":"'[6]2018'!P55","v":0},{"$f":"'[6]2018'!Q55","v":0},{"$f":"'[6]2018'!R55","v":0}," -"," -",{"$f":"'[6]2019'!P55","v":0},{"$f":"'[6]2019'!Q55","v":0},{"$f":"'[6]2019'!R55","v":0}," -"," -",0,0,0," -"," -","9. Industria, innovación e infraestructura","Equipamiento",{"$f":"'[1]LÍNEA 4'!AQ177","v":"Sec. Planeación"}]
[null,null,null,null,null,null,null,null,null,null,null,null,null,null,null,null,null,null,null,null,null,null,null,null,null,null,null,null,null,null,null,null,null,null,null,null,null,null,null,null,null,null,"Rehabilitar la plaza San Mateo.",{"$f":"'[1]LÍNEA 4'!P178","v":2210818},"Porcentaje de avance en la rehabilitación de la plaza San Mateo.",0,{"$f":"'[1]LÍNEA 4'!S178","v":1},{"$f":"'[1]LÍNEA 4'!T178","v":0},0,{"$f":"'[1]LÍNEA 4'!U178","v":0},0,{"$f":"'[1]LÍNEA 4'!V178","v":0.5},0.5,{"$f":"'[1]LÍNEA 4'!W178","v":0.5},0.5,{"$f":"'[7]2016'!K42","v":0},{"$f":"'[7]2017'!K47","v":0},{"$f":"'[7]2018'!K47","v":0},{"$f":"'[7]2019'!K47","v":0}," -"," -"," -"," -",0,0,0,0,0,0,0,{"$f":"'[7]2016'!P42","v":0},{"$f":"'[7]2016'!Q42","v":0},{"$f":"'[7]2016'!R42","v":0}," -"," -",{"$f":"'[7]2017'!P47","v":0},{"$f":"'[7]2017'!Q47","v":0},{"$f":"'[7]2017'!R47","v":0}," -"," -",{"$f":"'[7]2018'!P47","v":1097187},{"$f":"'[7]2018'!Q47","v":0},{"$f":"'[7]2018'!R47","v":0},0," -",{"$f":"'[7]2019'!P47","v":0},{"$f":"'[7]2019'!Q47","v":0},{"$f":"'[7]2019'!R47","v":0}," -"," -",1097187,0,0,0," -","9. Industria, innovación e infraestructura","Equipamiento",{"$f":"'[1]LÍNEA 4'!AQ178","v":"Sec. Infraestructura"}]
[null,null,null,null,null,null,null,null,null,null,null,null,null,null,null,null,null,null,null,null,null,null,null,null,null,null,null,null,null,null,null,null,null,null,null,null,null,null,null,null,null,null,"Construir 1 subsector del Parque Lineal Rio de Oro.",{"$f":"'[1]LÍNEA 4'!P179","v":" -"},"Porcentaje de avance en la construcción del  subsector del parque lineal Rio de Oro.",0,{"$f":"'[1]LÍNEA 4'!S179","v":1},{"$f":"'[1]LÍNEA 4'!T179","v":0},0,{"$f":"'[1]LÍNEA 4'!U179","v":0.2},0.2,{"$f":"'[1]LÍNEA 4'!V179","v":0.4},0.4,{"$f":"'[1]LÍNEA 4'!W179","v":0.4},0.4,{"$f":"'[7]2016'!K43","v":0},{"$f":"'[7]2017'!K48","v":0},{"$f":"'[7]2018'!K48","v":0.1},{"$f":"'[7]2019'!K48","v":0}," -"," -",0,0,0.25,0.25,0,0,0.1,0.1,0.1,{"$f":"'[7]2016'!P43","v":0},{"$f":"'[7]2016'!Q43","v":0},{"$f":"'[7]2016'!R43","v":0}," -"," -",{"$f":"'[7]2017'!P48","v":259738},{"$f":"'[7]2017'!Q48","v":0},{"$f":"'[7]2017'!R48","v":0},0," -",{"$f":"'[7]2018'!P48","v":0},{"$f":"'[7]2018'!Q48","v":0},{"$f":"'[7]2018'!R48","v":0}," -"," -",{"$f":"'[7]2019'!P48","v":0},{"$f":"'[7]2019'!Q48","v":0},{"$f":"'[7]2019'!R48","v":0}," -"," -",259738,0,0,0," -","9. Industria, innovación e infraestructura","Ambiental",{"$f":"'[1]LÍNEA 4'!AQ179","v":"Sec. Infraestructura"}]
[null,null,null,null,null,null,null,null,null,null,null,null,null,null,null,null,null,null,null,null,null,null,null,null,null,null,null,null,null,null,null,null,null,null,null,null,null,null,null,null,null,null,"Construir 1 subsector del Parque sobre la quebrada la Esperanza.",{"$f":"'[1]LÍNEA 4'!P180","v":" -"},"Porcentaje de avance en la construcción del  subsector del parque sobre la quebrada la Esperanza.",0,{"$f":"'[1]LÍNEA 4'!S180","v":1},{"$f":"'[1]LÍNEA 4'!T180","v":0},0,{"$f":"'[1]LÍNEA 4'!U180","v":0},0,{"$f":"'[1]LÍNEA 4'!V180","v":0.5},0.5,{"$f":"'[1]LÍNEA 4'!W180","v":0.5},0.5,{"$f":"'[7]2016'!K44","v":0},{"$f":"'[7]2017'!K49","v":0},{"$f":"'[7]2018'!K49","v":0},{"$f":"'[7]2019'!K49","v":0}," -"," -"," -"," -",0,0,0,0,0,0,0,{"$f":"'[7]2016'!P44","v":0},{"$f":"'[7]2016'!Q44","v":0},{"$f":"'[7]2016'!R44","v":0}," -"," -",{"$f":"'[7]2017'!P49","v":0},{"$f":"'[7]2017'!Q49","v":0},{"$f":"'[7]2017'!R49","v":0}," -"," -",{"$f":"'[7]2018'!P49","v":0},{"$f":"'[7]2018'!Q49","v":0},{"$f":"'[7]2018'!R49","v":0}," -"," -",{"$f":"'[7]2019'!P49","v":0},{"$f":"'[7]2019'!Q49","v":0},{"$f":"'[7]2019'!R49","v":0}," -"," -",0,0,0," -"," -","9. Industria, innovación e infraestructura","Ambiental",{"$f":"'[1]LÍNEA 4'!AQ180","v":"Sec. Infraestructura"}]
[null,null,null,null,null,null,null,null,null,null,null,null,null,null,null,null,null,null,null,null,null,null,null,null,null,null,null,null,null,null,null,null,null,null,null,null,null,null,null,null,null,null,"Construir 1 subsector del Parque Lineal sobre la Quebrada la Iglesia.",{"$f":"'[1]LÍNEA 4'!P181","v":" -"},"Porcentaje de avance en la construcción del subsector del parque lineal sobre la Quebrada la Iglesia. ",0.2,{"$f":"'[1]LÍNEA 4'!S181","v":1},{"$f":"'[1]LÍNEA 4'!T181","v":0},0,{"$f":"'[1]LÍNEA 4'!U181","v":0.2},0.2,{"$f":"'[1]LÍNEA 4'!V181","v":0.4},0.4,{"$f":"'[1]LÍNEA 4'!W181","v":0.4},0.4,{"$f":"'[7]2016'!K45","v":0},{"$f":"'[7]2017'!K50","v":0},{"$f":"'[7]2018'!K50","v":0},{"$f":"'[7]2019'!K50","v":0}," -"," -",0,0,0,0,0,0,0,0,0,{"$f":"'[7]2016'!P45","v":0},{"$f":"'[7]2016'!Q45","v":0},{"$f":"'[7]2016'!R45","v":0}," -"," -",{"$f":"'[7]2017'!P50","v":64631},{"$f":"'[7]2017'!Q50","v":0},{"$f":"'[7]2017'!R50","v":0},0," -",{"$f":"'[7]2018'!P50","v":0},{"$f":"'[7]2018'!Q50","v":0},{"$f":"'[7]2018'!R50","v":0}," -"," -",{"$f":"'[7]2019'!P50","v":0},{"$f":"'[7]2019'!Q50","v":0},{"$f":"'[7]2019'!R50","v":0}," -"," -",64631,0,0,0," -","9. Industria, innovación e infraestructura","Ambiental",{"$f":"'[1]LÍNEA 4'!AQ181","v":"Sec. Infraestructura"}]
[null,null,null,null,null,null,null,null,null,null,null,null,null,null,null,null,null,null,null,null,null,null,null,null,null,null,null,null,null,null,null,null,null,null,null,null,null,null,null,null,null,null,"Realizar la recuperación paisajística del Parque Metropolitano del Norte.",{"$f":"'[1]LÍNEA 4'!P182","v":" -"},"Porcentaje de recuperación paisajística del parque metropolitano del norte. ",0,{"$f":"'[1]LÍNEA 4'!S182","v":1},{"$f":"'[1]LÍNEA 4'!T182","v":0},0,{"$f":"'[1]LÍNEA 4'!U182","v":0.2},0.2,{"$f":"'[1]LÍNEA 4'!V182","v":0.4},0.4,{"$f":"'[1]LÍNEA 4'!W182","v":0.4},0.4,{"$f":"'[7]2016'!K46","v":0},{"$f":"'[7]2017'!K51","v":0},{"$f":"'[7]2018'!K51","v":0},{"$f":"'[7]2019'!K51","v":0}," -"," -",0,0,0,0,0,0,0,0,0,{"$f":"'[7]2016'!P46","v":0},{"$f":"'[7]2016'!Q46","v":0},{"$f":"'[7]2016'!R46","v":0}," -"," -",{"$f":"'[7]2017'!P51","v":64631},{"$f":"'[7]2017'!Q51","v":0},{"$f":"'[7]2017'!R51","v":0},0," -",{"$f":"'[7]2018'!P51","v":0},{"$f":"'[7]2018'!Q51","v":0},{"$f":"'[7]2018'!R51","v":0}," -"," -",{"$f":"'[7]2019'!P51","v":0},{"$f":"'[7]2019'!Q51","v":0},{"$f":"'[7]2019'!R51","v":0}," -"," -",64631,0,0,0," -","9. Industria, innovación e infraestructura","Ambiental",{"$f":"'[1]LÍNEA 4'!AQ182","v":"Sec. Infraestructura"}]
[null,null,null,null,null,null,null,null,null,null,null,null,null,null,null,null,null,null,null,null,null,null,null,null,null,null,null,null,null,null,null,null,null,null,null,null,null,null,null,null,null,null,"Recuperar la estación Café Madrid.",{"$f":"'[1]LÍNEA 4'!P183","v":" -"},"Porcentaje de recuperación de la estación Café Madrid.",0,{"$f":"'[1]LÍNEA 4'!S183","v":1},{"$f":"'[1]LÍNEA 4'!T183","v":0},0,{"$f":"'[1]LÍNEA 4'!U183","v":0.2},0.2,{"$f":"'[1]LÍNEA 4'!V183","v":0.4},0.4,{"$f":"'[1]LÍNEA 4'!W183","v":0.4},0.4,{"$f":"'[7]2016'!$K$47","v":0},{"$f":"'[7]2017'!K52","v":0},{"$f":"'[7]2018'!K52","v":0.08},{"$f":"'[7]2019'!K52","v":0}," -"," -",0,0,0.19999999999999998,0.19999999999999998,0,0,0.08,0.08,0.08,{"$f":"'[7]2016'!P47","v":0},{"$f":"'[7]2016'!Q47","v":0},{"$f":"'[7]2016'!R47","v":0}," -"," -",{"$f":"'[7]2017'!P52","v":384328},{"$f":"'[7]2017'!Q52","v":0},{"$f":"'[7]2017'!R52","v":0},0," -",{"$f":"'[7]2018'!P52","v":0},{"$f":"'[7]2018'!Q52","v":0},{"$f":"'[7]2018'!R52","v":0}," -"," -",{"$f":"'[7]2019'!P52","v":0},{"$f":"'[7]2019'!Q52","v":0},{"$f":"'[7]2019'!R52","v":0}," -"," -",384328,0,0,0," -","9. Industria, innovación e infraestructura","Equipamiento",{"$f":"'[1]LÍNEA 4'!AQ183","v":"Sec. Infraestructura"}]
[null,null,null,null,null,null,null,null,null,null,null,null,null,null,null,null,null,null,null,null,null,null,null,null,null,null,null,null,null,null,null,null,null,null,null,null,null,null,null,null,null,null,"Mantener 4 intervenciones estratégicas para las diferentes plazas de mercado a cargo del municipio.",{"$f":"'[1]LÍNEA 4'!P184","v":2210981},"Número de intervenciones estratégicas mantenidas para las diferentes plazas de mercado a cargo del municipio.",4,{"$f":"'[1]LÍNEA 4'!S184","v":4},{"$f":"'[1]LÍNEA 4'!T184","v":4},0.25,{"$f":"'[1]LÍNEA 4'!U184","v":4},0.25,{"$f":"'[1]LÍNEA 4'!V184","v":4},0.25,{"$f":"'[1]LÍNEA 4'!W184","v":4},0.25,{"$f":"'[2]2016'!K64","v":3},{"$f":"'[2]2017'!K64","v":4},{"$f":"'[2]2018'!K64","v":4},{"$f":"'[2]2019'!K64","v":0},0.75,0.75,1,1,1,1,0,0,0.6875,0.6875,0.6875,{"$f":"'[2]2016'!P64","v":690000},{"$f":"'[2]2016'!Q64","v":679882},{"$f":"'[2]2016'!R64","v":0},0.98533623188405794," -",{"$f":"'[2]2017'!P64","v":967701},{"$f":"'[2]2017'!Q64","v":816109},{"$f":"'[2]2017'!R64","v":0},0.84334830696671803," -",{"$f":"'[2]2018'!P64","v":1134940},{"$f":"'[2]2018'!Q64","v":557988},{"$f":"'[2]2018'!R64","v":0},0.49164537332369995," -",{"$f":"'[2]2019'!P64","v":650000},{"$f":"'[2]2019'!Q64","v":0},{"$f":"'[2]2019'!R64","v":0},0," -",3442641,2053979,0,0.5966288671981772," -","9. Industria, innovación e infraestructura","Equipamiento",{"$f":"'[1]LÍNEA 4'!AQ184","v":"Sec. Interior"}]
[null,null,null,null,null,null,null,null,null,null,null,null,null,null,null,null,null,null,null,null,null,null,null,null,null,null,null,null,null,null,null,null,null,null,null,null,null,null,null,null,null,null,"Realizar 4 estudios de diagnóstico en las plazas de mercado a cargo del Municipio.",{"$f":"'[1]LÍNEA 4'!P185","v":" -"},"Número de estudios de diagnóstico realizados en las plazas de mercado a cargo del Municipio.",0,{"$f":"'[1]LÍNEA 4'!S185","v":4},{"$f":"'[1]LÍNEA 4'!T185","v":0},0,{"$f":"'[1]LÍNEA 4'!U185","v":4},{"$f":"+AX185/AU185","v":1},{"$f":"'[1]LÍNEA 4'!V185","v":0},{"$f":"+AZ185/AU185","v":0},{"$f":"'[1]LÍNEA 4'!W185","v":0},0,{"$f":"'[2]2016'!K65","v":0.3},{"$f":"'[2]2017'!K65","v":4},{"$f":"'[2]2018'!K65","v":0},{"$f":"'[2]2019'!K65","v":0}," -"," -",1,1," -"," -"," -"," -",1.075,1,1,{"$f":"'[2]2016'!P65","v":0},{"$f":"'[2]2016'!Q65","v":0},{"$f":"'[2]2016'!R65","v":0}," -"," -",{"$f":"'[2]2017'!P65","v":56800},{"$f":"'[2]2017'!Q65","v":32560},{"$f":"'[2]2017'!R65","v":0},0.57323943661971832," -",{"$f":"'[2]2018'!P65","v":0},{"$f":"'[2]2018'!Q65","v":0},{"$f":"'[2]2018'!R65","v":0}," -"," -",{"$f":"'[2]2019'!P65","v":0},{"$f":"'[2]2019'!Q65","v":0},{"$f":"'[2]2019'!R65","v":0}," -"," -",56800,32560,0,0.57323943661971832," -","9. Industria, innovación e infraestructura","Equipamiento",{"$f":"'[1]LÍNEA 4'!AQ185","v":"Sec. Interior"}]
[null,null,null,null,null,null,null,null,null,null,null,null,null,null,null,null,null,null,null,null,null,null,null,null,null,null,null,null,null,null,null,null,null,null,null,null,null,null,null,null,null,null,"Realizar 1.700 operativos de recuperación, control y preservación del espacio público.",{"$f":"'[1]LÍNEA 4'!P186","v":2210839},"Número de operativos de recuperación, control y preservación del espacio público realizados.",10425,{"$f":"'[1]LÍNEA 4'!S186","v":1700},{"$f":"'[1]LÍNEA 4'!T186","v":200},0.11764705882352941,{"$f":"'[1]LÍNEA 4'!U186","v":500},{"$f":"+AX186/AU186","v":0.29411764705882354},{"$f":"'[1]LÍNEA 4'!V186","v":500},{"$f":"+AZ186/AU186","v":0.29411764705882354},{"$f":"'[1]LÍNEA 4'!W186","v":500},0.29411764705882354,{"$f":"'[2]2016'!K66","v":900},{"$f":"'[2]2017'!K66","v":810},{"$f":"'[2]2018'!K66","v":405},{"$f":"'[2]2019'!K66","v":0},4.5,1,1.62,1,0.81,0.81,0,0,1.2441176470588236,1,1,{"$f":"'[2]2016'!P66","v":500000},{"$f":"'[2]2016'!Q66","v":488873},{"$f":"'[2]2016'!R66","v":0},0.977746," -",{"$f":"'[2]2017'!P66","v":470335},{"$f":"'[2]2017'!Q66","v":442403},{"$f":"'[2]2017'!R66","v":0},0.94061254212423062," -",{"$f":"'[2]2018'!P66","v":385000},{"$f":"'[2]2018'!Q66","v":90000},{"$f":"'[2]2018'!R66","v":0},0.23376623376623376," -",{"$f":"'[2]2019'!P66","v":500000},{"$f":"'[2]2019'!Q66","v":0},{"$f":"'[2]2019'!R66","v":0},0," -",1855335,1021276,0,0.55045369165137292," -","11. Ciudades y comunidades sostenibles","Justicia y Seguridad",{"$f":"'[1]LÍNEA 4'!AQ186","v":"Sec. Interior"}]
[null,null,null,null,null,null,null,null,null,null,null,null,null,null,null,null,null,null,null,null,null,null,null,null,null,null,null,null,null,null,null,null,null,null,null,null,null,null,null,null,null,null,"Actualizar los estudios y diseños de la plaza San Mateo.",{"$f":"'[1]LÍNEA 4'!P187","v":" -"},"Número de estudios y diseños actualizados de la plaza San Mateo.",1,{"$f":"'[1]LÍNEA 4'!S187","v":1},{"$f":"'[1]LÍNEA 4'!T187","v":0},0,{"$f":"'[1]LÍNEA 4'!U187","v":1},{"$f":"+AX187/AU187","v":1},{"$f":"'[1]LÍNEA 4'!V187","v":0},{"$f":"+AZ187/AU187","v":0},{"$f":"'[1]LÍNEA 4'!W187","v":0},0,{"$f":"'[6]2016'!$K$59","v":0},{"$f":"'[7]2017'!$K$53","v":0.2},{"$f":"'[7]2018'!$K$53","v":0},{"$f":"'[7]2019'!$K$53","v":0}," -"," -",0.2,0.2," -"," -"," -"," -",0.2,0.2,0.2,{"$f":"'[6]2016'!P59","v":0},{"$f":"'[6]2016'!Q59","v":0},{"$f":"'[6]2016'!R59","v":0}," -"," -",{"$f":"'[7]2017'!P53","v":0},{"$f":"'[7]2017'!Q53","v":0},{"$f":"'[7]2017'!R53","v":0}," -"," -",{"$f":"'[7]2018'!P53","v":0},{"$f":"'[7]2018'!Q53","v":0},{"$f":"'[7]2018'!R53","v":0}," -"," -",{"$f":"'[7]2019'!P53","v":0},{"$f":"'[7]2019'!Q53","v":0},{"$f":"'[7]2019'!R53","v":0}," -"," -",0,0,0," -"," -","9. Industria, innovación e infraestructura","Equipamiento",{"$f":"'[1]LÍNEA 4'!AQ187","v":"Sec. Infraestructura"}]
[null,null,null,null,null,null,null,null,null,null,null,null,null,null,null,null,null,null,null,null,null,null,null,null,null,null,null,null,null,null,null,null,null,null,null,null,null,null,null,null,null,null,"Dedicar 1 escenario al fomento de las manifestaciones culturales en la zona norte de la ciudad.",{"$f":"'[1]LÍNEA 4'!P188","v":" -"},"Número de escenarios dedicados al fomento de las manifestaciones culturales en la zona norte de la ciudad.",0,{"$f":"'[1]LÍNEA 4'!S188","v":1},{"$f":"'[1]LÍNEA 4'!T188","v":0},0,{"$f":"'[1]LÍNEA 4'!U188","v":0},{"$f":"+AX188/AU188","v":0},{"$f":"'[1]LÍNEA 4'!V188","v":1},{"$f":"+AZ188/AU188","v":1},{"$f":"'[1]LÍNEA 4'!W188","v":0},0,{"$f":"'[12]2016'!K64","v":0},{"$f":"'[12]2017'!K63","v":0},{"$f":"'[12]2018'!K63","v":0},{"$f":"'[12]2019'!K63","v":0}," -"," -"," -"," -",0,0," -"," -",0,0,0,{"$f":"'[12]2016'!P64","v":0},{"$f":"'[12]2016'!Q64","v":0},{"$f":"'[12]2016'!R64","v":0}," -"," -",{"$f":"'[12]2017'!P63","v":0},{"$f":"'[12]2017'!Q63","v":0},{"$f":"'[12]2017'!R63","v":0}," -"," -",{"$f":"'[12]2018'!P63","v":0},{"$f":"'[12]2018'!Q63","v":0},{"$f":"'[12]2018'!R63","v":0}," -"," -",{"$f":"'[12]2019'!P63","v":0},{"$f":"'[12]2019'!Q63","v":0},{"$f":"'[12]2019'!R63","v":0}," -"," -",0,0,0," -"," -","9. Industria, innovación e infraestructura","Cultura",{"$f":"'[1]LÍNEA 4'!AQ188","v":"IMCT"}]
[null,null,null,null,null,null,null,null,null,null,null,null,null,null,null,null,null,null,null,null,null,null,null,null,null,null,null,null,null,null,null,null,null,null,null,null,null,null,null,null,null,null,"Formular e implementar 1 plan de pintura urbana y de mantenimiento del espacio público y ornato de la ciudad (muros, puentes, escaleras, andenes, entre otros).",{"$f":"'[1]LÍNEA 4'!P189","v":"2.2.1.39.3"},"Número de planes de pintura urbana y de mantenimiento del espacio público y ornato de la ciudad (muros, puentes, escaleras, andentes, entre otros) formulados e implementados.",0,{"$f":"'[1]LÍNEA 4'!S189","v":1},{"$f":"'[1]LÍNEA 4'!T189","v":1},0.25,{"$f":"'[1]LÍNEA 4'!U189","v":1},0.25,{"$f":"'[1]LÍNEA 4'!V189","v":1},0.25,{"$f":"'[1]LÍNEA 4'!W189","v":1},0.25,{"$f":"'[12]2016'!K65","v":0},{"$f":"'[12]2017'!K64","v":1},{"$f":"'[12]2018'!K64","v":0},{"$f":"'[12]2019'!K64","v":0},0,0,1,1,0,0,0,0,{"$f":"+AVERAGE(BD189:BG189)/AU189","v":0.25},0.25,0.25,{"$f":"'[12]2016'!P65","v":51258},{"$f":"'[12]2016'!Q65","v":0},{"$f":"'[12]2016'!R65","v":0},0," -",{"$f":"'[12]2017'!P64","v":51258},{"$f":"'[12]2017'!Q64","v":30000},{"$f":"'[12]2017'!R64","v":0},0.58527449373756291," -",{"$f":"'[12]2018'!P64","v":71258},{"$f":"'[12]2018'!Q64","v":0},{"$f":"'[12]2018'!R64","v":0},0," -",{"$f":"'[12]2019'!P64","v":250000},{"$f":"'[12]2019'!Q64","v":0},{"$f":"'[12]2019'!R64","v":0},0," -",423774,30000,0,7.079245069305809E-2," -","9. Industria, innovación e infraestructura","Cultura",{"$f":"'[1]LÍNEA 4'!AQ189","v":"IMCT"}]
[null,null,null,null,null,null,null,null,null,null,null,null,null,null,null,null,null,null,null,null,null,null,null,null,null,null,null,null,null,null,null,null,null,null,null,null,null,null,null,null,null,null,null,null,null,null,{"$f":"'[1]LÍNEA 4'!S190","v":0},{"$f":"'[1]LÍNEA 4'!T190","v":0},{"$f":"+AVERAGE(AW169:AW189)","v":9.2903828197945848E-2},{"$f":"'[1]LÍNEA 4'!U190","v":0},{"$f":"+AVERAGE(AY169:AY189)","v":0.26987861811391223},{"$f":"'[1]LÍNEA 4'!V190","v":0},0.33527544351073768,{"$f":"'[1]LÍNEA 4'!W190","v":0},0.3019421101774043,null,null,null,null,null,{"$f":"+AVERAGE(BI169:BI189)","v":0.875},null,0.69411764705882351,null,0.28561403508771938,null,0,null,{"$f":"+AVERAGE(BQ169:BQ189)","v":0.41131436507936503}]
[null,null,null,{"$f":"+RESUMEN!J115","v":0.65797894806048662},"SEGURIDAD Y CONVIVENCIA","Reducir a 19 la tasa de homicidios.",21.2,19,{"$f":"+H191-G191","v":-2.1999999999999993},21,{"$f":"+J191-G191","v":-0.19999999999999929},null,21,{"$f":"+M191-J191","v":0},null,20,{"$f":"+P191-M191","v":-1},null,19,{"$f":"+S191-P191","v":-1},null,19.5,{"$f":"+IF(V191=0,0,V191-G191)","v":-1.6999999999999993},null,{"$f":"+IF(X191=0,0,X191-V191)","v":0},null,{"$f":"+IF(Z191=0,0,Z191-X191)","v":0},null,{"$f":"+IF(AB191=0,0,AB191-Z191)","v":0},{"$f":"+IF(K191=0,\" -\",W191/K191)","v":8.5000000000000266},{"$f":"+IF(K191=0,\" -\",IF(AD191>100%,100%,AD191))","v":1},{"$f":"+IF(N191=0,\" -\",Y191/N191)","v":" -"},{"$f":"+IF(N191=0,\" -\",IF(AF191>100%,100%,AF191))","v":" -"},{"$f":"+IF(Q191=0,\" -\",AA191/Q191)","v":0},{"$f":"+IF(Q191=0,\" -\",IF(AH191>100%,100%,AH191))","v":0},{"$f":"+IF(T191=0,\" -\",AC191/T191)","v":0},{"$f":"+IF(T191=0,\" -\",IF(AJ191>100%,100%,AJ191))","v":0},{"$f":"+SUM(AC191,AA191,Y191,W191)/I191","v":0.77272727272727271},{"$f":"+IF(AL191>100%,100%,IF(AL191<0%,0%,AL191))","v":0.77272727272727271},null,{"$f":"+RESUMEN!J116","v":0.6875},"CASAS DE JUSTICIA","Crear y mantener en funcionamiento la casa de justicia del sur.",{"$f":"'[1]LÍNEA 4'!P191","v":" -"},"Número de casas de justicia del sur creadas y mantenidas.",0,{"$f":"'[1]LÍNEA 4'!S191","v":1},{"$f":"'[1]LÍNEA 4'!T191","v":0},0,{"$f":"'[1]LÍNEA 4'!U191","v":0},{"$f":"+AX191/AU191","v":0},{"$f":"'[1]LÍNEA 4'!V191","v":0},0.5,{"$f":"'[1]LÍNEA 4'!W191","v":1},0.5,{"$f":"'[2]2016'!K68","v":0},{"$f":"'[2]2017'!K68","v":0},{"$f":"'[2]2018'!K68","v":0},{"$f":"'[2]2019'!K68","v":0}," -"," -"," -"," -"," -"," -",0,0,{"$f":"+SUM(BF191:BG191)/AU191","v":0},0,0,{"$f":"'[2]2016'!P68","v":0},{"$f":"'[2]2016'!Q68","v":0},{"$f":"'[2]2016'!R68","v":0}," -"," -",{"$f":"'[2]2017'!P68","v":0},{"$f":"'[2]2017'!Q68","v":0},{"$f":"'[2]2017'!R68","v":0}," -"," -",{"$f":"'[2]2018'!P68","v":0},{"$f":"'[2]2018'!Q68","v":0},{"$f":"'[2]2018'!R68","v":0}," -"," -",{"$f":"'[2]2019'!P68","v":120000},{"$f":"'[2]2019'!Q68","v":0},{"$f":"'[2]2019'!R68","v":0},0," -",120000,0,0,0," -","16. Paz, justicia e instituciones sólidas","Justicia y Seguridad",{"$f":"'[1]LÍNEA 4'!AQ191","v":"Sec. Interior"}]
[null,null,null,null,null,null,null,null,null,null,null,null,null,null,null,null,null,null,null,null,null,null,null,null,null,null,null,null,null,null,null,null,null,null,null,null,null,null,null,null,null,null,"Mantener y mejorar 1 casa de justicia en el Norte.",{"$f":"'[1]LÍNEA 4'!P192","v":2210264},"Número de casas de justicia en el Norte mantenidas, mejoradas y con más servicios a la ciudadanía.",1,{"$f":"'[1]LÍNEA 4'!S192","v":1},{"$f":"'[1]LÍNEA 4'!T192","v":1},0.25,{"$f":"'[1]LÍNEA 4'!U192","v":1},0.25,{"$f":"'[1]LÍNEA 4'!V192","v":1},0.25,{"$f":"'[1]LÍNEA 4'!W192","v":1},0.25,{"$f":"'[2]2016'!K69","v":1},{"$f":"'[2]2017'!K69","v":1},{"$f":"'[2]2018'!K69","v":1},{"$f":"'[2]2019'!K69","v":0},1,1,1,1,1,1,0,0,0.75,0.75,0.75,{"$f":"'[2]2016'!P69","v":200000},{"$f":"'[2]2016'!Q69","v":0},{"$f":"'[2]2016'!R69","v":0},0," -",{"$f":"'[2]2017'!P69","v":70000},{"$f":"'[2]2017'!Q69","v":0},{"$f":"'[2]2017'!R69","v":14325},0,1,{"$f":"'[2]2018'!P69","v":15000},{"$f":"'[2]2018'!Q69","v":9000},{"$f":"'[2]2018'!R69","v":0},0.6," -",{"$f":"'[2]2019'!P69","v":135000},{"$f":"'[2]2019'!Q69","v":0},{"$f":"'[2]2019'!R69","v":0},0," -",420000,9000,14325,2.1428571428571429E-2,1.5916666666666666,"16. Paz, justicia e instituciones sólidas","Justicia y Seguridad",{"$f":"'[1]LÍNEA 4'!AQ192","v":"Sec. Interior"}]
[null,null,null,null,null,null,null,null,null,null,null,null,null,null,null,null,null,null,null,null,null,null,null,null,null,null,null,null,null,null,null,null,null,null,null,null,null,null,null,null,null,null,"Implementar 17 jueces de paz.",{"$f":"'[1]LÍNEA 4'!P193","v":" -"},"Número de jueces de paz implementados.",0,{"$f":"'[1]LÍNEA 4'!S193","v":17},{"$f":"'[1]LÍNEA 4'!T193","v":0},0,{"$f":"'[1]LÍNEA 4'!U193","v":17},{"$f":"+AX193/AU193","v":1},{"$f":"'[1]LÍNEA 4'!V193","v":0},{"$f":"+AZ193/AU193","v":0},{"$f":"'[1]LÍNEA 4'!W193","v":0},0,{"$f":"'[2]2016'!K70","v":0},{"$f":"'[2]2017'!K70","v":21},{"$f":"'[2]2018'!K70","v":0},{"$f":"'[2]2019'!K70","v":0}," -"," -",1.2352941176470589,1," -"," -"," -"," -",{"$f":"+SUM(BD193:BG193)/AU193","v":1.2352941176470589},1,1,{"$f":"'[2]2016'!P70","v":0},{"$f":"'[2]2016'!Q70","v":0},{"$f":"'[2]2016'!R70","v":0}," -"," -",{"$f":"'[2]2017'!P70","v":0},{"$f":"'[2]2017'!Q70","v":0},{"$f":"'[2]2017'!R70","v":0}," -"," -",{"$f":"'[2]2018'!P70","v":0},{"$f":"'[2]2018'!Q70","v":0},{"$f":"'[2]2018'!R70","v":0}," -"," -",{"$f":"'[2]2019'!P70","v":0},{"$f":"'[2]2019'!Q70","v":0},{"$f":"'[2]2019'!R70","v":0}," -"," -",0,0,0," -"," -","16. Paz, justicia e instituciones sólidas","Justicia y Seguridad",{"$f":"'[1]LÍNEA 4'!AQ193","v":"Sec. Interior"}]
[null,null,null,null,null,null,null,null,null,null,null,null,null,null,null,null,null,null,null,null,null,null,null,null,null,null,null,null,null,null,null,null,null,null,null,null,null,null,null,null,null,null,"Implementar 1  estrategia de promoción denominadas “casa de justicia móvil” en comunidades aledañas a las casas de justicia.",{"$f":"'[1]LÍNEA 4'!P194","v":2210294},"Número de estrategias de promoción denominadas “casa de justicia móvil” implementadas en comunidades aledañas a las casas de justicia.",1,{"$f":"'[1]LÍNEA 4'!S194","v":1},{"$f":"'[1]LÍNEA 4'!T194","v":0},0,{"$f":"'[1]LÍNEA 4'!U194","v":1},{"$f":"+AX194/AU194","v":1},{"$f":"'[1]LÍNEA 4'!V194","v":0},{"$f":"+AZ194/AU194","v":0},{"$f":"'[1]LÍNEA 4'!W194","v":0},0,{"$f":"'[2]2016'!K71","v":0},{"$f":"'[2]2017'!K71","v":1},{"$f":"'[2]2018'!K71","v":1},{"$f":"'[2]2019'!K71","v":0}," -"," -",1,1," -"," -"," -"," -",2,1,1,{"$f":"'[2]2016'!P71","v":0},{"$f":"'[2]2016'!Q71","v":0},{"$f":"'[2]2016'!R71","v":0}," -"," -",{"$f":"'[2]2017'!P71","v":0},{"$f":"'[2]2017'!Q71","v":0},{"$f":"'[2]2017'!R71","v":0}," -"," -",{"$f":"'[2]2018'!P71","v":50000},{"$f":"'[2]2018'!Q71","v":0},{"$f":"'[2]2018'!R71","v":0},0," -",{"$f":"'[2]2019'!P71","v":0},{"$f":"'[2]2019'!Q71","v":0},{"$f":"'[2]2019'!R71","v":0}," -"," -",50000,0,0,0," -","16. Paz, justicia e instituciones sólidas","Justicia y Seguridad",{"$f":"'[1]LÍNEA 4'!AQ194","v":"Sec. Interior"}]
[null,null,null,null,null,null,null,null,null,null,null,null,null,null,null,null,null,null,null,null,null,null,null,null,null,null,null,null,null,null,null,null,null,null,null,null,null,null,null,null,{"$f":"+RESUMEN!J117","v":0.57021696252465481},"SEGURIDAD CON LÓGICA Y ÉTICA","Aquirir 267 cámaras para el circuito cerrado de televisión.",{"$f":"'[1]LÍNEA 4'!P195","v":0},"Número de cámaras adquiridas para el circuito cerrado de televisión.",125,{"$f":"'[1]LÍNEA 4'!S195","v":267},{"$f":"'[1]LÍNEA 4'!T195","v":0},0,{"$f":"'[1]LÍNEA 4'!U195","v":207},{"$f":"+AX195/AU195","v":0.7752808988764045},{"$f":"'[1]LÍNEA 4'!V195","v":30},{"$f":"+AZ195/AU195","v":0.11235955056179775},{"$f":"'[1]LÍNEA 4'!W195","v":30},0.11235955056179775,{"$f":"'[2]2016'!K72","v":0},{"$f":"'[2]2017'!K72","v":330},{"$f":"'[2]2018'!K72","v":30},{"$f":"'[2]2019'!K72","v":0}," -"," -",1.5942028985507246,1,1,1,0,0,1.348314606741573,1,1,{"$f":"'[2]2016'!P72","v":0},{"$f":"'[2]2016'!Q72","v":0},{"$f":"'[2]2016'!R72","v":0}," -"," -",{"$f":"'[2]2017'!P72","v":4327600},{"$f":"'[2]2017'!Q72","v":4327600},{"$f":"'[2]2017'!R72","v":12982799},1,2.9999997689250395,{"$f":"'[2]2018'!P72","v":0},{"$f":"'[2]2018'!Q72","v":0},{"$f":"'[2]2018'!R72","v":0}," -"," -",{"$f":"'[2]2019'!P72","v":1800000},{"$f":"'[2]2019'!Q72","v":0},{"$f":"'[2]2019'!R72","v":0},0," -",6127600,4327600,12982799,0.70624714406945621,2.9999997689250395,"16. Paz, justicia e instituciones sólidas","Justicia y Seguridad",{"$f":"'[1]LÍNEA 4'!AQ195","v":"Sec. Interior"}]
[null,null,null,null,null,null,null,null,null,null,null,null,null,null,null,null,null,null,null,null,null,null,null,null,null,null,null,null,null,null,null,null,null,null,null,null,null,null,null,null,null,null,"Formular e implementar el Plan Integral de Seguridad (PISCC) en conjunto con autoridades del Comité Municipal de Orden Público.",{"$f":"'[1]LÍNEA 4'!P196","v":"2210122\r2210294"},"Número de Planes Integrales de Seguridad (PISCC) formulados e implementados en conjunto con autoridades del Comité Municipal de Orden Público.",1,{"$f":"'[1]LÍNEA 4'!S196","v":1},{"$f":"'[1]LÍNEA 4'!T196","v":1},0.25,{"$f":"'[1]LÍNEA 4'!U196","v":1},0.25,{"$f":"'[1]LÍNEA 4'!V196","v":1},0.25,{"$f":"'[1]LÍNEA 4'!W196","v":1},0.25,{"$f":"'[2]2016'!K73","v":1},{"$f":"'[2]2017'!K73","v":1},{"$f":"'[2]2018'!K73","v":1},{"$f":"'[2]2019'!K73","v":0},1,1,1,1,1,1,0,0,0.75,0.75,0.75,{"$f":"'[2]2016'!P73","v":1985000},{"$f":"'[2]2016'!Q73","v":1985000},{"$f":"'[2]2016'!R73","v":0},1," -",{"$f":"'[2]2017'!P73","v":8669219},{"$f":"'[2]2017'!Q73","v":2181320},{"$f":"'[2]2017'!R73","v":38669},0.25161666812200728,1.7727339409165092E-2,{"$f":"'[2]2018'!P73","v":7159009},{"$f":"'[2]2018'!Q73","v":0},{"$f":"'[2]2018'!R73","v":0},0," -",{"$f":"'[2]2019'!P73","v":0},{"$f":"'[2]2019'!Q73","v":0},{"$f":"'[2]2019'!R73","v":0}," -"," -",17813228,4166320,38669,0.23388910757780679,9.2813322068396095E-3,"16. Paz, justicia e instituciones sólidas","Justicia y Seguridad",{"$f":"'[1]LÍNEA 4'!AQ196","v":"Sec. Interior"}]
[null,null,null,null,null,null,null,null,null,null,null,null,null,null,null,null,null,null,null,null,null,null,null,null,null,null,null,null,null,null,null,null,null,null,null,null,null,null,null,null,null,null,"Adecuar y poner en funcionamiento 1 estación de policía en el centro.",{"$f":"'[1]LÍNEA 4'!P197","v":2210122},"Número de estaciones de policía en el centro adecuadas y puestas en funcionamiento.",0,{"$f":"'[1]LÍNEA 4'!S197","v":1},{"$f":"'[1]LÍNEA 4'!T197","v":0},0,{"$f":"'[1]LÍNEA 4'!U197","v":1},0.33,{"$f":"'[1]LÍNEA 4'!V197","v":1},0.33,{"$f":"'[1]LÍNEA 4'!W197","v":1},0.34,{"$f":"'[2]2016'!K74","v":0},{"$f":"'[2]2017'!K74","v":1},{"$f":"'[2]2018'!K74","v":0},{"$f":"'[2]2019'!K74","v":0}," -"," -",1,1,0,0,0,0,{"$f":"+AVERAGE(BE197:BG197)/AU197","v":0.33333333333333331},0.33333333333333331,0.33333333333333331,{"$f":"'[2]2016'!P74","v":0},{"$f":"'[2]2016'!Q74","v":0},{"$f":"'[2]2016'!R74","v":0}," -"," -",{"$f":"'[2]2017'!P74","v":1933736},{"$f":"'[2]2017'!Q74","v":1010612},{"$f":"'[2]2017'!R74","v":0},0.52262149538509906," -",{"$f":"'[2]2018'!P74","v":120947},{"$f":"'[2]2018'!Q74","v":0},{"$f":"'[2]2018'!R74","v":0},0," -",{"$f":"'[2]2019'!P74","v":0},{"$f":"'[2]2019'!Q74","v":0},{"$f":"'[2]2019'!R74","v":0}," -"," -",2054683,1010612,0,0.49185786809936133," -","16. Paz, justicia e instituciones sólidas","Justicia y Seguridad",{"$f":"'[1]LÍNEA 4'!AQ197","v":"Sec. Interior"}]
[null,null,null,null,null,null,null,null,null,null,null,null,null,null,null,null,null,null,null,null,null,null,null,null,null,null,null,null,null,null,null,null,null,null,null,null,null,null,null,null,null,null,"Remodelar y/o adecuar 15 CAIs de Policía.",{"$f":"'[1]LÍNEA 4'!P198","v":" -"},"Número de CAIs de Policía remodelados y adecuados.",20,{"$f":"'[1]LÍNEA 4'!S198","v":15},{"$f":"'[1]LÍNEA 4'!T198","v":0},0,{"$f":"'[1]LÍNEA 4'!U198","v":5},{"$f":"+AX198/AU198","v":0.33333333333333331},{"$f":"'[1]LÍNEA 4'!V198","v":5},{"$f":"+AZ198/AU198","v":0.33333333333333331},{"$f":"'[1]LÍNEA 4'!W198","v":5},0.33333333333333331,{"$f":"'[2]2016'!K75","v":0},{"$f":"'[2]2017'!K75","v":0},{"$f":"'[2]2018'!K75","v":0},{"$f":"'[2]2019'!K75","v":0}," -"," -",0,0,0,0,0,0,{"$f":"+SUM(BD198:BG198)/AU198","v":0},0,0,{"$f":"'[2]2016'!P75","v":0},{"$f":"'[2]2016'!Q75","v":0},{"$f":"'[2]2016'!R75","v":0}," -"," -",{"$f":"'[2]2017'!P75","v":0},{"$f":"'[2]2017'!Q75","v":0},{"$f":"'[2]2017'!R75","v":0}," -"," -",{"$f":"'[2]2018'!P75","v":0},{"$f":"'[2]2018'!Q75","v":0},{"$f":"'[2]2018'!R75","v":0}," -"," -",{"$f":"'[2]2019'!P75","v":0},{"$f":"'[2]2019'!Q75","v":0},{"$f":"'[2]2019'!R75","v":0}," -"," -",0,0,0," -"," -","16. Paz, justicia e instituciones sólidas","Justicia y Seguridad",{"$f":"'[1]LÍNEA 4'!AQ198","v":"Sec. Interior"}]
[null,null,null,null,null,null,null,null,null,null,null,null,null,null,null,null,null,null,null,null,null,null,null,null,null,null,null,null,null,null,null,null,null,null,null,null,null,null,null,null,null,null,"Mantener los 169 frentes de seguridad del municipio.",{"$f":"'[1]LÍNEA 4'!P199","v":0},"Número de frentes de seguridad mantenidos.",169,{"$f":"'[1]LÍNEA 4'!S199","v":169},{"$f":"'[1]LÍNEA 4'!T199","v":169},0.25,{"$f":"'[1]LÍNEA 4'!U199","v":169},0.25,{"$f":"'[1]LÍNEA 4'!V199","v":169},0.25,{"$f":"'[1]LÍNEA 4'!W199","v":169},0.25,{"$f":"'[2]2016'!K76","v":0},{"$f":"'[2]2017'!K76","v":92},{"$f":"'[2]2018'!K76","v":101},{"$f":"'[2]2019'!K76","v":0},0,0,0.54437869822485208,0.54437869822485208,0.59763313609467461,0.59763313609467461,0,0,0.28550295857988167,0.28550295857988167,0.28550295857988167,{"$f":"'[2]2016'!P76","v":176292},{"$f":"'[2]2016'!Q76","v":0},{"$f":"'[2]2016'!R76","v":0},0," -",{"$f":"'[2]2017'!P76","v":0},{"$f":"'[2]2017'!Q76","v":0},{"$f":"'[2]2017'!R76","v":0}," -"," -",{"$f":"'[2]2018'!P76","v":0},{"$f":"'[2]2018'!Q76","v":0},{"$f":"'[2]2018'!R76","v":0}," -"," -",{"$f":"'[2]2019'!P76","v":80000},{"$f":"'[2]2019'!Q76","v":0},{"$f":"'[2]2019'!R76","v":0},0," -",256292,0,0,0," -","16. Paz, justicia e instituciones sólidas","Justicia y Seguridad",{"$f":"'[1]LÍNEA 4'!AQ199","v":"Sec. Interior"}]
[null,null,null,null,null,null,null,null,null,null,null,null,null,null,null,null,null,null,null,null,null,null,null,null,null,null,null,null,null,null,null,null,null,null,null,null,null,null,null,null,null,null,"Habilitar 1 Centro de Prevención y Protección al servicio de la Policía .",{"$f":"'[1]LÍNEA 4'!P200","v":2210294},"Número de Centros de Prevención y Protección habilitados al servicio de la Policía.",0,{"$f":"'[1]LÍNEA 4'!S200","v":1},{"$f":"'[1]LÍNEA 4'!T200","v":0},0,{"$f":"'[1]LÍNEA 4'!U200","v":1},{"$f":"+AX200/AU200","v":1},{"$f":"'[1]LÍNEA 4'!V200","v":0},{"$f":"+AZ200/AU200","v":0},{"$f":"'[1]LÍNEA 4'!W200","v":0},0,{"$f":"'[2]2016'!K77","v":0},{"$f":"'[2]2017'!K77","v":0},{"$f":"'[2]2018'!K77","v":0},{"$f":"'[2]2019'!K77","v":0}," -"," -",0,0," -"," -"," -"," -",{"$f":"+SUM(BD200:BG200)/AU200","v":0},0,0,{"$f":"'[2]2016'!P77","v":0},{"$f":"'[2]2016'!Q77","v":0},{"$f":"'[2]2016'!R77","v":0}," -"," -",{"$f":"'[2]2017'!P77","v":567000},{"$f":"'[2]2017'!Q77","v":0},{"$f":"'[2]2017'!R77","v":0},0," -",{"$f":"'[2]2018'!P77","v":2567000},{"$f":"'[2]2018'!Q77","v":0},{"$f":"'[2]2018'!R77","v":0},0," -",{"$f":"'[2]2019'!P77","v":0},{"$f":"'[2]2019'!Q77","v":0},{"$f":"'[2]2019'!R77","v":0}," -"," -",3134000,0,0,0," -","16. Paz, justicia e instituciones sólidas","Justicia y Seguridad",{"$f":"'[1]LÍNEA 4'!AQ200","v":"Sec. Interior"}]
[null,null,null,null,null,"Reducir a 537 la tasa de lesiones personales.",566.79999999999995,537,{"$f":"+H201-G201","v":-29.799999999999955},566,{"$f":"+J201-G201","v":-0.79999999999995453},null,550,{"$f":"+M201-J201","v":-16},null,540,{"$f":"+P201-M201","v":-10},null,537,{"$f":"+S201-P201","v":-3},null,425.7,{"$f":"+IF(V201=0,0,V201-G201)","v":-141.09999999999997},null,{"$f":"+IF(X201=0,0,X201-V201)","v":0},null,{"$f":"+IF(Z201=0,0,Z201-X201)","v":0},null,{"$f":"+IF(AB201=0,0,AB201-Z201)","v":0},{"$f":"+IF(K201=0,\" -\",W201/K201)","v":176.37500000000998},{"$f":"+IF(K201=0,\" -\",IF(AD201>100%,100%,AD201))","v":1},{"$f":"+IF(N201=0,\" -\",Y201/N201)","v":0},{"$f":"+IF(N201=0,\" -\",IF(AF201>100%,100%,AF201))","v":0},{"$f":"+IF(Q201=0,\" -\",AA201/Q201)","v":0},{"$f":"+IF(Q201=0,\" -\",IF(AH201>100%,100%,AH201))","v":0},{"$f":"+IF(T201=0,\" -\",AC201/T201)","v":0},{"$f":"+IF(T201=0,\" -\",IF(AJ201>100%,100%,AJ201))","v":0},{"$f":"+SUM(AC201,AA201,Y201,W201)/I201","v":4.7348993288590666},{"$f":"+IF(AL201>100%,100%,IF(AL201<0%,0%,AL201))","v":1},null,null,null,"Apoyar la implementación y mantener la estrategia del Modelo Nacional de Vigilancia comunitaria por cuadrantes de la Policía.",{"$f":"'[1]LÍNEA 4'!P201","v":2210294},"Número de estrategias del Modelo Nacional Vigilancia comunitaria por cuadrantes de la Policía apoyadas en la implementación y mantenidas.",1,{"$f":"'[1]LÍNEA 4'!S201","v":1},{"$f":"'[1]LÍNEA 4'!T201","v":0},0,{"$f":"'[1]LÍNEA 4'!U201","v":1},0.33,{"$f":"'[1]LÍNEA 4'!V201","v":1},0.33,{"$f":"'[1]LÍNEA 4'!W201","v":1},0.34,{"$f":"'[2]2016'!K78","v":0},{"$f":"'[2]2017'!K78","v":1},{"$f":"'[2]2018'!K78","v":1},{"$f":"'[2]2019'!K78","v":0}," -"," -",1,1,1,1,0,0,{"$f":"+AVERAGE(BE201:BG201)/AU201","v":0.66666666666666663},0.66666666666666663,0.66666666666666663,{"$f":"'[2]2016'!P78","v":0},{"$f":"'[2]2016'!Q78","v":0},{"$f":"'[2]2016'!R78","v":0}," -"," -",{"$f":"'[2]2017'!P78","v":0},{"$f":"'[2]2017'!Q78","v":0},{"$f":"'[2]2017'!R78","v":0}," -"," -",{"$f":"'[2]2018'!P78","v":699684},{"$f":"'[2]2018'!Q78","v":698006},{"$f":"'[2]2018'!R78","v":0},0.99760177451535259," -",{"$f":"'[2]2019'!P78","v":0},{"$f":"'[2]2019'!Q78","v":0},{"$f":"'[2]2019'!R78","v":0}," -"," -",699684,698006,0,0.99760177451535259," -","16. Paz, justicia e instituciones sólidas","Justicia y Seguridad",{"$f":"'[1]LÍNEA 4'!AQ201","v":"Sec. Interior"}]
[null,null,null,null,null,null,null,null,null,null,null,null,null,null,null,null,null,null,null,null,null,null,null,null,null,null,null,null,null,null,null,null,null,null,null,null,null,null,null,null,null,null,"Apoyar la implementación y mantener la metodología de puntos críticos para la seguridad ciudadana de la Policía.",{"$f":"'[1]LÍNEA 4'!P202","v":2210122},"Número de metodologías de puntos críticos para la seguridad ciudadana de la policía apoyadas en su implementación y mantenidas.",0,{"$f":"'[1]LÍNEA 4'!S202","v":1},{"$f":"'[1]LÍNEA 4'!T202","v":0},0,{"$f":"'[1]LÍNEA 4'!U202","v":1},0.33,{"$f":"'[1]LÍNEA 4'!V202","v":1},0.33,{"$f":"'[1]LÍNEA 4'!W202","v":1},0.34,{"$f":"'[2]2016'!K79","v":0},{"$f":"'[2]2017'!K79","v":1},{"$f":"'[2]2018'!K79","v":1},{"$f":"'[2]2019'!K79","v":0}," -"," -",1,1,1,1,0,0,{"$f":"+AVERAGE(BE202:BG202)/AU202","v":0.66666666666666663},0.66666666666666663,0.66666666666666663,{"$f":"'[2]2016'!P79","v":0},{"$f":"'[2]2016'!Q79","v":0},{"$f":"'[2]2016'!R79","v":0}," -"," -",{"$f":"'[2]2017'!P79","v":44276},{"$f":"'[2]2017'!Q79","v":42462},{"$f":"'[2]2017'!R79","v":0},0.95902972264883912," -",{"$f":"'[2]2018'!P79","v":45197},{"$f":"'[2]2018'!Q79","v":0},{"$f":"'[2]2018'!R79","v":0},0," -",{"$f":"'[2]2019'!P79","v":0},{"$f":"'[2]2019'!Q79","v":0},{"$f":"'[2]2019'!R79","v":0}," -"," -",89473,42462,0,0.47457892325058959," -","16. Paz, justicia e instituciones sólidas","Justicia y Seguridad",{"$f":"'[1]LÍNEA 4'!AQ202","v":"Sec. Interior"}]
[null,null,null,null,null,null,null,null,null,null,null,null,null,null,null,null,null,null,null,null,null,null,null,null,null,null,null,null,null,null,null,null,null,null,null,null,null,null,null,null,null,null,"Implementar 1 estrategia de focalización o territorialización en conjunto con demás autoridades de Seguridad.",{"$f":"'[1]LÍNEA 4'!P203","v":2210294},"Número de estrategias de focalización o territorialización implementadas en conjunto con demás autoridades de Seguridad.",0,{"$f":"'[1]LÍNEA 4'!S203","v":1},{"$f":"'[1]LÍNEA 4'!T203","v":0},0,{"$f":"'[1]LÍNEA 4'!U203","v":0},{"$f":"+AX203/AU203","v":0},{"$f":"'[1]LÍNEA 4'!V203","v":0},{"$f":"+AZ203/AU203","v":0},{"$f":"'[1]LÍNEA 4'!W203","v":1},1,{"$f":"'[2]2016'!K80","v":0},{"$f":"'[2]2017'!K80","v":1},{"$f":"'[2]2018'!K80","v":1},{"$f":"'[2]2019'!K80","v":0}," -"," -"," -"," -"," -"," -",0,0,{"$f":"+SUM(BD203:BG203)/AU203","v":2},1,1,{"$f":"'[2]2016'!P80","v":0},{"$f":"'[2]2016'!Q80","v":0},{"$f":"'[2]2016'!R80","v":0}," -"," -",{"$f":"'[2]2017'!P80","v":0},{"$f":"'[2]2017'!Q80","v":0},{"$f":"'[2]2017'!R80","v":0}," -"," -",{"$f":"'[2]2018'!P80","v":50000},{"$f":"'[2]2018'!Q80","v":0},{"$f":"'[2]2018'!R80","v":0},0," -",{"$f":"'[2]2019'!P80","v":0},{"$f":"'[2]2019'!Q80","v":0},{"$f":"'[2]2019'!R80","v":0}," -"," -",50000,0,0,0," -","16. Paz, justicia e instituciones sólidas","Justicia y Seguridad",{"$f":"'[1]LÍNEA 4'!AQ203","v":"Sec. Interior"}]
[null,null,null,null,null,null,null,null,null,null,null,null,null,null,null,null,null,null,null,null,null,null,null,null,null,null,null,null,null,null,null,null,null,null,null,null,null,null,null,null,null,null,"Implementar y mantener 1 herramienta tecnológica para la denuncia e información ciudadana (Red Virtual de Seguridad).",{"$f":"'[1]LÍNEA 4'!P204","v":2210294},"Número de herramientas tecnológicas para la denuncia e información ciudadana implementadas y mantenidas (Red Virtual de Seguridad).",1,{"$f":"'[1]LÍNEA 4'!S204","v":1},{"$f":"'[1]LÍNEA 4'!T204","v":0},0,{"$f":"'[1]LÍNEA 4'!U204","v":1},0.33,{"$f":"'[1]LÍNEA 4'!V204","v":1},0.33,{"$f":"'[1]LÍNEA 4'!W204","v":1},0.34,{"$f":"'[2]2016'!K81","v":0},{"$f":"'[2]2017'!K81","v":1},{"$f":"'[2]2018'!K81","v":2},{"$f":"'[2]2019'!K81","v":0},{"$f":"IF(AV204=0,\" -\",BD204/AV204)","v":" -"},{"$f":"IF(AV204=0,\" -\",IF(BH204>100%,100%,BH204))","v":" -"},{"$f":"IF(AX204=0,\" -\",BE204/AX204)","v":1},{"$f":"IF(AX204=0,\" -\",IF(BJ204>100%,100%,BJ204))","v":1},{"$f":"IF(AZ204=0,\" -\",BF204/AZ204)","v":2},{"$f":"IF(AZ204=0,\" -\",IF(BL204>100%,100%,BL204))","v":1},{"$f":"IF(BB204=0,\" -\",BG204/BB204)","v":0},{"$f":"IF(BB204=0,\" -\",IF(BN204>100%,100%,BN204))","v":0},{"$f":"+AVERAGE(BE204:BG204)/AU204","v":1},{"$f":"+IF(BP204>100%,100%,BP204)","v":1},{"$f":"+BQ204","v":1},{"$f":"'[2]2016'!P81","v":0},{"$f":"'[2]2016'!Q81","v":0},{"$f":"'[2]2016'!R81","v":0}," -"," -",{"$f":"'[2]2017'!P81","v":3000000},{"$f":"'[2]2017'!Q81","v":3000000},{"$f":"'[2]2017'!R81","v":0},1," -",{"$f":"'[2]2018'!P81","v":470000},{"$f":"'[2]2018'!Q81","v":0},{"$f":"'[2]2018'!R81","v":0},0," -",{"$f":"'[2]2019'!P81","v":5000000},{"$f":"'[2]2019'!Q81","v":0},{"$f":"'[2]2019'!R81","v":0},0," -",8470000,3000000,0,0.35419126328217237," -","16. Paz, justicia e instituciones sólidas","Justicia y Seguridad",{"$f":"'[1]LÍNEA 4'!AQ204","v":"Sec. Interior"}]
[null,null,null,null,null,null,null,null,null,null,null,null,null,null,null,null,null,null,null,null,null,null,null,null,null,null,null,null,null,null,null,null,null,null,null,null,null,null,null,null,{"$f":"+RESUMEN!J118","v":0.66551111111111116},"CONVIVENCIA","Mantener la estrategia interinstitucional para la inspección,  vigilancia y control de los establecimientos de comercio.",{"$f":"'[1]LÍNEA 4'!P205","v":2210264},"Número de estrategias interinstitucionales mantenidas para la inspección, vigilancia y control de los establecimientos de comercio.",1,{"$f":"'[1]LÍNEA 4'!S205","v":1},{"$f":"'[1]LÍNEA 4'!T205","v":1},0.25,{"$f":"'[1]LÍNEA 4'!U205","v":1},0.25,{"$f":"'[1]LÍNEA 4'!V205","v":1},0.25,{"$f":"'[1]LÍNEA 4'!W205","v":1},0.25,{"$f":"'[2]2016'!K82","v":1},{"$f":"'[2]2017'!K82","v":1},{"$f":"'[2]2018'!K82","v":1},{"$f":"'[2]2019'!K82","v":0},1,1,1,1,1,1,0,0,{"$f":"+AVERAGE(BD205:BG205)/AU205","v":0.75},0.75,0.75,{"$f":"'[2]2016'!P82","v":0},{"$f":"'[2]2016'!Q82","v":0},{"$f":"'[2]2016'!R82","v":0},{"$f":"IF(BS205=0,\" -\",BT205/BS205)","v":" -"},{"$f":"IF(BU205=0,\" -\",IF(BT205=0,100%,BU205/BT205))","v":" -"},{"$f":"'[2]2017'!P82","v":158502},{"$f":"'[2]2017'!Q82","v":157670},{"$f":"'[2]2017'!R82","v":0},{"$f":"IF(BX205=0,\" -\",BY205/BX205)","v":0.99475085487880277},{"$f":"IF(BZ205=0,\" -\",IF(BY205=0,100%,BZ205/BY205))","v":" -"},{"$f":"'[2]2018'!P82","v":22000},{"$f":"'[2]2018'!Q82","v":15750},{"$f":"'[2]2018'!R82","v":0},{"$f":"IF(CC205=0,\" -\",CD205/CC205)","v":0.71590909090909094},{"$f":"IF(CE205=0,\" -\",IF(CD205=0,100%,CE205/CD205))","v":" -"},{"$f":"'[2]2019'!P82","v":142646},{"$f":"'[2]2019'!Q82","v":0},{"$f":"'[2]2019'!R82","v":0},{"$f":"IF(CH205=0,\" -\",CI205/CH205)","v":0},{"$f":"IF(CJ205=0,\" -\",IF(CI205=0,100%,CJ205/CI205))","v":" -"},{"$f":"+BS205+BX205+CC205+CH205","v":323148},{"$f":"+BT205+BY205+CD205+CI205","v":173420},{"$f":"+BU205+BZ205+CE205+CJ205","v":0},{"$f":"IF(CM205=0,\" -\",CN205/CM205)","v":0.53665812568853899},{"$f":"IF(CO205=0,\" -\",IF(CN205=0,100%,CO205/CN205))","v":" -"},"8. Trabajo decente y crecimiento económico","Justicia y Seguridad",{"$f":"'[1]LÍNEA 4'!AQ205","v":"Sec. Interior"}]
[null,null,null,null,null,null,null,null,null,null,null,null,null,null,null,null,null,null,null,null,null,null,null,null,null,null,null,null,null,null,null,null,null,null,null,null,null,null,null,null,null,null,"Realizar 1.000 operativos para el control a la comercialización de combustibles lícitos e ilícitos.",{"$f":"'[1]LÍNEA 4'!P206","v":2210264},"Número de operativos realizados para el control a la comercialización de combustibles lícitos e ilícitos.",1000,{"$f":"'[1]LÍNEA 4'!S206","v":1000},{"$f":"'[1]LÍNEA 4'!T206","v":250},{"$f":"+AV206/AU206","v":0.25},{"$f":"'[1]LÍNEA 4'!U206","v":250},{"$f":"+AX206/AU206","v":0.25},{"$f":"'[1]LÍNEA 4'!V206","v":250},{"$f":"+AZ206/AU206","v":0.25},{"$f":"'[1]LÍNEA 4'!W206","v":250},{"$f":"+BB206/AU206","v":0.25},{"$f":"'[2]2016'!K83","v":71},{"$f":"'[2]2017'!K83","v":230},{"$f":"'[2]2018'!K83","v":150},{"$f":"'[2]2019'!K83","v":0},0.28399999999999997,0.28399999999999997,0.92,0.92,0.6,0.6,0,0,{"$f":"+SUM(BD206:BG206)/AU206","v":0.45100000000000001},0.45100000000000001,0.45100000000000001,{"$f":"'[2]2016'!P83","v":0},{"$f":"'[2]2016'!Q83","v":0},{"$f":"'[2]2016'!R83","v":0}," -"," -",{"$f":"'[2]2017'!P83","v":85002},{"$f":"'[2]2017'!Q83","v":84170},{"$f":"'[2]2017'!R83","v":0},0.99021199501188206," -",{"$f":"'[2]2018'!P83","v":30000},{"$f":"'[2]2018'!Q83","v":18000},{"$f":"'[2]2018'!R83","v":0},0.6," -",{"$f":"'[2]2019'!P83","v":0},{"$f":"'[2]2019'!Q83","v":0},{"$f":"'[2]2019'!R83","v":0}," -"," -",115002,102170,0,0.88841933183770716," -","16. Paz, justicia e instituciones sólidas","Justicia y Seguridad",{"$f":"'[1]LÍNEA 4'!AQ206","v":"Sec. Interior"}]
[null,null,null,null,null,null,null,null,null,null,null,null,null,null,null,null,null,null,null,null,null,null,null,null,null,null,null,null,null,null,null,null,null,null,null,null,null,null,null,null,null,null,"Realizar 10.000 operativos para la protección al consumidor.",{"$f":"'[1]LÍNEA 4'!P207","v":2210264},"Número de operativos para la protección al consumidor realizados.",14786,{"$f":"'[1]LÍNEA 4'!S207","v":10000},{"$f":"'[1]LÍNEA 4'!T207","v":1500},0.15,{"$f":"'[1]LÍNEA 4'!U207","v":3000},{"$f":"+AX207/AU207","v":0.3},{"$f":"'[1]LÍNEA 4'!V207","v":3000},{"$f":"+AZ207/AU207","v":0.3},{"$f":"'[1]LÍNEA 4'!W207","v":2500},0.25,{"$f":"'[2]2016'!K84","v":2032},{"$f":"'[2]2017'!K84","v":3053},{"$f":"'[2]2018'!K84","v":801},{"$f":"'[2]2019'!K84","v":0},1.3546666666666667,1,1.0176666666666667,1,0.26700000000000002,0.26700000000000002,0,0,0.58860000000000001,0.58860000000000001,0.58860000000000001,{"$f":"'[2]2016'!P84","v":0},{"$f":"'[2]2016'!Q84","v":0},{"$f":"'[2]2016'!R84","v":0}," -"," -",{"$f":"'[2]2017'!P84","v":579204},{"$f":"'[2]2017'!Q84","v":360594},{"$f":"'[2]2017'!R84","v":233407},0.6225682143079122,0.64728475792719786,{"$f":"'[2]2018'!P84","v":31000},{"$f":"'[2]2018'!Q84","v":18000},{"$f":"'[2]2018'!R84","v":0},0.58064516129032262," -",{"$f":"'[2]2019'!P84","v":0},{"$f":"'[2]2019'!Q84","v":0},{"$f":"'[2]2019'!R84","v":0}," -"," -",610204,378594,233407,0.62043841076099138,0.61651003449605646,"8. Trabajo decente y crecimiento económico","Justicia y Seguridad",{"$f":"'[1]LÍNEA 4'!AQ207","v":"Sec. Interior"}]
[null,null,null,null,null,null,null,null,null,null,null,null,null,null,null,null,null,null,null,null,null,null,null,null,null,null,null,null,null,null,null,null,null,null,null,null,null,null,null,null,null,null,"Realizar 4 capacitaciones y/o socializaciones dirigidas a comunidad y comerciantes sobre las normas de protección al consumidor.",{"$f":"'[1]LÍNEA 4'!P208","v":" -"},"Número de capacitaciones y/o socializaciones dirigidas a comunidad y comerciantes sobre las normas de protección al consumidor realizadas.",4,{"$f":"'[1]LÍNEA 4'!S208","v":4},{"$f":"'[1]LÍNEA 4'!T208","v":1},0.25,{"$f":"'[1]LÍNEA 4'!U208","v":1},{"$f":"+AX208/AU208","v":0.25},{"$f":"'[1]LÍNEA 4'!V208","v":1},{"$f":"+AZ208/AU208","v":0.25},{"$f":"'[1]LÍNEA 4'!W208","v":1},0.25,{"$f":"'[2]2016'!K85","v":2},{"$f":"'[2]2017'!K85","v":1},{"$f":"'[2]2018'!K85","v":1},{"$f":"'[2]2019'!K85","v":0},2,1,1,1,1,1,0,0,1,1,1,{"$f":"'[2]2016'!P85","v":0},{"$f":"'[2]2016'!Q85","v":0},{"$f":"'[2]2016'!R85","v":0}," -"," -",{"$f":"'[2]2017'!P85","v":0},{"$f":"'[2]2017'!Q85","v":0},{"$f":"'[2]2017'!R85","v":0}," -"," -",{"$f":"'[2]2018'!P85","v":0},{"$f":"'[2]2018'!Q85","v":0},{"$f":"'[2]2018'!R85","v":0}," -"," -",{"$f":"'[2]2019'!P85","v":0},{"$f":"'[2]2019'!Q85","v":0},{"$f":"'[2]2019'!R85","v":0}," -"," -",0,0,0," -"," -","8. Trabajo decente y crecimiento económico","Justicia y Seguridad",{"$f":"'[1]LÍNEA 4'!AQ208","v":"Sec. Interior"}]
[null,null,null,null,null,null,null,null,null,null,null,null,null,null,null,null,null,null,null,null,null,null,null,null,null,null,null,null,null,null,null,null,null,null,null,null,null,null,null,null,null,null,"Mantener y fortalecer la estrategia de Reacción Inmediata Municipal (RIMB).",{"$f":"'[1]LÍNEA 4'!P209","v":2210264},"Número de estrategias de Reacción Inmediata Municipal (RIMB) mantenidos y fortalecidos.",1,{"$f":"'[1]LÍNEA 4'!S209","v":1},{"$f":"'[1]LÍNEA 4'!T209","v":1},0.25,{"$f":"'[1]LÍNEA 4'!U209","v":1},0.25,{"$f":"'[1]LÍNEA 4'!V209","v":1},0.25,{"$f":"'[1]LÍNEA 4'!W209","v":1},0.25,{"$f":"'[2]2016'!K86","v":1},{"$f":"'[2]2017'!K86","v":1},{"$f":"'[2]2018'!K86","v":1},{"$f":"'[2]2019'!K86","v":0},1,1,1,1,1,1,0,0,0.75,0.75,0.75,{"$f":"'[2]2016'!P86","v":0},{"$f":"'[2]2016'!Q86","v":0},{"$f":"'[2]2016'!R86","v":0}," -"," -",{"$f":"'[2]2017'!P86","v":0},{"$f":"'[2]2017'!Q86","v":0},{"$f":"'[2]2017'!R86","v":0}," -"," -",{"$f":"'[2]2018'!P86","v":15000},{"$f":"'[2]2018'!Q86","v":9000},{"$f":"'[2]2018'!R86","v":0},0.6," -",{"$f":"'[2]2019'!P86","v":4000000},{"$f":"'[2]2019'!Q86","v":0},{"$f":"'[2]2019'!R86","v":0},0," -",4015000,9000,0,2.2415940224159402E-3," -","16. Paz, justicia e instituciones sólidas","Justicia y Seguridad",{"$f":"'[1]LÍNEA 4'!AQ209","v":"Sec. Interior"}]
[null,null,null,null,null,null,null,null,null,null,null,null,null,null,null,null,null,null,null,null,null,null,null,null,null,null,null,null,null,null,null,null,null,null,null,null,null,null,null,null,null,null,"Mantener la estrategia para promover y mantener la Escuela de Convivencia, Tolerancia y Seguridad Ciudadana institucionalizada por el Decreto 0269 de 2012.",{"$f":"'[1]LÍNEA 4'!P210","v":2210264},"Número de estrategias mantenidas promover y mantener la Escuela de Convivencia, Tolerancia y Seguridad Ciudadana institucionalizada por el Decreto 0269 de 2012.",1,{"$f":"'[1]LÍNEA 4'!S210","v":1},{"$f":"'[1]LÍNEA 4'!T210","v":1},0.25,{"$f":"'[1]LÍNEA 4'!U210","v":1},0.25,{"$f":"'[1]LÍNEA 4'!V210","v":1},0.25,{"$f":"'[1]LÍNEA 4'!W210","v":1},0.25,{"$f":"'[2]2016'!K87","v":0},{"$f":"'[2]2017'!K87","v":1},{"$f":"'[2]2018'!K87","v":1},{"$f":"'[2]2019'!K87","v":0},0,0,1,1,1,1,0,0,0.5,0.5,0.5,{"$f":"'[2]2016'!P87","v":0},{"$f":"'[2]2016'!Q87","v":0},{"$f":"'[2]2016'!R87","v":0}," -"," -",{"$f":"'[2]2017'!P87","v":0},{"$f":"'[2]2017'!Q87","v":0},{"$f":"'[2]2017'!R87","v":0}," -"," -",{"$f":"'[2]2018'!P87","v":72000},{"$f":"'[2]2018'!Q87","v":0},{"$f":"'[2]2018'!R87","v":0},0," -",{"$f":"'[2]2019'!P87","v":0},{"$f":"'[2]2019'!Q87","v":0},{"$f":"'[2]2019'!R87","v":0}," -"," -",72000,0,0,0," -","16. Paz, justicia e instituciones sólidas","Justicia y Seguridad",{"$f":"'[1]LÍNEA 4'!AQ210","v":"Sec. Interior"}]
[null,null,null,null,null,"Reducir a 10 la tasa de victimización.",15,10,{"$f":"+H211-G211","v":-5},15,{"$f":"+J211-G211","v":0},null,14,{"$f":"+M211-J211","v":-1},null,12,{"$f":"+P211-M211","v":-2},null,10,{"$f":"+S211-P211","v":-2},null,15,{"$f":"+IF(V211=0,0,V211-G211)","v":0},null,{"$f":"+IF(X211=0,0,X211-V211)","v":0},null,{"$f":"+IF(Z211=0,0,Z211-X211)","v":0},null,{"$f":"+IF(AB211=0,0,AB211-Z211)","v":0},{"$f":"+IF(K211=0,\" -\",W211/K211)","v":" -"},{"$f":"+IF(K211=0,\" -\",IF(AD211>100%,100%,AD211))","v":" -"},{"$f":"+IF(N211=0,\" -\",Y211/N211)","v":0},{"$f":"+IF(N211=0,\" -\",IF(AF211>100%,100%,AF211))","v":0},{"$f":"+IF(Q211=0,\" -\",AA211/Q211)","v":0},{"$f":"+IF(Q211=0,\" -\",IF(AH211>100%,100%,AH211))","v":0},{"$f":"+IF(T211=0,\" -\",AC211/T211)","v":0},{"$f":"+IF(T211=0,\" -\",IF(AJ211>100%,100%,AJ211))","v":0},{"$f":"+SUM(AC211,AA211,Y211,W211)/I211","v":0},{"$f":"+IF(AL211>100%,100%,IF(AL211<0%,0%,AL211))","v":0},null,null,null,"Mantener 1 estrategia de promoción comunitaria de los mecanismos alternativos de solución de conflictos a través de la unidad móvil de la conciliación.",{"$f":"'[1]LÍNEA 4'!P211","v":" -"},"Número de estrategias de promoción comunitaria de los mecanismos alternativos de solución de conflictos a través de la unidad móvil de la conciliación mantenidas.",1,{"$f":"'[1]LÍNEA 4'!S211","v":1},{"$f":"'[1]LÍNEA 4'!T211","v":1},0.25,{"$f":"'[1]LÍNEA 4'!U211","v":1},0.25,{"$f":"'[1]LÍNEA 4'!V211","v":1},0.25,{"$f":"'[1]LÍNEA 4'!W211","v":1},0.25,{"$f":"'[2]2016'!K88","v":1},{"$f":"'[2]2017'!K88","v":1},{"$f":"'[2]2018'!K88","v":1},{"$f":"'[2]2019'!K88","v":0},1,1,1,1,1,1,0,0,0.75,0.75,0.75,{"$f":"'[2]2016'!P88","v":0},{"$f":"'[2]2016'!Q88","v":0},{"$f":"'[2]2016'!R88","v":0}," -"," -",{"$f":"'[2]2017'!P88","v":0},{"$f":"'[2]2017'!Q88","v":0},{"$f":"'[2]2017'!R88","v":0}," -"," -",{"$f":"'[2]2018'!P88","v":0},{"$f":"'[2]2018'!Q88","v":0},{"$f":"'[2]2018'!R88","v":0}," -"," -",{"$f":"'[2]2019'!P88","v":0},{"$f":"'[2]2019'!Q88","v":0},{"$f":"'[2]2019'!R88","v":0}," -"," -",0,0,0," -"," -","16. Paz, justicia e instituciones sólidas","Desarrollo Comunitario",{"$f":"'[1]LÍNEA 4'!AQ211","v":"Sec. Interior"}]
[null,null,null,null,null,null,null,null,null,null,null,null,null,null,null,null,null,null,null,null,null,null,null,null,null,null,null,null,null,null,null,null,null,null,null,null,null,null,null,null,null,null,"Mantener y fortalecer el Observatorio del Delito.",{"$f":"'[1]LÍNEA 4'!P212","v":" -"},"Número de observatorios del delito mantenidos y fortalecidos.",1,{"$f":"'[1]LÍNEA 4'!S212","v":1},{"$f":"'[1]LÍNEA 4'!T212","v":1},0.25,{"$f":"'[1]LÍNEA 4'!U212","v":1},0.25,{"$f":"'[1]LÍNEA 4'!V212","v":1},0.25,{"$f":"'[1]LÍNEA 4'!W212","v":1},0.25,{"$f":"'[2]2016'!K89","v":0},{"$f":"'[2]2017'!K89","v":1},{"$f":"'[2]2018'!K89","v":0.8},{"$f":"'[2]2019'!K89","v":0},0,0,1,1,0.8,0.8,0,0,0.45,0.45,0.45,{"$f":"'[2]2016'!P89","v":0},{"$f":"'[2]2016'!Q89","v":0},{"$f":"'[2]2016'!R89","v":0}," -"," -",{"$f":"'[2]2017'!P89","v":0},{"$f":"'[2]2017'!Q89","v":0},{"$f":"'[2]2017'!R89","v":0}," -"," -",{"$f":"'[2]2018'!P89","v":0},{"$f":"'[2]2018'!Q89","v":0},{"$f":"'[2]2018'!R89","v":0}," -"," -",{"$f":"'[2]2019'!P89","v":0},{"$f":"'[2]2019'!Q89","v":0},{"$f":"'[2]2019'!R89","v":0}," -"," -",0,0,0," -"," -","16. Paz, justicia e instituciones sólidas","Justicia y Seguridad",{"$f":"'[1]LÍNEA 4'!AQ212","v":"Sec. Interior"}]
[null,null,null,null,null,null,null,null,null,null,null,null,null,null,null,null,null,null,null,null,null,null,null,null,null,null,null,null,null,null,null,null,null,null,null,null,null,null,null,null,null,null,"Mantener la implementación del programa de Tolerancia en Movimiento institucionalizado por el Acuerdo Municipal 026 del 2014.",{"$f":"'[1]LÍNEA 4'!P213","v":0},"Número de programas de Tolerancia en Movimiento mantenidos institucionalizados por el Acierdo Municipal 026 del 2014.",1,{"$f":"'[1]LÍNEA 4'!S213","v":1},{"$f":"'[1]LÍNEA 4'!T213","v":1},0.25,{"$f":"'[1]LÍNEA 4'!U213","v":1},0.25,{"$f":"'[1]LÍNEA 4'!V213","v":1},0.25,{"$f":"'[1]LÍNEA 4'!W213","v":1},0.25,{"$f":"'[2]2016'!K90","v":1},{"$f":"'[2]2017'!K90","v":1},{"$f":"'[2]2018'!K90","v":1},{"$f":"'[2]2019'!K90","v":0},1,1,1,1,1,1,0,0,0.75,0.75,0.75,{"$f":"'[2]2016'!P90","v":0},{"$f":"'[2]2016'!Q90","v":0},{"$f":"'[2]2016'!R90","v":0}," -"," -",{"$f":"'[2]2017'!P90","v":0},{"$f":"'[2]2017'!Q90","v":0},{"$f":"'[2]2017'!R90","v":0}," -"," -",{"$f":"'[2]2018'!P90","v":0},{"$f":"'[2]2018'!Q90","v":0},{"$f":"'[2]2018'!R90","v":0}," -"," -",{"$f":"'[2]2019'!P90","v":300000},{"$f":"'[2]2019'!Q90","v":0},{"$f":"'[2]2019'!R90","v":0},0," -",300000,0,0,0," -","16. Paz, justicia e instituciones sólidas","Justicia y Seguridad",{"$f":"'[1]LÍNEA 4'!AQ213","v":"Sec. Interior"}]
[null,null,null,null,null,null,null,null,null,null,null,null,null,null,null,null,null,null,null,null,null,null,null,null,null,null,null,null,null,null,null,null,null,null,null,null,null,null,null,null,{"$f":"+RESUMEN!J119","v":0.6333333333333333},"FORTALECIMIENTO DE LOS DERECHOS HUMANOS","Realizar 7 conversatorios para la promoción de los derechos humanos con enfoque diferencial.",{"$f":"'[1]LÍNEA 4'!P214","v":0},"Número de conversatorios realizados para la promoción de los derechos humanos con enfoque diferencial.",6,{"$f":"'[1]LÍNEA 4'!S214","v":7},{"$f":"'[1]LÍNEA 4'!T214","v":1},0.14285714285714285,{"$f":"'[1]LÍNEA 4'!U214","v":2},{"$f":"+AX214/AU214","v":0.2857142857142857},{"$f":"'[1]LÍNEA 4'!V214","v":2},{"$f":"+AZ214/AU214","v":0.2857142857142857},{"$f":"'[1]LÍNEA 4'!W214","v":2},0.2857142857142857,{"$f":"'[2]2016'!K91","v":0},{"$f":"'[2]2017'!K91","v":2},{"$f":"'[2]2018'!K91","v":7},{"$f":"'[2]2019'!K91","v":0},0,0,1,1,3.5,1,0,0,{"$f":"+SUM(BD214:BG214)/AU214","v":1.2857142857142858},1,1,{"$f":"'[2]2016'!P91","v":0},{"$f":"'[2]2016'!Q91","v":0},{"$f":"'[2]2016'!R91","v":0}," -"," -",{"$f":"'[2]2017'!P91","v":0},{"$f":"'[2]2017'!Q91","v":0},{"$f":"'[2]2017'!R91","v":0}," -"," -",{"$f":"'[2]2018'!P91","v":0},{"$f":"'[2]2018'!Q91","v":0},{"$f":"'[2]2018'!R91","v":0}," -"," -",{"$f":"'[2]2019'!P91","v":51246},{"$f":"'[2]2019'!Q91","v":0},{"$f":"'[2]2019'!R91","v":0},0," -",51246,0,0,0," -","16. Paz, justicia e instituciones sólidas","Justicia y Seguridad",{"$f":"'[1]LÍNEA 4'!AQ214","v":"Sec. Interior"}]
[null,null,null,null,null,null,null,null,null,null,null,null,null,null,null,null,null,null,null,null,null,null,null,null,null,null,null,null,null,null,null,null,null,null,null,null,null,null,null,null,null,null,"Brindar asistencia y apoyo al 100% de las víctimas de la trata de personas.",{"$f":"'[1]LÍNEA 4'!P215","v":0},"Porcentaje de víctimas de la trata de personas con asistencia y apoyo.",1,{"$f":"'[1]LÍNEA 4'!S215","v":1},{"$f":"'[1]LÍNEA 4'!T215","v":1},0.25,{"$f":"'[1]LÍNEA 4'!U215","v":1},0.25,{"$f":"'[1]LÍNEA 4'!V215","v":1},0.25,{"$f":"'[1]LÍNEA 4'!W215","v":1},0.25,{"$f":"'[2]2016'!K92","v":1},{"$f":"'[2]2017'!K92","v":1},{"$f":"'[2]2018'!K92","v":1},{"$f":"'[2]2019'!K92","v":0},1,1,1,1,1,1,0,0,0.75,0.75,0.75,{"$f":"'[2]2016'!P92","v":0},{"$f":"'[2]2016'!Q92","v":0},{"$f":"'[2]2016'!R92","v":0}," -"," -",{"$f":"'[2]2017'!P92","v":0},{"$f":"'[2]2017'!Q92","v":0},{"$f":"'[2]2017'!R92","v":0}," -"," -",{"$f":"'[2]2018'!P92","v":0},{"$f":"'[2]2018'!Q92","v":0},{"$f":"'[2]2018'!R92","v":0}," -"," -",{"$f":"'[2]2019'!P92","v":50000},{"$f":"'[2]2019'!Q92","v":0},{"$f":"'[2]2019'!R92","v":0},0," -",50000,0,0,0," -","16. Paz, justicia e instituciones sólidas","Atención a grupos vulnerables - Promoción Social",{"$f":"'[1]LÍNEA 4'!AQ215","v":"Sec. Interior"}]
[null,null,null,null,null,null,null,null,null,null,null,null,null,null,null,null,null,null,null,null,null,null,null,null,null,null,null,null,null,null,null,null,null,null,null,null,null,null,null,null,null,null,"Desarrollar 4 campañas comunitarias para la prevención de la trata de personas a nivel masivo en barrios, colegios y sitios de concurrencia pública.",{"$f":"'[1]LÍNEA 4'!P216","v":" -"},"Número de campañas comunitarias desarrolladas para la prevención de la trata de personas adelantadas a nivel masivo en barrios, colegios y sitios de concurrencia pública.",3,{"$f":"'[1]LÍNEA 4'!S216","v":4},{"$f":"'[1]LÍNEA 4'!T216","v":1},0.25,{"$f":"'[1]LÍNEA 4'!U216","v":1},{"$f":"+AX216/AU216","v":0.25},{"$f":"'[1]LÍNEA 4'!V216","v":1},{"$f":"+AZ216/AU216","v":0.25},{"$f":"'[1]LÍNEA 4'!W216","v":1},0.25,{"$f":"'[2]2016'!K93","v":1},{"$f":"'[2]2017'!K93","v":1},{"$f":"'[2]2018'!K93","v":1},{"$f":"'[2]2019'!K93","v":0},1,1,1,1,1,1,0,0,{"$f":"+SUM(BD216:BG216)/AU216","v":0.75},0.75,0.75,{"$f":"'[2]2016'!P93","v":0},{"$f":"'[2]2016'!Q93","v":0},{"$f":"'[2]2016'!R93","v":0}," -"," -",{"$f":"'[2]2017'!P93","v":0},{"$f":"'[2]2017'!Q93","v":0},{"$f":"'[2]2017'!R93","v":0}," -"," -",{"$f":"'[2]2018'!P93","v":0},{"$f":"'[2]2018'!Q93","v":0},{"$f":"'[2]2018'!R93","v":0}," -"," -",{"$f":"'[2]2019'!P93","v":0},{"$f":"'[2]2019'!Q93","v":0},{"$f":"'[2]2019'!R93","v":0}," -"," -",0,0,0," -"," -","16. Paz, justicia e instituciones sólidas","Atención a grupos vulnerables - Promoción Social",{"$f":"'[1]LÍNEA 4'!AQ216","v":"Sec. Interior"}]
[null,null,null,null,null,null,null,null,null,null,null,null,null,null,null,null,null,null,null,null,null,null,null,null,null,null,null,null,null,null,null,null,null,null,null,null,null,null,null,null,null,null,"Formular e implementar la política pública de derechos humanos.",{"$f":"'[1]LÍNEA 4'!P217","v":2210294},"Número de políticas públicas de derechos humanos, formuladas e implementadas.",0,{"$f":"'[1]LÍNEA 4'!S217","v":1},{"$f":"'[1]LÍNEA 4'!T217","v":0},0,{"$f":"'[1]LÍNEA 4'!U217","v":1},0.33,{"$f":"'[1]LÍNEA 4'!V217","v":1},0.33,{"$f":"'[1]LÍNEA 4'!W217","v":1},0.34,{"$f":"'[2]2016'!K94","v":0},{"$f":"'[2]2017'!K94","v":0},{"$f":"'[2]2018'!K94","v":0.1},{"$f":"'[2]2019'!K94","v":0}," -"," -",0,0,0.1,0.1,0,0,{"$f":"+AVERAGE(BE217:BG217)/AU217","v":3.3333333333333333E-2},3.3333333333333333E-2,3.3333333333333333E-2,{"$f":"'[2]2016'!P94","v":0},{"$f":"'[2]2016'!Q94","v":0},{"$f":"'[2]2016'!R94","v":0}," -"," -",{"$f":"'[2]2017'!P94","v":0},{"$f":"'[2]2017'!Q94","v":0},{"$f":"'[2]2017'!R94","v":0}," -"," -",{"$f":"'[2]2018'!P94","v":31000},{"$f":"'[2]2018'!Q94","v":0},{"$f":"'[2]2018'!R94","v":0},0," -",{"$f":"'[2]2019'!P94","v":0},{"$f":"'[2]2019'!Q94","v":0},{"$f":"'[2]2019'!R94","v":0}," -"," -",31000,0,0,0," -","16. Paz, justicia e instituciones sólidas","Atención a grupos vulnerables - Promoción Social",{"$f":"'[1]LÍNEA 4'!AQ217","v":"Sec. Interior"}]
[null,null,null,null,null,null,null,null,null,null,null,null,null,null,null,null,null,null,null,null,null,null,null,null,null,null,null,null,null,null,null,null,null,null,null,null,null,null,null,null,{"$f":"+RESUMEN!J120","v":0.73333333333333339},"BUCARAMANGA TERRITORIO DE PAZ","Realizar 1 plan de protección de la labor de líderes sociales, comunales, políticos y defensores de derechos humanos en coordinación con autoridades de policía y organismos de protección de los derechos humanos.",{"$f":"'[1]LÍNEA 4'!P218","v":" -"},"Número de planes realizados de protección de la labor de líderes sociales, comunales, políticos y defensores de derechos humanos en coordinación con autoridades de policía y organismos nacionales e internacionales de protección de los derechos humanos.",0,{"$f":"'[1]LÍNEA 4'!S218","v":1},{"$f":"'[1]LÍNEA 4'!T218","v":0},0,{"$f":"'[1]LÍNEA 4'!U218","v":1},{"$f":"+AX218/AU218","v":1},{"$f":"'[1]LÍNEA 4'!V218","v":0},{"$f":"+AZ218/AU218","v":0},{"$f":"'[1]LÍNEA 4'!W218","v":0},0,{"$f":"'[2]2016'!K95","v":0},{"$f":"'[2]2017'!K95","v":1},{"$f":"'[2]2018'!K95","v":1},{"$f":"'[2]2019'!K95","v":0}," -"," -",1,1," -"," -"," -"," -",{"$f":"+SUM(BD218:BG218)/AU218","v":2},1,1,{"$f":"'[2]2016'!P95","v":0},{"$f":"'[2]2016'!Q95","v":0},{"$f":"'[2]2016'!R95","v":0}," -"," -",{"$f":"'[2]2017'!P95","v":0},{"$f":"'[2]2017'!Q95","v":0},{"$f":"'[2]2017'!R95","v":0}," -"," -",{"$f":"'[2]2018'!P95","v":0},{"$f":"'[2]2018'!Q95","v":0},{"$f":"'[2]2018'!R95","v":0}," -"," -",{"$f":"'[2]2019'!P95","v":0},{"$f":"'[2]2019'!Q95","v":0},{"$f":"'[2]2019'!R95","v":0}," -"," -",0,0,0," -"," -","16. Paz, justicia e instituciones sólidas","Desarrollo Comunitario",{"$f":"'[1]LÍNEA 4'!AQ218","v":"Sec. Interior"}]
[null,null,null,null,null,null,null,null,null,null,null,null,null,null,null,null,null,null,null,null,null,null,null,null,null,null,null,null,null,null,null,null,null,null,null,null,null,null,null,null,null,null,"Realizar 1 plan para la reactivación, fortalecimiento y funcionamiento del Consejo Municipal de Paz.",{"$f":"'[1]LÍNEA 4'!P219","v":" -"},"Número de planes realizados para la reactivación, fortalecimiento y funcionamiento del Consejo Municipal de Paz.",0,{"$f":"'[1]LÍNEA 4'!S219","v":1},{"$f":"'[1]LÍNEA 4'!T219","v":1},1,{"$f":"'[1]LÍNEA 4'!U219","v":0},{"$f":"+AX219/AU219","v":0},{"$f":"'[1]LÍNEA 4'!V219","v":0},{"$f":"+AZ219/AU219","v":0},{"$f":"'[1]LÍNEA 4'!W219","v":0},0,{"$f":"'[2]2016'!K96","v":0.5},{"$f":"'[2]2017'!K96","v":0},{"$f":"'[2]2018'!K96","v":1},{"$f":"'[2]2019'!K96","v":0},0.5,0.5," -"," -"," -"," -"," -"," -",1.5,1,1,{"$f":"'[2]2016'!P96","v":0},{"$f":"'[2]2016'!Q96","v":0},{"$f":"'[2]2016'!R96","v":0}," -"," -",{"$f":"'[2]2017'!P96","v":0},{"$f":"'[2]2017'!Q96","v":0},{"$f":"'[2]2017'!R96","v":0}," -"," -",{"$f":"'[2]2018'!P96","v":0},{"$f":"'[2]2018'!Q96","v":0},{"$f":"'[2]2018'!R96","v":0}," -"," -",{"$f":"'[2]2019'!P96","v":0},{"$f":"'[2]2019'!Q96","v":0},{"$f":"'[2]2019'!R96","v":0}," -"," -",0,0,0," -"," -","16. Paz, justicia e instituciones sólidas","Justicia y Seguridad",{"$f":"'[1]LÍNEA 4'!AQ219","v":"Sec. Interior"}]
[null,null,null,null,null,null,null,null,null,null,null,null,null,null,null,null,null,null,null,null,null,null,null,null,null,null,null,null,null,null,null,null,null,null,null,null,null,null,null,null,null,null,"Implementar el Observatorio de Paz de Bucaramanga.",{"$f":"'[1]LÍNEA 4'!P220","v":" -"},"Número de observatorios de paz de Bucaramanga implementados.",0,{"$f":"'[1]LÍNEA 4'!S220","v":1},{"$f":"'[1]LÍNEA 4'!T220","v":0},0,{"$f":"'[1]LÍNEA 4'!U220","v":0},{"$f":"+AX220/AU220","v":0},{"$f":"'[1]LÍNEA 4'!V220","v":1},{"$f":"+AZ220/AU220","v":1},{"$f":"'[1]LÍNEA 4'!W220","v":0},0,{"$f":"'[2]2016'!K97","v":0},{"$f":"'[2]2017'!K97","v":0},{"$f":"'[2]2018'!K97","v":0.2},{"$f":"'[2]2019'!K97","v":0}," -"," -"," -"," -",0.2,0.2," -"," -",0.2,0.2,0.2,{"$f":"'[2]2016'!P97","v":0},{"$f":"'[2]2016'!Q97","v":0},{"$f":"'[2]2016'!R97","v":0}," -"," -",{"$f":"'[2]2017'!P97","v":0},{"$f":"'[2]2017'!Q97","v":0},{"$f":"'[2]2017'!R97","v":0}," -"," -",{"$f":"'[2]2018'!P97","v":0},{"$f":"'[2]2018'!Q97","v":0},{"$f":"'[2]2018'!R97","v":0}," -"," -",{"$f":"'[2]2019'!P97","v":0},{"$f":"'[2]2019'!Q97","v":0},{"$f":"'[2]2019'!R97","v":0}," -"," -",0,0,0," -"," -","16. Paz, justicia e instituciones sólidas","Justicia y Seguridad",{"$f":"'[1]LÍNEA 4'!AQ220","v":"Sec. Interior"}]
[null,null,null,null,null,null,null,null,null,null,null,null,null,null,null,null,null,null,null,null,null,null,null,null,null,null,null,null,null,null,null,null,null,null,null,null,null,null,null,null,null,null,null,null,null,null,null,null,{"$f":"+AVERAGE(AW191:AW220)","v":0.15142857142857141},null,{"$f":"+AVERAGE(AY191:AY220)","v":0.35314428393080083},null,0.24771357232031391,null,0.24771357232031388,null,null,null,null,null,{"$f":"+AVERAGE(BI191:BI220)","v":0.67399999999999993},null,0.86401456531634047,null,0.76367970156933362,null,0,null,{"$f":"+AVERAGE(BQ191:BQ220)","v":0.63917009861932939}]
[]
[]
[]
[null,null,null,null,null,null,null,null,null,null,null,null,null,null,null,null,null,null,null,null,null,null,null,null,null,null,null,null,null,null,null,null,null,null,null,null,null,null,null,null,null,null,null,null,null,null,null,null,null,null,null,null,null,null,null,2016,2017,2018,2019,"CA"]
[null,null,null,null,null,null,null,null,null,null,null,null,null,null,null,null,null,null,null,null,null,null,null,null,null,null,null,null,null,null,null,null,null,null,null,null,null,null,null,null,null,null,null,null,null,null,null,null,null,null,null,"DADEP",null,null,null,{"$f":"+AVERAGE(BI169:BI171)","v":1},{"$f":"+AVERAGE(BK169:BK171)","v":1},{"$f":"+AVERAGE(BM169:BM171)","v":0.5},{"$f":"+AVERAGE(BO169:BO171)","v":0},{"$f":"+AVERAGE(BQ169:BQ171)","v":0.83177833333333329}]
[null,null,null,null,null,null,null,null,null,null,null,null,null,null,null,null,null,null,null,null,null,null,null,null,null,null,null,null,null,null,null,null,null,null,null,null,null,null,null,null,null,null,null,null,null,null,null,null,null,null,null,"Educación",null,null,null,{"$f":"+AVERAGE(BI11:BI38,BI40:BI62)","v":0.77423177806794397},{"$f":"+AVERAGE(BK11:BK38,BK40:BK62)","v":0.82505958916769928},{"$f":"+AVERAGE(BM11:BM38,BM40:BM62)","v":0.50655201925290982},{"$f":"+AVERAGE(BO11:BO38,BO40:BO62)","v":0},{"$f":"+AVERAGE(BQ11:BQ38,BQ40:BQ62)","v":0.58544468367578506}]
[null,null,null,null,null,null,null,null,null,null,null,null,null,null,null,null,null,null,null,null,null,null,null,null,null,null,null,null,null,null,null,null,null,null,null,null,null,null,null,null,null,null,null,null,null,null,null,null,null,null,null,"IMCT",null,null,null,{"$f":"+AVERAGE(BI121:BI163,BI188:BI189)","v":0.85483870967741937},{"$f":"+AVERAGE(BK121:BK163,BK188:BK189)","v":0.83536585365853655},{"$f":"+AVERAGE(BM121:BM163,BM188:BM189)","v":0.60360360360360354},{"$f":"+AVERAGE(BO121:BO163,BO188:BO189)","v":0},{"$f":"+AVERAGE(BQ121:BQ163,BQ188:BQ189)","v":0.61371452621452616}]
[null,null,null,null,null,null,null,null,null,null,null,null,null,null,null,null,null,null,null,null,null,null,null,null,null,null,null,null,null,null,null,null,null,null,null,null,null,null,null,null,null,null,null,null,null,null,null,null,null,null,null,"IMEBU",null,null,null,{"$f":"+AVERAGE(BI39,BI164:BI166)","v":1},{"$f":"+AVERAGE(BK39,BK164:BK166)","v":1},{"$f":"+AVERAGE(BM39,BM164:BM166)","v":0},{"$f":"+AVERAGE(BO39,BO164:BO166)","v":0},{"$f":"+AVERAGE(BQ39,BQ164:BQ166)","v":0.625}]
[null,null,null,null,null,null,null,null,null,null,null,null,null,null,null,null,null,null,null,null,null,null,null,null,null,null,null,null,null,null,null,null,null,null,null,null,null,null,null,null,null,null,null,null,null,null,null,null,null,null,null,"INDERBU",null,null,null,{"$f":"+AVERAGE(BI105:BI114,BI117:BI119)","v":1},{"$f":"+AVERAGE(BK105:BK114,BK117:BK119)","v":1},{"$f":"+AVERAGE(BM105:BM114,BM117:BM119)","v":0.72975551580202724},{"$f":"+AVERAGE(BO105:BO114,BO117:BO119)","v":0},{"$f":"+AVERAGE(BQ105:BQ114,BQ117:BQ119)","v":0.79442274091662557}]
[null,null,null,null,null,null,null,null,null,null,null,null,null,null,null,null,null,null,null,null,null,null,null,null,null,null,null,null,null,null,null,null,null,null,null,null,null,null,null,null,null,null,null,null,null,null,null,null,null,null,null,"Infraestructura",null,null,null,{"$f":"+AVERAGE(BI74:BI75,BI115:BI116,BI167,BI172:BI183)","v":0.9},{"$f":"+AVERAGE(BK74:BK75,BK115:BK116,BK167,BK172:BK183)","v":0.54999999999999993},{"$f":"+AVERAGE(BM74:BM75,BM115:BM116,BM167,BM172:BM183)","v":0.13229166666666667},{"$f":"+AVERAGE(BO74:BO75,BO115:BO116,BO167,BO172:BO183)","v":0},{"$f":"+AVERAGE(BQ74:BQ75,BQ115:BQ116,BQ167,BQ172:BQ183)","v":0.21792745098039218}]
[null,null,null,null,null,null,null,null,null,null,null,null,null,null,null,null,null,null,null,null,null,null,null,null,null,null,null,null,null,null,null,null,null,null,null,null,null,null,null,null,null,null,null,null,null,null,null,null,null,null,null,"Interior",null,null,null,{"$f":"+AVERAGE(BI184:BI186,BI191:BI220)","v":0.69633333333333325},{"$f":"+AVERAGE(BK184:BK186,BK191:BK220)","v":0.87808202407671909},{"$f":"+AVERAGE(BM184:BM186,BM191:BM220)","v":0.77498532544378707},{"$f":"+AVERAGE(BO184:BO186,BO191:BO220)","v":0},{"$f":"+AVERAGE(BQ184:BQ186,BQ191:BQ220)","v":0.66250311995696609}]
[null,null,null,null,null,null,null,null,null,null,null,null,null,null,null,null,null,null,null,null,null,null,null,null,null,null,null,null,null,null,null,null,null,null,null,null,null,null,null,null,null,null,null,null,null,null,null,null,null,null,null,"ISABU",null,null,null,{"$f":"+AVERAGE(BI99:BI103)","v":1},{"$f":"+AVERAGE(BK99:BK103)","v":1},{"$f":"+AVERAGE(BM99:BM103)","v":0.84},{"$f":"+AVERAGE(BO99:BO103)","v":0},{"$f":"+AVERAGE(BQ99:BQ103)","v":0.85933333333333339}]
[null,null,null,null,null,null,null,null,null,null,null,null,null,null,null,null,null,null,null,null,null,null,null,null,null,null,null,null,null,null,null,null,null,null,null,null,null,null,null,null,null,null,null,null,null,null,null,null,null,null,null,"Planeación",null,null,null,{"$f":"+BI187","v":" -"},{"$f":"+BK187","v":0.2},{"$f":"+BM187","v":" -"},{"$f":"+BO187","v":" -"},{"$f":"+BQ187","v":0.2}]
[null,null,null,null,null,null,null,null,null,null,null,null,null,null,null,null,null,null,null,null,null,null,null,null,null,null,null,null,null,null,null,null,null,null,null,null,null,null,null,null,null,null,null,null,null,null,null,null,null,null,null,"Salud y Ambiente",null,null,null,{"$f":"+AVERAGE(BI64:BI73,BI76:BI98)","v":0.74623770129104849},{"$f":"+AVERAGE(BK64:BK73,BK76:BK98)","v":0.77446621278361139},{"$f":"+AVERAGE(BM64:BM73,BM76:BM98)","v":0.79974910590804327},{"$f":"+AVERAGE(BO64:BO73,BO76:BO98)","v":0},{"$f":"+AVERAGE(BQ64:BQ73,BQ76:BQ98)","v":0.62853856209098358}]

{"sheet":"LÍNEA 5","index":5,"n_rows":60,"n_cols":98,"rows_kept":60,"cut":false,"hidden":false,"merged":[[7,95,9,95],[39,36,43,36],[9,63,9,64],[9,65,9,66],[9,67,9,69],[8,90,8,94],[7,21,8,28],[7,29,8,39],[9,21,9,22],[9,23,9,24],[9,25,9,26],[9,27,9,28],[9,29,9,30],[9,31,9,32],[9,33,9,34],[9,35,9,36],[9,37,9,39],[7,43,9,43],[7,59,8,69],[9,59,9,60],[9,61,9,62],[39,37,43,37],[39,38,43,38],[39,39,43,39],[49,35,52,35],[49,36,52,36],[49,37,52,37],[49,38,52,38],[49,39,52,39],[44,38,48,38],[44,39,48,39],[49,30,52,30],[49,31,52,31],[49,32,52,32],[49,33,52,33],[49,34,52,34],[44,33,48,33],[44,34,48,34],[44,35,48,35],[44,37,48,37],[44,30,48,30],[44,31,48,31],[44,32,48,32],[44,36,48,36],[49,21,52,21],[49,22,52,22],[49,23,52,23],[49,24,52,24],[49,25,52,25],[49,26,52,26],[49,27,52,27],[49,28,52,28],[49,29,52,29],[44,21,48,21],[44,22,48,22],[44,23,48,23],[44,24,48,24],[44,25,48,25],[44,26,48,26],[44,27,48,27],[44,28,48,28],[44,29,48,29],[39,34,43,34],[24,39,30,39],[31,30,37,30],[31,31,37,31],[31,32,37,32],[31,33,37,33],[31,34,37,34],[24,33,30,33],[24,34,30,34],[24,35,30,35],[24,30,30,30],[24,31,30,31],[24,32,30,32],[31,36,37,36],[31,37,37,37],[31,38,37,38],[31,39,37,39],[24,21,30,21],[24,22,30,22],[24,23,30,23],[24,24,30,24],[24,25,30,25],[24,26,30,26],[24,27,30,27],[24,28,30,28],[39,35,43,35],[31,21,37,21],[31,22,37,22],[31,23,37,23],[31,24,37,24],[31,25,37,25],[31,26,37,26],[31,27,37,27],[31,28,37,28],[31,29,37,29],[31,35,37,35],[39,26,43,26],[39,25,43,25],[39,31,43,31],[39,32,43,32],[39,33,43,33],[24,29,30,29],[24,36,30,36],[24,37,30,37],[17,36,22,36],[17,37,22,37],[17,38,22,38],[17,31,22,31],[17,32,22,32],[17,33,22,33],[17,34,22,34],[17,35,22,35],[24,38,30,38],[7,7,9,8],[9,9,9,11],[9,12,9,14],[9,15,9,17],[9,18,9,20],[7,9,8,20],[39,13,43,13],[39,14,43,14],[44,13,48,13],[44,14,48,14],[24,17,30,17],[31,16,37,16],[31,17,37,17],[24,19,30,19],[10,11,16,11],[17,10,22,10],[17,11,22,11],[24,20,30,20],[31,19,37,19],[31,20,37,20],[24,13,30,13],[24,14,30,14],[31,13,37,13],[31,14,37,14],[24,16,30,16],[24,10,30,10],[24,11,30,11],[31,10,37,10],[31,11,37,11],[31,18,37,18],[24,18,30,18],[10,1,53,1],[10,2,53,2],[39,3,52,3],[39,4,52,4],[39,18,43,18],[44,6,48,6],[44,7,48,7],[44,9,48,9],[24,3,37,3],[24,4,37,4],[49,5,52,5],[31,12,37,12],[31,15,37,15],[10,3,22,3],[24,5,30,5],[31,5,37,5],[24,6,30,6],[44,18,48,18],[39,6,43,6],[39,7,43,7],[39,9,43,9],[39,12,43,12],[39,15,43,15],[31,6,37,6],[31,7,37,7],[31,9,37,9],[24,7,30,7],[24,9,30,9],[24,12,30,12],[24,15,30,15],[49,15,52,15],[24,8,30,8],[31,8,37,8],[49,13,52,13],[49,14,52,14],[44,12,48,12],[44,15,48,15],[49,18,52,18],[39,40,43,40],[44,40,50,40],[51,40,52,40],[39,16,43,16],[39,17,43,17],[44,16,48,16],[44,17,48,17],[49,16,52,16],[49,17,52,17],[39,19,43,19],[39,20,43,20],[44,19,48,19],[44,20,48,20],[49,19,52,19],[49,20,52,20],[39,27,43,27],[39,28,43,28],[39,29,43,29],[39,30,43,30],[39,21,43,21],[39,22,43,22],[39,23,43,23],[39,24,43,24],[39,5,43,5],[44,5,48,5],[49,7,52,7],[49,9,52,9],[49,12,52,12],[49,6,52,6],[39,8,43,8],[44,8,48,8],[49,8,52,8],[39,10,43,10],[39,11,43,11],[44,10,48,10],[44,11,48,11],[49,10,52,10],[49,11,52,11],[35,40,37,40],[35,41,37,41],[28,41,34,41],[25,41,26,41],[51,41,52,41],[44,41,50,41],[39,41,43,41],[25,40,26,40],[28,40,34,40],[10,4,22,4],[17,12,22,12],[17,15,22,15],[17,18,22,18],[10,5,16,5],[17,5,22,5],[10,6,16,6],[10,7,16,7],[10,9,16,9],[10,12,16,12],[10,18,16,18],[17,6,22,6],[17,7,22,7],[17,9,22,9],[10,15,16,15],[10,13,16,13],[10,14,16,14],[17,13,22,13],[17,14,22,14],[10,16,16,16],[17,16,22,16],[10,8,16,8],[17,8,22,8],[10,10,16,10],[10,39,16,39],[17,21,22,21],[10,38,16,38],[10,29,16,29],[10,30,16,30],[10,31,16,31],[10,34,16,34],[10,35,16,35],[10,36,16,36],[10,37,16,37],[17,29,22,29],[17,30,22,30],[17,39,22,39],[17,22,22,22],[17,23,22,23],[17,24,22,24],[17,25,22,25],[17,26,22,26],[17,27,22,27],[17,28,22,28],[9,47,9,48],[7,55,8,58],[15,40,19,40],[20,40,22,40],[20,41,22,41],[15,41,19,41],[10,41,14,41],[10,40,14,40],[10,17,16,17],[17,17,22,17],[10,19,16,19],[10,20,16,20],[17,19,22,19],[17,20,22,20],[10,21,16,21],[10,22,16,22],[10,23,16,23],[10,32,16,32],[10,33,16,33],[10,24,16,24],[10,25,16,25],[10,26,16,26],[10,27,16,27],[10,28,16,28],[58,53,58,54],[59,53,59,54],[2,1,2,97],[3,1,3,97],[4,1,4,97],[7,1,9,1],[7,2,9,2],[7,3,9,3],[7,4,9,4],[7,5,9,5],[7,96,9,96],[7,6,9,6],[7,40,9,40],[7,41,9,41],[7,42,9,42],[7,70,7,94],[8,70,8,74],[8,75,8,79],[8,80,8,84],[8,85,8,89],[7,44,8,54],[9,53,9,54],[9,51,9,52],[9,49,9,50]]}
[]
[]
[null,"ALCALDÍA DE BUCARAMANGA"]
[null,"PLAN DE DESARROLLO 2016 - 2019 \"GOBIERNO DE LAS CIUDADANAS Y LOS CIUDADANOS\""]
[null,"LÍNEA ESTRATÉGICA 5: PRODUCTIVIDAD Y GENERACIÓN DE OPORTUNIDADES"]
[]
[]
[null,"POND","LÍNEA ESTRATÉGICA","POND","COMPONENTE","META DE RESULTADO","LÍNEA BASE","RESULTADO CUATRIENIO",null,"LOGROS POR VIGENCIA",null,null,null,null,null,null,null,null,null,null,null,"LOGRO POR VIGENCIA",null,null,null,null,null,null,null,"PORCENTAJE DE CUMPLIMIENTO",null,null,null,null,null,null,null,null,null,null,"POND","PROGRAMA","META DE PRODUCTO","RUBRO PPTAL","INDICADOR DE PRODUCTO",null,null,null,null,null,null,null,null,null,null,"LOGRO POR VIGENCIA",null,null,null,"PORCENTAJE DE CUMPLIMIENTO",null,null,null,null,null,null,null,null,null,null,"RECURSOS POR FUENTE DE FINANCIACIÓN PARA CADA VIGENCIA (Cifras en Miles de Pesos)",null,null,null,null,null,null,null,null,null,null,null,null,null,null,null,null,null,null,null,null,null,null,null,null,"ODS","SECTOR"]
[null,null,null,null,null,null,null,null,null,null,null,null,null,null,null,null,null,null,null,null,null,null,null,null,null,null,null,null,null,null,null,null,null,null,null,null,null,null,null,null,null,null,null,null,null,null,null,null,null,null,null,null,null,null,null,null,null,null,null,null,null,null,null,null,null,null,null,null,null,null,2016,null,null,null,null,2017,null,null,null,null,2018,null,null,null,null,2019,null,null,null,null,"2016 - 2019"]
[null,null,null,null,null,null,null,null,null,2016,null,null,2017,null,null,2018,null,null,2019,null,null,2016,null,2017,null,2018,null,2019,null,2016,null,2017,null,2018,null,2019,null,"2016 - 2019",null,null,null,null,null,null,"NOMBRE INDICADOR","LÍNEA BASE","ESPERADO CUATRIENIO",2016,null,2017,null,2018,null,2019,null,2016,2017,2018,2019,2016,null,2017,null,2018,null,2019,null,"2016 - 2019",null,null,"RECURSOS PROGRAMADOS","RECURSOS EJECUTADOS","RECURSOS GESTIONADOS","PORCENTAJE EJECUCIÓN","NIVEL DE GESTIÓN","RECURSOS PROGRAMADOS","RECURSOS EJECUTADOS","RECURSOS GESTIONADOS","PORCENTAJE EJECUCIÓN","NIVEL DE GESTIÓN","RECURSOS PROGRAMADOS","RECURSOS EJECUTADOS","RECURSOS GESTIONADOS","PORCENTAJE EJECUCIÓN","NIVEL DE GESTIÓN","RECURSOS PROGRAMADOS","RECURSOS EJECUTADOS","RECURSOS GESTIONADOS","PORCENTAJE EJECUCIÓN","NIVEL DE GESTIÓN","RECURSOS PROGRAMADOS","RECURSOS EJECUTADOS","RECURSOS GESTIONADOS","PORCENTAJE EJECUCIÓN","NIVEL DE GESTIÓN",null,null,"RESPONSABLE"]
[null,{"$f":"+RESUMEN!J121","v":0.30189157322603682},"5 - PRODUCTIVIDAD Y GENERACIÓN DE OPORTUNIDADES",{"$f":"+RESUMEN!J122","v":0.15419994430520748},"FOMENTO DEL EMPRENDIMIENTO Y LA INNOVACIÓN","Generar 1.000 empleos con nuevos proyectos empresariales en los sectores priorizados.",0,1000,{"$f":"+H11-G11","v":1000},0,{"$f":"+J11-G11","v":0},null,200,{"$f":"+M11-J11","v":200},null,700,{"$f":"+P11-M11","v":500},null,1000,{"$f":"+S11-P11","v":300},null,23,{"$f":"+IF(V11=0,0,V11-G11)","v":23},null,{"$f":"+IF(X11=0,0,X11-V11)","v":0},null,{"$f":"+IF(Z11=0,0,Z11-X11)","v":0},null,{"$f":"+IF(AB11=0,0,AB11-Z11)","v":0},{"$f":"+IF(K11=0,\" -\",W11/K11)","v":" -"},{"$f":"+IF(K11=0,\" -\",IF(AD11>100%,100%,AD11))","v":" -"},{"$f":"+IF(N11=0,\" -\",Y11/N11)","v":0},{"$f":"+IF(N11=0,\" -\",IF(AF11>100%,100%,AF11))","v":0},{"$f":"+IF(Q11=0,\" -\",AA11/Q11)","v":0},{"$f":"+IF(Q11=0,\" -\",IF(AH11>100%,100%,AH11))","v":0},{"$f":"+IF(T11=0,\" -\",AC11/T11)","v":0},{"$f":"+IF(T11=0,\" -\",IF(AJ11>100%,100%,AJ11))","v":0},{"$f":"+SUM(AC11,AA11,Y11,W11)/I11","v":2.3E-2},{"$f":"+IF(AL11>100%,100%,IF(AL11<0%,0%,AL11))","v":2.3E-2},null,{"$f":"+RESUMEN!J123","v":0.25942522974101923},"BUCARAMANGA EMPRENDEDORA","Crear la organización \"Empresa madre\" para impulsar la innovación y el emprendimiento social.",{"$f":"'[1]LÍNEA 5'!P11","v":"0542900102"},"Porcentaje de avance en la creación de la organización \"Empresa madre\" para impulsar la innovación y el emprendimiento social.",0,{"$f":"'[1]LÍNEA 5'!S11","v":1},{"$f":"'[1]LÍNEA 5'!T11","v":0},{"$f":"+AV11/AU11","v":0},{"$f":"'[1]LÍNEA 5'!U11","v":0.25},{"$f":"+AX11/AU11","v":0.25},{"$f":"'[1]LÍNEA 5'!V11","v":0.4},{"$f":"+AZ11/AU11","v":0.4},{"$f":"'[1]LÍNEA 5'!W11","v":0.35},{"$f":"+BB11/AU11","v":0.35},{"$f":"'[22]2016'!K23","v":0.05},{"$f":"'[22]2017'!K19","v":0.25},{"$f":"'[22]2018'!K19","v":0.23},{"$f":"'[22]2019'!K19","v":0},{"$f":"IF(AV11=0,\" -\",BD11/AV11)","v":" -"},{"$f":"IF(AV11=0,\" -\",IF(BH11>100%,100%,BH11))","v":" -"},{"$f":"IF(AX11=0,\" -\",BE11/AX11)","v":1},{"$f":"IF(AX11=0,\" -\",IF(BJ11>100%,100%,BJ11))","v":1},{"$f":"IF(AZ11=0,\" -\",BF11/AZ11)","v":0.57499999999999996},{"$f":"IF(AZ11=0,\" -\",IF(BL11>100%,100%,BL11))","v":0.57499999999999996},{"$f":"IF(BB11=0,\" -\",BG11/BB11)","v":0},{"$f":"IF(BB11=0,\" -\",IF(BN11>100%,100%,BN11))","v":0},{"$f":"+SUM(BD11:BG11)/AU11","v":0.53},{"$f":"+IF(BP11>100%,100%,BP11)","v":0.53},{"$f":"+BQ11","v":0.53},{"$f":"'[22]2016'!P23","v":0},{"$f":"'[22]2016'!Q23","v":0},{"$f":"'[22]2016'!R23","v":0},{"$f":"IF(BS11=0,\" -\",BT11/BS11)","v":" -"},{"$f":"IF(BU11=0,\" -\",IF(BT11=0,100%,BU11/BT11))","v":" -"},{"$f":"'[22]2017'!P19","v":70833},{"$f":"'[22]2017'!Q19","v":60353},{"$f":"'[22]2017'!R19","v":0},{"$f":"IF(BX11=0,\" -\",BY11/BX11)","v":0.85204636257111799},{"$f":"IF(BZ11=0,\" -\",IF(BY11=0,100%,BZ11/BY11))","v":" -"},{"$f":"'[22]2018'!P19","v":159520},{"$f":"'[22]2018'!Q19","v":83962},{"$f":"'[22]2018'!R19","v":0},{"$f":"IF(CC11=0,\" -\",CD11/CC11)","v":0.52634152457372119},{"$f":"IF(CE11=0,\" -\",IF(CD11=0,100%,CE11/CD11))","v":" -"},{"$f":"'[22]2019'!P19","v":200000},{"$f":"'[22]2019'!Q19","v":0},{"$f":"'[22]2019'!R19","v":0},{"$f":"IF(CH11=0,\" -\",CI11/CH11)","v":0},{"$f":"IF(CJ11=0,\" -\",IF(CI11=0,100%,CJ11/CI11))","v":" -"},{"$f":"+BS11+BX11+CC11+CH11","v":430353},144315,0,{"$f":"IF(CM11=0,\" -\",CN11/CM11)","v":0.33534098751490055},{"$f":"IF(CO11=0,\" -\",IF(CN11=0,100%,CO11/CN11))","v":" -"},"8. Trabajo decente y crecimiento económico","Promoción del desarrollo",{"$f":"'[1]LÍNEA 5'!AQ11","v":"IMEBU"}]
[null,null,null,null,null,null,null,null,null,null,null,null,null,null,null,null,null,null,null,null,null,null,null,null,null,null,null,null,null,null,null,null,null,null,null,null,null,null,null,null,null,null,"Realizar 4 convocatorias para el apoyo a proyectos con apalancamiento financiero a través de  la bolsa de recursos destinada al programa de capital semilla (empresas de economía solidaria).",{"$f":"'[1]LÍNEA 5'!P12","v":0},"Número de convocatorias realizadas para el apoyo a proyectos con apalancamiento financiero a través de  la bolsa de recursos destinada al programa de capital semilla (empresas de economía solidaria).",3,{"$f":"'[1]LÍNEA 5'!S12","v":4},{"$f":"'[1]LÍNEA 5'!T12","v":0},{"$f":"+AV12/AU12","v":0},{"$f":"'[1]LÍNEA 5'!U12","v":0},{"$f":"+AX12/AU12","v":0},{"$f":"'[1]LÍNEA 5'!V12","v":0},{"$f":"+AZ12/AU12","v":0},{"$f":"'[1]LÍNEA 5'!W12","v":4},{"$f":"+BB12/AU12","v":1},{"$f":"'[22]2016'!K24","v":0},{"$f":"'[22]2017'!K20","v":0},{"$f":"'[22]2018'!K20","v":0},{"$f":"'[22]2019'!K20","v":0},{"$f":"IF(AV12=0,\" -\",BD12/AV12)","v":" -"},{"$f":"IF(AV12=0,\" -\",IF(BH12>100%,100%,BH12))","v":" -"},{"$f":"IF(AX12=0,\" -\",BE12/AX12)","v":" -"},{"$f":"IF(AX12=0,\" -\",IF(BJ12>100%,100%,BJ12))","v":" -"},{"$f":"IF(AZ12=0,\" -\",BF12/AZ12)","v":" -"},{"$f":"IF(AZ12=0,\" -\",IF(BL12>100%,100%,BL12))","v":" -"},{"$f":"IF(BB12=0,\" -\",BG12/BB12)","v":0},{"$f":"IF(BB12=0,\" -\",IF(BN12>100%,100%,BN12))","v":0},{"$f":"+SUM(BD12:BG12)/AU12","v":0},{"$f":"+IF(BP12>100%,100%,BP12)","v":0},{"$f":"+BQ12","v":0},{"$f":"'[22]2016'!P24","v":0},{"$f":"'[22]2016'!Q24","v":0},{"$f":"'[22]2016'!R24","v":0},{"$f":"IF(BS12=0,\" -\",BT12/BS12)","v":" -"},{"$f":"IF(BU12=0,\" -\",IF(BT12=0,100%,BU12/BT12))","v":" -"},{"$f":"'[22]2017'!P20","v":0},{"$f":"'[22]2017'!Q20","v":0},{"$f":"'[22]2017'!R20","v":0},{"$f":"IF(BX12=0,\" -\",BY12/BX12)","v":" -"},{"$f":"IF(BZ12=0,\" -\",IF(BY12=0,100%,BZ12/BY12))","v":" -"},{"$f":"'[22]2018'!P20","v":0},{"$f":"'[22]2018'!Q20","v":0},{"$f":"'[22]2018'!R20","v":0},{"$f":"IF(CC12=0,\" -\",CD12/CC12)","v":" -"},{"$f":"IF(CE12=0,\" -\",IF(CD12=0,100%,CE12/CD12))","v":" -"},{"$f":"'[22]2019'!P20","v":500000},{"$f":"'[22]2019'!Q20","v":0},{"$f":"'[22]2019'!R20","v":0},{"$f":"IF(CH12=0,\" -\",CI12/CH12)","v":0},{"$f":"IF(CJ12=0,\" -\",IF(CI12=0,100%,CJ12/CI12))","v":" -"},500000,0,0,{"$f":"IF(CM12=0,\" -\",CN12/CM12)","v":0},{"$f":"IF(CO12=0,\" -\",IF(CN12=0,100%,CO12/CN12))","v":" -"},"8. Trabajo decente y crecimiento económico","Promoción del desarrollo",{"$f":"'[1]LÍNEA 5'!AQ12","v":"IMEBU"}]
[null,null,null,null,null,null,null,null,null,null,null,null,null,null,null,null,null,null,null,null,null,null,null,null,null,null,null,null,null,null,null,null,null,null,null,null,null,null,null,null,null,null,"Realizar 4 convocatorias para los proyectos de emprendimiento presentados a través del  programa  IMEBU - Fondo Emprender en alianza con el SENA.",{"$f":"'[1]LÍNEA 5'!P13","v":0},"Número de convocatorias realizadas para los proyectos de emprendimiento presentados a través del  programa  IMEBU - Fondo Emprender en alianza con el SENA.",0,{"$f":"'[1]LÍNEA 5'!S13","v":4},{"$f":"'[1]LÍNEA 5'!T13","v":0},{"$f":"+AV13/AU13","v":0},{"$f":"'[1]LÍNEA 5'!U13","v":0},{"$f":"+AX13/AU13","v":0},{"$f":"'[1]LÍNEA 5'!V13","v":0},{"$f":"+AZ13/AU13","v":0},{"$f":"'[1]LÍNEA 5'!W13","v":4},{"$f":"+BB13/AU13","v":1},{"$f":"'[22]2016'!K25","v":0},{"$f":"'[22]2017'!K21","v":0},{"$f":"'[22]2018'!K21","v":0},{"$f":"'[22]2019'!K21","v":0}," -"," -"," -"," -"," -"," -",0,0,0,0,0,{"$f":"'[22]2016'!P25","v":0},{"$f":"'[22]2016'!Q25","v":0},{"$f":"'[22]2016'!R25","v":0},{"$f":"IF(BS13=0,\" -\",BT13/BS13)","v":" -"},{"$f":"IF(BU13=0,\" -\",IF(BT13=0,100%,BU13/BT13))","v":" -"},{"$f":"'[22]2017'!P21","v":0},{"$f":"'[22]2017'!Q21","v":0},{"$f":"'[22]2017'!R21","v":0},{"$f":"IF(BX13=0,\" -\",BY13/BX13)","v":" -"},{"$f":"IF(BZ13=0,\" -\",IF(BY13=0,100%,BZ13/BY13))","v":" -"},{"$f":"'[22]2018'!P21","v":0},{"$f":"'[22]2018'!Q21","v":0},{"$f":"'[22]2018'!R21","v":0},{"$f":"IF(CC13=0,\" -\",CD13/CC13)","v":" -"},{"$f":"IF(CE13=0,\" -\",IF(CD13=0,100%,CE13/CD13))","v":" -"},{"$f":"'[22]2019'!P21","v":800000},{"$f":"'[22]2019'!Q21","v":0},{"$f":"'[22]2019'!R21","v":0},{"$f":"IF(CH13=0,\" -\",CI13/CH13)","v":0},{"$f":"IF(CJ13=0,\" -\",IF(CI13=0,100%,CJ13/CI13))","v":" -"},{"$f":"+BS13+BX13+CC13+CH13","v":800000},{"$f":"+BT13+BY13+CD13+CI13","v":0},{"$f":"+BU13+BZ13+CE13+CJ13","v":0},{"$f":"IF(CM13=0,\" -\",CN13/CM13)","v":0},{"$f":"IF(CO13=0,\" -\",IF(CN13=0,100%,CO13/CN13))","v":" -"},"8. Trabajo decente y crecimiento económico","Promoción del desarrollo",{"$f":"'[1]LÍNEA 5'!AQ13","v":"IMEBU"}]
[null,null,null,null,null,null,null,null,null,null,null,null,null,null,null,null,null,null,null,null,null,null,null,null,null,null,null,null,null,null,null,null,null,null,null,null,null,null,null,null,null,null,"Apoyar a 171 emprendedores mediante  el otorgamiento de crédito.",{"$f":"'[1]LÍNEA 5'!P14","v":"-"},"Número de emprendedores apoyados mediante el otorgamiento de crédito.",171,{"$f":"'[1]LÍNEA 5'!S14","v":171},{"$f":"'[1]LÍNEA 5'!T14","v":15},8.771929824561403E-2,{"$f":"'[1]LÍNEA 5'!U14","v":45},0.26315789473684209,{"$f":"'[1]LÍNEA 5'!V14","v":60},0.35087719298245612,{"$f":"'[1]LÍNEA 5'!W14","v":51},0.2982456140350877,{"$f":"'[22]2016'!K26","v":23},{"$f":"'[22]2017'!K22","v":32},{"$f":"'[22]2018'!K22","v":9},{"$f":"'[22]2019'!K22","v":0},1.5333333333333334,1,0.71111111111111114,0.71111111111111114,0.15,0.15,0,0,0.3742690058479532,0.3742690058479532,0.3742690058479532,{"$f":"'[22]2016'!P26","v":0},{"$f":"'[22]2016'!Q26","v":0},{"$f":"'[22]2016'!R26","v":0}," -"," -",{"$f":"'[22]2017'!P22","v":0},{"$f":"'[22]2017'!Q22","v":0},{"$f":"'[22]2017'!R22","v":0}," -"," -",{"$f":"'[22]2018'!P22","v":0},{"$f":"'[22]2018'!Q22","v":0},{"$f":"'[22]2018'!R22","v":0}," -"," -",{"$f":"'[22]2019'!P22","v":0},{"$f":"'[22]2019'!Q22","v":0},{"$f":"'[22]2019'!R22","v":0}," -"," -",0,0,0," -"," -","8. Trabajo decente y crecimiento económico","Promoción del desarrollo",{"$f":"'[1]LÍNEA 5'!AQ14","v":"IMEBU"}]
[null,null,null,null,null,null,null,null,null,null,null,null,null,null,null,null,null,null,null,null,null,null,null,null,null,null,null,null,null,null,null,null,null,null,null,null,null,null,null,null,null,null,"Acompañar  la formulación de 700 proyectos elaborados por  adolescentes y/o jóvenes estudiantes de los instituciones educativas oficiales, universidades y otros grupos poblacionales priorizados.",{"$f":"'[1]LÍNEA 5'!P15","v":"0542900101"},"Número de proyectos elaborados por adolescentes y/o jóvenes estudiantes de los colegios oficiales, universidades y otros grupos poblacionales priorizados con acompañamiento.",0,{"$f":"'[1]LÍNEA 5'!S15","v":700},{"$f":"'[1]LÍNEA 5'!T15","v":0},0,{"$f":"'[1]LÍNEA 5'!U15","v":50},7.1428571428571425E-2,{"$f":"'[1]LÍNEA 5'!V15","v":0},0,{"$f":"'[1]LÍNEA 5'!W15","v":650},0.9285714285714286,{"$f":"'[22]2016'!K27","v":204},{"$f":"'[22]2017'!K23","v":71},{"$f":"'[22]2018'!K23","v":0},{"$f":"'[22]2019'!K23","v":0}," -"," -",1.42,1," -"," -",0,0,0.39285714285714285,0.39285714285714285,0.39285714285714285,{"$f":"'[22]2016'!P27","v":0},{"$f":"'[22]2016'!Q27","v":0},{"$f":"'[22]2016'!R27","v":0}," -"," -",{"$f":"'[22]2017'!P23","v":49900},{"$f":"'[22]2017'!Q23","v":49900},{"$f":"'[22]2017'!R23","v":0},1," -",{"$f":"'[22]2018'!P23","v":0},{"$f":"'[22]2018'!Q23","v":0},{"$f":"'[22]2018'!R23","v":0}," -"," -",{"$f":"'[22]2019'!P23","v":400000},{"$f":"'[22]2019'!Q23","v":0},{"$f":"'[22]2019'!R23","v":0},0," -",449900,49900,0,0.1109135363414092," -","8. Trabajo decente y crecimiento económico","Promoción del desarrollo",{"$f":"'[1]LÍNEA 5'!AQ15","v":"IMEBU"}]
[null,null,null,null,null,null,null,null,null,null,null,null,null,null,null,null,null,null,null,null,null,null,null,null,null,null,null,null,null,null,null,null,null,null,null,null,null,null,null,null,{"$f":"+RESUMEN!J124","v":0.11428571428571428},"BUCARAMANGA INNOVADARA","Apoyar la creación de 5 empresas o proyectos de innovación social de alto impacto en los sectores priorizados.",{"$f":"'[1]LÍNEA 5'!P16","v":"'0542900103"},"Número de empresas o proyectos de innovación social de alto impacto creadas en los sectores priorizados.",5,{"$f":"'[1]LÍNEA 5'!S16","v":5},{"$f":"'[1]LÍNEA 5'!T16","v":0},0,{"$f":"'[1]LÍNEA 5'!U16","v":0},0,{"$f":"'[1]LÍNEA 5'!V16","v":0},0,{"$f":"'[1]LÍNEA 5'!W16","v":5},1,{"$f":"'[22]2016'!K28","v":0},{"$f":"'[22]2017'!K24","v":0},{"$f":"'[22]2018'!K24","v":0},{"$f":"'[22]2019'!K24","v":0}," -"," -"," -"," -"," -"," -",0,0,0,0,0,{"$f":"'[22]2016'!P28","v":0},{"$f":"'[22]2016'!Q28","v":0},{"$f":"'[22]2016'!R28","v":0}," -"," -",{"$f":"'[22]2017'!P24","v":0},{"$f":"'[22]2017'!Q24","v":0},{"$f":"'[22]2017'!R24","v":0}," -"," -",{"$f":"'[22]2018'!P24","v":0},{"$f":"'[22]2018'!Q24","v":0},{"$f":"'[22]2018'!R24","v":0}," -"," -",{"$f":"'[22]2019'!P24","v":100000},{"$f":"'[22]2019'!Q24","v":0},{"$f":"'[22]2019'!R24","v":0},0," -",100000,0,0,0," -","8. Trabajo decente y crecimiento económico","Promoción del desarrollo",{"$f":"'[1]LÍNEA 5'!AQ16","v":"IMEBU"}]
[null,null,null,null,null,null,null,null,null,null,null,null,null,null,null,null,null,null,null,null,null,null,null,null,null,null,null,null,null,null,null,null,null,null,null,null,null,null,null,null,null,null,"Crear el laboratorio de creatividad e innovación social para la región.",{"$f":"'[1]LÍNEA 5'!P17","v":"'0542900103"},"Porcentaje de avance en la creación del laboratorio de creatividad e innovación social para la región.",0,{"$f":"'[1]LÍNEA 5'!S17","v":1},{"$f":"'[1]LÍNEA 5'!T17","v":0},0,{"$f":"'[1]LÍNEA 5'!U17","v":0},0,{"$f":"'[1]LÍNEA 5'!V17","v":0},0,{"$f":"'[1]LÍNEA 5'!W17","v":1},1,{"$f":"'[22]2016'!K29","v":0},{"$f":"'[22]2017'!K25","v":0},{"$f":"'[22]2018'!K25","v":0},{"$f":"'[22]2019'!K25","v":0}," -"," -"," -"," -"," -"," -",0,0,0,0,0,{"$f":"'[22]2016'!P29","v":0},{"$f":"'[22]2016'!Q29","v":0},{"$f":"'[22]2016'!R29","v":0}," -"," -",{"$f":"'[22]2017'!P25","v":0},{"$f":"'[22]2017'!Q25","v":0},{"$f":"'[22]2017'!R25","v":0}," -"," -",{"$f":"'[22]2018'!P25","v":0},{"$f":"'[22]2018'!Q25","v":0},{"$f":"'[22]2018'!R25","v":0}," -"," -",{"$f":"'[22]2019'!P25","v":10000},{"$f":"'[22]2019'!Q25","v":0},{"$f":"'[22]2019'!R25","v":0},0," -",10000,0,0,0," -","8. Trabajo decente y crecimiento económico","Promoción del desarrollo",{"$f":"'[1]LÍNEA 5'!AQ17","v":"IMEBU"}]
[null,null,null,null,null,"Crear 50 empresas lideradas por jóvenes estudiantes y colegios públicos.",0,50,{"$f":"+H18-G18","v":50},0,{"$f":"+J18-G18","v":0},null,0,{"$f":"+M18-J18","v":0},null,20,{"$f":"+P18-M18","v":20},null,50,{"$f":"+S18-P18","v":30},null,0,{"$f":"+IF(V18=0,0,V18-G18)","v":0},null,{"$f":"+IF(X18=0,0,X18-V18)","v":0},null,{"$f":"+IF(Z18=0,0,Z18-X18)","v":0},null,{"$f":"+IF(AB18=0,0,AB18-Z18)","v":0},{"$f":"+IF(K18=0,\" -\",W18/K18)","v":" -"},{"$f":"+IF(K18=0,\" -\",IF(AD18>100%,100%,AD18))","v":" -"},{"$f":"+IF(N18=0,\" -\",Y18/N18)","v":" -"},{"$f":"+IF(N18=0,\" -\",IF(AF18>100%,100%,AF18))","v":" -"},{"$f":"+IF(Q18=0,\" -\",AA18/Q18)","v":0},{"$f":"+IF(Q18=0,\" -\",IF(AH18>100%,100%,AH18))","v":0},{"$f":"+IF(T18=0,\" -\",AC18/T18)","v":0},{"$f":"+IF(T18=0,\" -\",IF(AJ18>100%,100%,AJ18))","v":0},{"$f":"+SUM(AC18,AA18,Y18,W18)/I18","v":0},{"$f":"+IF(AL18>100%,100%,IF(AL18<0%,0%,AL18))","v":0},null,null,null,"Realizar 7 eventos de emprendimiento y/o innovación de gran formato para los jóvenes y empresarios.",{"$f":"'[1]LÍNEA 5'!P18","v":"0542900104"},"Número de eventos de emprendimiento y/o innovación de gran formato realizados para los jóvenes empresarios.",0,{"$f":"'[1]LÍNEA 5'!S18","v":7},{"$f":"'[1]LÍNEA 5'!T18","v":1},0.14285714285714285,{"$f":"'[1]LÍNEA 5'!U18","v":0},0,{"$f":"'[1]LÍNEA 5'!V18","v":0},0,{"$f":"'[1]LÍNEA 5'!W18","v":6},0.8571428571428571,{"$f":"'[22]2016'!K30","v":1},{"$f":"'[22]2017'!K26","v":2},{"$f":"'[22]2018'!K26","v":1},{"$f":"'[22]2019'!K26","v":0},1,1," -"," -"," -"," -",0,0,0.5714285714285714,0.5714285714285714,0.5714285714285714,{"$f":"'[22]2016'!P30","v":150000},{"$f":"'[22]2016'!Q30","v":150000},{"$f":"'[22]2016'!R30","v":325000},1,2.1666666666666665,{"$f":"'[22]2017'!P26","v":0},{"$f":"'[22]2017'!Q26","v":0},{"$f":"'[22]2017'!R26","v":10000}," -",1,{"$f":"'[22]2018'!P26","v":0},{"$f":"'[22]2018'!Q26","v":0},{"$f":"'[22]2018'!R26","v":0}," -"," -",{"$f":"'[22]2019'!P26","v":300000},{"$f":"'[22]2019'!Q26","v":0},{"$f":"'[22]2019'!R26","v":0},0," -",450000,150000,335000,0.33333333333333331,2.2333333333333334,"8. Trabajo decente y crecimiento económico","Promoción del desarrollo",{"$f":"'[1]LÍNEA 5'!AQ18","v":"IMEBU"}]
[null,null,null,null,null,null,null,null,null,null,null,null,null,null,null,null,null,null,null,null,null,null,null,null,null,null,null,null,null,null,null,null,null,null,null,null,null,null,null,null,null,null,"Construir la visión prospectiva empresarial de la ciudad región  homologada por los actores del ecosistema de innovación.",{"$f":"'[1]LÍNEA 5'!P19","v":"0542900105"},"Porcentaje de avance en la construcción de la visión prospectiva empresarial de la ciudad región  homologada por los actores del ecosistema de innovación.",0,{"$f":"'[1]LÍNEA 5'!S19","v":1},{"$f":"'[1]LÍNEA 5'!T19","v":0},0,{"$f":"'[1]LÍNEA 5'!U19","v":0},0,{"$f":"'[1]LÍNEA 5'!V19","v":0.2},0.2,{"$f":"'[1]LÍNEA 5'!W19","v":0.8},0.8,{"$f":"'[22]2016'!K31","v":0},{"$f":"'[22]2017'!K27","v":0},{"$f":"'[22]2018'!K27","v":0},{"$f":"'[22]2019'!K27","v":0}," -"," -"," -"," -",0,0,0,0,0,0,0,{"$f":"'[22]2016'!P31","v":0},{"$f":"'[22]2016'!Q31","v":0},{"$f":"'[22]2016'!R31","v":0}," -"," -",{"$f":"'[22]2017'!P27","v":0},{"$f":"'[22]2017'!Q27","v":0},{"$f":"'[22]2017'!R27","v":0}," -"," -",{"$f":"'[22]2018'!P27","v":0},{"$f":"'[22]2018'!Q27","v":0},{"$f":"'[22]2018'!R27","v":0}," -"," -",{"$f":"'[22]2019'!P27","v":10000},{"$f":"'[22]2019'!Q27","v":0},{"$f":"'[22]2019'!R27","v":0},0," -",10000,0,0,0," -","8. Trabajo decente y crecimiento económico","Promoción del desarrollo",{"$f":"'[1]LÍNEA 5'!AQ19","v":"IMEBU"}]
[null,null,null,null,null,null,null,null,null,null,null,null,null,null,null,null,null,null,null,null,null,null,null,null,null,null,null,null,null,null,null,null,null,null,null,null,null,null,null,null,null,null,"Optimizar el ecosistema de innovación de la ciudad integrando los diferentes actores.",{"$f":"'[1]LÍNEA 5'!P20","v":"0542900105"},"Porcentaje de avance en la optimización del ecosistema de innovación de la ciudad integrando los diferentes actores.",0,{"$f":"'[1]LÍNEA 5'!S20","v":1},{"$f":"'[1]LÍNEA 5'!T20","v":0},0,{"$f":"'[1]LÍNEA 5'!U20","v":0},0,{"$f":"'[1]LÍNEA 5'!V20","v":0.2},0.2,{"$f":"'[1]LÍNEA 5'!W20","v":0.8},0.8,{"$f":"'[22]2016'!K32","v":0},{"$f":"'[22]2017'!K28","v":0},{"$f":"'[22]2018'!K28","v":0},{"$f":"'[22]2019'!K28","v":0}," -"," -"," -"," -",0,0,0,0,0,0,0,{"$f":"'[22]2016'!P32","v":0},{"$f":"'[22]2016'!Q32","v":0},{"$f":"'[22]2016'!R32","v":0}," -"," -",{"$f":"'[22]2017'!P28","v":0},{"$f":"'[22]2017'!Q28","v":0},{"$f":"'[22]2017'!R28","v":0}," -"," -",{"$f":"'[22]2018'!P28","v":0},{"$f":"'[22]2018'!Q28","v":0},{"$f":"'[22]2018'!R28","v":0}," -"," -",{"$f":"'[22]2019'!P28","v":10000},{"$f":"'[22]2019'!Q28","v":0},{"$f":"'[22]2019'!R28","v":0},0," -",10000,0,0,0," -","8. Trabajo decente y crecimiento económico","Promoción del desarrollo",{"$f":"'[1]LÍNEA 5'!AQ20","v":"IMEBU"}]
[null,null,null,null,null,null,null,null,null,null,null,null,null,null,null,null,null,null,null,null,null,null,null,null,null,null,null,null,null,null,null,null,null,null,null,null,null,null,null,null,{"$f":"+RESUMEN!J125","v":8.8888888888888892E-2},"BUCARAMANGA DIGITAL","Implementar y mantener la estrategia del portal del emprendimiento, innovación y liderazgo de la ciudad.",{"$f":"'[1]LÍNEA 5'!P21","v":"0542900106"},"Porcentaje de avance en el diseño e implementación del megaportal del emprendimiento y la innovación.",0,{"$f":"'[1]LÍNEA 5'!S21","v":1},{"$f":"'[1]LÍNEA 5'!T21","v":0},0,{"$f":"'[1]LÍNEA 5'!U21","v":0},0,{"$f":"'[1]LÍNEA 5'!V21","v":0.5},0.5,{"$f":"'[1]LÍNEA 5'!W21","v":0.5},0.5,{"$f":"'[22]2016'!K33","v":0.2},{"$f":"'[22]2017'!K29","v":0},{"$f":"'[22]2018'!K29","v":0},{"$f":"'[22]2019'!K29","v":0}," -"," -"," -"," -",0,0,0,0,0.2,0.2,0.2,{"$f":"'[22]2016'!P33","v":0},{"$f":"'[22]2016'!Q33","v":0},{"$f":"'[22]2016'!R33","v":0}," -"," -",{"$f":"'[22]2017'!P29","v":0},{"$f":"'[22]2017'!Q29","v":0},{"$f":"'[22]2017'!R29","v":0}," -"," -",{"$f":"'[22]2018'!P29","v":0},{"$f":"'[22]2018'!Q29","v":0},{"$f":"'[22]2018'!R29","v":0}," -"," -",{"$f":"'[22]2019'!P29","v":50000},{"$f":"'[22]2019'!Q29","v":0},{"$f":"'[22]2019'!R29","v":0},0," -",50000,0,0,0," -","8. Trabajo decente y crecimiento económico","Promoción del desarrollo",{"$f":"'[1]LÍNEA 5'!AQ21","v":"IMEBU"}]
[null,null,null,null,null,null,null,null,null,null,null,null,null,null,null,null,null,null,null,null,null,null,null,null,null,null,null,null,null,null,null,null,null,null,null,null,null,null,null,null,null,null,"Apoyar la creación de 15 programas virtuales con enfoque en: liderazgo de principios, emprendimiento e innovación social.",{"$f":"'[1]LÍNEA 5'!P22","v":"0542900106"},"Número de programas virtuales apoyados en la creación con enfoque en: liderazgo de principios lógica, ética y estética, emprendimiento e innovación.",0,{"$f":"'[1]LÍNEA 5'!S22","v":15},{"$f":"'[1]LÍNEA 5'!T22","v":0},0,{"$f":"'[1]LÍNEA 5'!U22","v":0},0,{"$f":"'[1]LÍNEA 5'!V22","v":0},0,{"$f":"'[1]LÍNEA 5'!W22","v":15},1,{"$f":"'[22]2016'!K34","v":1},{"$f":"'[22]2017'!K30","v":0},{"$f":"'[22]2018'!K30","v":0},{"$f":"'[22]2019'!K30","v":0}," -"," -"," -"," -"," -"," -",0,0,6.6666666666666666E-2,6.6666666666666666E-2,6.6666666666666666E-2,{"$f":"'[22]2016'!P34","v":0},{"$f":"'[22]2016'!Q34","v":0},{"$f":"'[22]2016'!R34","v":0}," -"," -",{"$f":"'[22]2017'!P30","v":0},{"$f":"'[22]2017'!Q30","v":0},{"$f":"'[22]2017'!R30","v":0}," -"," -",{"$f":"'[22]2018'!P30","v":0},{"$f":"'[22]2018'!Q30","v":0},{"$f":"'[22]2018'!R30","v":0}," -"," -",{"$f":"'[22]2019'!P30","v":100000},{"$f":"'[22]2019'!Q30","v":0},{"$f":"'[22]2019'!R30","v":0},0," -",100000,0,0,0," -","8. Trabajo decente y crecimiento económico","Promoción del desarrollo",{"$f":"'[1]LÍNEA 5'!AQ22","v":"IMEBU"}]
[null,null,null,null,null,null,null,null,null,null,null,null,null,null,null,null,null,null,null,null,null,null,null,null,null,null,null,null,null,null,null,null,null,null,null,null,null,null,null,null,null,null,"Implementar 1 aplicación de georreferenciación como prueba  piloto para brindar información de mercado a los emprendedores.",{"$f":"'[1]LÍNEA 5'!P23","v":"-"},"Número de aplicaciones de georreferenciación implementadas como prueba piloto para brindar información de mercado a los emprendedores.",null,{"$f":"'[1]LÍNEA 5'!S23","v":1},{"$f":"'[1]LÍNEA 5'!T23","v":0},0,{"$f":"'[1]LÍNEA 5'!U23","v":0},0,{"$f":"'[1]LÍNEA 5'!V23","v":1},1,{"$f":"'[1]LÍNEA 5'!W23","v":0},0,{"$f":"'[22]2016'!K35","v":0},{"$f":"'[22]2017'!K31","v":0},{"$f":"'[22]2018'!K31","v":0},{"$f":"'[22]2019'!K31","v":0}," -"," -"," -"," -",0,0," -"," -",0,0,0,{"$f":"'[22]2016'!P35","v":0},{"$f":"'[22]2016'!Q35","v":0},{"$f":"'[22]2016'!R35","v":0}," -"," -",{"$f":"'[22]2017'!P31","v":0},{"$f":"'[22]2017'!Q31","v":0},{"$f":"'[22]2017'!R31","v":0}," -"," -",{"$f":"'[22]2018'!P31","v":0},{"$f":"'[22]2018'!Q31","v":0},{"$f":"'[22]2018'!R31","v":0}," -"," -",{"$f":"'[22]2019'!P31","v":0},{"$f":"'[22]2019'!Q31","v":0},{"$f":"'[22]2019'!R31","v":0}," -"," -",0,0,0," -"," -","8. Trabajo decente y crecimiento económico","Promoción del desarrollo",{"$f":"'[1]LÍNEA 5'!AQ23","v":"IMEBU"}]
[null,null,null,null,null,null,null,null,null,null,null,null,null,null,null,null,null,null,null,null,null,null,null,null,null,null,null,null,null,null,null,null,null,null,null,null,null,null,null,null,null,null,null,null,null,null,{"$f":"'[1]LÍNEA 5'!S24","v":0},{"$f":"'[1]LÍNEA 5'!T24","v":0},{"$f":"+AVERAGE(AW11:AW23)","v":1.7736649315596684E-2},{"$f":"'[1]LÍNEA 5'!U24","v":0},{"$f":"+AVERAGE(AY11:AY23)","v":4.4968189705031802E-2},{"$f":"'[1]LÍNEA 5'!V24","v":0},0.20391363022941972,{"$f":"'[1]LÍNEA 5'!W24","v":0},0.73338153074995183,null,null,null,null,null,{"$f":"+AVERAGE(BI11:BI23)","v":1},null,0.90370370370370379,null,0.12083333333333333,null,0,null,{"$f":"+AVERAGE(BQ11:BQ23)","v":0.16424779898464112}]
[null,null,null,{"$f":"+RESUMEN!J126","v":0.29892547565301519},"FORTALECIMIENTO EMPRESARIAL","Mejorar en 250 empresas sus capacidades competitivas y su nivel de productividad.",0,250,{"$f":"+H25-G25","v":250},25,{"$f":"+J25-G25","v":25},null,125,{"$f":"+M25-J25","v":100},null,225,{"$f":"+P25-M25","v":100},null,250,{"$f":"+S25-P25","v":25},null,0,{"$f":"+IF(V25=0,0,V25-G25)","v":0},null,{"$f":"+IF(X25=0,0,X25-V25)","v":0},null,{"$f":"+IF(Z25=0,0,Z25-X25)","v":0},null,{"$f":"+IF(AB25=0,0,AB25-Z25)","v":0},{"$f":"+IF(K25=0,\" -\",W25/K25)","v":0},{"$f":"+IF(K25=0,\" -\",IF(AD25>100%,100%,AD25))","v":0},{"$f":"+IF(N25=0,\" -\",Y25/N25)","v":0},{"$f":"+IF(N25=0,\" -\",IF(AF25>100%,100%,AF25))","v":0},{"$f":"+IF(Q25=0,\" -\",AA25/Q25)","v":0},{"$f":"+IF(Q25=0,\" -\",IF(AH25>100%,100%,AH25))","v":0},{"$f":"+IF(T25=0,\" -\",AC25/T25)","v":0},{"$f":"+IF(T25=0,\" -\",IF(AJ25>100%,100%,AJ25))","v":0},{"$f":"+SUM(AC25,AA25,Y25,W25)/I25","v":0},{"$f":"+IF(AL25>100%,100%,IF(AL25<0%,0%,AL25))","v":0},null,{"$f":"+RESUMEN!J127","v":0.16200000000000001},"CONSTRUCCIÓN DE UNA NUEVA CULTURA EMPRESARIAL","Acompañar la formulación 1.000 Planes estratégicos empresariales con herramientas gerenciales para la innovación.",{"$f":"'[1]LÍNEA 5'!P25","v":"0542900201"},"Número de planes estratégicos empresariales con herramientas gerenciales para la innovación con acompañamiento en la formulación.",0,{"$f":"'[1]LÍNEA 5'!S25","v":1000},{"$f":"'[1]LÍNEA 5'!T25","v":0},0,{"$f":"'[1]LÍNEA 5'!U25","v":100},0.1,{"$f":"'[1]LÍNEA 5'!V25","v":300},0.3,{"$f":"'[1]LÍNEA 5'!W25","v":600},0.6,{"$f":"'[22]2016'!K37","v":0},{"$f":"'[22]2017'!K33","v":104},{"$f":"'[22]2018'!K33","v":58},{"$f":"'[22]2019'!K33","v":0}," -"," -",1.04,1,0.19333333333333333,0.19333333333333333,0,0,0.16200000000000001,0.16200000000000001,0.16200000000000001,{"$f":"'[22]2016'!P37","v":0},{"$f":"'[22]2016'!Q37","v":0},{"$f":"'[22]2016'!R37","v":0}," -"," -",{"$f":"'[22]2017'!P33","v":67500},{"$f":"'[22]2017'!Q33","v":66130},{"$f":"'[22]2017'!R33","v":0},0.97970370370370374," -",{"$f":"'[22]2018'!P33","v":170000},{"$f":"'[22]2018'!Q33","v":170000},{"$f":"'[22]2018'!R33","v":194930},1,1.1466470588235294,{"$f":"'[22]2019'!P33","v":120000},{"$f":"'[22]2019'!Q33","v":0},{"$f":"'[22]2019'!R33","v":0},0," -",357500,236130,194930,0.66050349650349649,0.82551984076567997,"8. Trabajo decente y crecimiento económico","Promoción del desarrollo",{"$f":"'[1]LÍNEA 5'!AQ25","v":"IMEBU"}]
[null,null,null,null,null,null,null,null,null,null,null,null,null,null,null,null,null,null,null,null,null,null,null,null,null,null,null,null,null,null,null,null,null,null,null,null,null,null,null,null,{"$f":"+RESUMEN!J128","v":0.25},"ASESORÍA Y FORMACIÓN EMPRESARIAL","Desarrollar en 10 sectores empresariales priorizados con modelos de innovación.",{"$f":"'[1]LÍNEA 5'!P26","v":"0542900202"},"Número de sectores empresariales priorizados con modelos de innovación desarrollados.",0,{"$f":"'[1]LÍNEA 5'!S26","v":10},{"$f":"'[1]LÍNEA 5'!T26","v":0},0,{"$f":"'[1]LÍNEA 5'!U26","v":1},0.1,{"$f":"'[1]LÍNEA 5'!V26","v":4},0.4,{"$f":"'[1]LÍNEA 5'!W26","v":5},0.5,{"$f":"'[22]2016'!K38","v":0},{"$f":"'[22]2017'!K34","v":1},{"$f":"'[22]2018'!K34","v":4},{"$f":"'[22]2019'!K34","v":0}," -"," -",1,1,1,1,0,0,0.5,0.5,0.5,{"$f":"'[22]2016'!P38","v":0},{"$f":"'[22]2016'!Q38","v":0},{"$f":"'[22]2016'!R38","v":0}," -"," -",{"$f":"'[22]2017'!P34","v":100000},{"$f":"'[22]2017'!Q34","v":30000},{"$f":"'[22]2017'!R34","v":12800},0.3,0.42666666666666669,{"$f":"'[22]2018'!P34","v":0},{"$f":"'[22]2018'!Q34","v":0},{"$f":"'[22]2018'!R34","v":0}," -"," -",{"$f":"'[22]2019'!P34","v":60000},{"$f":"'[22]2019'!Q34","v":0},{"$f":"'[22]2019'!R34","v":0},0," -",160000,30000,12800,0.1875,0.42666666666666669,"8. Trabajo decente y crecimiento económico","Promoción del desarrollo",{"$f":"'[1]LÍNEA 5'!AQ26","v":"IMEBU"}]
[null,null,null,null,null,null,null,null,null,null,null,null,null,null,null,null,null,null,null,null,null,null,null,null,null,null,null,null,null,null,null,null,null,null,null,null,null,null,null,null,null,null,"Acompañar la implementación de 250 planes estratégicos empresariales para el mejoramiento de la productividad y competitividad.",{"$f":"'[1]LÍNEA 5'!P27","v":"0542900202"},"Número de planes estratégicos empresariales compañados en la implementación para el mejoramiento de la productividad y competitividad.",0,{"$f":"'[1]LÍNEA 5'!S27","v":250},{"$f":"'[1]LÍNEA 5'!T27","v":0},0,{"$f":"'[1]LÍNEA 5'!U27","v":0},0,{"$f":"'[1]LÍNEA 5'!V27","v":150},0.6,{"$f":"'[1]LÍNEA 5'!W27","v":100},0.4,{"$f":"'[22]2016'!K39","v":0},{"$f":"'[22]2017'!K35","v":0},{"$f":"'[22]2018'!K35","v":0},{"$f":"'[22]2019'!K35","v":0}," -"," -"," -"," -",0,0,0,0,0,0,0,{"$f":"'[22]2016'!P39","v":0},{"$f":"'[22]2016'!Q39","v":0},{"$f":"'[22]2016'!R39","v":0}," -"," -",{"$f":"'[22]2017'!P35","v":0},{"$f":"'[22]2017'!Q35","v":0},{"$f":"'[22]2017'!R35","v":0}," -"," -",{"$f":"'[22]2018'!P35","v":0},{"$f":"'[22]2018'!Q35","v":0},{"$f":"'[22]2018'!R35","v":0}," -"," -",{"$f":"'[22]2019'!P35","v":125000},{"$f":"'[22]2019'!Q35","v":0},{"$f":"'[22]2019'!R35","v":0},0," -",125000,0,0,0," -","8. Trabajo decente y crecimiento económico","Promoción del desarrollo",{"$f":"'[1]LÍNEA 5'!AQ27","v":"IMEBU"}]
[null,null,null,null,null,null,null,null,null,null,null,null,null,null,null,null,null,null,null,null,null,null,null,null,null,null,null,null,null,null,null,null,null,null,null,null,null,null,null,null,{"$f":"+RESUMEN!J129","v":0.39084166397936149},"FONDO DE MICRO CRÉDITO EMPRESARIAL","Colocar 6.202 créditos a empresas de la zona urbana y rural.",{"$f":"'[1]LÍNEA 5'!P28","v":" -"},"Número de créditos otorgados a micro y famiempresas de la zona urbana y rural.",7134,{"$f":"'[1]LÍNEA 5'!S28","v":6202},{"$f":"'[1]LÍNEA 5'!T28","v":1000},0.16123831022250887,{"$f":"'[1]LÍNEA 5'!U28","v":1500},0.24185746533376329,{"$f":"'[1]LÍNEA 5'!V28","v":1902},0.30667526604321188,{"$f":"'[1]LÍNEA 5'!W28","v":1800},0.29022895840051594,{"$f":"'[22]2016'!K40","v":1194},{"$f":"'[22]2017'!K36","v":860},{"$f":"'[22]2018'!K36","v":370},{"$f":"'[22]2019'!K36","v":0},1.194,1,0.57333333333333336,0.57333333333333336,0.19453207150368035,0.19453207150368035,0,0,0.39084166397936149,0.39084166397936149,0.39084166397936149,{"$f":"'[22]2016'!P40","v":0},{"$f":"'[22]2016'!Q40","v":0},{"$f":"'[22]2016'!R40","v":0}," -"," -",{"$f":"'[22]2017'!P36","v":424000},{"$f":"'[22]2017'!Q36","v":0},{"$f":"'[22]2017'!R36","v":0},0," -",{"$f":"'[22]2018'!P36","v":3939205},{"$f":"'[22]2018'!Q36","v":0},{"$f":"'[22]2018'!R36","v":0},0," -",{"$f":"'[22]2019'!P36","v":0},{"$f":"'[22]2019'!Q36","v":0},{"$f":"'[22]2019'!R36","v":0}," -"," -",4363205,0,0,0," -","8. Trabajo decente y crecimiento económico","Promoción del desarrollo",{"$f":"'[1]LÍNEA 5'!AQ28","v":"IMEBU"}]
[null,null,null,null,null,null,null,null,null,null,null,null,null,null,null,null,null,null,null,null,null,null,null,null,null,null,null,null,null,null,null,null,null,null,null,null,null,null,null,null,{"$f":"+RESUMEN!J130","v":0.24761904761904763},"AMPLIACIÓN DE MERCADOS E INTERNACIONALIZACIÓN","Formular 50 Planes estratégicos exportadores.",{"$f":"'[1]LÍNEA 5'!P29","v":0},"Número de Planes estratégicos exportadores formulados.",0,{"$f":"'[1]LÍNEA 5'!S29","v":50},{"$f":"'[1]LÍNEA 5'!T29","v":0},0,{"$f":"'[1]LÍNEA 5'!U29","v":0},0,{"$f":"'[1]LÍNEA 5'!V29","v":12},0.24,{"$f":"'[1]LÍNEA 5'!W29","v":38},0.76,{"$f":"'[22]2016'!K41","v":0},{"$f":"'[22]2017'!K37","v":0},{"$f":"'[22]2018'!K37","v":0},{"$f":"'[22]2019'!K37","v":0}," -"," -"," -"," -",0,0,0,0,0,0,0,{"$f":"'[22]2016'!P41","v":0},{"$f":"'[22]2016'!Q41","v":0},{"$f":"'[22]2016'!R41","v":0}," -"," -",{"$f":"'[22]2017'!P37","v":0},{"$f":"'[22]2017'!Q37","v":0},{"$f":"'[22]2017'!R37","v":0}," -"," -",{"$f":"'[22]2018'!P37","v":0},{"$f":"'[22]2018'!Q37","v":0},{"$f":"'[22]2018'!R37","v":0}," -"," -",{"$f":"'[22]2019'!P37","v":65000},{"$f":"'[22]2019'!Q37","v":0},{"$f":"'[22]2019'!R37","v":0},0," -",65000,0,0,0," -","8. Trabajo decente y crecimiento económico","Promoción del desarrollo",{"$f":"'[1]LÍNEA 5'!AQ29","v":"IMEBU"}]
[null,null,null,null,null,null,null,null,null,null,null,null,null,null,null,null,null,null,null,null,null,null,null,null,null,null,null,null,null,null,null,null,null,null,null,null,null,null,null,null,null,null,"Implementar y mantener 1 estrategia de comercialización de productos en nuevos mercados nacionales o internacionales por sector priorizado.",{"$f":"'[1]LÍNEA 5'!P30","v":0},"Porcentaje de avance en el diseño, implementación y mantenimiento de una estrategia de comercialización de productos en nuevos mercados nacionales o internacionales por sector priorizado.",0,{"$f":"'[1]LÍNEA 5'!S30","v":1},{"$f":"'[1]LÍNEA 5'!T30","v":0},0,{"$f":"'[1]LÍNEA 5'!U30","v":0.2},0.2,{"$f":"'[1]LÍNEA 5'!V30","v":0.4},0.4,{"$f":"'[1]LÍNEA 5'!W30","v":0.4},0.4,{"$f":"'[22]2016'!K42","v":0},{"$f":"'[22]2017'!K38","v":0.2},{"$f":"'[22]2018'!K38","v":0.2},{"$f":"'[22]2019'!K38","v":0}," -"," -",1,1,0.5,0.5,0,0,0.4,0.4,0.4,{"$f":"'[22]2016'!P42","v":0},{"$f":"'[22]2016'!Q42","v":0},{"$f":"'[22]2016'!R42","v":0}," -"," -",{"$f":"'[22]2017'!P38","v":0},{"$f":"'[22]2017'!Q38","v":0},{"$f":"'[22]2017'!R38","v":174000}," -",1,{"$f":"'[22]2018'!P38","v":0},{"$f":"'[22]2018'!Q38","v":0},{"$f":"'[22]2018'!R38","v":0}," -"," -",{"$f":"'[22]2019'!P38","v":35000},{"$f":"'[22]2019'!Q38","v":0},{"$f":"'[22]2019'!R38","v":0},0," -",35000,0,174000,0,1,"8. Trabajo decente y crecimiento económico","Promoción del desarrollo",{"$f":"'[1]LÍNEA 5'!AQ30","v":"IMEBU"}]
[null,null,null,null,null,null,null,null,null,null,null,null,null,null,null,null,null,null,null,null,null,null,null,null,null,null,null,null,null,null,null,null,null,null,null,null,null,null,null,null,null,null,"Implementar y mantener 1 grupo de dirección y formulación de proyectos (estándar PMI) para consecución de recursos de cooperación nacional e internacional.",{"$f":"'[1]LÍNEA 5'!P31","v":0},"Número de grupos de dirección y formulación de proyectos (estándar PMI) implementados y mantenidos para consecución de recursos de cooperación nacional e internacional.",0,{"$f":"'[1]LÍNEA 5'!S31","v":1},{"$f":"'[1]LÍNEA 5'!T31","v":0},0,{"$f":"'[1]LÍNEA 5'!U31","v":0},0.33,{"$f":"'[1]LÍNEA 5'!V31","v":1},0.33,{"$f":"'[1]LÍNEA 5'!W31","v":1},0.34,{"$f":"'[22]2016'!K43","v":0},{"$f":"'[22]2017'!K39","v":1},{"$f":"'[22]2018'!K39","v":1},{"$f":"'[22]2019'!K39","v":0}," -"," -"," -"," -",1,1,0,0,{"$f":"+AVERAGE(BE31:BG31)/AU31","v":0.66666666666666663},0.66666666666666663,0.66666666666666663,{"$f":"'[22]2016'!P43","v":0},{"$f":"'[22]2016'!Q43","v":0},{"$f":"'[22]2016'!R43","v":0}," -"," -",{"$f":"'[22]2017'!P39","v":0},{"$f":"'[22]2017'!Q39","v":0},{"$f":"'[22]2017'!R39","v":63514}," -",1,{"$f":"'[22]2018'!P39","v":0},{"$f":"'[22]2018'!Q39","v":0},{"$f":"'[22]2018'!R39","v":0}," -"," -",{"$f":"'[22]2019'!P39","v":40000},{"$f":"'[22]2019'!Q39","v":0},{"$f":"'[22]2019'!R39","v":0},0," -",40000,0,63514,0,1,"8. Trabajo decente y crecimiento económico","Promoción del desarrollo",{"$f":"'[1]LÍNEA 5'!AQ31","v":"IMEBU"}]
[null,null,null,null,null,"Lograr posicionar a Bucaramanga en el puesto 12 del escalafón doing business subnacional.",14,12,{"$f":"+H32-G32","v":-2},14,{"$f":"+J32-G32","v":0},null,13,{"$f":"+M32-J32","v":-1},null,13,{"$f":"+P32-M32","v":0},null,12,{"$f":"+S32-P32","v":-1},null,14,{"$f":"+IF(V32=0,0,V32-G32)","v":0},null,{"$f":"+IF(X32=0,0,X32-V32)","v":0},null,{"$f":"+IF(Z32=0,0,Z32-X32)","v":0},null,{"$f":"+IF(AB32=0,0,AB32-Z32)","v":0},{"$f":"+IF(K32=0,\" -\",W32/K32)","v":" -"},{"$f":"+IF(K32=0,\" -\",IF(AD32>100%,100%,AD32))","v":" -"},{"$f":"+IF(N32=0,\" -\",Y32/N32)","v":0},{"$f":"+IF(N32=0,\" -\",IF(AF32>100%,100%,AF32))","v":0},{"$f":"+IF(Q32=0,\" -\",AA32/Q32)","v":" -"},{"$f":"+IF(Q32=0,\" -\",IF(AH32>100%,100%,AH32))","v":" -"},{"$f":"+IF(T32=0,\" -\",AC32/T32)","v":0},{"$f":"+IF(T32=0,\" -\",IF(AJ32>100%,100%,AJ32))","v":0},{"$f":"+SUM(AC32,AA32,Y32,W32)/I32","v":0},{"$f":"+IF(AL32>100%,100%,IF(AL32<0%,0%,AL32))","v":0},null,null,null,"Implementar y mantener 1 estrategia de trabajo con la Oficina de Asuntos Internacionales.",{"$f":"'[1]LÍNEA 5'!P32","v":"-"},"Número de estrategias de trabajo implementadas y mantenidas con la Oficina de Asuntos Internacionales.",0,{"$f":"'[1]LÍNEA 5'!S32","v":1},{"$f":"'[1]LÍNEA 5'!T32","v":0},0,{"$f":"'[1]LÍNEA 5'!U32","v":1},0.33,{"$f":"'[1]LÍNEA 5'!V32","v":1},0.33,{"$f":"'[1]LÍNEA 5'!W32","v":1},0.34,{"$f":"'[22]2016'!K44","v":0},{"$f":"'[22]2017'!K40","v":1},{"$f":"'[22]2018'!K40","v":1},{"$f":"'[22]2019'!K40","v":0}," -"," -",1,1,1,1,0,0,{"$f":"+AVERAGE(BE32:BG32)/AU32","v":0.66666666666666663},0.66666666666666663,0.66666666666666663,{"$f":"'[22]2016'!P44","v":0},{"$f":"'[22]2016'!Q44","v":0},{"$f":"'[22]2016'!R44","v":0}," -"," -",{"$f":"'[22]2017'!P40","v":0},{"$f":"'[22]2017'!Q40","v":0},{"$f":"'[22]2017'!R40","v":0}," -"," -",{"$f":"'[22]2018'!P40","v":0},{"$f":"'[22]2018'!Q40","v":0},{"$f":"'[22]2018'!R40","v":0}," -"," -",{"$f":"'[22]2019'!P40","v":0},{"$f":"'[22]2019'!Q40","v":0},{"$f":"'[22]2019'!R40","v":0}," -"," -",0,0,0," -"," -","8. Trabajo decente y crecimiento económico","Promoción del desarrollo",{"$f":"'[1]LÍNEA 5'!AQ32","v":"IMEBU"}]
[null,null,null,null,null,null,null,null,null,null,null,null,null,null,null,null,null,null,null,null,null,null,null,null,null,null,null,null,null,null,null,null,null,null,null,null,null,null,null,null,null,null,"Formar 300 personas del transporte público legal en sector turístico (hoteles, centros comerciales, parques, museos, bibliotecas, monumentos, etc).",{"$f":"'[1]LÍNEA 5'!P33","v":"-"},"Número de personas del transporte público legal formadas en sector turístico (hoteles, centros comerciales, parques, museos, bibliotecas, monumentos, etc).",0,{"$f":"'[1]LÍNEA 5'!S33","v":300},{"$f":"'[1]LÍNEA 5'!T33","v":20},6.6666666666666666E-2,{"$f":"'[1]LÍNEA 5'!U33","v":100},0.33333333333333331,{"$f":"'[1]LÍNEA 5'!V33","v":100},0.33333333333333331,{"$f":"'[1]LÍNEA 5'!W33","v":80},0.26666666666666666,{"$f":"'[22]2016'!$K$45","v":0},{"$f":"'[12]2017'!$K$66","v":0},{"$f":"'[12]2018'!$K$66","v":0},{"$f":"'[12]2019'!$K$66","v":0},0,0,0,0,0,0,0,0,0,0,0,{"$f":"'[22]2016'!P45","v":0},{"$f":"'[22]2016'!Q45","v":0},{"$f":"'[22]2016'!R45","v":0}," -"," -",{"$f":"'[12]2017'!P66","v":0},{"$f":"'[12]2017'!Q66","v":0},{"$f":"'[12]2017'!R66","v":0}," -"," -",{"$f":"'[12]2018'!P66","v":0},{"$f":"'[12]2018'!Q66","v":0},{"$f":"'[12]2018'!R66","v":0}," -"," -",{"$f":"'[12]2019'!P66","v":0},{"$f":"'[12]2019'!Q66","v":0},{"$f":"'[12]2019'!R66","v":0}," -"," -",0,0,0," -"," -","8. Trabajo decente y crecimiento económico","Promoción del desarrollo",{"$f":"'[1]LÍNEA 5'!AQ33","v":"IMCT"}]
[null,null,null,null,null,null,null,null,null,null,null,null,null,null,null,null,null,null,null,null,null,null,null,null,null,null,null,null,null,null,null,null,null,null,null,null,null,null,null,null,null,null,"Promover 20  participaciones de las Empresas Industriales del municipio de Bucaramanga en eventos de comercialización de productos locales en mercados regionales y nacionales.",{"$f":"'[1]LÍNEA 5'!P34","v":0},"Número de participaciones de las Empresas Industriales del municipio de bucaramanga en eventos de comercialización de productos locales en mercados regionales y nacionales.",30,{"$f":"'[1]LÍNEA 5'!S34","v":20},{"$f":"'[1]LÍNEA 5'!T34","v":0},0,{"$f":"'[1]LÍNEA 5'!U34","v":0},0,{"$f":"'[1]LÍNEA 5'!V34","v":0},0,{"$f":"'[1]LÍNEA 5'!W34","v":20},1,{"$f":"'[22]2016'!K46","v":0},{"$f":"'[22]2017'!K41","v":0},{"$f":"'[22]2018'!K41","v":0},{"$f":"'[22]2019'!K41","v":0}," -"," -"," -"," -"," -"," -",0,0,0,0,0,{"$f":"'[22]2016'!P46","v":0},{"$f":"'[22]2016'!Q46","v":0},{"$f":"'[22]2016'!R46","v":0}," -"," -",{"$f":"'[22]2017'!P41","v":0},{"$f":"'[22]2017'!Q41","v":0},{"$f":"'[22]2017'!R41","v":0}," -"," -",{"$f":"'[22]2018'!P41","v":0},{"$f":"'[22]2018'!Q41","v":0},{"$f":"'[22]2018'!R41","v":0}," -"," -",{"$f":"'[22]2019'!P41","v":150000},{"$f":"'[22]2019'!Q41","v":0},{"$f":"'[22]2019'!R41","v":0},0," -",150000,0,0,0," -","8. Trabajo decente y crecimiento económico","Promoción del desarrollo",{"$f":"'[1]LÍNEA 5'!AQ34","v":"IMEBU"}]
[null,null,null,null,null,null,null,null,null,null,null,null,null,null,null,null,null,null,null,null,null,null,null,null,null,null,null,null,null,null,null,null,null,null,null,null,null,null,null,null,null,null,"Capacitar 500 personas del transporte público legal integralmente en una segunda lengua.",{"$f":"'[1]LÍNEA 5'!P35","v":"-"},"Número de personas del transporte público legal capacitados integralmente en una segunda lengua.",0,{"$f":"'[1]LÍNEA 5'!S35","v":500},{"$f":"'[1]LÍNEA 5'!T35","v":0},0,{"$f":"'[1]LÍNEA 5'!U35","v":150},0.3,{"$f":"'[1]LÍNEA 5'!V35","v":0},0,{"$f":"'[1]LÍNEA 5'!W35","v":350},0.7,{"$f":"'[22]2016'!K47","v":0},{"$f":"'[22]2017'!K42","v":0},{"$f":"'[22]2018'!K42","v":0},{"$f":"'[22]2019'!K42","v":0}," -"," -",0,0," -"," -",0,0,0,0,0,{"$f":"'[22]2016'!P47","v":0},{"$f":"'[22]2016'!Q47","v":0},{"$f":"'[22]2016'!R47","v":0}," -"," -",{"$f":"'[22]2017'!P42","v":0},{"$f":"'[22]2017'!Q42","v":0},{"$f":"'[22]2017'!R42","v":0}," -"," -",{"$f":"'[22]2018'!P42","v":0},{"$f":"'[22]2018'!Q42","v":0},{"$f":"'[22]2018'!R42","v":0}," -"," -",{"$f":"'[22]2019'!P42","v":0},{"$f":"'[22]2019'!Q42","v":0},{"$f":"'[22]2019'!R42","v":0}," -"," -",0,0,0," -"," -","4. Educación de calidad ","Promoción del desarrollo",{"$f":"'[1]LÍNEA 5'!AQ35","v":"IMEBU"}]
[null,null,null,null,null,null,null,null,null,null,null,null,null,null,null,null,null,null,null,null,null,null,null,null,null,null,null,null,null,null,null,null,null,null,null,null,null,null,null,null,{"$f":"+RESUMEN!J131","v":0.44416666666666665},"MEJORAMIENTO DEL CLIMA DE NEGOCIOS","Fortalecer y mantener la ventanilla única del constructor.",{"$f":"'[1]LÍNEA 5'!P36","v":0},"Número de ventanillas únicas del constructor fortalecidas y mantenidas.",1,{"$f":"'[1]LÍNEA 5'!S36","v":1},{"$f":"'[1]LÍNEA 5'!T36","v":1},0.25,{"$f":"'[1]LÍNEA 5'!U36","v":1},0.25,{"$f":"'[1]LÍNEA 5'!V36","v":1},0.25,{"$f":"'[1]LÍNEA 5'!W36","v":1},0.25,{"$f":"'[6]2016'!K61","v":1},{"$f":"'[6]2017'!K55","v":0},{"$f":"'[6]2018'!K55","v":0},{"$f":"'[6]2019'!K55","v":0},1,1,0,0,0,0,0,0,{"$f":"+AVERAGE(BD36:BG36)/AU36","v":0.25},0.25,0.25,{"$f":"'[6]2016'!P61","v":0},{"$f":"'[6]2016'!Q61","v":0},{"$f":"'[6]2016'!R61","v":0}," -"," -",{"$f":"'[6]2017'!P55","v":0},{"$f":"'[6]2017'!Q55","v":0},{"$f":"'[6]2017'!R55","v":0}," -"," -",{"$f":"'[6]2018'!P55","v":0},{"$f":"'[6]2018'!Q55","v":0},{"$f":"'[6]2018'!R55","v":0}," -"," -",{"$f":"'[6]2019'!P55","v":0},{"$f":"'[6]2019'!Q55","v":0},{"$f":"'[6]2019'!R55","v":0}," -"," -",0,0,0," -"," -","16. Paz, justicia e instituciones sólidas","Promoción del desarrollo",{"$f":"'[1]LÍNEA 5'!AQ36","v":"Sec. Planeación"}]
[null,null,null,null,null,null,null,null,null,null,null,null,null,null,null,null,null,null,null,null,null,null,null,null,null,null,null,null,null,null,null,null,null,null,null,null,null,null,null,null,null,null,"Fortalecer y mantener el sistema de de inspección, vigilancia y control - IVC de establecimientos comerciales, industriales y dotacionales.",{"$f":"'[1]LÍNEA 5'!P37","v":" -"},"Número de sistemas de inspección, vigilancia y control - IVC de establecimientos comerciales, industriales y dotacionales fortalecidos y mantenidos.",1,{"$f":"'[1]LÍNEA 5'!S37","v":1},{"$f":"'[1]LÍNEA 5'!T37","v":1},0.25,{"$f":"'[1]LÍNEA 5'!U37","v":1},0.25,{"$f":"'[1]LÍNEA 5'!V37","v":1},0.25,{"$f":"'[1]LÍNEA 5'!W37","v":1},0.25,{"$f":"'[6]2016'!K62","v":1},{"$f":"'[6]2017'!K56","v":1},{"$f":"'[6]2018'!K56","v":0},{"$f":"'[6]2019'!K56","v":0},1,1,1,1,0,0,0,0,0.5,0.5,0.5,{"$f":"'[6]2016'!P62","v":0},{"$f":"'[6]2016'!Q62","v":0},{"$f":"'[6]2016'!R62","v":0}," -"," -",{"$f":"'[6]2017'!P56","v":0},{"$f":"'[6]2017'!Q56","v":0},{"$f":"'[6]2017'!R56","v":0}," -"," -",{"$f":"'[6]2018'!P56","v":10500},{"$f":"'[6]2018'!Q56","v":0},{"$f":"'[6]2018'!R56","v":0},0," -",{"$f":"'[6]2019'!P56","v":0},{"$f":"'[6]2019'!Q56","v":0},{"$f":"'[6]2019'!R56","v":0}," -"," -",10500,0,0,0," -","16. Paz, justicia e instituciones sólidas","Promoción del desarrollo",{"$f":"'[1]LÍNEA 5'!AQ37","v":"Sec. Planeación"}]
[null,null,null,null,null,null,null,null,null,null,null,null,null,null,null,null,null,null,null,null,null,null,null,null,null,null,null,null,null,null,null,null,null,null,null,null,null,null,null,null,null,null,"Mantener en operación el 100% de la capacidad instalada de Instituto Municipal de Empleo y Fomento Empresarial de Bucaramanga - IMEBU.",{"$f":"'[1]LÍNEA 5'!P38","v":"0542900203"},"Porcentaje de la capacidad instalada de Instituto Municipal de Empleo y Fomento Empresarial de Bucaramanga - IMEBU mantenida.",1,{"$f":"'[1]LÍNEA 5'!S38","v":1},{"$f":"'[1]LÍNEA 5'!T38","v":1},0.25,{"$f":"'[1]LÍNEA 5'!U38","v":1},0.25,{"$f":"'[1]LÍNEA 5'!V38","v":1},0.25,{"$f":"'[1]LÍNEA 5'!W38","v":1},0.25,{"$f":"'[22]2016'!$K$48","v":0.92},{"$f":"'[22]2017'!$K$43","v":0.91},{"$f":"'[22]2018'!$K$43","v":0.5},{"$f":"'[22]2019'!$K$43","v":0},0.92,0.92,0.91,0.91,0.5,0.5,0,0,0.58250000000000002,0.58250000000000002,0.58250000000000002,{"$f":"'[22]2016'!P48","v":2908600},{"$f":"'[22]2016'!Q48","v":2040697},{"$f":"'[22]2016'!R48","v":0},0.70160799009832908," -",{"$f":"'[22]2017'!P43","v":1695201},{"$f":"'[22]2017'!Q43","v":1548227},{"$f":"'[22]2017'!R43","v":0},0.91329995676028974," -",{"$f":"'[22]2018'!P43","v":1893288},{"$f":"'[22]2018'!Q43","v":777674},{"$f":"'[22]2018'!R43","v":0},0.41075314479360775," -",{"$f":"'[22]2019'!P43","v":1036179},{"$f":"'[22]2019'!Q43","v":0},{"$f":"'[22]2019'!R43","v":0},0," -",7533268,4366598,0,0.5796419296379739," -","8. Trabajo decente y crecimiento económico","Promoción del desarrollo",{"$f":"'[1]LÍNEA 5'!AQ38","v":"IMEBU"}]
[null,null,null,null,null,null,null,null,null,null,null,null,null,null,null,null,null,null,null,null,null,null,null,null,null,null,null,null,null,null,null,null,null,null,null,null,null,null,null,null,null,null,null,null,null,null,{"$f":"'[1]LÍNEA 5'!S39","v":0},{"$f":"'[1]LÍNEA 5'!T39","v":0},{"$f":"+AVERAGE(AW25:AW38)","v":6.9850355492083974E-2},{"$f":"'[1]LÍNEA 5'!U39","v":0},{"$f":"+AVERAGE(AY25:AY38)","v":0.19179934276193547},{"$f":"'[1]LÍNEA 5'!V39","v":0},0.28500061424118178,{"$f":"'[1]LÍNEA 5'!W39","v":0},0.45334968750479876,null,null,null,null,null,{"$f":"+AVERAGE(BI25:BI38)","v":0.78400000000000003},null,0.64833333333333332,null,0.36565545040308445,null,0,null,{"$f":"+AVERAGE(BQ25:BQ38)","v":0.29419107123662108}]
[null,null,null,{"$f":"+RESUMEN!J132","v":0.45254929971988794},"EMPLEABILIDAD, EMPLEO Y TRABAJO DECENTE","Lograr que 1.000 empresas conozcan las buenas prácticas de fomento del empleo y trabajo decente.",0,1000,{"$f":"+H40-G40","v":1000},50,{"$f":"+J40-G40","v":50},null,300,{"$f":"+M40-J40","v":250},null,600,{"$f":"+P40-M40","v":300},null,1000,{"$f":"+S40-P40","v":400},null,132,{"$f":"+IF(V40=0,0,V40-G40)","v":132},null,{"$f":"+IF(X40=0,0,X40-V40)","v":0},null,{"$f":"+IF(Z40=0,0,Z40-X40)","v":0},null,{"$f":"+IF(AB40=0,0,AB40-Z40)","v":0},{"$f":"+IF(K40=0,\" -\",W40/K40)","v":2.64},{"$f":"+IF(K40=0,\" -\",IF(AD40>100%,100%,AD40))","v":1},{"$f":"+IF(N40=0,\" -\",Y40/N40)","v":0},{"$f":"+IF(N40=0,\" -\",IF(AF40>100%,100%,AF40))","v":0},{"$f":"+IF(Q40=0,\" -\",AA40/Q40)","v":0},{"$f":"+IF(Q40=0,\" -\",IF(AH40>100%,100%,AH40))","v":0},{"$f":"+IF(T40=0,\" -\",AC40/T40)","v":0},{"$f":"+IF(T40=0,\" -\",IF(AJ40>100%,100%,AJ40))","v":0},{"$f":"+SUM(AC40,AA40,Y40,W40)/I40","v":0.13200000000000001},{"$f":"+IF(AL40>100%,100%,IF(AL40<0%,0%,AL40))","v":0.13200000000000001},null,{"$f":"+RESUMEN!J133","v":0.60540000000000005},"OFICINA DE EMPLEO Y EMPLEABILIDAD","Propiciar la vinculación de 1.500 personas en empleos formales, dignos y decentes.",{"$f":"'[1]LÍNEA 5'!P40","v":"054290301"},"Número de personas vinculados en empleos formales, dignos y decentes.",92,{"$f":"'[1]LÍNEA 5'!S40","v":1500},{"$f":"'[1]LÍNEA 5'!T40","v":100},6.6666666666666666E-2,{"$f":"'[1]LÍNEA 5'!U40","v":250},0.16666666666666666,{"$f":"'[1]LÍNEA 5'!V40","v":350},0.23333333333333334,{"$f":"'[1]LÍNEA 5'!W40","v":800},0.53333333333333333,{"$f":"'[22]2016'!K50","v":169},{"$f":"'[22]2017'!K45","v":255},{"$f":"'[22]2018'!K45","v":133},{"$f":"'[22]2019'!K45","v":0},1.69,1,1.02,1,0.38,0.38,0,0,0.37133333333333335,0.37133333333333335,0.37133333333333335,{"$f":"'[22]2016'!P50","v":0},{"$f":"'[22]2016'!Q50","v":0},{"$f":"'[22]2016'!R50","v":0}," -"," -",{"$f":"'[22]2017'!P45","v":65100},{"$f":"'[22]2017'!Q45","v":65100},{"$f":"'[22]2017'!R45","v":0},1," -",{"$f":"'[22]2018'!P45","v":118100},{"$f":"'[22]2018'!Q45","v":71400},{"$f":"'[22]2018'!R45","v":0},0.60457239627434378," -",{"$f":"'[22]2019'!P45","v":175000},{"$f":"'[22]2019'!Q45","v":0},{"$f":"'[22]2019'!R45","v":0},0," -",358200,136500,0,0.38107202680067004," -","8. Trabajo decente y crecimiento económico","Promoción del desarrollo",{"$f":"'[1]LÍNEA 5'!AQ40","v":"IMEBU"}]
[null,null,null,null,null,null,null,null,null,null,null,null,null,null,null,null,null,null,null,null,null,null,null,null,null,null,null,null,null,null,null,null,null,null,null,null,null,null,null,null,null,null,"Sensibilizar en 1.000 empresas una cultura de fomento del empleo y trabajo decente.",{"$f":"'[1]LÍNEA 5'!P41","v":0},"Número de empresas sensibilizadas para el fomento del empleo y trabajo decente.",0,{"$f":"'[1]LÍNEA 5'!S41","v":1000},{"$f":"'[1]LÍNEA 5'!T41","v":100},0.1,{"$f":"'[1]LÍNEA 5'!U41","v":180},0.18,{"$f":"'[1]LÍNEA 5'!V41","v":360},0.36,{"$f":"'[1]LÍNEA 5'!W41","v":360},0.36,{"$f":"'[22]2016'!K51","v":132},{"$f":"'[22]2017'!K46","v":235},{"$f":"'[22]2018'!K46","v":122},{"$f":"'[22]2019'!K46","v":0},1.32,1,1.3055555555555556,1,0.33888888888888891,0.33888888888888891,0,0,0.48899999999999999,0.48899999999999999,0.48899999999999999,{"$f":"'[22]2016'!P51","v":0},{"$f":"'[22]2016'!Q51","v":0},{"$f":"'[22]2016'!R51","v":0}," -"," -",{"$f":"'[22]2017'!P46","v":29400},{"$f":"'[22]2017'!Q46","v":29400},{"$f":"'[22]2017'!R46","v":0},1," -",{"$f":"'[22]2018'!P46","v":31900},{"$f":"'[22]2018'!Q46","v":17400},{"$f":"'[22]2018'!R46","v":0},0.54545454545454541," -",{"$f":"'[22]2019'!P46","v":60000},{"$f":"'[22]2019'!Q46","v":0},{"$f":"'[22]2019'!R46","v":0},0," -",121300,46800,0,0.38582028029678483," -","8. Trabajo decente y crecimiento económico","Promoción del desarrollo",{"$f":"'[1]LÍNEA 5'!AQ41","v":"IMEBU"}]
[null,null,null,null,null,null,null,null,null,null,null,null,null,null,null,null,null,null,null,null,null,null,null,null,null,null,null,null,null,null,null,null,null,null,null,null,null,null,null,null,null,null,"Implementar y mantener 1 estrategia de comunicaciones para la socialización del servicio público de empleo.",{"$f":"'[1]LÍNEA 5'!P42","v":"-"},"Número de estrategias de comunicaciones implementadas y mantenidas para la socialización del servicio público de empleo.",1,{"$f":"'[1]LÍNEA 5'!S42","v":1},{"$f":"'[1]LÍNEA 5'!T42","v":0},0,{"$f":"'[1]LÍNEA 5'!U42","v":1},0.33,{"$f":"'[1]LÍNEA 5'!V42","v":1},0.33,{"$f":"'[1]LÍNEA 5'!W42","v":1},0.34,{"$f":"'[22]2016'!K52","v":0},{"$f":"'[22]2017'!K47","v":1},{"$f":"'[22]2018'!K47","v":1},{"$f":"'[22]2019'!K47","v":0}," -"," -",1,1,1,1,0,0,{"$f":"+AVERAGE(BE42:BG42)/AU42","v":0.66666666666666663},0.66666666666666663,0.66666666666666663,{"$f":"'[22]2016'!P52","v":0},{"$f":"'[22]2016'!Q52","v":0},{"$f":"'[22]2016'!R52","v":0}," -"," -",{"$f":"'[22]2017'!P47","v":0},{"$f":"'[22]2017'!Q47","v":0},{"$f":"'[22]2017'!R47","v":0}," -"," -",{"$f":"'[22]2018'!P47","v":0},{"$f":"'[22]2018'!Q47","v":0},{"$f":"'[22]2018'!R47","v":0}," -"," -",{"$f":"'[22]2019'!P47","v":0},{"$f":"'[22]2019'!Q47","v":0},{"$f":"'[22]2019'!R47","v":0}," -"," -",0,0,0," -"," -","8. Trabajo decente y crecimiento económico","Promoción del desarrollo",{"$f":"'[1]LÍNEA 5'!AQ42","v":"IMEBU"}]
[null,null,null,null,null,null,null,null,null,null,null,null,null,null,null,null,null,null,null,null,null,null,null,null,null,null,null,null,null,null,null,null,null,null,null,null,null,null,null,null,null,null,"Implementar y mantener 1 estrategia de vinculación del sector empresarial al servicio público de empleo.",{"$f":"'[1]LÍNEA 5'!P43","v":"-"},"Número de estrategias de vinculación del sector empresarial al servicio público de empleo implementadas y mantenidas.",1,{"$f":"'[1]LÍNEA 5'!S43","v":1},{"$f":"'[1]LÍNEA 5'!T43","v":1},0.25,{"$f":"'[1]LÍNEA 5'!U43","v":1},0.25,{"$f":"'[1]LÍNEA 5'!V43","v":1},0.25,{"$f":"'[1]LÍNEA 5'!W43","v":1},0.25,{"$f":"'[22]2016'!K53","v":1},{"$f":"'[22]2017'!K48","v":1},{"$f":"'[22]2018'!K48","v":1},{"$f":"'[22]2019'!K48","v":0},1,1,1,1,1,1,0,0,{"$f":"+AVERAGE(BD43:BG43)/AU43","v":0.75},0.75,0.75,{"$f":"'[22]2016'!P53","v":0},{"$f":"'[22]2016'!Q53","v":0},{"$f":"'[22]2016'!R53","v":0}," -"," -",{"$f":"'[22]2017'!P48","v":0},{"$f":"'[22]2017'!Q48","v":0},{"$f":"'[22]2017'!R48","v":0}," -"," -",{"$f":"'[22]2018'!P48","v":0},{"$f":"'[22]2018'!Q48","v":0},{"$f":"'[22]2018'!R48","v":0}," -"," -",{"$f":"'[22]2019'!P48","v":0},{"$f":"'[22]2019'!Q48","v":0},{"$f":"'[22]2019'!R48","v":0}," -"," -",0,0,0," -"," -","8. Trabajo decente y crecimiento económico","Promoción del desarrollo",{"$f":"'[1]LÍNEA 5'!AQ43","v":"IMEBU"}]
[null,null,null,null,null,null,null,null,null,null,null,null,null,null,null,null,null,null,null,null,null,null,null,null,null,null,null,null,null,null,null,null,null,null,null,null,null,null,null,null,null,null,"Crear y mantener en funcionamiento el comité de articulación del servicio público de empleo.",{"$f":"'[1]LÍNEA 5'!P44","v":"-"},"Número de comités de articulación del servicio público de empelo creados y mantenidos.",1,{"$f":"'[1]LÍNEA 5'!S44","v":1},{"$f":"'[1]LÍNEA 5'!T44","v":1},0.25,{"$f":"'[1]LÍNEA 5'!U44","v":1},0.25,{"$f":"'[1]LÍNEA 5'!V44","v":1},0.25,{"$f":"'[1]LÍNEA 5'!W44","v":1},0.25,{"$f":"'[22]2016'!K54","v":1},{"$f":"'[22]2017'!K49","v":1},{"$f":"'[22]2018'!K49","v":1},{"$f":"'[22]2019'!K49","v":0},1,1,1,1,1,1,0,0,0.75,0.75,0.75,{"$f":"'[22]2016'!P54","v":0},{"$f":"'[22]2016'!Q54","v":0},{"$f":"'[22]2016'!R54","v":0}," -"," -",{"$f":"'[22]2017'!P49","v":0},{"$f":"'[22]2017'!Q49","v":0},{"$f":"'[22]2017'!R49","v":0}," -"," -",{"$f":"'[22]2018'!P49","v":0},{"$f":"'[22]2018'!Q49","v":0},{"$f":"'[22]2018'!R49","v":0}," -"," -",{"$f":"'[22]2019'!P49","v":0},{"$f":"'[22]2019'!Q49","v":0},{"$f":"'[22]2019'!R49","v":0}," -"," -",0,0,0," -"," -","8. Trabajo decente y crecimiento económico","Promoción del desarrollo",{"$f":"'[1]LÍNEA 5'!AQ44","v":"IMEBU"}]
[null,null,null,null,null,"Mantener en 8% la tasa de desempleo.",8.7999999999999995E-2,0.08,{"$f":"+H45","v":0.08},0.08,{"$f":"+J45","v":0.08},null,0.08,{"$f":"+M45","v":0.08},null,0.08,{"$f":"+P45","v":0.08},null,0.08,{"$f":"+S45","v":0.08},null,8.2000000000000003E-2,{"$f":"+V45","v":8.2000000000000003E-2},null,{"$f":"+X45","v":0},null,{"$f":"+Z45","v":0},null,{"$f":"+AB45","v":0},{"$f":"+IF(K45=0,\" -\",W45/K45)","v":1.0249999999999999},{"$f":"+IF(K45=0,\" -\",IF(AD45>100%,100%,AD45))","v":1},{"$f":"+IF(N45=0,\" -\",Y45/N45)","v":0},{"$f":"+IF(N45=0,\" -\",IF(AF45>100%,100%,AF45))","v":0},{"$f":"+IF(Q45=0,\" -\",AA45/Q45)","v":0},{"$f":"+IF(Q45=0,\" -\",IF(AH45>100%,100%,AH45))","v":0},{"$f":"+IF(T45=0,\" -\",AC45/T45)","v":0},{"$f":"+IF(T45=0,\" -\",IF(AJ45>100%,100%,AJ45))","v":0},{"$f":"+AVERAGE(W45,Y45,AA45,AC45)/I45","v":0.25624999999999998},{"$f":"+IF(AL45>100%,100%,IF(AL45<0%,0%,AL45))","v":0.25624999999999998},null,{"$f":"+RESUMEN!J134","v":0.18974789915966386},"INSERCIÓN LABORAL","Formar 1.700 personas en competencias laborales específicas.",{"$f":"'[1]LÍNEA 5'!P45","v":0},"Número de personas formadas en competencias laborales específicas.",1500,{"$f":"'[1]LÍNEA 5'!S45","v":1700},{"$f":"'[1]LÍNEA 5'!T45","v":0},0,{"$f":"'[1]LÍNEA 5'!U45","v":0},0,{"$f":"'[1]LÍNEA 5'!V45","v":200},0.11764705882352941,{"$f":"'[1]LÍNEA 5'!W45","v":1050},0.61764705882352944,{"$f":"'[22]2016'!K55","v":0},{"$f":"'[22]2017'!K50","v":144},{"$f":"'[22]2018'!K50","v":431},{"$f":"'[22]2019'!K50","v":0}," -"," -"," -"," -",2.1549999999999998,1,0,0,0.33823529411764708,0.33823529411764708,0.33823529411764708,{"$f":"'[22]2016'!P55","v":0},{"$f":"'[22]2016'!Q55","v":0},{"$f":"'[22]2016'!R55","v":0}," -"," -",{"$f":"'[22]2017'!P50","v":68567},{"$f":"'[22]2017'!Q50","v":35667},{"$f":"'[22]2017'!R50","v":0},0.52017734478685085," -",{"$f":"'[22]2018'!P50","v":40000},{"$f":"'[22]2018'!Q50","v":0},{"$f":"'[22]2018'!R50","v":0},0," -",{"$f":"'[22]2019'!P50","v":150000},{"$f":"'[22]2019'!Q50","v":0},{"$f":"'[22]2019'!R50","v":0},0," -",258567,35667,0,0.13794103655918968," -","8. Trabajo decente y crecimiento económico","Promoción del desarrollo",{"$f":"'[1]LÍNEA 5'!AQ45","v":"IMEBU"}]
[null,null,null,null,null,null,null,null,null,null,null,null,null,null,null,null,null,null,null,null,null,null,null,null,null,null,null,null,null,null,null,null,null,null,null,null,null,null,null,null,null,null,"Lograr que 200 personas en condición de vulnerabilidad accedan a una vacante laboral.",{"$f":"'[1]LÍNEA 5'!P46","v":0},"Número de personas en condición de vulnerabilidad que aceden a una vacante laboral.",0,{"$f":"'[1]LÍNEA 5'!S46","v":200},{"$f":"'[1]LÍNEA 5'!T46","v":0},0,{"$f":"'[1]LÍNEA 5'!U46","v":0},0,{"$f":"'[1]LÍNEA 5'!V46","v":100},0.5,{"$f":"'[1]LÍNEA 5'!W46","v":100},0.5,{"$f":"'[22]2016'!K56","v":0},{"$f":"'[22]2017'!K51","v":33},{"$f":"'[22]2018'!K51","v":15},{"$f":"'[22]2019'!K51","v":0}," -"," -"," -"," -",0.15,0.15,0,0,0.24,0.24,0.24,{"$f":"'[22]2016'!P56","v":0},{"$f":"'[22]2016'!Q56","v":0},{"$f":"'[22]2016'!R56","v":0}," -"," -",{"$f":"'[22]2017'!P51","v":0},{"$f":"'[22]2017'!Q51","v":0},{"$f":"'[22]2017'!R51","v":0}," -"," -",{"$f":"'[22]2018'!P51","v":0},{"$f":"'[22]2018'!Q51","v":0},{"$f":"'[22]2018'!R51","v":0}," -"," -",{"$f":"'[22]2019'!P51","v":26000},{"$f":"'[22]2019'!Q51","v":0},{"$f":"'[22]2019'!R51","v":0},0," -",26000,0,0,0," -","8. Trabajo decente y crecimiento económico","Promoción del desarrollo",{"$f":"'[1]LÍNEA 5'!AQ46","v":"IMEBU"}]
[null,null,null,null,null,null,null,null,null,null,null,null,null,null,null,null,null,null,null,null,null,null,null,null,null,null,null,null,null,null,null,null,null,null,null,null,null,null,null,null,null,null,"Mantener y fortalecer el Observatorio del Empleo.",{"$f":"'[1]LÍNEA 5'!P47","v":"-"},"Número de Observatorios del Empleo mantenidos y fortalecidos.",1,{"$f":"'[1]LÍNEA 5'!S47","v":1},{"$f":"'[1]LÍNEA 5'!T47","v":1},0.25,{"$f":"'[1]LÍNEA 5'!U47","v":1},0.25,{"$f":"'[1]LÍNEA 5'!V47","v":1},0.25,{"$f":"'[1]LÍNEA 5'!W47","v":1},0.25,{"$f":"'[22]2016'!K57","v":1},{"$f":"'[22]2017'!K52","v":1},{"$f":"'[22]2018'!K52","v":1},{"$f":"'[22]2019'!K52","v":0},1,1,1,1,1,1,0,0,{"$f":"+AVERAGE(BD47:BG47)/AU47","v":0.75},0.75,0.75,{"$f":"'[22]2016'!P57","v":0},{"$f":"'[22]2016'!Q57","v":0},{"$f":"'[22]2016'!R57","v":0}," -"," -",{"$f":"'[22]2017'!P52","v":0},{"$f":"'[22]2017'!Q52","v":0},{"$f":"'[22]2017'!R52","v":0}," -"," -",{"$f":"'[22]2018'!P52","v":0},{"$f":"'[22]2018'!Q52","v":0},{"$f":"'[22]2018'!R52","v":0}," -"," -",{"$f":"'[22]2019'!P52","v":0},{"$f":"'[22]2019'!Q52","v":0},{"$f":"'[22]2019'!R52","v":0}," -"," -",0,0,0," -"," -","8. Trabajo decente y crecimiento económico","Promoción del desarrollo",{"$f":"'[1]LÍNEA 5'!AQ47","v":"IMEBU"}]
[null,null,null,null,null,null,null,null,null,null,null,null,null,null,null,null,null,null,null,null,null,null,null,null,null,null,null,null,null,null,null,null,null,null,null,null,null,null,null,null,null,null,"Otorgar 100 becas para cursar programas profesionales en instituciones educativas públicas que operen en la ciudad para los sectores priorizados.",{"$f":"'[1]LÍNEA 5'!P48","v":0},"Número de becas otorgadas para cursar programas profesionales en instituciones educativas públicas que operen en la ciudad para los sectores priorizados.",0,{"$f":"'[1]LÍNEA 5'!S48","v":100},{"$f":"'[1]LÍNEA 5'!T48","v":0},0,{"$f":"'[1]LÍNEA 5'!U48","v":0},0,{"$f":"'[1]LÍNEA 5'!V48","v":0},0,{"$f":"'[1]LÍNEA 5'!W48","v":100},1,{"$f":"'[22]2016'!K58","v":0},{"$f":"'[22]2017'!K53","v":0},{"$f":"'[22]2018'!K53","v":0},{"$f":"'[22]2019'!K53","v":0}," -"," -"," -"," -"," -"," -",0,0,0,0,0,{"$f":"'[22]2016'!P58","v":0},{"$f":"'[22]2016'!Q58","v":0},{"$f":"'[22]2016'!R58","v":0}," -"," -",{"$f":"'[22]2017'!P53","v":0},{"$f":"'[22]2017'!Q53","v":0},{"$f":"'[22]2017'!R53","v":0}," -"," -",{"$f":"'[22]2018'!P53","v":0},{"$f":"'[22]2018'!Q53","v":0},{"$f":"'[22]2018'!R53","v":0}," -"," -",{"$f":"'[22]2019'!P53","v":843000},{"$f":"'[22]2019'!Q53","v":0},{"$f":"'[22]2019'!R53","v":0},0," -",843000,0,0,0," -","4. Educación de calidad ","Promoción del desarrollo",{"$f":"'[1]LÍNEA 5'!AQ48","v":"IMEBU"}]
[null,null,null,null,null,null,null,null,null,null,null,null,null,null,null,null,null,null,null,null,null,null,null,null,null,null,null,null,null,null,null,null,null,null,null,null,null,null,null,null,null,null,"Otorgar 1.000 becas para cursar programas técnico profesional en instituciones educativas públicas que operen en la ciudad para los sectores priorizados.",{"$f":"'[1]LÍNEA 5'!P49","v":0},"Número de becas otorgadas para cursar programas técnico profesional en instituciones educativas públicas que operen en la ciudad para los sectores priorizados.",0,{"$f":"'[1]LÍNEA 5'!S49","v":1000},{"$f":"'[1]LÍNEA 5'!T49","v":0},0,{"$f":"'[1]LÍNEA 5'!U49","v":0},0,{"$f":"'[1]LÍNEA 5'!V49","v":0},0,{"$f":"'[1]LÍNEA 5'!W49","v":1000},1,{"$f":"'[22]2016'!K59","v":0},{"$f":"'[22]2017'!K54","v":0},{"$f":"'[22]2018'!K54","v":0},{"$f":"'[22]2019'!K54","v":0}," -"," -"," -"," -"," -"," -",0,0,0,0,0,{"$f":"'[22]2016'!P59","v":0},{"$f":"'[22]2016'!Q59","v":0},{"$f":"'[22]2016'!R59","v":0}," -"," -",{"$f":"'[22]2017'!P54","v":0},{"$f":"'[22]2017'!Q54","v":0},{"$f":"'[22]2017'!R54","v":0}," -"," -",{"$f":"'[22]2018'!P54","v":0},{"$f":"'[22]2018'!Q54","v":0},{"$f":"'[22]2018'!R54","v":0}," -"," -",{"$f":"'[22]2019'!P54","v":1668999},{"$f":"'[22]2019'!Q54","v":0},{"$f":"'[22]2019'!R54","v":0},0," -",1668999,0,0,0," -","4. Educación de calidad ","Promoción del desarrollo",{"$f":"'[1]LÍNEA 5'!AQ49","v":"IMEBU"}]
[null,null,null,null,null,"Lograr que 200 personas en situación de vulnerabilidad accedan a una vacante laboral.",0,200,{"$f":"+H50-G50","v":200},5,{"$f":"+J50-G50","v":5},null,90,{"$f":"+M50-J50","v":85},null,150,{"$f":"+P50-M50","v":60},null,200,{"$f":"+S50-P50","v":50},null,0,{"$f":"+IF(V50=0,0,V50-G50)","v":0},null,{"$f":"+IF(X50=0,0,X50-V50)","v":0},null,{"$f":"+IF(Z50=0,0,Z50-X50)","v":0},null,{"$f":"+IF(AB50=0,0,AB50-Z50)","v":0},{"$f":"+IF(K50=0,\" -\",W50/K50)","v":0},{"$f":"+IF(K50=0,\" -\",IF(AD50>100%,100%,AD50))","v":0},{"$f":"+IF(N50=0,\" -\",Y50/N50)","v":0},{"$f":"+IF(N50=0,\" -\",IF(AF50>100%,100%,AF50))","v":0},{"$f":"+IF(Q50=0,\" -\",AA50/Q50)","v":0},{"$f":"+IF(Q50=0,\" -\",IF(AH50>100%,100%,AH50))","v":0},{"$f":"+IF(T50=0,\" -\",AC50/T50)","v":0},{"$f":"+IF(T50=0,\" -\",IF(AJ50>100%,100%,AJ50))","v":0},{"$f":"+SUM(AC50,AA50,Y50,W50)/I50","v":0},{"$f":"+IF(AL50>100%,100%,IF(AL50<0%,0%,AL50))","v":0},null,null,null,"Otorgar 400 becas para cursar programas tecnológicos en instituciones educativas públicas que operen en la ciudad para los sectores priorizados.",{"$f":"'[1]LÍNEA 5'!P50","v":0},"Número de becas otorgadas para cursar programas tecnológicos en instituciones educativas públicas que operen en la ciudad para los sectores priorizados.",0,{"$f":"'[1]LÍNEA 5'!S50","v":400},{"$f":"'[1]LÍNEA 5'!T50","v":0},0,{"$f":"'[1]LÍNEA 5'!U50","v":0},0,{"$f":"'[1]LÍNEA 5'!V50","v":0},0,{"$f":"'[1]LÍNEA 5'!W50","v":400},1,{"$f":"'[22]2016'!K60","v":0},{"$f":"'[22]2017'!K55","v":0},{"$f":"'[22]2018'!K55","v":0},{"$f":"'[22]2019'!K55","v":0}," -"," -"," -"," -"," -"," -",0,0,0,0,0,{"$f":"'[22]2016'!P60","v":0},{"$f":"'[22]2016'!Q60","v":0},{"$f":"'[22]2016'!R60","v":0}," -"," -",{"$f":"'[22]2017'!P55","v":0},{"$f":"'[22]2017'!Q55","v":0},{"$f":"'[22]2017'!R55","v":0}," -"," -",{"$f":"'[22]2018'!P55","v":0},{"$f":"'[22]2018'!Q55","v":0},{"$f":"'[22]2018'!R55","v":0}," -"," -",{"$f":"'[22]2019'!P55","v":1435524},{"$f":"'[22]2019'!Q55","v":0},{"$f":"'[22]2019'!R55","v":0},0," -",1435524,0,0,0," -","4. Educación de calidad ","Promoción del desarrollo",{"$f":"'[1]LÍNEA 5'!AQ50","v":"IMEBU"}]
[null,null,null,null,null,null,null,null,null,null,null,null,null,null,null,null,null,null,null,null,null,null,null,null,null,null,null,null,null,null,null,null,null,null,null,null,null,null,null,null,null,null,"Otorgar 1.500 becas para cursar programas técnico laboral en instituciones educativas públicas que operen en la ciudad para los sectores priorizados.",{"$f":"'[1]LÍNEA 5'!P51","v":0},"Número de becas otorgadas para cursar programas técnico laboral en instituciones educativas públicas que operen en la ciudad para los sectores priorizados.",0,{"$f":"'[1]LÍNEA 5'!S51","v":1500},{"$f":"'[1]LÍNEA 5'!T51","v":0},0,{"$f":"'[1]LÍNEA 5'!U51","v":0},0,{"$f":"'[1]LÍNEA 5'!V51","v":0},0,{"$f":"'[1]LÍNEA 5'!W51","v":1500},1,{"$f":"'[22]2016'!K61","v":0},{"$f":"'[22]2017'!K56","v":0},{"$f":"'[22]2018'!K56","v":0},{"$f":"'[22]2019'!K56","v":0}," -"," -"," -"," -"," -"," -",0,0,0,0,0,{"$f":"'[22]2016'!P61","v":0},{"$f":"'[22]2016'!Q61","v":0},{"$f":"'[22]2016'!R61","v":0}," -"," -",{"$f":"'[22]2017'!P56","v":0},{"$f":"'[22]2017'!Q56","v":0},{"$f":"'[22]2017'!R56","v":0}," -"," -",{"$f":"'[22]2018'!P56","v":0},{"$f":"'[22]2018'!Q56","v":0},{"$f":"'[22]2018'!R56","v":0}," -"," -",{"$f":"'[22]2019'!P56","v":972889},{"$f":"'[22]2019'!Q56","v":0},{"$f":"'[22]2019'!R56","v":0},0," -",972889,0,0,0," -","4. Educación de calidad ","Promoción del desarrollo",{"$f":"'[1]LÍNEA 5'!AQ51","v":"IMEBU"}]
[null,null,null,null,null,null,null,null,null,null,null,null,null,null,null,null,null,null,null,null,null,null,null,null,null,null,null,null,null,null,null,null,null,null,null,null,null,null,null,null,{"$f":"+RESUMEN!J135","v":0.5625},"OBSERVATORIO DEL EMPLEO Y EL TRABAJO","Realizar 4 investigaciones sobre el mercado laboral.",{"$f":"'[1]LÍNEA 5'!P52","v":"05421301"},"Número de investigaciones realizadas sobre el mercado laboral.",1,{"$f":"'[1]LÍNEA 5'!S52","v":4},{"$f":"'[1]LÍNEA 5'!T52","v":1},0.25,{"$f":"'[1]LÍNEA 5'!U52","v":0},0,{"$f":"'[1]LÍNEA 5'!V52","v":0},0,{"$f":"'[1]LÍNEA 5'!W52","v":3},0.75,{"$f":"'[22]2016'!K62","v":1},{"$f":"'[22]2017'!K57","v":2},{"$f":"'[22]2018'!K57","v":0},{"$f":"'[22]2019'!K57","v":0},1,1," -"," -"," -"," -",0,0,0.75,0.75,0.75,{"$f":"'[22]2016'!P62","v":0},{"$f":"'[22]2016'!Q62","v":0},{"$f":"'[22]2016'!R62","v":0}," -"," -",{"$f":"'[22]2017'!P57","v":0},{"$f":"'[22]2017'!Q57","v":0},{"$f":"'[22]2017'!R57","v":150000}," -",1,{"$f":"'[22]2018'!P57","v":0},{"$f":"'[22]2018'!Q57","v":0},{"$f":"'[22]2018'!R57","v":0}," -"," -",{"$f":"'[22]2019'!P57","v":80000},{"$f":"'[22]2019'!Q57","v":0},{"$f":"'[22]2019'!R57","v":0},0," -",80000,0,150000,0,1,"8. Trabajo decente y crecimiento económico","Promoción del desarrollo",{"$f":"'[1]LÍNEA 5'!AQ52","v":"IMEBU"}]
[null,null,null,null,null,null,null,null,null,null,null,null,null,null,null,null,null,null,null,null,null,null,null,null,null,null,null,null,null,null,null,null,null,null,null,null,null,null,null,null,null,null,"Generar 8 boletines sobre los indicadores de empleo que genera el observatorio.",{"$f":"'[1]LÍNEA 5'!P53","v":"05421301"},"Número de boletines generados sobre los indicadores de empleo que genera el observatorio.",0,{"$f":"'[1]LÍNEA 5'!S53","v":8},{"$f":"'[1]LÍNEA 5'!T53","v":2},0.25,{"$f":"'[1]LÍNEA 5'!U53","v":1},0.125,{"$f":"'[1]LÍNEA 5'!V53","v":2},0.25,{"$f":"'[1]LÍNEA 5'!W53","v":3},0.375,{"$f":"'[22]2016'!K63","v":2},{"$f":"'[22]2017'!K58","v":1},{"$f":"'[22]2018'!K58","v":0},{"$f":"'[22]2019'!K58","v":0},1,1,1,1,0,0,0,0,0.375,0.375,0.375,{"$f":"'[22]2016'!P63","v":0},{"$f":"'[22]2016'!Q63","v":0},{"$f":"'[22]2016'!R63","v":0}," -"," -",{"$f":"'[22]2017'!P58","v":0},{"$f":"'[22]2017'!Q58","v":0},{"$f":"'[22]2017'!R58","v":0}," -"," -",{"$f":"'[22]2018'!P58","v":0},{"$f":"'[22]2018'!Q58","v":0},{"$f":"'[22]2018'!R58","v":0}," -"," -",{"$f":"'[22]2019'!P58","v":26000},{"$f":"'[22]2019'!Q58","v":0},{"$f":"'[22]2019'!R58","v":0},0," -",26000,0,0,0," -","8. Trabajo decente y crecimiento económico","Promoción del desarrollo",{"$f":"'[1]LÍNEA 5'!AQ53","v":"IMEBU"}]
[null,null,null,null,null,null,null,null,null,null,null,null,null,null,null,null,null,null,null,null,null,null,null,null,null,null,null,null,null,null,null,null,null,null,null,null,null,null,null,null,null,null,null,null,null,null,null,null,{"$f":"+AVERAGE(AW40:AW53)","v":0.10119047619047619},null,{"$f":"+AVERAGE(AY40:AY53)","v":0.11083333333333334},null,0.18149859943977592,null,0.5875700280112045,null,null,null,null,null,{"$f":"+AVERAGE(BI40:BI53)","v":1},null,1,null,0.65209876543209888,null,0,null,{"$f":"+AVERAGE(BQ40:BQ53)","v":0.39144537815126051}]
[]
[]
[]
[null,null,null,null,null,null,null,null,null,null,null,null,null,null,null,null,null,null,null,null,null,null,null,null,null,null,null,null,null,null,null,null,null,null,null,null,null,null,null,null,null,null,null,null,null,null,null,null,null,null,null,null,null,null,null,2016,2017,2018,2019,"CA"]
[null,null,null,null,null,null,null,null,null,null,null,null,null,null,null,null,null,null,null,null,null,null,null,null,null,null,null,null,null,null,null,null,null,null,null,null,null,null,null,null,null,null,null,null,null,null,null,null,null,null,null,null,null,"IMEBU",null,{"$f":"+AVERAGE(BI11:BI23,BI25:BI35,BI38,BI40:BI53)","v":0.91},{"$f":"+AVERAGE(BK11:BK23,BK25:BK35,BK38,BK40:BK53)","v":0.84413580246913578},{"$f":"+AVERAGE(BM11:BM23,BM25:BM35,BM38,BM40:BM53)","v":0.4392701717490361},{"$f":"+AVERAGE(BO11:BO23,BO25:BO35,BO38,BO40:BO53)","v":0},{"$f":"+AVERAGE(BQ11:BQ23,BQ25:BQ35,BQ38,BQ40:BQ53)","v":0.28164440200591473}]
[null,null,null,null,null,null,null,null,null,null,null,null,null,null,null,null,null,null,null,null,null,null,null,null,null,null,null,null,null,null,null,null,null,null,null,null,null,null,null,null,null,null,null,null,null,null,null,null,null,null,null,null,null,"Planeación",null,{"$f":"+AVERAGE(BI36:BI37)","v":1},{"$f":"+AVERAGE(BK36:BK37)","v":0.5},{"$f":"+AVERAGE(BM36:BM37)","v":0},{"$f":"+AVERAGE(BO36:BO37)","v":0},{"$f":"+AVERAGE(BQ36:BQ37)","v":0.375}]

{"sheet":"LÍNEA 6","index":6,"n_rows":86,"n_cols":98,"rows_kept":86,"cut":false,"hidden":false,"merged":[[7,95,9,95],[69,8,75,8],[10,1,76,1],[10,2,76,2],[69,40,75,40],[69,41,75,41],[69,4,75,4],[69,3,75,3],[69,5,75,5],[69,6,75,6],[69,7,75,7],[65,18,67,18],[62,6,64,6],[62,7,64,7],[62,9,64,9],[62,12,64,12],[62,15,64,15],[62,18,64,18],[69,9,75,9],[69,12,75,12],[69,15,75,15],[65,6,67,6],[65,7,67,7],[65,9,67,9],[56,6,58,6],[56,7,58,7],[56,9,58,9],[56,12,58,12],[56,15,58,15],[56,18,58,18],[59,6,61,6],[59,7,61,7],[59,9,61,9],[59,12,61,12],[59,15,61,15],[59,18,61,18],[50,40,59,40],[60,40,67,40],[60,41,67,41],[50,41,59,41],[50,4,67,4],[50,3,67,3],[65,5,67,5],[62,5,64,5],[59,5,61,5],[56,5,58,5],[53,5,55,5],[50,5,52,5],[50,6,52,6],[50,7,52,7],[50,9,52,9],[50,12,52,12],[50,15,52,15],[50,18,52,18],[53,6,55,6],[53,7,55,7],[53,9,55,9],[53,12,55,12],[53,15,55,15],[53,18,55,18],[30,12,39,12],[30,15,39,15],[30,18,39,18],[40,6,48,6],[40,7,48,7],[40,9,48,9],[40,12,48,12],[40,15,48,15],[40,18,48,18],[30,13,39,13],[30,14,39,14],[40,13,48,13],[40,14,48,14],[30,10,39,10],[30,11,39,11],[40,10,48,10],[40,11,48,11],[20,12,29,12],[20,15,29,15],[20,18,29,18],[10,10,19,10],[10,11,19,11],[20,10,29,10],[20,11,29,11],[10,13,19,13],[10,14,19,14],[20,13,29,13],[20,14,29,14],[10,4,48,4],[10,3,48,3],[10,5,19,5],[20,5,29,5],[30,5,39,5],[40,5,48,5],[10,6,19,6],[10,7,19,7],[10,9,19,9],[30,6,39,6],[30,7,39,7],[30,9,39,9],[30,8,39,8],[40,8,48,8],[10,8,19,8],[20,8,29,8],[20,6,29,6],[20,7,29,7],[20,9,29,9],[47,40,48,40],[47,41,48,41],[40,40,46,40],[40,41,46,41],[24,40,39,40],[24,41,39,41],[18,40,23,40],[18,41,23,41],[10,41,17,41],[10,40,17,40],[2,1,2,97],[3,1,3,97],[4,1,4,97],[7,1,9,1],[7,2,9,2],[7,3,9,3],[7,4,9,4],[7,5,9,5],[7,6,9,6],[7,70,7,94],[7,96,9,96],[8,70,8,74],[8,75,8,79],[8,80,8,84],[8,85,8,89],[7,40,9,40],[7,41,9,41],[7,42,9,42],[7,43,9,43],[9,18,9,20],[9,15,9,17],[9,12,9,14],[9,9,9,11],[7,7,9,8],[20,19,29,19],[20,20,29,20],[30,19,39,19],[30,20,39,20],[40,19,48,19],[40,20,48,20],[30,16,39,16],[30,17,39,17],[40,16,48,16],[40,17,48,17],[20,16,29,16],[20,17,29,17],[50,8,52,8],[53,8,55,8],[56,8,58,8],[59,8,61,8],[62,8,64,8],[65,8,67,8],[50,10,52,10],[50,11,52,11],[53,10,55,10],[53,11,55,11],[56,10,58,10],[56,11,58,11],[59,10,61,10],[59,11,61,11],[62,10,64,10],[62,11,64,11],[65,10,67,10],[65,11,67,11],[50,13,52,13],[50,14,52,14],[53,13,55,13],[53,14,55,14],[56,13,58,13],[56,14,58,14],[59,13,61,13],[59,14,61,14],[62,13,64,13],[62,14,64,14],[50,16,52,16],[50,17,52,17],[53,16,55,16],[53,17,55,17],[56,16,58,16],[56,17,58,17],[59,16,61,16],[59,17,61,17],[62,16,64,16],[62,17,64,17],[50,19,52,19],[50,20,52,20],[53,19,55,19],[53,20,55,20],[56,19,58,19],[56,20,58,20],[59,19,61,19],[59,20,61,20],[62,19,64,19],[62,20,64,20],[65,19,67,19],[65,20,67,20],[69,19,75,19],[69,20,75,20],[69,16,75,16],[69,17,75,17],[69,13,75,13],[69,14,75,14],[69,10,75,10],[69,11,75,11],[69,18,75,18],[65,13,67,13],[65,14,67,14],[65,16,67,16],[65,17,67,17],[65,15,67,15],[65,12,67,12],[7,9,8,20],[10,21,19,21],[10,22,19,22],[10,23,19,23],[10,24,19,24],[10,19,19,19],[10,20,19,20],[10,16,19,16],[10,17,19,17],[10,12,19,12],[10,15,19,15],[10,18,19,18],[10,25,19,25],[10,26,19,26],[10,27,19,27],[10,28,19,28],[10,29,19,29],[10,30,19,30],[10,31,19,31],[20,21,29,21],[20,22,29,22],[20,23,29,23],[20,24,29,24],[20,25,29,25],[20,26,29,26],[20,27,29,27],[20,28,29,28],[20,29,29,29],[20,30,29,30],[20,31,29,31],[30,30,39,30],[30,31,39,31],[40,21,48,21],[40,22,48,22],[40,23,48,23],[40,24,48,24],[40,25,48,25],[40,26,48,26],[40,27,48,27],[40,28,48,28],[40,29,48,29],[40,30,48,30],[40,31,48,31],[30,21,39,21],[30,22,39,22],[30,23,39,23],[30,24,39,24],[30,25,39,25],[30,26,39,26],[30,27,39,27],[30,28,39,28],[30,29,39,29],[10,32,19,32],[10,33,19,33],[10,34,19,34],[10,35,19,35],[10,36,19,36],[10,37,19,37],[10,38,19,38],[10,39,19,39],[20,32,29,32],[20,33,29,33],[20,34,29,34],[20,35,29,35],[20,36,29,36],[20,37,29,37],[20,38,29,38],[20,39,29,39],[30,32,39,32],[30,33,39,33],[30,34,39,34],[30,35,39,35],[30,36,39,36],[30,37,39,37],[30,38,39,38],[30,39,39,39],[40,32,48,32],[40,33,48,33],[40,34,48,34],[40,35,48,35],[40,36,48,36],[40,37,48,37],[40,38,48,38],[40,39,48,39],[50,34,52,34],[50,35,52,35],[50,36,52,36],[50,37,52,37],[50,38,52,38],[50,21,52,21],[50,22,52,22],[50,23,52,23],[50,24,52,24],[50,25,52,25],[50,26,52,26],[50,27,52,27],[50,28,52,28],[50,29,52,29],[50,39,52,39],[53,21,55,21],[53,22,55,22],[53,23,55,23],[53,24,55,24],[53,25,55,25],[53,26,55,26],[53,27,55,27],[53,28,55,28],[53,29,55,29],[53,30,55,30],[53,31,55,31],[53,32,55,32],[53,33,55,33],[53,34,55,34],[53,35,55,35],[53,36,55,36],[53,37,55,37],[53,38,55,38],[53,39,55,39],[50,30,52,30],[50,31,52,31],[50,32,52,32],[50,33,52,33],[56,34,58,34],[56,35,58,35],[56,36,58,36],[56,37,58,37],[56,38,58,38],[56,21,58,21],[56,22,58,22],[56,23,58,23],[56,24,58,24],[56,25,58,25],[56,26,58,26],[56,27,58,27],[56,28,58,28],[56,29,58,29],[56,39,58,39],[59,21,61,21],[59,22,61,22],[59,23,61,23],[59,24,61,24],[59,25,61,25],[59,26,61,26],[59,27,61,27],[59,28,61,28],[59,29,61,29],[59,30,61,30],[59,31,61,31],[59,32,61,32],[59,33,61,33],[59,34,61,34],[59,35,61,35],[59,36,61,36],[59,37,61,37],[59,38,61,38],[59,39,61,39],[56,30,58,30],[56,31,58,31],[56,32,58,32],[56,33,58,33],[62,21,64,21],[62,22,64,22],[62,23,64,23],[62,24,64,24],[62,25,64,25],[62,26,64,26],[62,27,64,27],[62,28,64,28],[62,29,64,29],[65,38,67,38],[65,39,67,39],[62,30,64,30],[62,31,64,31],[62,32,64,32],[62,33,64,33],[62,34,64,34],[62,35,64,35],[62,36,64,36],[62,37,64,37],[62,38,64,38],[69,24,75,24],[69,25,75,25],[69,26,75,26],[69,27,75,27],[69,28,75,28],[69,29,75,29],[62,39,64,39],[65,21,67,21],[65,22,67,22],[65,23,67,23],[65,24,67,24],[65,25,67,25],[65,26,67,26],[65,27,67,27],[65,28,67,28],[65,29,67,29],[65,30,67,30],[65,31,67,31],[65,32,67,32],[65,33,67,33],[65,34,67,34],[65,35,67,35],[65,36,67,36],[65,37,67,37],[69,39,75,39],[7,21,8,28],[7,29,8,39],[9,21,9,22],[9,23,9,24],[9,25,9,26],[9,27,9,28],[9,29,9,30],[9,31,9,32],[9,33,9,34],[9,35,9,36],[9,37,9,39],[69,30,75,30],[69,31,75,31],[69,32,75,32],[69,33,75,33],[69,34,75,34],[69,35,75,35],[69,36,75,36],[69,37,75,37],[69,38,75,38],[69,21,75,21],[69,22,75,22],[69,23,75,23],[82,53,82,54],[84,53,84,54],[83,53,83,54],[85,53,85,54],[81,53,81,54],[8,90,8,94],[9,47,9,48],[9,49,9,50],[9,51,9,52],[9,53,9,54],[7,44,8,54],[7,55,8,58],[7,59,8,69],[9,59,9,60],[9,61,9,62],[9,63,9,64],[9,65,9,66],[9,67,9,69]]}
[]
[]
[null,"ALCALDÍA DE BUCARAMANGA"]
[null,"PLAN DE DESARROLLO 2016 - 2019 \"GOBIERNO DE LAS CIUDADANAS Y LOS CIUDADANOS\""]
[null,"LÍNEA ESTRATÉGICA 6: INFRAESTRUCTURA Y CONECTIVIDAD"]
[]
[]
[null,"POND","LÍNEA ESTRATÉGICA","POND","COMPONENTE","META DE RESULTADO","LÍNEA BASE","RESULTADO CUATRIENIO",null,"LOGROS POR VIGENCIA",null,null,null,null,null,null,null,null,null,null,null,"LOGRO POR VIGENCIA",null,null,null,null,null,null,null,"PORCENTAJE DE CUMPLIMIENTO",null,null,null,null,null,null,null,null,null,null,"POND","PROGRAMA","META DE PRODUCTO","RUBRO PPTAL","INDICADOR DE PRODUCTO",null,null,null,null,null,null,null,null,null,null,"LOGRO POR VIGENCIA",null,null,null,"PORCENTAJE DE CUMPLIMIENTO",null,null,null,null,null,null,null,null,null,null,"RECURSOS POR FUENTE DE FINANCIACIÓN PARA CADA VIGENCIA (Cifras en Miles de Pesos)",null,null,null,null,null,null,null,null,null,null,null,null,null,null,null,null,null,null,null,null,null,null,null,null,"ODS","SECTOR"]
[null,null,null,null,null,null,null,null,null,null,null,null,null,null,null,null,null,null,null,null,null,null,null,null,null,null,null,null,null,null,null,null,null,null,null,null,null,null,null,null,null,null,null,null,null,null,null,null,null,null,null,null,null,null,null,null,null,null,null,null,null,null,null,null,null,null,null,null,null,null,2016,null,null,null,null,2017,null,null,null,null,2018,null,null,null,null,2019,null,null,null,null,"2016 - 2019"]
[null,null,null,null,null,null,null,null,null,2016,null,null,2017,null,null,2018,null,null,2019,null,null,2016,null,2017,null,2018,null,2019,null,2016,null,2017,null,2018,null,2019,null,"2016 - 2019",null,null,null,null,null,null,"NOMBRE INDICADOR","LÍNEA BASE","ESPERADO CUATRIENIO",2016,null,2017,null,2018,null,2019,null,2016,2017,2018,2019,2016,null,2017,null,2018,null,2019,null,"2016 - 2019",null,null,"RECURSOS PROGRAMADOS","RECURSOS EJECUTADOS","RECURSOS GESTIONADOS","PORCENTAJE EJECUCIÓN","NIVEL DE GESTIÓN","RECURSOS PROGRAMADOS","RECURSOS EJECUTADOS","RECURSOS GESTIONADOS","PORCENTAJE EJECUCIÓN","NIVEL DE GESTIÓN","RECURSOS PROGRAMADOS","RECURSOS EJECUTADOS","RECURSOS GESTIONADOS","PORCENTAJE EJECUCIÓN","NIVEL DE GESTIÓN","RECURSOS PROGRAMADOS","RECURSOS EJECUTADOS","RECURSOS GESTIONADOS","PORCENTAJE EJECUCIÓN","NIVEL DE GESTIÓN","RECURSOS PROGRAMADOS","RECURSOS EJECUTADOS","RECURSOS GESTIONADOS","PORCENTAJE EJECUCIÓN","NIVEL DE GESTIÓN",null,null,"RESPONSABLE"]
[null,{"$f":"+RESUMEN!J136","v":0.40412994516402795},"6 - INFRAESTRUCTURA Y CONECTIVIDAD",{"$f":"+RESUMEN!J137","v":0.53828141141141139},"MOVILIDAD","Aumentar al 66% la cobertura del SITM.",0.47,0.66,{"$f":"+H11-G11","v":0.19000000000000006},0.47,{"$f":"+J11-G11","v":0},null,0.5,{"$f":"+M11-J11","v":3.0000000000000027E-2},null,0.6,{"$f":"+P11-M11","v":9.9999999999999978E-2},null,0.66,{"$f":"+S11-P11","v":6.0000000000000053E-2},null,0.47,{"$f":"+IF(V11=0,0,V11-G11)","v":0},null,{"$f":"+IF(X11=0,0,X11-V11)","v":0},null,{"$f":"+IF(Z11=0,0,Z11-X11)","v":0},null,{"$f":"+IF(AB11=0,0,AB11-Z11)","v":0},{"$f":"+IF(K11=0,\" -\",W11/K11)","v":" -"},{"$f":"+IF(K11=0,\" -\",IF(AD11>100%,100%,AD11))","v":" -"},{"$f":"+IF(N11=0,\" -\",Y11/N11)","v":0},{"$f":"+IF(N11=0,\" -\",IF(AF11>100%,100%,AF11))","v":0},{"$f":"+IF(Q11=0,\" -\",AA11/Q11)","v":0},{"$f":"+IF(Q11=0,\" -\",IF(AH11>100%,100%,AH11))","v":0},{"$f":"+IF(T11=0,\" -\",AC11/T11)","v":0},{"$f":"+IF(T11=0,\" -\",IF(AJ11>100%,100%,AJ11))","v":0},{"$f":"+SUM(AC11,AA11,Y11,W11)/I11","v":0},{"$f":"+IF(AL11>100%,100%,IF(AL11<0%,0%,AL11))","v":0},null,{"$f":"+RESUMEN!J138","v":0.6020833333333333},"SITM EFICIENTE Y CONFIABLE","Realizar la revisión del diseño del portal norte.",{"$f":"'[1]LÍNEA 6'!P11","v":" -"},"Número de revisiones realizadas al diseño del portal norte.",0,{"$f":"'[1]LÍNEA 6'!S11","v":1},{"$f":"'[1]LÍNEA 6'!T11","v":1},{"$f":"+AV11/AU11","v":1},{"$f":"'[1]LÍNEA 6'!U11","v":0},{"$f":"+AX11/AU11","v":0},{"$f":"'[1]LÍNEA 6'!V11","v":0},{"$f":"+AZ11/AU11","v":0},{"$f":"'[1]LÍNEA 6'!W11","v":0},{"$f":"+BB11/AU11","v":0},{"$f":"'[21]2016'!K14","v":1},{"$f":"'[21]2017'!K14","v":0},{"$f":"'[21]2018'!K14","v":0},{"$f":"'[21]2019'!K14","v":0},{"$f":"IF(AV11=0,\" -\",BD11/AV11)","v":1},{"$f":"IF(AV11=0,\" -\",IF(BH11>100%,100%,BH11))","v":1},{"$f":"IF(AX11=0,\" -\",BE11/AX11)","v":" -"},{"$f":"IF(AX11=0,\" -\",IF(BJ11>100%,100%,BJ11))","v":" -"},{"$f":"IF(AZ11=0,\" -\",BF11/AZ11)","v":" -"},{"$f":"IF(AZ11=0,\" -\",IF(BL11>100%,100%,BL11))","v":" -"},{"$f":"IF(BB11=0,\" -\",BG11/BB11)","v":" -"},{"$f":"IF(BB11=0,\" -\",IF(BN11>100%,100%,BN11))","v":" -"},{"$f":"+SUM(BD11:BG11)/AU11","v":1},{"$f":"+IF(BP11>100%,100%,BP11)","v":1},{"$f":"+BQ11","v":1},{"$f":"'[21]2016'!P14","v":488844},{"$f":"'[21]2016'!Q14","v":488844},{"$f":"'[21]2016'!R14","v":0},{"$f":"IF(BS11=0,\" -\",BT11/BS11)","v":1},{"$f":"IF(BU11=0,\" -\",IF(BT11=0,100%,BU11/BT11))","v":" -"},{"$f":"'[21]2017'!P14","v":0},{"$f":"'[21]2017'!Q14","v":0},{"$f":"'[21]2017'!R14","v":0},{"$f":"IF(BX11=0,\" -\",BY11/BX11)","v":" -"},{"$f":"IF(BZ11=0,\" -\",IF(BY11=0,100%,BZ11/BY11))","v":" -"},{"$f":"'[21]2018'!P14","v":0},{"$f":"'[21]2018'!Q14","v":0},{"$f":"'[21]2018'!R14","v":0},{"$f":"IF(CC11=0,\" -\",CD11/CC11)","v":" -"},{"$f":"IF(CE11=0,\" -\",IF(CD11=0,100%,CE11/CD11))","v":" -"},{"$f":"'[21]2019'!P14","v":0},{"$f":"'[21]2019'!Q14","v":0},{"$f":"'[21]2019'!R14","v":0},{"$f":"IF(CH11=0,\" -\",CI11/CH11)","v":" -"},{"$f":"IF(CJ11=0,\" -\",IF(CI11=0,100%,CJ11/CI11))","v":" -"},{"$f":"+BS11+BX11+CC11+CH11","v":488844},488844,0,{"$f":"IF(CM11=0,\" -\",CN11/CM11)","v":1},{"$f":"IF(CO11=0,\" -\",IF(CN11=0,100%,CO11/CN11))","v":" -"},"9. Industria, innovación e infraestructura","Transporte",{"$f":"'[1]LÍNEA 6'!AQ11","v":"METROLÍNEA"}]
[null,null,null,null,null,null,null,null,null,null,null,null,null,null,null,null,null,null,null,null,null,null,null,null,null,null,null,null,null,null,null,null,null,null,null,null,null,null,null,null,null,null,"Gestionar el trámite contractual para la construcción del portal norte.",{"$f":"'[1]LÍNEA 6'!P12","v":" -"},"Porcentaje de avance en la gestión contractual para la construcción del portal norte.",0,{"$f":"'[1]LÍNEA 6'!S12","v":1},{"$f":"'[1]LÍNEA 6'!T12","v":0},{"$f":"+AV12/AU12","v":0},{"$f":"'[1]LÍNEA 6'!U12","v":0.1},{"$f":"+AX12/AU12","v":0.1},{"$f":"'[1]LÍNEA 6'!V12","v":0.4},{"$f":"+AZ12/AU12","v":0.4},{"$f":"'[1]LÍNEA 6'!W12","v":0.5},{"$f":"+BB12/AU12","v":0.5},{"$f":"'[21]2016'!K15","v":0.1},{"$f":"'[21]2017'!K15","v":0.8},{"$f":"'[21]2018'!K15","v":0.1},{"$f":"'[21]2019'!K15","v":0},{"$f":"IF(AV12=0,\" -\",BD12/AV12)","v":" -"},{"$f":"IF(AV12=0,\" -\",IF(BH12>100%,100%,BH12))","v":" -"},{"$f":"IF(AX12=0,\" -\",BE12/AX12)","v":8},{"$f":"IF(AX12=0,\" -\",IF(BJ12>100%,100%,BJ12))","v":1},{"$f":"IF(AZ12=0,\" -\",BF12/AZ12)","v":0.25},{"$f":"IF(AZ12=0,\" -\",IF(BL12>100%,100%,BL12))","v":0.25},{"$f":"IF(BB12=0,\" -\",BG12/BB12)","v":0},{"$f":"IF(BB12=0,\" -\",IF(BN12>100%,100%,BN12))","v":0},{"$f":"+SUM(BD12:BG12)/AU12","v":1},{"$f":"+IF(BP12>100%,100%,BP12)","v":1},{"$f":"+BQ12","v":1},{"$f":"'[21]2016'!P15","v":0},{"$f":"'[21]2016'!Q15","v":0},{"$f":"'[21]2016'!R15","v":0},{"$f":"IF(BS12=0,\" -\",BT12/BS12)","v":" -"},{"$f":"IF(BU12=0,\" -\",IF(BT12=0,100%,BU12/BT12))","v":" -"},{"$f":"'[21]2017'!P15","v":0},{"$f":"'[21]2017'!Q15","v":0},{"$f":"'[21]2017'!R15","v":0},{"$f":"IF(BX12=0,\" -\",BY12/BX12)","v":" -"},{"$f":"IF(BZ12=0,\" -\",IF(BY12=0,100%,BZ12/BY12))","v":" -"},{"$f":"'[21]2018'!P15","v":0},{"$f":"'[21]2018'!Q15","v":0},{"$f":"'[21]2018'!R15","v":0},{"$f":"IF(CC12=0,\" -\",CD12/CC12)","v":" -"},{"$f":"IF(CE12=0,\" -\",IF(CD12=0,100%,CE12/CD12))","v":" -"},{"$f":"'[21]2019'!P15","v":0},{"$f":"'[21]2019'!Q15","v":0},{"$f":"'[21]2019'!R15","v":0},{"$f":"IF(CH12=0,\" -\",CI12/CH12)","v":" -"},{"$f":"IF(CJ12=0,\" -\",IF(CI12=0,100%,CJ12/CI12))","v":" -"},0,0,0,{"$f":"IF(CM12=0,\" -\",CN12/CM12)","v":" -"},{"$f":"IF(CO12=0,\" -\",IF(CN12=0,100%,CO12/CN12))","v":" -"},"9. Industria, innovación e infraestructura","Transporte",{"$f":"'[1]LÍNEA 6'!AQ12","v":"METROLÍNEA"}]
[null,null,null,null,null,null,null,null,null,null,null,null,null,null,null,null,null,null,null,null,null,null,null,null,null,null,null,null,null,null,null,null,null,null,null,null,null,null,null,null,null,null,"Implementar y mantener 1 estrategia de cultura \"METROLÍNEA como un bien de todos\".",{"$f":"'[1]LÍNEA 6'!P13","v":21032505},"Número de estrategias de cultura \"METROLÍNEA como un bien de todos\" implementadas y mantenidas.",0,{"$f":"'[1]LÍNEA 6'!S13","v":1},{"$f":"'[1]LÍNEA 6'!T13","v":0},0,{"$f":"'[1]LÍNEA 6'!U13","v":1},0.33,{"$f":"'[1]LÍNEA 6'!V13","v":1},0.33,{"$f":"'[1]LÍNEA 6'!W13","v":1},0.34,{"$f":"'[21]2016'!K16","v":0},{"$f":"'[21]2017'!K16","v":1},{"$f":"'[21]2018'!K16","v":1},{"$f":"'[21]2019'!K16","v":0}," -"," -",1,1,1,1,0,0,{"$f":"+AVERAGE(BE13:BG13)/AU13","v":0.66666666666666663},0.66666666666666663,0.66666666666666663,{"$f":"'[21]2016'!P16","v":100000},{"$f":"'[21]2016'!Q16","v":0},{"$f":"'[21]2016'!R16","v":0},{"$f":"IF(BS13=0,\" -\",BT13/BS13)","v":0},{"$f":"IF(BU13=0,\" -\",IF(BT13=0,100%,BU13/BT13))","v":" -"},{"$f":"'[21]2017'!P16","v":0},{"$f":"'[21]2017'!Q16","v":0},{"$f":"'[21]2017'!R16","v":18850},{"$f":"IF(BX13=0,\" -\",BY13/BX13)","v":" -"},{"$f":"IF(BZ13=0,\" -\",IF(BY13=0,100%,BZ13/BY13))","v":1},{"$f":"'[21]2018'!P16","v":80000},{"$f":"'[21]2018'!Q16","v":0},{"$f":"'[21]2018'!R16","v":0},{"$f":"IF(CC13=0,\" -\",CD13/CC13)","v":0},{"$f":"IF(CE13=0,\" -\",IF(CD13=0,100%,CE13/CD13))","v":" -"},{"$f":"'[21]2019'!P16","v":60000},{"$f":"'[21]2019'!Q16","v":0},{"$f":"'[21]2019'!R16","v":0},{"$f":"IF(CH13=0,\" -\",CI13/CH13)","v":0},{"$f":"IF(CJ13=0,\" -\",IF(CI13=0,100%,CJ13/CI13))","v":" -"},{"$f":"+BS13+BX13+CC13+CH13","v":240000},{"$f":"+BT13+BY13+CD13+CI13","v":0},{"$f":"+BU13+BZ13+CE13+CJ13","v":18850},{"$f":"IF(CM13=0,\" -\",CN13/CM13)","v":0},{"$f":"IF(CO13=0,\" -\",IF(CN13=0,100%,CO13/CN13))","v":1},"9. Industria, innovación e infraestructura","Transporte",{"$f":"'[1]LÍNEA 6'!AQ13","v":"METROLÍNEA"}]
[null,null,null,null,null,null,null,null,null,null,null,null,null,null,null,null,null,null,null,null,null,null,null,null,null,null,null,null,null,null,null,null,null,null,null,null,null,null,null,null,null,null,"Realizar la reestructuración operativa, financiera y jurídica del SITM.",{"$f":"'[1]LÍNEA 6'!P14","v":21032501},"Número de reestructuraciones operativas, financieras y jurídicas del SITM realizados.",0,{"$f":"'[1]LÍNEA 6'!S14","v":1},{"$f":"'[1]LÍNEA 6'!T14","v":1},{"$f":"+AV14/AU14","v":1},{"$f":"'[1]LÍNEA 6'!U14","v":0},{"$f":"+AX14/AU14","v":0},{"$f":"'[1]LÍNEA 6'!V14","v":0},{"$f":"+AZ14/AU14","v":0},{"$f":"'[1]LÍNEA 6'!W14","v":0},{"$f":"+BB14/AU14","v":0},{"$f":"'[21]2016'!K17","v":1},{"$f":"'[21]2017'!K17","v":0},{"$f":"'[21]2018'!K17","v":0},{"$f":"'[21]2019'!K17","v":0},1,1," -"," -"," -"," -"," -"," -",1,1,1,{"$f":"'[21]2016'!P17","v":0},{"$f":"'[21]2016'!Q17","v":0},{"$f":"'[21]2016'!R17","v":0}," -"," -",{"$f":"'[21]2017'!P17","v":0},{"$f":"'[21]2017'!Q17","v":0},{"$f":"'[21]2017'!R17","v":0}," -"," -",{"$f":"'[21]2018'!P17","v":0},{"$f":"'[21]2018'!Q17","v":0},{"$f":"'[21]2018'!R17","v":0}," -"," -",{"$f":"'[21]2019'!P17","v":0},{"$f":"'[21]2019'!Q17","v":0},{"$f":"'[21]2019'!R17","v":0}," -"," -",0,0,0," -"," -","9. Industria, innovación e infraestructura","Transporte",{"$f":"'[1]LÍNEA 6'!AQ14","v":"METROLÍNEA"}]
[null,null,null,null,null,null,null,null,null,null,null,null,null,null,null,null,null,null,null,null,null,null,null,null,null,null,null,null,null,null,null,null,null,null,null,null,null,null,null,null,null,null,"Realizar y mantener el seguimiento y control a 3 contratos de concesión.",{"$f":"'[1]LÍNEA 6'!P15","v":21032509},"Número de contratos de concesión con seguimiento y control realizados y mantenidos.",0,{"$f":"'[1]LÍNEA 6'!S15","v":3},{"$f":"'[1]LÍNEA 6'!T15","v":3},0.25,{"$f":"'[1]LÍNEA 6'!U15","v":3},0.25,{"$f":"'[1]LÍNEA 6'!V15","v":3},0.25,{"$f":"'[1]LÍNEA 6'!W15","v":3},0.25,{"$f":"'[21]2016'!K18","v":3},{"$f":"'[21]2017'!K18","v":3},{"$f":"'[21]2018'!K18","v":3},{"$f":"'[21]2019'!K18","v":0},1,1,1,1,1,1,0,0,{"$f":"+AVERAGE(BD15:BG15)/AU15","v":0.75},0.75,0.75,{"$f":"'[21]2016'!P18","v":0},{"$f":"'[21]2016'!Q18","v":0},{"$f":"'[21]2016'!R18","v":0}," -"," -",{"$f":"'[21]2017'!P18","v":0},{"$f":"'[21]2017'!Q18","v":0},{"$f":"'[21]2017'!R18","v":0}," -"," -",{"$f":"'[21]2018'!P18","v":50000},{"$f":"'[21]2018'!Q18","v":0},{"$f":"'[21]2018'!R18","v":0},0," -",{"$f":"'[21]2019'!P18","v":50000},{"$f":"'[21]2019'!Q18","v":0},{"$f":"'[21]2019'!R18","v":0},0," -",100000,0,0,0," -","9. Industria, innovación e infraestructura","Transporte",{"$f":"'[1]LÍNEA 6'!AQ15","v":"METROLÍNEA"}]
[null,null,null,null,null,null,null,null,null,null,null,null,null,null,null,null,null,null,null,null,null,null,null,null,null,null,null,null,null,null,null,null,null,null,null,null,null,null,null,null,null,null,"Adecuar 2 rutas de vías alimentadoras en el norte de la ciudad para el ingreso del sistema.",{"$f":"'[1]LÍNEA 6'!P16","v":22053512004},"Número de rutas de vías alimentadoras adecuadas en el norte de la ciudad para el ingreso del sistema.",0,{"$f":"'[1]LÍNEA 6'!S16","v":2},{"$f":"'[1]LÍNEA 6'!T16","v":0},0,{"$f":"'[1]LÍNEA 6'!U16","v":0},0,{"$f":"'[1]LÍNEA 6'!V16","v":2},1,{"$f":"'[1]LÍNEA 6'!W16","v":0},0,{"$f":"'[21]2016'!K19","v":0},{"$f":"'[21]2017'!K19","v":0},{"$f":"'[21]2018'!K19","v":0},{"$f":"'[21]2019'!K19","v":0}," -"," -"," -"," -",0,0," -"," -",0,0,0,{"$f":"'[21]2016'!P19","v":0},{"$f":"'[21]2016'!Q19","v":0},{"$f":"'[21]2016'!R19","v":0}," -"," -",{"$f":"'[21]2017'!P19","v":0},{"$f":"'[21]2017'!Q19","v":0},{"$f":"'[21]2017'!R19","v":0}," -"," -",{"$f":"'[21]2018'!P19","v":2500000},{"$f":"'[21]2018'!Q19","v":0},{"$f":"'[21]2018'!R19","v":0},0," -",{"$f":"'[21]2019'!P19","v":0},{"$f":"'[21]2019'!Q19","v":0},{"$f":"'[21]2019'!R19","v":0}," -"," -",2500000,0,0,0," -","9. Industria, innovación e infraestructura","Transporte",{"$f":"'[1]LÍNEA 6'!AQ16","v":"METROLÍNEA"}]
[null,null,null,null,null,null,null,null,null,null,null,null,null,null,null,null,null,null,null,null,null,null,null,null,null,null,null,null,null,null,null,null,null,null,null,null,null,null,null,null,null,null,"Apoyar la evaluación de viabilidad de 1 Sistema Integrado de Transporte Público Metropolitano.",{"$f":"'[1]LÍNEA 6'!P17","v":" -"},"Número de Sistemas Integrados de Transporte Público Metropolitano con apoyo para la evaluación de viabilidad.",0,{"$f":"'[1]LÍNEA 6'!S17","v":1},{"$f":"'[1]LÍNEA 6'!T17","v":0},0,{"$f":"'[1]LÍNEA 6'!U17","v":1},1,{"$f":"'[1]LÍNEA 6'!V17","v":0},0,{"$f":"'[1]LÍNEA 6'!W17","v":0},0,{"$f":"'[13]2016'!$K$23","v":0},{"$f":"'[13]2017'!$K$23","v":0},{"$f":"'[13]2018'!$K$23","v":0.4},{"$f":"'[13]2019'!$K$23","v":0}," -"," -",0,0," -"," -"," -"," -",0.4,0.4,0.4,{"$f":"'[13]2016'!P23","v":0},{"$f":"'[13]2016'!Q23","v":0},{"$f":"'[13]2016'!R23","v":0}," -"," -",{"$f":"'[13]2017'!P23","v":0},{"$f":"'[13]2017'!Q23","v":0},{"$f":"'[13]2017'!R23","v":0}," -"," -",{"$f":"'[13]2018'!P23","v":280000},{"$f":"'[13]2018'!Q23","v":0},{"$f":"'[13]2018'!R23","v":0},0," -",{"$f":"'[13]2019'!P23","v":0},{"$f":"'[13]2019'!Q23","v":0},{"$f":"'[13]2019'!R23","v":0}," -"," -",280000,0,0,0," -","9. Industria, innovación e infraestructura","Transporte",{"$f":"'[1]LÍNEA 6'!AQ17","v":"AMB"}]
[null,null,null,null,null,null,null,null,null,null,null,null,null,null,null,null,null,null,null,null,null,null,null,null,null,null,null,null,null,null,null,null,null,null,null,null,null,null,null,null,null,null,"Construir 2 puentes peatonales.",{"$f":"'[1]LÍNEA 6'!P18","v":" -"},"Número de puentes peatonales construidos.",40,{"$f":"'[1]LÍNEA 6'!S18","v":2},{"$f":"'[1]LÍNEA 6'!T18","v":0},0,{"$f":"'[1]LÍNEA 6'!U18","v":0},0,{"$f":"'[1]LÍNEA 6'!V18","v":1},0.5,{"$f":"'[1]LÍNEA 6'!W18","v":1},0.5,{"$f":"'[7]2016'!$K$49","v":0},{"$f":"'[7]2017'!$K$55","v":0},{"$f":"'[7]2018'!$K$55","v":0},{"$f":"'[7]2019'!$K$55","v":0}," -"," -"," -"," -",0,0,0,0,0,0,0,{"$f":"'[7]2016'!P49","v":0},{"$f":"'[7]2016'!Q49","v":0},{"$f":"'[7]2016'!R49","v":0}," -"," -",{"$f":"'[7]2017'!P55","v":0},{"$f":"'[7]2017'!Q55","v":0},{"$f":"'[7]2017'!R55","v":0}," -"," -",{"$f":"'[7]2018'!P55","v":0},{"$f":"'[7]2018'!Q55","v":0},{"$f":"'[7]2018'!R55","v":0}," -"," -",{"$f":"'[7]2019'!P55","v":0},{"$f":"'[7]2019'!Q55","v":0},{"$f":"'[7]2019'!R55","v":0}," -"," -",0,0,0," -"," -","9. Industria, innovación e infraestructura","Equipamiento",{"$f":"'[1]LÍNEA 6'!AQ18","v":"Sec. Infraestructura"}]
[null,null,null,null,null,null,null,null,null,null,null,null,null,null,null,null,null,null,null,null,null,null,null,null,null,null,null,null,null,null,null,null,null,null,null,null,null,null,null,null,{"$f":"+RESUMEN!J139","v":0.57527777777777778},"PROMOCIÓN DE MODOS DE TRANSPORTE NO MOTORIZADOS","Crear y mantener la Oficina de la Bicicleta.",{"$f":"'[1]LÍNEA 6'!P19","v":"O535020101"},"Número de oficinas de la bicicleta creadas y matenidas.",0,{"$f":"'[1]LÍNEA 6'!S19","v":1},{"$f":"'[1]LÍNEA 6'!T19","v":1},0.25,{"$f":"'[1]LÍNEA 6'!U19","v":1},0.25,{"$f":"'[1]LÍNEA 6'!V19","v":1},0.25,{"$f":"'[1]LÍNEA 6'!W19","v":1},0.25,{"$f":"'[16]2016'!K16","v":1},{"$f":"'[16]2017'!K16","v":1},{"$f":"'[16]2018'!K16","v":1},{"$f":"'[16]2019'!K16","v":0},1,1,1,1,1,1,0,0,{"$f":"+AVERAGE(BD19:BG19)/AU19","v":0.75},0.75,0.75,{"$f":"'[16]2016'!P16","v":200000},{"$f":"'[16]2016'!Q16","v":45120},{"$f":"'[16]2016'!R16","v":0},0.22559999999999999," -",{"$f":"'[16]2017'!P16","v":185000},{"$f":"'[16]2017'!Q16","v":114006},{"$f":"'[16]2017'!R16","v":0},0.6162486486486487," -",{"$f":"'[16]2018'!P16","v":98632.5},{"$f":"'[16]2018'!Q16","v":13620},{"$f":"'[16]2018'!R16","v":0},0.13808835829974908," -",{"$f":"'[16]2019'!P16","v":731525},{"$f":"'[16]2019'!Q16","v":0},{"$f":"'[16]2019'!R16","v":0},0," -",1215157.5,172746,0,0.14215934971392596," -","16. Paz, justicia e instituciones sólidas","Transporte",{"$f":"'[1]LÍNEA 6'!AQ19","v":"Dir. Tránsito"}]
[null,null,null,null,null,null,null,null,null,null,null,null,null,null,null,null,null,null,null,null,null,null,null,null,null,null,null,null,null,null,null,null,null,null,null,null,null,null,null,null,null,null,"Implementar y poner en marcha 1 Plan Piloto de Sistema de Bicicletas Públicas.",{"$f":"'[1]LÍNEA 6'!P20","v":"O535020101 O535020201"},"Número de planes piloto de sistema de bicicletas públicas implementados y puestos en marcha.",0,{"$f":"'[1]LÍNEA 6'!S20","v":1},{"$f":"'[1]LÍNEA 6'!T20","v":0},0,{"$f":"'[1]LÍNEA 6'!U20","v":1},0.33,{"$f":"'[1]LÍNEA 6'!V20","v":1},0.33,{"$f":"'[1]LÍNEA 6'!W20","v":1},0.34,{"$f":"'[16]2016'!K17","v":0},{"$f":"'[16]2017'!K17","v":1},{"$f":"'[16]2018'!K17","v":1},{"$f":"'[16]2019'!K17","v":0}," -"," -",1,1,1,1,0,0,{"$f":"+AVERAGE(BE20:BG20)/AU20","v":0.66666666666666663},0.66666666666666663,0.66666666666666663,{"$f":"'[16]2016'!P17","v":0},{"$f":"'[16]2016'!Q17","v":0},{"$f":"'[16]2016'!R17","v":0}," -"," -",{"$f":"'[16]2017'!P17","v":185000},{"$f":"'[16]2017'!Q17","v":20000},{"$f":"'[16]2017'!R17","v":0},0.10810810810810811," -",{"$f":"'[16]2018'!P17","v":30000},{"$f":"'[16]2018'!Q17","v":16800},{"$f":"'[16]2018'!R17","v":0},0.56000000000000005," -",{"$f":"'[16]2019'!P17","v":0},{"$f":"'[16]2019'!Q17","v":0},{"$f":"'[16]2019'!R17","v":0}," -"," -",215000,36800,0,0.17116279069767443," -","7. Energía asequible y no contaminante","Transporte",{"$f":"'[1]LÍNEA 6'!AQ20","v":"Dir. Tránsito"}]
[null,null,null,null,null,"Lograr que el 15% de la población se movilice en modos de transporte no motorizados de acuerdo a la encuesta Cómo Vamos.",0.05,0.15,{"$f":"+H21-G21","v":9.9999999999999992E-2},0.05,{"$f":"+J21-G21","v":0},null,0.06,{"$f":"+M21-J21","v":9.999999999999995E-3},null,0.1,{"$f":"+P21-M21","v":4.0000000000000008E-2},null,0.15,{"$f":"+S21-P21","v":4.9999999999999989E-2},null,0.06,{"$f":"+IF(V21=0,0,V21-G21)","v":9.999999999999995E-3},null,{"$f":"+IF(X21=0,0,X21-V21)","v":0},null,{"$f":"+IF(Z21=0,0,Z21-X21)","v":0},null,{"$f":"+IF(AB21=0,0,AB21-Z21)","v":0},{"$f":"+IF(K21=0,\" -\",W21/K21)","v":" -"},{"$f":"+IF(K21=0,\" -\",IF(AD21>100%,100%,AD21))","v":" -"},{"$f":"+IF(N21=0,\" -\",Y21/N21)","v":0},{"$f":"+IF(N21=0,\" -\",IF(AF21>100%,100%,AF21))","v":0},{"$f":"+IF(Q21=0,\" -\",AA21/Q21)","v":0},{"$f":"+IF(Q21=0,\" -\",IF(AH21>100%,100%,AH21))","v":0},{"$f":"+IF(T21=0,\" -\",AC21/T21)","v":0},{"$f":"+IF(T21=0,\" -\",IF(AJ21>100%,100%,AJ21))","v":0},{"$f":"+SUM(AC21,AA21,Y21,W21)/I21","v":9.9999999999999964E-2},{"$f":"+IF(AL21>100%,100%,IF(AL21<0%,0%,AL21))","v":9.9999999999999964E-2},null,null,null,"Implementar 20 kms de ciclorutas para transporte urbano.",{"$f":"'[1]LÍNEA 6'!P21","v":2210275},"Número de kms de ciclorutas para transporte urbano implementados.",0,{"$f":"'[1]LÍNEA 6'!S21","v":20},{"$f":"'[1]LÍNEA 6'!T21","v":0},0,{"$f":"'[1]LÍNEA 6'!U21","v":3},0.15,{"$f":"'[1]LÍNEA 6'!V21","v":7},0.35,{"$f":"'[1]LÍNEA 6'!W21","v":10},0.5,{"$f":"'[16]2016'!$K$18","v":0},{"$f":"'[7]2017'!$K$56","v":2.7},{"$f":"'[7]2018'!$K$56","v":0},{"$f":"'[7]2019'!$K$56","v":0}," -"," -",0.9,0.9,0,0,0,0,0.13500000000000001,0.13500000000000001,0.13500000000000001,{"$f":"'[16]2016'!P18","v":250000},{"$f":"'[16]2016'!Q18","v":0},{"$f":"'[16]2016'!R18","v":0},0," -",{"$f":"'[7]2017'!P56","v":2264630},{"$f":"'[7]2017'!Q56","v":2088582},{"$f":"'[7]2017'!R56","v":0},0.92226191474987085," -",{"$f":"'[7]2018'!P56","v":988446},{"$f":"'[7]2018'!Q56","v":0},{"$f":"'[7]2018'!R56","v":0},0," -",{"$f":"'[7]2019'!P56","v":4000000},{"$f":"'[7]2019'!Q56","v":0},{"$f":"'[7]2019'!R56","v":0},0," -",7503076,2088582,0,0.27836343387698592," -","9. Industria, innovación e infraestructura","Transporte",{"$f":"'[1]LÍNEA 6'!AQ21","v":"Sec. Infraestructura"}]
[null,null,null,null,null,null,null,null,null,null,null,null,null,null,null,null,null,null,null,null,null,null,null,null,null,null,null,null,null,null,null,null,null,null,null,null,null,null,null,null,null,null,"Incentivar el uso de 5 corredores peatonales.",{"$f":"'[1]LÍNEA 6'!P22","v":"O535020101"},"Número de corredores peatonales incentivados.",0,{"$f":"'[1]LÍNEA 6'!S22","v":5},{"$f":"'[1]LÍNEA 6'!T22","v":1},0.2,{"$f":"'[1]LÍNEA 6'!U22","v":1},0.2,{"$f":"'[1]LÍNEA 6'!V22","v":1},0.2,{"$f":"'[1]LÍNEA 6'!W22","v":2},0.4,{"$f":"'[16]2016'!$K$19","v":0.5},{"$f":"'[16]2017'!$K$18","v":3},{"$f":"'[16]2018'!$K$18","v":1},{"$f":"'[16]2019'!$K$18","v":0},0.5,0.5,3,1,1,1,0,0,0.9,0.9,0.9,{"$f":"'[16]2016'!P19","v":53000},{"$f":"'[16]2016'!Q19","v":0},{"$f":"'[16]2016'!R19","v":0},0," -",{"$f":"'[16]2017'!P18","v":150000},{"$f":"'[16]2017'!Q18","v":20000},{"$f":"'[16]2017'!R18","v":0},0.13333333333333333," -",{"$f":"'[16]2018'!P18","v":21367.5},{"$f":"'[16]2018'!Q18","v":11700},{"$f":"'[16]2018'!R18","v":0},0.54756054756054751," -",{"$f":"'[16]2019'!P18","v":165375},{"$f":"'[16]2019'!Q18","v":0},{"$f":"'[16]2019'!R18","v":0},0," -",389742.5,31700,0,8.1335753734837743E-2," -","7. Energía asequible y no contaminante","Transporte",{"$f":"'[1]LÍNEA 6'!AQ22","v":"Dir. Tránsito"}]
[null,null,null,null,null,null,null,null,null,null,null,null,null,null,null,null,null,null,null,null,null,null,null,null,null,null,null,null,null,null,null,null,null,null,null,null,null,null,null,null,null,null,"Realizar los estudios y diseños para la implementación de escaleras eléctricas.",{"$f":"'[1]LÍNEA 6'!P23","v":0},"Porcentaje de avance de los estudios y diseños para la implementación de escaleras eléctricas.",0,{"$f":"'[1]LÍNEA 6'!S23","v":1},{"$f":"'[1]LÍNEA 6'!T23","v":0},0,{"$f":"'[1]LÍNEA 6'!U23","v":0},0,{"$f":"'[1]LÍNEA 6'!V23","v":1},1,{"$f":"'[1]LÍNEA 6'!W23","v":0},0,{"$f":"'[7]2016'!K50","v":0},{"$f":"'[7]2017'!K57","v":1},{"$f":"'[7]2018'!K57","v":0},{"$f":"'[7]2019'!K57","v":0}," -"," -"," -"," -",0,0," -"," -",1,1,1,{"$f":"'[7]2016'!P50","v":0},{"$f":"'[7]2016'!Q50","v":0},{"$f":"'[7]2016'!R50","v":0}," -"," -",{"$f":"'[7]2017'!P57","v":797331},{"$f":"'[7]2017'!Q57","v":797331},{"$f":"'[7]2017'!R57","v":0},1," -",{"$f":"'[7]2018'!P57","v":0},{"$f":"'[7]2018'!Q57","v":0},{"$f":"'[7]2018'!R57","v":0}," -"," -",{"$f":"'[7]2019'!P57","v":0},{"$f":"'[7]2019'!Q57","v":0},{"$f":"'[7]2019'!R57","v":0}," -"," -",797331,797331,0,1," -","9. Industria, innovación e infraestructura","Equipamiento",{"$f":"'[1]LÍNEA 6'!AQ23","v":"Sec. Infraestructura"}]
[null,null,null,null,null,null,null,null,null,null,null,null,null,null,null,null,null,null,null,null,null,null,null,null,null,null,null,null,null,null,null,null,null,null,null,null,null,null,null,null,null,null,"Evaluar 1 sistema de transporte alternativo para el norte.",{"$f":"'[1]LÍNEA 6'!P24","v":" -"},"Porcentaje de avance en la evaluación del sistema de transporte alternativo para el norte.",0,{"$f":"'[1]LÍNEA 6'!S24","v":1},{"$f":"'[1]LÍNEA 6'!T24","v":0},0,{"$f":"'[1]LÍNEA 6'!U24","v":0},0,{"$f":"'[1]LÍNEA 6'!V24","v":0.5},0.5,{"$f":"'[1]LÍNEA 6'!W24","v":0.5},0.5,{"$f":"'[7]2016'!K51","v":0},{"$f":"'[7]2017'!K58","v":0},{"$f":"'[7]2018'!K58","v":0},{"$f":"'[7]2019'!K58","v":0}," -"," -"," -"," -",0,0,0,0,0,0,0,{"$f":"'[7]2016'!P51","v":0},{"$f":"'[7]2016'!Q51","v":0},{"$f":"'[7]2016'!R51","v":0}," -"," -",{"$f":"'[7]2017'!P58","v":0},{"$f":"'[7]2017'!Q58","v":0},{"$f":"'[7]2017'!R58","v":0}," -"," -",{"$f":"'[7]2018'!P58","v":0},{"$f":"'[7]2018'!Q58","v":0},{"$f":"'[7]2018'!R58","v":0}," -"," -",{"$f":"'[7]2019'!P58","v":0},{"$f":"'[7]2019'!Q58","v":0},{"$f":"'[7]2019'!R58","v":0}," -"," -",0,0,0," -"," -","9. Industria, innovación e infraestructura","Transporte",{"$f":"'[1]LÍNEA 6'!AQ24","v":"Sec. Infraestructura"}]
[null,null,null,null,null,null,null,null,null,null,null,null,null,null,null,null,null,null,null,null,null,null,null,null,null,null,null,null,null,null,null,null,null,null,null,null,null,null,null,null,{"$f":"+RESUMEN!J140","v":0.71502927927927928},"MOVILIDAD Y SEGURIDAD VIAL","Diseñar e implementar 1 centro de investigación del tránsito vehicular y peatonal.",{"$f":"'[1]LÍNEA 6'!P25","v":"O535130101"},"Porcentaje de avance en el diseño y en la implementación del centro de investigación del tránsito vehicular y peatonal.",0,{"$f":"'[1]LÍNEA 6'!S25","v":1},{"$f":"'[1]LÍNEA 6'!T25","v":0.1},0.1,{"$f":"'[1]LÍNEA 6'!U25","v":0.3},0.3,{"$f":"'[1]LÍNEA 6'!V25","v":0.3},0.3,{"$f":"'[1]LÍNEA 6'!W25","v":0.3},0.3,{"$f":"'[16]2016'!K20","v":0.1},{"$f":"'[16]2017'!K19","v":0.35},{"$f":"'[16]2018'!K19","v":0.23},{"$f":"'[16]2019'!K19","v":0},1,1,1.1666666666666667,1,0.76666666666666672,0.76666666666666672,0,0,0.67999999999999994,0.67999999999999994,0.67999999999999994,{"$f":"'[16]2016'!P20","v":50000},{"$f":"'[16]2016'!Q20","v":50000},{"$f":"'[16]2016'!R20","v":0},1," -",{"$f":"'[16]2017'!P19","v":52500},{"$f":"'[16]2017'!Q19","v":35200},{"$f":"'[16]2017'!R19","v":0},0.67047619047619045," -",{"$f":"'[16]2018'!P19","v":20000},{"$f":"'[16]2018'!Q19","v":19500},{"$f":"'[16]2018'!R19","v":0},0.97499999999999998," -",{"$f":"'[16]2019'!P19","v":57881},{"$f":"'[16]2019'!Q19","v":0},{"$f":"'[16]2019'!R19","v":0},0," -",180381,104700,0,0.58043807274602088," -","11. Ciudades y comunidades sostenibles","Transporte",{"$f":"'[1]LÍNEA 6'!AQ25","v":"Dir. Tránsito"}]
[null,null,null,null,null,null,null,null,null,null,null,null,null,null,null,null,null,null,null,null,null,null,null,null,null,null,null,null,null,null,null,null,null,null,null,null,null,null,null,null,null,null,"Formular e implementar 1 estrategia de control vial.",{"$f":"'[1]LÍNEA 6'!P26","v":"O53507050101"},"Número de estrategias de control vial formulados e implementados.",0,{"$f":"'[1]LÍNEA 6'!S26","v":1},{"$f":"'[1]LÍNEA 6'!T26","v":1},0.25,{"$f":"'[1]LÍNEA 6'!U26","v":1},0.25,{"$f":"'[1]LÍNEA 6'!V26","v":1},0.25,{"$f":"'[1]LÍNEA 6'!W26","v":1},0.25,{"$f":"'[16]2016'!K21","v":1},{"$f":"'[16]2017'!K20","v":1},{"$f":"'[16]2018'!K20","v":1},{"$f":"'[16]2019'!K20","v":0},1,1,1,1,1,1,0,0,{"$f":"+AVERAGE(BD26:BG26)/AU26","v":0.75},0.75,0.75,{"$f":"'[16]2016'!P21","v":2160960},{"$f":"'[16]2016'!Q21","v":1505147},{"$f":"'[16]2016'!R21","v":132300},0.69651775136976157,8.7898391319917585E-2,{"$f":"'[16]2017'!P20","v":2840798},{"$f":"'[16]2017'!Q20","v":1719203},{"$f":"'[16]2017'!R20","v":0},0.60518312108076677," -",{"$f":"'[16]2018'!P20","v":2680607.8730000001},{"$f":"'[16]2018'!Q20","v":816648.00899999996},{"$f":"'[16]2018'!R20","v":0},0.30465030608376487," -",{"$f":"'[16]2019'!P20","v":2319216},{"$f":"'[16]2019'!Q20","v":0},{"$f":"'[16]2019'!R20","v":0},0," -",10001581.873,4040998.0090000001,132300,0.40403588755384479,3.2739437066126996E-2,"11. Ciudades y comunidades sostenibles","Transporte",{"$f":"'[1]LÍNEA 6'!AQ26","v":"Dir. Tránsito"}]
[null,null,null,null,null,null,null,null,null,null,null,null,null,null,null,null,null,null,null,null,null,null,null,null,null,null,null,null,null,null,null,null,null,null,null,null,null,null,null,null,null,null,"Actualizar el 100% de la red semafórica de la ciudad.",{"$f":"'[1]LÍNEA 6'!P27","v":"O53507050102"},"Porcentaje de avance de la actualización de la red semafórica de la ciudad.",0,{"$f":"'[1]LÍNEA 6'!S27","v":1},{"$f":"'[1]LÍNEA 6'!T27","v":0.3},0.3,{"$f":"'[1]LÍNEA 6'!U27","v":0.3},0.3,{"$f":"'[1]LÍNEA 6'!V27","v":0.3},0.3,{"$f":"'[1]LÍNEA 6'!W27","v":0.1},0.1,{"$f":"'[16]2016'!K22","v":0.21},{"$f":"'[16]2017'!K21","v":0.35},{"$f":"'[16]2018'!K21","v":0.18},{"$f":"'[16]2019'!K21","v":0},0.7,0.7,1.1666666666666667,1,0.6,0.6,0,0,0.74,0.74,0.74,{"$f":"'[16]2016'!P22","v":765250},{"$f":"'[16]2016'!Q22","v":273200},{"$f":"'[16]2016'!R22","v":0},0.35700751388435153," -",{"$f":"'[16]2017'!P21","v":1230488},{"$f":"'[16]2017'!Q21","v":806529},{"$f":"'[16]2017'!R21","v":0},0.65545458387241484," -",{"$f":"'[16]2018'!P21","v":1186676.557},{"$f":"'[16]2018'!Q21","v":187475.07500000001},{"$f":"'[16]2018'!R21","v":0},0.15798329704426781," -",{"$f":"'[16]2019'!P21","v":250000},{"$f":"'[16]2019'!Q21","v":0},{"$f":"'[16]2019'!R21","v":0},0," -",3432414.557,1267204.075,0,0.36918736182833406," -","11. Ciudades y comunidades sostenibles","Transporte",{"$f":"'[1]LÍNEA 6'!AQ27","v":"Dir. Tránsito"}]
[null,null,null,null,null,null,null,null,null,null,null,null,null,null,null,null,null,null,null,null,null,null,null,null,null,null,null,null,null,null,null,null,null,null,null,null,null,null,null,null,null,null,"Implementar y mantener actualizado 1 sistema georeferenciado de información de la red semafórica y señales de tránsito.",{"$f":"'[1]LÍNEA 6'!P28","v":"O53507050102"},"Número de sistemas georeferenciados de información de la red semafórica y señales de tránsito implementados y mantenidos.",1,{"$f":"'[1]LÍNEA 6'!S28","v":1},{"$f":"'[1]LÍNEA 6'!T28","v":1},0.25,{"$f":"'[1]LÍNEA 6'!U28","v":1},0.25,{"$f":"'[1]LÍNEA 6'!V28","v":1},0.25,{"$f":"'[1]LÍNEA 6'!W28","v":1},0.25,{"$f":"'[16]2016'!K23","v":1},{"$f":"'[16]2017'!K22","v":1},{"$f":"'[16]2018'!K22","v":1},{"$f":"'[16]2019'!K22","v":0},1,1,1,1,1,1,0,0,{"$f":"+AVERAGE(BD28:BG28)/AU28","v":0.75},0.75,0.75,{"$f":"'[16]2016'!P23","v":22000},{"$f":"'[16]2016'!Q23","v":22000},{"$f":"'[16]2016'!R23","v":0},1," -",{"$f":"'[16]2017'!P22","v":107000},{"$f":"'[16]2017'!Q22","v":104950},{"$f":"'[16]2017'!R22","v":0},0.9808411214953271," -",{"$f":"'[16]2018'!P22","v":120697.5},{"$f":"'[16]2018'!Q22","v":85000},{"$f":"'[16]2018'!R22","v":0},0.70423993868969947," -",{"$f":"'[16]2019'!P22","v":81033},{"$f":"'[16]2019'!Q22","v":0},{"$f":"'[16]2019'!R22","v":0},0," -",330730.5,211950,0,0.64085410931256714," -","11. Ciudades y comunidades sostenibles","Transporte",{"$f":"'[1]LÍNEA 6'!AQ28","v":"Dir. Tránsito"}]
[null,null,null,null,null,null,null,null,null,null,null,null,null,null,null,null,null,null,null,null,null,null,null,null,null,null,null,null,null,null,null,null,null,null,null,null,null,null,null,null,null,null,"Mantener el 100% de la señalización horizontal.",{"$f":"'[1]LÍNEA 6'!P29","v":"O53507050103"},"Porcentaje de la señalización horizontal mantenida.",1,{"$f":"'[1]LÍNEA 6'!S29","v":1},{"$f":"'[1]LÍNEA 6'!T29","v":1},0.25,{"$f":"'[1]LÍNEA 6'!U29","v":1},0.25,{"$f":"'[1]LÍNEA 6'!V29","v":1},0.25,{"$f":"'[1]LÍNEA 6'!W29","v":1},0.25,{"$f":"'[16]2016'!K24","v":1},{"$f":"'[16]2017'!K23","v":1},{"$f":"'[16]2018'!K23","v":1},{"$f":"'[16]2019'!K23","v":0},1,1,1,1,1,1,0,0,0.75,0.75,0.75,{"$f":"'[16]2016'!P24","v":289000},{"$f":"'[16]2016'!Q24","v":161460},{"$f":"'[16]2016'!R24","v":50000},0.55868512110726642,0.30967422271770095,{"$f":"'[16]2017'!P23","v":580550},{"$f":"'[16]2017'!Q23","v":308841},{"$f":"'[16]2017'!R23","v":170000},0.53198001894754976,0.55044505101330454,{"$f":"'[16]2018'!P23","v":708769.56799999997},{"$f":"'[16]2018'!Q23","v":39780},{"$f":"'[16]2018'!R23","v":0},5.6125434550259923E-2," -",{"$f":"'[16]2019'!P23","v":1595907},{"$f":"'[16]2019'!Q23","v":0},{"$f":"'[16]2019'!R23","v":0},0," -",3174226.568,510081,220000,0.16069457837138235,0.43130404778848852,"11. Ciudades y comunidades sostenibles","Transporte",{"$f":"'[1]LÍNEA 6'!AQ29","v":"Dir. Tránsito"}]
[null,null,null,null,null,null,null,null,null,null,null,null,null,null,null,null,null,null,null,null,null,null,null,null,null,null,null,null,null,null,null,null,null,null,null,null,null,null,null,null,null,null,"Demarcar 14.000 M2 de señalización horizontal nueva.",{"$f":"'[1]LÍNEA 6'!P30","v":"O53507050103"},"Número de M2 de señalización horizontal nueva demarcada.",12870,{"$f":"'[1]LÍNEA 6'!S30","v":14000},{"$f":"'[1]LÍNEA 6'!T30","v":3500},0.25,{"$f":"'[1]LÍNEA 6'!U30","v":3500},0.25,{"$f":"'[1]LÍNEA 6'!V30","v":3500},0.25,{"$f":"'[1]LÍNEA 6'!W30","v":3500},0.25,{"$f":"'[16]2016'!K25","v":9373},{"$f":"'[16]2017'!K24","v":5980},{"$f":"'[16]2018'!K24","v":7941.2},{"$f":"'[16]2019'!K24","v":0},2.6779999999999999,1,1.7085714285714286,1,2.2689142857142857,1,0,0,1.6638714285714287,1,1,{"$f":"'[16]2016'!P25","v":209200},{"$f":"'[16]2016'!Q25","v":123103},{"$f":"'[16]2016'!R25","v":0},0.58844646271510515," -",{"$f":"'[16]2017'!P24","v":400000},{"$f":"'[16]2017'!Q24","v":100000},{"$f":"'[16]2017'!R24","v":0},0.25," -",{"$f":"'[16]2018'!P24","v":629798.33200000005},{"$f":"'[16]2018'!Q24","v":20280},{"$f":"'[16]2018'!R24","v":0},3.2200783916969788E-2," -",{"$f":"'[16]2019'!P24","v":99556},{"$f":"'[16]2019'!Q24","v":0},{"$f":"'[16]2019'!R24","v":0},0," -",1338554.3319999999,243383,0,0.18182526788908857," -","11. Ciudades y comunidades sostenibles","Transporte",{"$f":"'[1]LÍNEA 6'!AQ30","v":"Dir. Tránsito"}]
[null,null,null,null,null,"Disminuir a 300 la tasa de lesionados por accidentes de tránsito.",315,300,{"$f":"+H31-G31","v":-15},315,{"$f":"+J31-G31","v":0},null,310,{"$f":"+M31-J31","v":-5},null,305,{"$f":"+P31-M31","v":-5},null,300,{"$f":"+S31-P31","v":-5},null,499,{"$f":"+IF(V31=0,0,V31-G31)","v":184},null,{"$f":"+IF(X31=0,0,X31-V31)","v":0},null,{"$f":"+IF(Z31=0,0,Z31-X31)","v":0},null,{"$f":"+IF(AB31=0,0,AB31-Z31)","v":0},{"$f":"+IF(K31=0,\" -\",W31/K31)","v":" -"},{"$f":"+IF(K31=0,\" -\",IF(AD31>100%,100%,AD31))","v":" -"},{"$f":"+IF(N31=0,\" -\",Y31/N31)","v":0},{"$f":"+IF(N31=0,\" -\",IF(AF31>100%,100%,AF31))","v":0},{"$f":"+IF(Q31=0,\" -\",AA31/Q31)","v":0},{"$f":"+IF(Q31=0,\" -\",IF(AH31>100%,100%,AH31))","v":0},{"$f":"+IF(T31=0,\" -\",AC31/T31)","v":0},{"$f":"+IF(T31=0,\" -\",IF(AJ31>100%,100%,AJ31))","v":0},{"$f":"+SUM(AC31,AA31,Y31,W31)/I31","v":-12.266666666666667},{"$f":"+IF(AL31>100%,100%,IF(AL31<0%,0%,AL31))","v":0},null,null,null,"Realizar 1.000 acciones de mantenimiento a la señalización vertical y/o elevada.",{"$f":"'[1]LÍNEA 6'!P31","v":"O53507050103"},"Número de acciones de mantenimiento realizadas a la señalización vertical y/o elevada.",1296,{"$f":"'[1]LÍNEA 6'!S31","v":1000},{"$f":"'[1]LÍNEA 6'!T31","v":250},0.25,{"$f":"'[1]LÍNEA 6'!U31","v":250},0.25,{"$f":"'[1]LÍNEA 6'!V31","v":250},0.25,{"$f":"'[1]LÍNEA 6'!W31","v":250},0.25,{"$f":"'[16]2016'!K26","v":281},{"$f":"'[16]2017'!K25","v":251},{"$f":"'[16]2018'!K25","v":74},{"$f":"'[16]2019'!K25","v":0},1.1240000000000001,1,1.004,1,0.29599999999999999,0.29599999999999999,0,0,0.60599999999999998,0.60599999999999998,0.60599999999999998,{"$f":"'[16]2016'!P26","v":86000},{"$f":"'[16]2016'!Q26","v":60617},{"$f":"'[16]2016'!R26","v":0},0.70484883720930236," -",{"$f":"'[16]2017'!P25","v":200000},{"$f":"'[16]2017'!Q25","v":104492},{"$f":"'[16]2017'!R25","v":0},0.52246000000000004," -",{"$f":"'[16]2018'!P25","v":35000},{"$f":"'[16]2018'!Q25","v":18720},{"$f":"'[16]2018'!R25","v":0},0.53485714285714281," -",{"$f":"'[16]2019'!P25","v":215318},{"$f":"'[16]2019'!Q25","v":0},{"$f":"'[16]2019'!R25","v":0},0," -",536318,183829,0,0.34276119764766427," -","11. Ciudades y comunidades sostenibles","Transporte",{"$f":"'[1]LÍNEA 6'!AQ31","v":"Dir. Tránsito"}]
[null,null,null,null,null,null,null,null,null,null,null,null,null,null,null,null,null,null,null,null,null,null,null,null,null,null,null,null,null,null,null,null,null,null,null,null,null,null,null,null,null,null,"Reponer y/o instalar 1.500 señales de tránsito verticales y/o elevadas nuevas.",{"$f":"'[1]LÍNEA 6'!P32","v":"O53507050103"},"Número de señales de tránsito verticales y/o elevadas repuestas y/o instaladas.",383,{"$f":"'[1]LÍNEA 6'!S32","v":1500},{"$f":"'[1]LÍNEA 6'!T32","v":375},0.25,{"$f":"'[1]LÍNEA 6'!U32","v":375},0.25,{"$f":"'[1]LÍNEA 6'!V32","v":375},0.25,{"$f":"'[1]LÍNEA 6'!W32","v":375},0.25,{"$f":"'[16]2016'!K27","v":788},{"$f":"'[16]2017'!K26","v":776},{"$f":"'[16]2018'!K26","v":365},{"$f":"'[16]2019'!K26","v":0},2.1013333333333333,1,2.0693333333333332,1,0.97333333333333338,0.97333333333333338,0,0,1.286,1,1,{"$f":"'[16]2016'!P27","v":557080},{"$f":"'[16]2016'!Q27","v":177350},{"$f":"'[16]2016'!R27","v":58432},0.31835642995620017,0.32947279391034678,{"$f":"'[16]2017'!P26","v":100000},{"$f":"'[16]2017'!Q26","v":40000},{"$f":"'[16]2017'!R26","v":100000},0.4,2.5,{"$f":"'[16]2018'!P26","v":100000},{"$f":"'[16]2018'!Q26","v":33360},{"$f":"'[16]2018'!R26","v":0},0.33360000000000001," -",{"$f":"'[16]2019'!P26","v":186000},{"$f":"'[16]2019'!Q26","v":0},{"$f":"'[16]2019'!R26","v":0},0," -",943080,250710,158432,0.26584171014123936,0.63193330940130032,"11. Ciudades y comunidades sostenibles","Transporte",{"$f":"'[1]LÍNEA 6'!AQ32","v":"Dir. Tránsito"}]
[null,null,null,null,null,null,null,null,null,null,null,null,null,null,null,null,null,null,null,null,null,null,null,null,null,null,null,null,null,null,null,null,null,null,null,null,null,null,null,null,null,null,"Reponer 1.500 señales de tránsito verticales.",{"$f":"'[1]LÍNEA 6'!P33","v":"O53507050103"},"Número de señales de tránsito verticales repuestas.",1196,{"$f":"'[1]LÍNEA 6'!S33","v":1500},{"$f":"'[1]LÍNEA 6'!T33","v":375},0.25,{"$f":"'[1]LÍNEA 6'!U33","v":375},0.25,{"$f":"'[1]LÍNEA 6'!V33","v":375},0.25,{"$f":"'[1]LÍNEA 6'!W33","v":375},0.25,{"$f":"'[16]2016'!K28","v":403},{"$f":"'[16]2017'!K27","v":375},{"$f":"'[16]2018'!K27","v":107},{"$f":"'[16]2019'!K27","v":0},1.0746666666666667,1,1,1,0.28533333333333333,0.28533333333333333,0,0,0.59,0.59,0.59,{"$f":"'[16]2016'!P28","v":0},{"$f":"'[16]2016'!Q28","v":0},{"$f":"'[16]2016'!R28","v":0}," -"," -",{"$f":"'[16]2017'!P27","v":100000},{"$f":"'[16]2017'!Q27","v":20000},{"$f":"'[16]2017'!R27","v":50000},0.2,2.5,{"$f":"'[16]2018'!P27","v":50000},{"$f":"'[16]2018'!Q27","v":15096.816000000001},{"$f":"'[16]2018'!R27","v":0},0.30193632000000004," -",{"$f":"'[16]2019'!P27","v":0},{"$f":"'[16]2019'!Q27","v":0},{"$f":"'[16]2019'!R27","v":0}," -"," -",150000,35096.815999999999,50000,0.23397877333333333,1.4246306559546598,"11. Ciudades y comunidades sostenibles","Transporte",{"$f":"'[1]LÍNEA 6'!AQ33","v":"Dir. Tránsito"}]
[null,null,null,null,null,null,null,null,null,null,null,null,null,null,null,null,null,null,null,null,null,null,null,null,null,null,null,null,null,null,null,null,null,null,null,null,null,null,null,null,null,null,"Instalar 1.500 señales de tránsito verticales.",{"$f":"'[1]LÍNEA 6'!P34","v":" -"},"Número de señales de tránsito verticales instaladas.",1345,{"$f":"'[1]LÍNEA 6'!S34","v":1500},{"$f":"'[1]LÍNEA 6'!T34","v":375},0.25,{"$f":"'[1]LÍNEA 6'!U34","v":375},0.25,{"$f":"'[1]LÍNEA 6'!V34","v":375},0.25,{"$f":"'[1]LÍNEA 6'!W34","v":375},0.25,{"$f":"'[16]2016'!K29","v":375},{"$f":"'[16]2017'!K28","v":401},{"$f":"'[16]2018'!K28","v":258},{"$f":"'[16]2019'!K28","v":0},1,1,1.0693333333333332,1,0.68799999999999994,0.68799999999999994,0,0,0.68933333333333335,0.68933333333333335,0.68933333333333335,{"$f":"'[16]2016'!P29","v":0},{"$f":"'[16]2016'!Q29","v":0},{"$f":"'[16]2016'!R29","v":0}," -"," -",{"$f":"'[16]2017'!P28","v":100000},{"$f":"'[16]2017'!Q28","v":20000},{"$f":"'[16]2017'!R28","v":50000},0.2,2.5,{"$f":"'[16]2018'!P28","v":50000},{"$f":"'[16]2018'!Q28","v":18720},{"$f":"'[16]2018'!R28","v":0},0.37440000000000001," -",{"$f":"'[16]2019'!P28","v":0},{"$f":"'[16]2019'!Q28","v":0},{"$f":"'[16]2019'!R28","v":0}," -"," -",150000,38720,50000,0.25813333333333333,1.2913223140495869,"11. Ciudades y comunidades sostenibles","Transporte",{"$f":"'[1]LÍNEA 6'!AQ34","v":"Dir. Tránsito"}]
[null,null,null,null,null,null,null,null,null,null,null,null,null,null,null,null,null,null,null,null,null,null,null,null,null,null,null,null,null,null,null,null,null,null,null,null,null,null,null,null,null,null,"Formular 2 planes especiales de parqueaderos.",{"$f":"'[1]LÍNEA 6'!P35","v":"O535130101"},"Número de estudios del plan especial de parqueaderos elaborados.",1,{"$f":"'[1]LÍNEA 6'!S35","v":2},{"$f":"'[1]LÍNEA 6'!T35","v":0},0,{"$f":"'[1]LÍNEA 6'!U35","v":1},0.5,{"$f":"'[1]LÍNEA 6'!V35","v":1},0.5,{"$f":"'[1]LÍNEA 6'!W35","v":0},0,{"$f":"'[16]2016'!K30","v":0},{"$f":"'[16]2017'!K29","v":1},{"$f":"'[16]2018'!K29","v":1},{"$f":"'[16]2019'!K29","v":0}," -"," -",1,1,1,1," -"," -",1,1,1,{"$f":"'[16]2016'!P30","v":0},{"$f":"'[16]2016'!Q30","v":0},{"$f":"'[16]2016'!R30","v":0}," -"," -",{"$f":"'[16]2017'!P29","v":0},{"$f":"'[16]2017'!Q29","v":0},{"$f":"'[16]2017'!R29","v":0}," -"," -",{"$f":"'[16]2018'!P29","v":17000},{"$f":"'[16]2018'!Q29","v":9432},{"$f":"'[16]2018'!R29","v":0},0.55482352941176472," -",{"$f":"'[16]2019'!P29","v":0},{"$f":"'[16]2019'!Q29","v":0},{"$f":"'[16]2019'!R29","v":0}," -"," -",17000,9432,0,0.55482352941176472," -","11. Ciudades y comunidades sostenibles","Transporte",{"$f":"'[1]LÍNEA 6'!AQ35","v":"Dir. Tránsito"}]
[null,null,null,null,null,null,null,null,null,null,null,null,null,null,null,null,null,null,null,null,null,null,null,null,null,null,null,null,null,null,null,null,null,null,null,null,null,null,null,null,null,null,"Realizar 480 operativos de control al transporte informal.",{"$f":"'[1]LÍNEA 6'!P36","v":" -"},"Número de operativos de control al transporte informal realizados.","ND",{"$f":"'[1]LÍNEA 6'!S36","v":480},{"$f":"'[1]LÍNEA 6'!T36","v":120},0.25,{"$f":"'[1]LÍNEA 6'!U36","v":120},0.25,{"$f":"'[1]LÍNEA 6'!V36","v":120},0.25,{"$f":"'[1]LÍNEA 6'!W36","v":120},0.25,{"$f":"'[16]2016'!K31","v":2481},{"$f":"'[16]2017'!K30","v":774},{"$f":"'[16]2018'!K30","v":476},{"$f":"'[16]2019'!K30","v":0},20.675000000000001,1,6.45,1,3.9666666666666668,1,0,0,7.7729166666666663,1,1,{"$f":"'[16]2016'!P31","v":0},{"$f":"'[16]2016'!Q31","v":0},{"$f":"'[16]2016'!R31","v":0}," -"," -",{"$f":"'[16]2017'!P30","v":300000},{"$f":"'[16]2017'!Q30","v":300000},{"$f":"'[16]2017'!R30","v":0},1," -",{"$f":"'[16]2018'!P30","v":400000},{"$f":"'[16]2018'!Q30","v":150000},{"$f":"'[16]2018'!R30","v":0},0.375," -",{"$f":"'[16]2019'!P30","v":0},{"$f":"'[16]2019'!Q30","v":0},{"$f":"'[16]2019'!R30","v":0}," -"," -",700000,450000,0,0.6428571428571429," -","11. Ciudades y comunidades sostenibles","Transporte",{"$f":"'[1]LÍNEA 6'!AQ36","v":"Dir. Tránsito"}]
[null,null,null,null,null,null,null,null,null,null,null,null,null,null,null,null,null,null,null,null,null,null,null,null,null,null,null,null,null,null,null,null,null,null,null,null,null,null,null,null,null,null,"Demarcar 200 cruces peatonales.",{"$f":"'[1]LÍNEA 6'!P37","v":"O53507050103"},"Número de cruces peatonales demarcadas.",200,{"$f":"'[1]LÍNEA 6'!S37","v":200},{"$f":"'[1]LÍNEA 6'!T37","v":50},0.25,{"$f":"'[1]LÍNEA 6'!U37","v":50},0.25,{"$f":"'[1]LÍNEA 6'!V37","v":50},0.25,{"$f":"'[1]LÍNEA 6'!W37","v":50},0.25,{"$f":"'[16]2016'!K32","v":338},{"$f":"'[16]2017'!K31","v":223},{"$f":"'[16]2018'!K31","v":137},{"$f":"'[16]2019'!K31","v":0},6.76,1,4.46,1,2.74,1,0,0,3.49,1,1,{"$f":"'[16]2016'!P32","v":100000},{"$f":"'[16]2016'!Q32","v":10870},{"$f":"'[16]2016'!R32","v":0},0.1087," -",{"$f":"'[16]2017'!P31","v":120000},{"$f":"'[16]2017'!Q31","v":80000},{"$f":"'[16]2017'!R31","v":0},0.66666666666666663," -",{"$f":"'[16]2018'!P31","v":100000},{"$f":"'[16]2018'!Q31","v":13440},{"$f":"'[16]2018'!R31","v":0},0.13439999999999999," -",{"$f":"'[16]2019'!P31","v":100000},{"$f":"'[16]2019'!Q31","v":0},{"$f":"'[16]2019'!R31","v":0},0," -",420000,104310,0,0.24835714285714286," -","11. Ciudades y comunidades sostenibles","Transporte",{"$f":"'[1]LÍNEA 6'!AQ37","v":"Dir. Tránsito"}]
[null,null,null,null,null,null,null,null,null,null,null,null,null,null,null,null,null,null,null,null,null,null,null,null,null,null,null,null,null,null,null,null,null,null,null,null,null,null,null,null,null,null,"Demarcar 37 zonas de estacionamiento transitorio.",{"$f":"'[1]LÍNEA 6'!P38","v":"O53507050103"},"Número de zonas de estacionamiento transitorio implementadas y demarcadas.",0,{"$f":"'[1]LÍNEA 6'!S38","v":37},{"$f":"'[1]LÍNEA 6'!T38","v":5},0.13513513513513514,{"$f":"'[1]LÍNEA 6'!U38","v":12},0.32432432432432434,{"$f":"'[1]LÍNEA 6'!V38","v":10},0.27027027027027029,{"$f":"'[1]LÍNEA 6'!W38","v":10},0.27027027027027029,{"$f":"'[16]2016'!K33","v":5},{"$f":"'[16]2017'!K32","v":0},{"$f":"'[16]2018'!K32","v":0},{"$f":"'[16]2019'!K32","v":0},1,1,0,0,0,0,0,0,0.13513513513513514,0.13513513513513514,0.13513513513513514,{"$f":"'[16]2016'!P33","v":200000},{"$f":"'[16]2016'!Q33","v":0},{"$f":"'[16]2016'!R33","v":0},0," -",{"$f":"'[16]2017'!P32","v":80000},{"$f":"'[16]2017'!Q32","v":0},{"$f":"'[16]2017'!R32","v":0},0," -",{"$f":"'[16]2018'!P32","v":65000},{"$f":"'[16]2018'!Q32","v":0},{"$f":"'[16]2018'!R32","v":0},0," -",{"$f":"'[16]2019'!P32","v":0},{"$f":"'[16]2019'!Q32","v":0},{"$f":"'[16]2019'!R32","v":0}," -"," -",345000,0,0,0," -","11. Ciudades y comunidades sostenibles","Transporte",{"$f":"'[1]LÍNEA 6'!AQ38","v":"Dir. Tránsito"}]
[null,null,null,null,null,null,null,null,null,null,null,null,null,null,null,null,null,null,null,null,null,null,null,null,null,null,null,null,null,null,null,null,null,null,null,null,null,null,null,null,null,null,"Mantener 3 programas integrales de cultura vial.",{"$f":"'[1]LÍNEA 6'!P39","v":"O53507050105\rO535900301"},"Número de programas integrales de cultura vial.",3,{"$f":"'[1]LÍNEA 6'!S39","v":3},{"$f":"'[1]LÍNEA 6'!T39","v":3},0.25,{"$f":"'[1]LÍNEA 6'!U39","v":3},0.25,{"$f":"'[1]LÍNEA 6'!V39","v":3},0.25,{"$f":"'[1]LÍNEA 6'!W39","v":3},0.25,{"$f":"'[16]2016'!K34","v":3},{"$f":"'[16]2017'!K33","v":3},{"$f":"'[16]2018'!K33","v":3},{"$f":"'[16]2019'!K33","v":0},1,1,1,1,1,1,0,0,{"$f":"+AVERAGE(BD39:BG39)/AU39","v":0.75},0.75,0.75,{"$f":"'[16]2016'!P34","v":1060317},{"$f":"'[16]2016'!Q34","v":269016},{"$f":"'[16]2016'!R34","v":300929},0.25371280475555896,1.1186286317542451,{"$f":"'[16]2017'!P33","v":698500},{"$f":"'[16]2017'!Q33","v":478681},{"$f":"'[16]2017'!R33","v":130000},0.68529849677881172,0.2715796114740297,{"$f":"'[16]2018'!P33","v":644634.29799999995},{"$f":"'[16]2018'!Q33","v":151320},{"$f":"'[16]2018'!R33","v":0},0.23473774273177134," -",{"$f":"'[16]2019'!P33","v":868219},{"$f":"'[16]2019'!Q33","v":0},{"$f":"'[16]2019'!R33","v":0},0," -",3271670.298,899017,430929,0.27478838578250897,0.47933353874287138,"11. Ciudades y comunidades sostenibles","Transporte",{"$f":"'[1]LÍNEA 6'!AQ39","v":"Dir. Tránsito"}]
[null,null,null,null,null,null,null,null,null,null,null,null,null,null,null,null,null,null,null,null,null,null,null,null,null,null,null,null,null,null,null,null,null,null,null,null,null,null,null,null,null,null,"Construir 2 puentes peatonales.",{"$f":"'[1]LÍNEA 6'!P40","v":0},"Número de puentes peatonales construido.",40,{"$f":"'[1]LÍNEA 6'!S40","v":2},{"$f":"'[1]LÍNEA 6'!T40","v":0},0,{"$f":"'[1]LÍNEA 6'!U40","v":0},0,{"$f":"'[1]LÍNEA 6'!V40","v":1},0.5,{"$f":"'[1]LÍNEA 6'!W40","v":1},0.5,{"$f":"'[7]2016'!$K$52","v":0},{"$f":"'[7]2017'!$K$59","v":0},{"$f":"'[7]2018'!$K$59","v":0},{"$f":"'[7]2019'!$K$59","v":0}," -"," -"," -"," -",0,0,0,0,0,0,0,{"$f":"'[7]2016'!P52","v":0},{"$f":"'[7]2016'!Q52","v":0},{"$f":"'[7]2016'!R52","v":0}," -"," -",{"$f":"'[7]2017'!P59","v":0},{"$f":"'[7]2017'!Q59","v":0},{"$f":"'[7]2017'!R59","v":0}," -"," -",{"$f":"'[7]2018'!P59","v":0},{"$f":"'[7]2018'!Q59","v":0},{"$f":"'[7]2018'!R59","v":0}," -"," -",{"$f":"'[7]2019'!P59","v":0},{"$f":"'[7]2019'!Q59","v":0},{"$f":"'[7]2019'!R59","v":0}," -"," -",0,0,0," -"," -","9. Industria, innovación e infraestructura","Equipamiento",{"$f":"'[1]LÍNEA 6'!AQ40","v":"Sec. Infraestructura"}]
[null,null,null,null,null,"Disminuir a 8 la tasa de muertes por accidentes de tránsito.",10,8,{"$f":"+H41-G41","v":-2},10,{"$f":"+J41-G41","v":0},null,9,{"$f":"+M41-J41","v":-1},null,9,{"$f":"+P41-M41","v":0},null,8,{"$f":"+S41-P41","v":-1},null,14,{"$f":"+IF(V41=0,0,V41-G41)","v":4},null,{"$f":"+IF(X31=0,0,X31-V31)","v":0},null,{"$f":"+IF(Z41=0,0,Z41-X41)","v":0},null,{"$f":"+IF(AB41=0,0,AB41-Z41)","v":0},{"$f":"+IF(K41=0,\" -\",W41/K41)","v":" -"},{"$f":"+IF(K41=0,\" -\",IF(AD41>100%,100%,AD41))","v":" -"},{"$f":"+IF(N41=0,\" -\",Y41/N41)","v":0},{"$f":"+IF(N41=0,\" -\",IF(AF41>100%,100%,AF41))","v":0},{"$f":"+IF(Q41=0,\" -\",AA41/Q41)","v":" -"},{"$f":"+IF(Q41=0,\" -\",IF(AH41>100%,100%,AH41))","v":" -"},{"$f":"+IF(T41=0,\" -\",AC41/T41)","v":0},{"$f":"+IF(T41=0,\" -\",IF(AJ41>100%,100%,AJ41))","v":0},{"$f":"+SUM(AC41,AA41,Y41,W41)/I41","v":-2},{"$f":"+IF(AL41>100%,100%,IF(AL41<0%,0%,AL41))","v":0},null,{"$f":"+RESUMEN!J141","v":0.36401666666666666},"MANTENIMIENTO Y CONSTRUCCIÓN DE RED VIAL URBANA","Mejorar y/o construir 60.000 M2 de malla vial urbana.",{"$f":"'[1]LÍNEA 6'!P41","v":"2210662   2210275"},"Número de M2 de malla vial urbana mejorados y/o construidos.",525600,{"$f":"'[1]LÍNEA 6'!S41","v":60000},{"$f":"'[1]LÍNEA 6'!T41","v":3000},0.05,{"$f":"'[1]LÍNEA 6'!U41","v":16500},0.27500000000000002,{"$f":"'[1]LÍNEA 6'!V41","v":10000},0.16666666666666666,{"$f":"'[1]LÍNEA 6'!W41","v":30500},0.5083333333333333,{"$f":"'[7]2016'!K53","v":6887},{"$f":"'[7]2017'!K60","v":10000},{"$f":"'[7]2018'!K60","v":0},{"$f":"'[7]2019'!K60","v":0},2.2956666666666665,1,0.60606060606060608,0.60606060606060608,0,0,0,0,0.28144999999999998,0.28144999999999998,0.28144999999999998,{"$f":"'[7]2016'!P53","v":1730900},{"$f":"'[7]2016'!Q53","v":1494969},{"$f":"'[7]2016'!R53","v":0},0.86369460974059742," -",{"$f":"'[7]2017'!P60","v":1656702},{"$f":"'[7]2017'!Q60","v":1576439},{"$f":"'[7]2017'!R60","v":0},0.9515525423401433," -",{"$f":"'[7]2018'!P60","v":1565018},{"$f":"'[7]2018'!Q60","v":0},{"$f":"'[7]2018'!R60","v":0},0," -",{"$f":"'[7]2019'!P60","v":6000000},{"$f":"'[7]2019'!Q60","v":0},{"$f":"'[7]2019'!R60","v":0},0," -",10952620,3071408,0,0.28042678372845947," -","9. Industria, innovación e infraestructura","Equipamiento",{"$f":"'[1]LÍNEA 6'!AQ41","v":"Sec. Infraestructura"}]
[null,null,null,null,null,null,null,null,null,null,null,null,null,null,null,null,null,null,null,null,null,null,null,null,null,null,null,null,null,null,null,null,null,null,null,null,null,null,null,null,null,null,"Actualizar el 100% de los estudios y diseños para la construcción conexión Oriente-Occidente.",{"$f":"'[1]LÍNEA 6'!P42","v":0},"Porcentaje de avance en la actualización de los estudios y diseños para la construcción conexión Oriente-Occidente.",0,{"$f":"'[1]LÍNEA 6'!S42","v":1},{"$f":"'[1]LÍNEA 6'!T42","v":0},0,{"$f":"'[1]LÍNEA 6'!U42","v":0},0,{"$f":"'[1]LÍNEA 6'!V42","v":1},1,{"$f":"'[1]LÍNEA 6'!W42","v":0},0,{"$f":"'[7]2016'!K54","v":0},{"$f":"'[7]2017'!K61","v":0},{"$f":"'[7]2018'!K61","v":0},{"$f":"'[7]2019'!K61","v":0}," -"," -"," -"," -",0,0," -"," -",0,0,0,{"$f":"'[7]2016'!P54","v":0},{"$f":"'[7]2016'!Q54","v":0},{"$f":"'[7]2016'!R54","v":0}," -"," -",{"$f":"'[7]2017'!P61","v":0},{"$f":"'[7]2017'!Q61","v":0},{"$f":"'[7]2017'!R61","v":0}," -"," -",{"$f":"'[7]2018'!P61","v":0},{"$f":"'[7]2018'!Q61","v":0},{"$f":"'[7]2018'!R61","v":0}," -"," -",{"$f":"'[7]2019'!P61","v":0},{"$f":"'[7]2019'!Q61","v":0},{"$f":"'[7]2019'!R61","v":0}," -"," -",0,0,0," -"," -","9. Industria, innovación e infraestructura","Equipamiento",{"$f":"'[1]LÍNEA 6'!AQ42","v":"Sec. Infraestructura"}]
[null,null,null,null,null,null,null,null,null,null,null,null,null,null,null,null,null,null,null,null,null,null,null,null,null,null,null,null,null,null,null,null,null,null,null,null,null,null,null,null,null,null,"Construir 1 tramo de la Conexión Oriente - Occidente.",{"$f":"'[1]LÍNEA 6'!P43","v":0},"Porcentaje de avance en la construcción de un tramo de la Conexión Oriente - Occidente",0,{"$f":"'[1]LÍNEA 6'!S43","v":1},{"$f":"'[1]LÍNEA 6'!T43","v":0},0,{"$f":"'[1]LÍNEA 6'!U43","v":0},0,{"$f":"'[1]LÍNEA 6'!V43","v":0.2},0.2,{"$f":"'[1]LÍNEA 6'!W43","v":0.8},0.8,{"$f":"'[7]2016'!K55","v":0},{"$f":"'[7]2017'!K62","v":0},{"$f":"'[7]2018'!K62","v":0},{"$f":"'[7]2019'!K62","v":0}," -"," -"," -"," -",0,0,0,0,0,0,0,{"$f":"'[7]2016'!P55","v":0},{"$f":"'[7]2016'!Q55","v":0},{"$f":"'[7]2016'!R55","v":0}," -"," -",{"$f":"'[7]2017'!P62","v":0},{"$f":"'[7]2017'!Q62","v":0},{"$f":"'[7]2017'!R62","v":0}," -"," -",{"$f":"'[7]2018'!P62","v":0},{"$f":"'[7]2018'!Q62","v":0},{"$f":"'[7]2018'!R62","v":0}," -"," -",{"$f":"'[7]2019'!P62","v":20000000},{"$f":"'[7]2019'!Q62","v":0},{"$f":"'[7]2019'!R62","v":0},0," -",20000000,0,0,0," -","9. Industria, innovación e infraestructura","Equipamiento",{"$f":"'[1]LÍNEA 6'!AQ43","v":"Sec. Infraestructura"}]
[null,null,null,null,null,null,null,null,null,null,null,null,null,null,null,null,null,null,null,null,null,null,null,null,null,null,null,null,null,null,null,null,null,null,null,null,null,null,null,null,null,null,"Terminar la construcción de 3 megaobra.",{"$f":"'[1]LÍNEA 6'!P44","v":0},"Número de megaobras terminadas.",3,{"$f":"'[1]LÍNEA 6'!S44","v":3},{"$f":"'[1]LÍNEA 6'!T44","v":1},0.33333333333333331,{"$f":"'[1]LÍNEA 6'!U44","v":2},0.66666666666666663,{"$f":"'[1]LÍNEA 6'!V44","v":0},0,{"$f":"'[1]LÍNEA 6'!W44","v":0},0,{"$f":"'[7]2016'!K56","v":0.8},{"$f":"'[7]2017'!K63","v":0},{"$f":"'[7]2018'!K63","v":0},{"$f":"'[7]2019'!K63","v":0},0.8,0.8,0,0," -"," -"," -"," -",0.26666666666666666,0.26666666666666666,0.26666666666666666,{"$f":"'[7]2016'!P56","v":571555},{"$f":"'[7]2016'!Q56","v":571555},{"$f":"'[7]2016'!R56","v":0},1," -",{"$f":"'[7]2017'!P63","v":0},{"$f":"'[7]2017'!Q63","v":0},{"$f":"'[7]2017'!R63","v":0}," -"," -",{"$f":"'[7]2018'!P63","v":6718232},{"$f":"'[7]2018'!Q63","v":0},{"$f":"'[7]2018'!R63","v":0},0," -",{"$f":"'[7]2019'!P63","v":0},{"$f":"'[7]2019'!Q63","v":0},{"$f":"'[7]2019'!R63","v":0}," -"," -",7289787,571555,0,7.8404897152687725E-2," -","9. Industria, innovación e infraestructura","Equipamiento",{"$f":"'[1]LÍNEA 6'!AQ44","v":"Sec. Infraestructura"}]
[null,null,null,null,null,null,null,null,null,null,null,null,null,null,null,null,null,null,null,null,null,null,null,null,null,null,null,null,null,null,null,null,null,null,null,null,null,null,null,null,null,null,"Apoyar el 100% de la gestión para la estructuración de la nueva concesión vial de la Zona Metropolitana de Bucaramanga (ZMB).",{"$f":"'[1]LÍNEA 6'!P45","v":" -"},"Porcentaje de gestión apoyada para  la estructuración de la nueva concesión vial de la Zona Metropolitana de Bucaramanga (ZMB).",0,{"$f":"'[1]LÍNEA 6'!S45","v":1},{"$f":"'[1]LÍNEA 6'!T45","v":1},1,{"$f":"'[1]LÍNEA 6'!U45","v":0},0,{"$f":"'[1]LÍNEA 6'!V45","v":0},0,{"$f":"'[1]LÍNEA 6'!W45","v":0},0,{"$f":"'[7]2016'!K57","v":1},{"$f":"'[7]2017'!K64","v":0},{"$f":"'[7]2018'!K64","v":0},{"$f":"'[7]2019'!K64","v":0},1,1," -"," -"," -"," -"," -"," -",1,1,1,{"$f":"'[7]2016'!P57","v":0},{"$f":"'[7]2016'!Q57","v":0},{"$f":"'[7]2016'!R57","v":0}," -"," -",{"$f":"'[7]2017'!P64","v":0},{"$f":"'[7]2017'!Q64","v":0},{"$f":"'[7]2017'!R64","v":0}," -"," -",{"$f":"'[7]2018'!P64","v":0},{"$f":"'[7]2018'!Q64","v":0},{"$f":"'[7]2018'!R64","v":0}," -"," -",{"$f":"'[7]2019'!P64","v":0},{"$f":"'[7]2019'!Q64","v":0},{"$f":"'[7]2019'!R64","v":0}," -"," -",0,0,0," -"," -","9. Industria, innovación e infraestructura","Equipamiento",{"$f":"'[1]LÍNEA 6'!AQ45","v":"Sec. Infraestructura"}]
[null,null,null,null,null,null,null,null,null,null,null,null,null,null,null,null,null,null,null,null,null,null,null,null,null,null,null,null,null,null,null,null,null,null,null,null,null,null,null,null,null,null,"Construir la Transversal del Cristal (una calzada doble vía) en el sur de la ciudad, en coordinación con el Área Metropolitana de Bucaramanga y el municipio de Floridablanca. ",{"$f":"'[1]LÍNEA 6'!P46","v":0},"Porcentaje de avance en la construcción de la Transversal del Cristal (una calzada doble vía) en el sur de la ciudad, en coordinación con el Área Metropolitana de Bucaramanga y el municipio de Floridablanca.",0,{"$f":"'[1]LÍNEA 6'!S46","v":1},{"$f":"'[1]LÍNEA 6'!T46","v":0},0,{"$f":"'[1]LÍNEA 6'!U46","v":0},0,{"$f":"'[1]LÍNEA 6'!V46","v":0.2},0.2,{"$f":"'[1]LÍNEA 6'!W46","v":0.8},0.8,{"$f":"'[7]2016'!K58","v":0},{"$f":"'[7]2017'!K65","v":0},{"$f":"'[7]2018'!K65","v":0},{"$f":"'[7]2019'!K65","v":0}," -"," -"," -"," -",0,0,0,0,0,0,0,{"$f":"'[7]2016'!P58","v":0},{"$f":"'[7]2016'!Q58","v":0},{"$f":"'[7]2016'!R58","v":0}," -"," -",{"$f":"'[7]2017'!P65","v":0},{"$f":"'[7]2017'!Q65","v":0},{"$f":"'[7]2017'!R65","v":0}," -"," -",{"$f":"'[7]2018'!P65","v":0},{"$f":"'[7]2018'!Q65","v":0},{"$f":"'[7]2018'!R65","v":0}," -"," -",{"$f":"'[7]2019'!P65","v":0},{"$f":"'[7]2019'!Q65","v":0},{"$f":"'[7]2019'!R65","v":0}," -"," -",0,0,0," -"," -","9. Industria, innovación e infraestructura","Equipamiento",{"$f":"'[1]LÍNEA 6'!AQ46","v":"Sec. Infraestructura"}]
[null,null,null,null,null,null,null,null,null,null,null,null,null,null,null,null,null,null,null,null,null,null,null,null,null,null,null,null,null,null,null,null,null,null,null,null,null,null,null,null,null,null,"Gestionar 1 proyecto de infraestructura vial urbana estructurados y financiados y/o APP.",{"$f":"'[1]LÍNEA 6'!P47","v":" -"},"Número de proyectos gestionados de infraestructura vial urbana estructurados y financiados y/o APP.",0,{"$f":"'[1]LÍNEA 6'!S47","v":1},{"$f":"'[1]LÍNEA 6'!T47","v":1},1,{"$f":"'[1]LÍNEA 6'!U47","v":0},0,{"$f":"'[1]LÍNEA 6'!V47","v":0},0,{"$f":"'[1]LÍNEA 6'!W47","v":0},0,{"$f":"'[7]2016'!K59","v":0},{"$f":"'[7]2017'!K66","v":1},{"$f":"'[7]2018'!K66","v":0},{"$f":"'[7]2019'!K66","v":0},0,0," -"," -"," -"," -"," -"," -",1,1,1,{"$f":"'[7]2016'!P59","v":0},{"$f":"'[7]2016'!Q59","v":0},{"$f":"'[7]2016'!R59","v":0}," -"," -",{"$f":"'[7]2017'!P66","v":0},{"$f":"'[7]2017'!Q66","v":0},{"$f":"'[7]2017'!R66","v":0}," -"," -",{"$f":"'[7]2018'!P66","v":0},{"$f":"'[7]2018'!Q66","v":0},{"$f":"'[7]2018'!R66","v":0}," -"," -",{"$f":"'[7]2019'!P66","v":0},{"$f":"'[7]2019'!Q66","v":0},{"$f":"'[7]2019'!R66","v":0}," -"," -",0,0,0," -"," -","9. Industria, innovación e infraestructura","Equipamiento",{"$f":"'[1]LÍNEA 6'!AQ47","v":"Sec. Infraestructura"}]
[null,null,null,null,null,null,null,null,null,null,null,null,null,null,null,null,null,null,null,null,null,null,null,null,null,null,null,null,null,null,null,null,null,null,null,null,null,null,null,null,{"$f":"+RESUMEN!J142","v":0.435},"MANTENIMIENTO Y CONSTRUCCIÓN DE RED VIAL RURAL","Mantener la transitabilidad de los 140 kms de vías rurales.",{"$f":"'[1]LÍNEA 6'!P48","v":2210661},"Número de kms de vías rurales con transitabilidad mantenida.",140,{"$f":"'[1]LÍNEA 6'!S48","v":140},{"$f":"'[1]LÍNEA 6'!T48","v":140},0.25,{"$f":"'[1]LÍNEA 6'!U48","v":140},0.25,{"$f":"'[1]LÍNEA 6'!V48","v":140},0.25,{"$f":"'[1]LÍNEA 6'!W48","v":140},0.25,{"$f":"'[7]2016'!K60","v":140},{"$f":"'[7]2017'!K67","v":140},{"$f":"'[7]2018'!K67","v":140},{"$f":"'[7]2019'!K67","v":0},1,1,1,1,1,1,0,0,{"$f":"+AVERAGE(BD48:BG48)/AU48","v":0.75},0.75,0.75,{"$f":"'[7]2016'!P60","v":38000},{"$f":"'[7]2016'!Q60","v":0},{"$f":"'[7]2016'!R60","v":0},0," -",{"$f":"'[7]2017'!P67","v":107100},{"$f":"'[7]2017'!Q67","v":107100},{"$f":"'[7]2017'!R67","v":0},1," -",{"$f":"'[7]2018'!P67","v":397187},{"$f":"'[7]2018'!Q67","v":54000},{"$f":"'[7]2018'!R67","v":0},0.1359561113530906," -",{"$f":"'[7]2019'!P67","v":500000},{"$f":"'[7]2019'!Q67","v":0},{"$f":"'[7]2019'!R67","v":0},0," -",1042287,161100,0,0.15456395407406981," -","9. Industria, innovación e infraestructura","Equipamiento",{"$f":"'[1]LÍNEA 6'!AQ48","v":"Sec. Infraestructura"}]
[null,null,null,null,null,null,null,null,null,null,null,null,null,null,null,null,null,null,null,null,null,null,null,null,null,null,null,null,null,null,null,null,null,null,null,null,null,null,null,null,null,null,"Construir 5.000 ML de placa huella.",{"$f":"'[1]LÍNEA 6'!P49","v":2210661},"Número de ML de placa huella construidas.",3800,{"$f":"'[1]LÍNEA 6'!S49","v":5000},{"$f":"'[1]LÍNEA 6'!T49","v":0},0,{"$f":"'[1]LÍNEA 6'!U49","v":500},0.1,{"$f":"'[1]LÍNEA 6'!V49","v":500},0.1,{"$f":"'[1]LÍNEA 6'!W49","v":4000},0.8,{"$f":"'[7]2016'!K61","v":0},{"$f":"'[7]2017'!K68","v":600},{"$f":"'[7]2018'!K68","v":0},{"$f":"'[7]2019'!K68","v":0}," -"," -",1.2,1,0,0,0,0,0.12,0.12,0.12,{"$f":"'[7]2016'!P61","v":0},{"$f":"'[7]2016'!Q61","v":0},{"$f":"'[7]2016'!R61","v":0}," -"," -",{"$f":"'[7]2017'!P68","v":557881},{"$f":"'[7]2017'!Q68","v":493251},{"$f":"'[7]2017'!R68","v":0},0.88415092107456605," -",{"$f":"'[7]2018'!P68","v":197188},{"$f":"'[7]2018'!Q68","v":0},{"$f":"'[7]2018'!R68","v":0},0," -",{"$f":"'[7]2019'!P68","v":3000000},{"$f":"'[7]2019'!Q68","v":0},{"$f":"'[7]2019'!R68","v":0},0," -",3755069,493251,0,0.13135604165995352," -","9. Industria, innovación e infraestructura","Equipamiento",{"$f":"'[1]LÍNEA 6'!AQ49","v":"Sec. Infraestructura"}]
[null,null,null,null,null,null,null,null,null,null,null,null,null,null,null,null,null,null,null,null,null,null,null,null,null,null,null,null,null,null,null,null,null,null,null,null,null,null,null,null,null,null,null,null,null,null,{"$f":"'[1]LÍNEA 6'!S50","v":0},{"$f":"'[1]LÍNEA 6'!T50","v":0},{"$f":"+AVERAGE(AW11:AW49)","v":0.22098637098637097},{"$f":"'[1]LÍNEA 6'!U50","v":0},{"$f":"+AVERAGE(AY11:AY49)","v":0.20707669207669208},{"$f":"'[1]LÍNEA 6'!V50","v":0},0.29863940863940858,{"$f":"'[1]LÍNEA 6'!W50","v":0},0.27329752829752835,null,null,null,null,null,{"$f":"+AVERAGE(BI11:BI49)","v":0.91666666666666663},null,0.87059483726150388,null,0.54119191919191911,null,0,null,{"$f":"+AVERAGE(BQ11:BQ49)","v":0.59299790944790953}]
[null,null,null,{"$f":"+RESUMEN!J143","v":0.30267985265210107},"SERVICIOS PÚBLICOS","Mantener el 100% de la cobertura del alumbrado público en la zona urbana.",1,1,{"$f":"+H51","v":1},1,{"$f":"+J51","v":1},null,1,{"$f":"+M51","v":1},null,1,{"$f":"+P51","v":1},null,1,{"$f":"+S51","v":1},null,1,{"$f":"+V51","v":1},null,{"$f":"+X51","v":0},null,{"$f":"+Z51","v":0},null,{"$f":"+AB51","v":0},{"$f":"+IF(K51=0,\" -\",W51/K51)","v":1},{"$f":"+IF(K51=0,\" -\",IF(AD51>100%,100%,AD51))","v":1},{"$f":"+IF(N51=0,\" -\",Y51/N51)","v":0},{"$f":"+IF(N51=0,\" -\",IF(AF51>100%,100%,AF51))","v":0},{"$f":"+IF(Q51=0,\" -\",AA51/Q51)","v":0},{"$f":"+IF(Q51=0,\" -\",IF(AH51>100%,100%,AH51))","v":0},{"$f":"+IF(T51=0,\" -\",AC51/T51)","v":0},{"$f":"+IF(T51=0,\" -\",IF(AJ51>100%,100%,AJ51))","v":0},{"$f":"+AVERAGE(W51,Y51,AA51,AC51)/I51","v":0.25},{"$f":"+IF(AL51>100%,100%,IF(AL51<0%,0%,AL51))","v":0.25},null,{"$f":"+RESUMEN!J144","v":0.12364269141531323},"SERVICIOS PÚBLICOS URBANOS Y RURALES","Beneficiar a 60 unidades familiares con gas (sector rural).",{"$f":"'[1]LÍNEA 6'!P51","v":0},"Número de unidades familiares beneficiadas con gas (sector rural).",815,{"$f":"'[1]LÍNEA 6'!S51","v":60},{"$f":"'[1]LÍNEA 6'!T51","v":0},0,{"$f":"'[1]LÍNEA 6'!U51","v":0},0,{"$f":"'[1]LÍNEA 6'!V51","v":0},0,{"$f":"'[1]LÍNEA 6'!W51","v":60},1,{"$f":"'[7]2016'!K63","v":0},{"$f":"'[7]2017'!K70","v":0},{"$f":"'[7]2018'!K70","v":0},{"$f":"'[7]2019'!K70","v":0}," -"," -"," -"," -"," -"," -",0,0,0,0,0,{"$f":"'[7]2016'!P63","v":0},{"$f":"'[7]2016'!Q63","v":0},{"$f":"'[7]2016'!R63","v":0}," -"," -",{"$f":"'[7]2017'!P70","v":0},{"$f":"'[7]2017'!Q70","v":0},{"$f":"'[7]2017'!R70","v":0}," -"," -",{"$f":"'[7]2018'!P70","v":0},{"$f":"'[7]2018'!Q70","v":0},{"$f":"'[7]2018'!R70","v":0}," -"," -",{"$f":"'[7]2019'!P70","v":166000},{"$f":"'[7]2019'!Q70","v":0},{"$f":"'[7]2019'!R70","v":0},0," -",166000,0,0,0," -","1. Fin de la pobreza","Servicios Públicos",{"$f":"'[1]LÍNEA 6'!AQ51","v":"Sec. Infraestructura"}]
[null,null,null,null,null,null,null,null,null,null,null,null,null,null,null,null,null,null,null,null,null,null,null,null,null,null,null,null,null,null,null,null,null,null,null,null,null,null,null,null,null,null,"Adquirir 10 plantas de potalización (sector rural).",{"$f":"'[1]LÍNEA 6'!P52","v":" -"},"Número de plantas de potabilización (sector rural) adquiridas.",3,{"$f":"'[1]LÍNEA 6'!S52","v":10},{"$f":"'[1]LÍNEA 6'!T52","v":0},0,{"$f":"'[1]LÍNEA 6'!U52","v":0},0,{"$f":"'[1]LÍNEA 6'!V52","v":0},0,{"$f":"'[1]LÍNEA 6'!W52","v":10},1,{"$f":"'[7]2016'!K64","v":0},{"$f":"'[7]2017'!K71","v":0},{"$f":"'[7]2018'!K71","v":0},{"$f":"'[7]2019'!K71","v":0}," -"," -"," -"," -"," -"," -",0,0,0,0,0,{"$f":"'[7]2016'!P64","v":0},{"$f":"'[7]2016'!Q64","v":0},{"$f":"'[7]2016'!R64","v":0}," -"," -",{"$f":"'[7]2017'!P71","v":0},{"$f":"'[7]2017'!Q71","v":0},{"$f":"'[7]2017'!R71","v":0}," -"," -",{"$f":"'[7]2018'!P71","v":0},{"$f":"'[7]2018'!Q71","v":0},{"$f":"'[7]2018'!R71","v":0}," -"," -",{"$f":"'[7]2019'!P71","v":0},{"$f":"'[7]2019'!Q71","v":0},{"$f":"'[7]2019'!R71","v":0}," -"," -",0,0,0," -"," -","6. Agua limpia y saneamiento","APSB",{"$f":"'[1]LÍNEA 6'!AQ52","v":"Sec. Infraestructura"}]
[null,null,null,null,null,null,null,null,null,null,null,null,null,null,null,null,null,null,null,null,null,null,null,null,null,null,null,null,null,null,null,null,null,null,null,null,null,null,null,null,null,null,"Repotenciar 2 acueductos (sector rural).",{"$f":"'[1]LÍNEA 6'!P53","v":" -"},"Número de acueductos (sector rural) repotenciados.",4,{"$f":"'[1]LÍNEA 6'!S53","v":2},{"$f":"'[1]LÍNEA 6'!T53","v":0},0,{"$f":"'[1]LÍNEA 6'!U53","v":0},0,{"$f":"'[1]LÍNEA 6'!V53","v":0},0,{"$f":"'[1]LÍNEA 6'!W53","v":2},1,{"$f":"'[7]2016'!K65","v":0},{"$f":"'[7]2017'!K72","v":0},{"$f":"'[7]2018'!K72","v":0},{"$f":"'[7]2019'!K72","v":0}," -"," -"," -"," -"," -"," -",0,0,0,0,0,{"$f":"'[7]2016'!P65","v":0},{"$f":"'[7]2016'!Q65","v":0},{"$f":"'[7]2016'!R65","v":0}," -"," -",{"$f":"'[7]2017'!P72","v":0},{"$f":"'[7]2017'!Q72","v":0},{"$f":"'[7]2017'!R72","v":0}," -"," -",{"$f":"'[7]2018'!P72","v":0},{"$f":"'[7]2018'!Q72","v":0},{"$f":"'[7]2018'!R72","v":0}," -"," -",{"$f":"'[7]2019'!P72","v":0},{"$f":"'[7]2019'!Q72","v":0},{"$f":"'[7]2019'!R72","v":0}," -"," -",0,0,0," -"," -","6. Agua limpia y saneamiento","Servicios Públicos",{"$f":"'[1]LÍNEA 6'!AQ53","v":"Sec. Infraestructura"}]
[null,null,null,null,null,"Mantener en 95% la cobertura del servicio de agua potable y saneamiento básico del sector urbano.",0.95,0.95,{"$f":"+H54","v":0.95},0.95,{"$f":"+J54","v":0.95},null,0.95,{"$f":"+M54","v":0.95},null,0.95,{"$f":"+P54","v":0.95},null,0.95,{"$f":"+S54","v":0.95},null,0.97299999999999998,{"$f":"+V54","v":0.97299999999999998},null,{"$f":"+X54","v":0},null,{"$f":"+Z54","v":0},null,{"$f":"+AB54","v":0},{"$f":"+IF(K54=0,\" -\",W54/K54)","v":1.0242105263157895},{"$f":"+IF(K54=0,\" -\",IF(AD54>100%,100%,AD54))","v":1},{"$f":"+IF(N54=0,\" -\",Y54/N54)","v":0},{"$f":"+IF(N54=0,\" -\",IF(AF54>100%,100%,AF54))","v":0},{"$f":"+IF(Q54=0,\" -\",AA54/Q54)","v":0},{"$f":"+IF(Q54=0,\" -\",IF(AH54>100%,100%,AH54))","v":0},{"$f":"+IF(T54=0,\" -\",AC54/T54)","v":0},{"$f":"+IF(T54=0,\" -\",IF(AJ54>100%,100%,AJ54))","v":0},{"$f":"+AVERAGE(W54,Y54,AA54,AC54)/I54","v":0.25605263157894737},{"$f":"+IF(AL54>100%,100%,IF(AL54<0%,0%,AL54))","v":0.25605263157894737},null,null,null,"Adquirir 3 Plantas de Tratamiento de Aguas Residuales - PTAR compactas para el sector rural.",{"$f":"'[1]LÍNEA 6'!P54","v":" -"},"Número de Plnatas de Tratamiento de Agua Residuales - PTAR compactas adquiridas para el sector rural.",0,{"$f":"'[1]LÍNEA 6'!S54","v":3},{"$f":"'[1]LÍNEA 6'!T54","v":0},0,{"$f":"'[1]LÍNEA 6'!U54","v":0},0,{"$f":"'[1]LÍNEA 6'!V54","v":0},0,{"$f":"'[1]LÍNEA 6'!W54","v":3},1,{"$f":"'[7]2016'!K66","v":0},{"$f":"'[7]2017'!K73","v":0},{"$f":"'[7]2018'!K73","v":0},{"$f":"'[7]2019'!K73","v":0}," -"," -"," -"," -"," -"," -",0,0,0,0,0,{"$f":"'[7]2016'!P66","v":0},{"$f":"'[7]2016'!Q66","v":0},{"$f":"'[7]2016'!R66","v":0}," -"," -",{"$f":"'[7]2017'!P73","v":0},{"$f":"'[7]2017'!Q73","v":0},{"$f":"'[7]2017'!R73","v":0}," -"," -",{"$f":"'[7]2018'!P73","v":0},{"$f":"'[7]2018'!Q73","v":0},{"$f":"'[7]2018'!R73","v":0}," -"," -",{"$f":"'[7]2019'!P73","v":0},{"$f":"'[7]2019'!Q73","v":0},{"$f":"'[7]2019'!R73","v":0}," -"," -",0,0,0," -"," -","6. Agua limpia y saneamiento","APSB",{"$f":"'[1]LÍNEA 6'!AQ54","v":"Sec. Infraestructura"}]
[null,null,null,null,null,null,null,null,null,null,null,null,null,null,null,null,null,null,null,null,null,null,null,null,null,null,null,null,null,null,null,null,null,null,null,null,null,null,null,null,null,null,"Contruir 60 pozos sépticos para el sector rural.",{"$f":"'[1]LÍNEA 6'!P55","v":2210663},"Número de pozos sépticos construidos para el sector rural.",1530,{"$f":"'[1]LÍNEA 6'!S55","v":60},{"$f":"'[1]LÍNEA 6'!T55","v":0},0,{"$f":"'[1]LÍNEA 6'!U55","v":0},0,{"$f":"'[1]LÍNEA 6'!V55","v":30},0.5,{"$f":"'[1]LÍNEA 6'!W55","v":30},0.5,{"$f":"'[7]2016'!K67","v":0},{"$f":"'[7]2017'!K74","v":0},{"$f":"'[7]2018'!K74","v":0},{"$f":"'[7]2019'!K74","v":0}," -"," -"," -"," -",0,0,0,0,0,0,0,{"$f":"'[7]2016'!P67","v":0},{"$f":"'[7]2016'!Q67","v":0},{"$f":"'[7]2016'!R67","v":0}," -"," -",{"$f":"'[7]2017'!P74","v":0},{"$f":"'[7]2017'!Q74","v":0},{"$f":"'[7]2017'!R74","v":0}," -"," -",{"$f":"'[7]2018'!P74","v":557065},{"$f":"'[7]2018'!Q74","v":0},{"$f":"'[7]2018'!R74","v":0},0," -",{"$f":"'[7]2019'!P74","v":100000},{"$f":"'[7]2019'!Q74","v":0},{"$f":"'[7]2019'!R74","v":0},0," -",657065,0,0,0," -","6. Agua limpia y saneamiento","Ambiental",{"$f":"'[1]LÍNEA 6'!AQ55","v":"Sec. Infraestructura"}]
[null,null,null,null,null,null,null,null,null,null,null,null,null,null,null,null,null,null,null,null,null,null,null,null,null,null,null,null,null,null,null,null,null,null,null,null,null,null,null,null,null,null,"Gestionar y/o construir 5 redes de acueducto y alcantarillado en barrios legalizados.",{"$f":"'[1]LÍNEA 6'!P56","v":2210172},"Número de redes de acueducto y alcantarillado gestionados y/o construidos en barrios legalizados.",5,{"$f":"'[1]LÍNEA 6'!S56","v":5},{"$f":"'[1]LÍNEA 6'!T56","v":1},0.2,{"$f":"'[1]LÍNEA 6'!U56","v":0},0,{"$f":"'[1]LÍNEA 6'!V56","v":1},0.2,{"$f":"'[1]LÍNEA 6'!W56","v":3},0.6,{"$f":"'[7]2016'!K68","v":1},{"$f":"'[7]2017'!K75","v":1},{"$f":"'[7]2018'!K75","v":0},{"$f":"'[7]2019'!K75","v":0},1,1," -"," -",0,0,0,0,0.4,0.4,0.4,{"$f":"'[7]2016'!P68","v":2059062},{"$f":"'[7]2016'!Q68","v":1971562},{"$f":"'[7]2016'!R68","v":0},0.95750492214416083," -",{"$f":"'[7]2017'!P75","v":3152926},{"$f":"'[7]2017'!Q75","v":3152926},{"$f":"'[7]2017'!R75","v":0},1," -",{"$f":"'[7]2018'!P75","v":2452309},{"$f":"'[7]2018'!Q75","v":0},{"$f":"'[7]2018'!R75","v":0},0," -",{"$f":"'[7]2019'!P75","v":1600000},{"$f":"'[7]2019'!Q75","v":0},{"$f":"'[7]2019'!R75","v":0},0," -",9264297,5124488,0,0.55314375176011732," -","6. Agua limpia y saneamiento","APSB",{"$f":"'[1]LÍNEA 6'!AQ56","v":"Sec. Infraestructura"}]
[null,null,null,null,null,"Aumentar al 95% la cobertura del alumbrado público en la zona rural.",0.92,0.95,{"$f":"+H57-G57","v":2.9999999999999916E-2},0.92,{"$f":"+J57-G57","v":0},null,0.93,{"$f":"+M57-J57","v":1.0000000000000009E-2},null,0.94,{"$f":"+P57-M57","v":9.9999999999998979E-3},null,0.95,{"$f":"+S57-P57","v":1.0000000000000009E-2},null,0.92,{"$f":"+IF(V57=0,0,V57-G57)","v":0},null,{"$f":"+IF(X57=0,0,X57-V57)","v":0},null,{"$f":"+IF(Z57=0,0,Z57-X57)","v":0},null,{"$f":"+IF(AB57=0,0,AB57-Z57)","v":0},{"$f":"+IF(K57=0,\" -\",W57/K57)","v":" -"},{"$f":"+IF(K57=0,\" -\",IF(AD57>100%,100%,AD57))","v":" -"},{"$f":"+IF(N57=0,\" -\",Y57/N57)","v":0},{"$f":"+IF(N57=0,\" -\",IF(AF57>100%,100%,AF57))","v":0},{"$f":"+IF(Q57=0,\" -\",AA57/Q57)","v":0},{"$f":"+IF(Q57=0,\" -\",IF(AH57>100%,100%,AH57))","v":0},{"$f":"+IF(T57=0,\" -\",AC57/T57)","v":0},{"$f":"+IF(T57=0,\" -\",IF(AJ57>100%,100%,AJ57))","v":0},{"$f":"+SUM(AC57,AA57,Y57,W57)/I57","v":0},{"$f":"+IF(AL57>100%,100%,IF(AL57<0%,0%,AL57))","v":0},null,null,null,"Beneficiar 3.448 usuarios con la cobertura de electrificación rural en los tres corregimientos.",{"$f":"'[1]LÍNEA 6'!P57","v":" -"},"Número de usuarios beneficiados con la cobertura de electrificación rural en los tres corregimientos.",3248,{"$f":"'[1]LÍNEA 6'!S57","v":3448},{"$f":"'[1]LÍNEA 6'!T57","v":0},0,{"$f":"'[1]LÍNEA 6'!U57","v":300},8.7006960556844551E-2,{"$f":"'[1]LÍNEA 6'!V57","v":1449},0.42024361948955918,{"$f":"'[1]LÍNEA 6'!W57","v":1699},0.49274941995359628,{"$f":"'[7]2016'!K69","v":0},{"$f":"'[7]2017'!K76","v":298},{"$f":"'[7]2018'!K76","v":0},{"$f":"'[7]2019'!K76","v":0}," -"," -",0.99333333333333329,0.99333333333333329,0,0,0,0,8.642691415313225E-2,8.642691415313225E-2,8.642691415313225E-2,{"$f":"'[7]2016'!P69","v":0},{"$f":"'[7]2016'!Q69","v":0},{"$f":"'[7]2016'!R69","v":0}," -"," -",{"$f":"'[7]2017'!P76","v":0},{"$f":"'[7]2017'!Q76","v":0},{"$f":"'[7]2017'!R76","v":2408660}," -",1,{"$f":"'[7]2018'!P76","v":0},{"$f":"'[7]2018'!Q76","v":0},{"$f":"'[7]2018'!R76","v":0}," -"," -",{"$f":"'[7]2019'!P76","v":0},{"$f":"'[7]2019'!Q76","v":0},{"$f":"'[7]2019'!R76","v":0}," -"," -",0,0,2408660," -",1,"1. Fin de la pobreza","Servicios Públicos",{"$f":"'[1]LÍNEA 6'!AQ57","v":"Sec. Infraestructura"}]
[null,null,null,null,null,null,null,null,null,null,null,null,null,null,null,null,null,null,null,null,null,null,null,null,null,null,null,null,null,null,null,null,null,null,null,null,null,null,null,null,null,null,"Construir 1 acueducto veredal.",{"$f":"'[1]LÍNEA 6'!P58","v":2210663},"Número de acueductos veredales construidos.",0,{"$f":"'[1]LÍNEA 6'!S58","v":1},{"$f":"'[1]LÍNEA 6'!T58","v":0},0,{"$f":"'[1]LÍNEA 6'!U58","v":0},0,{"$f":"'[1]LÍNEA 6'!V58","v":1},1,{"$f":"'[1]LÍNEA 6'!W58","v":0},0,{"$f":"'[7]2016'!K70","v":0},{"$f":"'[7]2017'!K77","v":0},{"$f":"'[7]2018'!K77","v":0},{"$f":"'[7]2019'!K77","v":0}," -"," -"," -"," -",0,0," -"," -",0,0,0,{"$f":"'[7]2016'!P70","v":0},{"$f":"'[7]2016'!Q70","v":0},{"$f":"'[7]2016'!R70","v":0}," -"," -",{"$f":"'[7]2017'!P77","v":0},{"$f":"'[7]2017'!Q77","v":0},{"$f":"'[7]2017'!R77","v":0}," -"," -",{"$f":"'[7]2018'!P77","v":1094374},{"$f":"'[7]2018'!Q77","v":0},{"$f":"'[7]2018'!R77","v":0},0," -",{"$f":"'[7]2019'!P77","v":0},{"$f":"'[7]2019'!Q77","v":0},{"$f":"'[7]2019'!R77","v":0}," -"," -",1094374,0,0,0," -","6. Agua limpia y saneamiento","APSB",{"$f":"'[1]LÍNEA 6'!AQ58","v":"Sec. Infraestructura"}]
[null,null,null,null,null,null,null,null,null,null,null,null,null,null,null,null,null,null,null,null,null,null,null,null,null,null,null,null,null,null,null,null,null,null,null,null,null,null,null,null,null,null,"Garantizar el 92% de la cobertura del servicio de gas del sector urbano.",{"$f":"'[1]LÍNEA 6'!P59","v":" -"},"Porcentaje de cobertura del servicio de gas del sector urbano garantizado.",0.92,{"$f":"'[1]LÍNEA 6'!S59","v":0.92},{"$f":"'[1]LÍNEA 6'!T59","v":0.92},0.25,{"$f":"'[1]LÍNEA 6'!U59","v":0.92},0.25,{"$f":"'[1]LÍNEA 6'!V59","v":0.92},0.25,{"$f":"'[1]LÍNEA 6'!W59","v":0.92},0.25,{"$f":"'[7]2016'!K71","v":0.92},{"$f":"'[7]2017'!K78","v":0.92},{"$f":"'[7]2018'!K78","v":0.92},{"$f":"'[7]2019'!K78","v":0},1,1,1,1,1,1,0,0,{"$f":"+AVERAGE(BD59:BG59)/AU59","v":0.75},0.75,0.75,{"$f":"'[7]2016'!P71","v":0},{"$f":"'[7]2016'!Q71","v":0},{"$f":"'[7]2016'!R71","v":0}," -"," -",{"$f":"'[7]2017'!P78","v":0},{"$f":"'[7]2017'!Q78","v":0},{"$f":"'[7]2017'!R78","v":0}," -"," -",{"$f":"'[7]2018'!P78","v":0},{"$f":"'[7]2018'!Q78","v":0},{"$f":"'[7]2018'!R78","v":0}," -"," -",{"$f":"'[7]2019'!P78","v":0},{"$f":"'[7]2019'!Q78","v":0},{"$f":"'[7]2019'!R78","v":0}," -"," -",0,0,0," -"," -","1. Fin de la pobreza","Servicios Públicos",{"$f":"'[1]LÍNEA 6'!AQ59","v":"Sec. Infraestructura"}]
[null,null,null,null,null,"Aumentar al 25% la cobertura de agua potable en el sector rural.",0.2,0.25,{"$f":"+H60-G60","v":4.9999999999999989E-2},0.2,{"$f":"+J60-G60","v":0},null,0.2,{"$f":"+M60-J60","v":0},null,0.22,{"$f":"+P60-M60","v":1.999999999999999E-2},null,0.25,{"$f":"+S60-P60","v":0.03},null,0.14000000000000001,{"$f":"+IF(V60=0,0,V60-G60)","v":-0.06},null,{"$f":"+IF(X60=0,0,X60-V60)","v":0},null,{"$f":"+IF(Z60=0,0,Z60-X60)","v":0},null,{"$f":"+IF(AB60=0,0,AB60-Z60)","v":0},{"$f":"+IF(K60=0,\" -\",W60/K60)","v":" -"},{"$f":"+IF(K60=0,\" -\",IF(AD60>100%,100%,AD60))","v":" -"},{"$f":"+IF(N60=0,\" -\",Y60/N60)","v":" -"},{"$f":"+IF(N60=0,\" -\",IF(AF60>100%,100%,AF60))","v":" -"},{"$f":"+IF(Q60=0,\" -\",AA60/Q60)","v":0},{"$f":"+IF(Q60=0,\" -\",IF(AH60>100%,100%,AH60))","v":0},{"$f":"+IF(T60=0,\" -\",AC60/T60)","v":0},{"$f":"+IF(T60=0,\" -\",IF(AJ60>100%,100%,AJ60))","v":0},{"$f":"+SUM(AC60,AA60,Y60,W60)/I60","v":-1.2000000000000002},{"$f":"+IF(AL60>100%,100%,IF(AL60<0%,0%,AL60))","v":0},null,null,null,"Gestionar el 10% de los proyectos complementarios de obras de conducción para el embalse de Bucaramanga.",{"$f":"'[1]LÍNEA 6'!P60","v":" -"},"Porcentaje de proyectos complementarios de obras de conducción para el embalse de Bucaramanga gestionados.",0,{"$f":"'[1]LÍNEA 6'!S60","v":0.1},{"$f":"'[1]LÍNEA 6'!T60","v":0},0,{"$f":"'[1]LÍNEA 6'!U60","v":0},0,{"$f":"'[1]LÍNEA 6'!V60","v":0},0,{"$f":"'[1]LÍNEA 6'!W60","v":0.1},1,{"$f":"'[7]2016'!K72","v":0},{"$f":"'[7]2017'!K79","v":0},{"$f":"'[7]2018'!K79","v":0},{"$f":"'[7]2019'!K79","v":0}," -"," -"," -"," -"," -"," -",0,0,0,0,0,{"$f":"'[7]2016'!P72","v":0},{"$f":"'[7]2016'!Q72","v":0},{"$f":"'[7]2016'!R72","v":0}," -"," -",{"$f":"'[7]2017'!P79","v":0},{"$f":"'[7]2017'!Q79","v":0},{"$f":"'[7]2017'!R79","v":0}," -"," -",{"$f":"'[7]2018'!P79","v":0},{"$f":"'[7]2018'!Q79","v":0},{"$f":"'[7]2018'!R79","v":0}," -"," -",{"$f":"'[7]2019'!P79","v":0},{"$f":"'[7]2019'!Q79","v":0},{"$f":"'[7]2019'!R79","v":0}," -"," -",0,0,0," -"," -","9. Industria, innovación e infraestructura","APSB",{"$f":"'[1]LÍNEA 6'!AQ60","v":"Sec. Infraestructura"}]
[null,null,null,null,null,null,null,null,null,null,null,null,null,null,null,null,null,null,null,null,null,null,null,null,null,null,null,null,null,null,null,null,null,null,null,null,null,null,null,null,{"$f":"+RESUMEN!J145","v":0.48171701388888888},"ALUMBRADO PÚBLICO URBANO Y RURAL","Sustituir a LED 36.000 luminarias.",{"$f":"'[1]LÍNEA 6'!P61","v":2210666},"Número de luminarias sustituidas a LED.",4257,{"$f":"'[1]LÍNEA 6'!S61","v":36000},{"$f":"'[1]LÍNEA 6'!T61","v":0},0,{"$f":"'[1]LÍNEA 6'!U61","v":12000},0.33333333333333331,{"$f":"'[1]LÍNEA 6'!V61","v":12000},0.33333333333333331,{"$f":"'[1]LÍNEA 6'!W61","v":12000},0.33333333333333331,{"$f":"'[7]2016'!K73","v":0},{"$f":"'[7]2017'!K80","v":2077},{"$f":"'[7]2018'!K80","v":0},{"$f":"'[7]2019'!K80","v":0}," -"," -",0.17308333333333334,0.17308333333333334,0,0,0,0,5.7694444444444444E-2,5.7694444444444444E-2,5.7694444444444444E-2,{"$f":"'[7]2016'!P73","v":0},{"$f":"'[7]2016'!Q73","v":0},{"$f":"'[7]2016'!R73","v":0}," -"," -",{"$f":"'[7]2017'!P80","v":22496670},{"$f":"'[7]2017'!Q80","v":2872155},{"$f":"'[7]2017'!R80","v":0},0.12767022852715534," -",{"$f":"'[7]2018'!P80","v":35000000},{"$f":"'[7]2018'!Q80","v":33000},{"$f":"'[7]2018'!R80","v":0},9.4285714285714285E-4," -",{"$f":"'[7]2019'!P80","v":19624000},{"$f":"'[7]2019'!Q80","v":0},{"$f":"'[7]2019'!R80","v":0},0," -",77120670,2905155,0,3.7670251049426826E-2," -","7. Energía asequible y no contaminante","Servicios Públicos",{"$f":"'[1]LÍNEA 6'!AQ61","v":"Sec. Infraestructura"}]
[null,null,null,null,null,null,null,null,null,null,null,null,null,null,null,null,null,null,null,null,null,null,null,null,null,null,null,null,null,null,null,null,null,null,null,null,null,null,null,null,null,null,"Expandir 1.000 luminarias.",{"$f":"'[1]LÍNEA 6'!P62","v":2210666},"Número de luminarias expandidas.",4500,{"$f":"'[1]LÍNEA 6'!S62","v":1000},{"$f":"'[1]LÍNEA 6'!T62","v":200},0.2,{"$f":"'[1]LÍNEA 6'!U62","v":200},0.2,{"$f":"'[1]LÍNEA 6'!V62","v":300},0.3,{"$f":"'[1]LÍNEA 6'!W62","v":300},0.3,{"$f":"'[7]2016'!K74","v":0},{"$f":"'[7]2017'!K81","v":1324},{"$f":"'[7]2018'!K81","v":0},{"$f":"'[7]2019'!K81","v":0},0,0,6.62,1,0,0,0,0,1.3240000000000001,1,1,{"$f":"'[7]2016'!P74","v":16657142},{"$f":"'[7]2016'!Q74","v":0},{"$f":"'[7]2016'!R74","v":0},0," -",{"$f":"'[7]2017'!P81","v":21802214},{"$f":"'[7]2017'!Q81","v":12778115},{"$f":"'[7]2017'!R81","v":0},0.58609254087681184," -",{"$f":"'[7]2018'!P81","v":8017948},{"$f":"'[7]2018'!Q81","v":385863},{"$f":"'[7]2018'!R81","v":0},4.8124906771657788E-2," -",{"$f":"'[7]2019'!P81","v":2445712},{"$f":"'[7]2019'!Q81","v":0},{"$f":"'[7]2019'!R81","v":0},0," -",48923016,13163978,0,0.26907535708755159," -","7. Energía asequible y no contaminante","Servicios Públicos",{"$f":"'[1]LÍNEA 6'!AQ62","v":"Sec. Infraestructura"}]
[null,null,null,null,null,"Aumentar al 94% la cobertura de saneamiento básico en el sector rural.",0.9,0.94,{"$f":"+H63-G63","v":3.9999999999999925E-2},0.9,{"$f":"+J63-G63","v":0},null,0.91,{"$f":"+M63-J63","v":1.0000000000000009E-2},null,0.92,{"$f":"+P63-M63","v":1.0000000000000009E-2},null,0.94,{"$f":"+S63-P63","v":1.9999999999999907E-2},null,0.9,{"$f":"+IF(V63=0,0,V63-G63)","v":0},null,{"$f":"+IF(X63=0,0,X63-V63)","v":0},null,{"$f":"+IF(Z63=0,0,Z63-X63)","v":0},null,{"$f":"+IF(AB63=0,0,AB63-Z63)","v":0},{"$f":"+IF(K63=0,\" -\",W63/K63)","v":" -"},{"$f":"+IF(K63=0,\" -\",IF(AD63>100%,100%,AD63))","v":" -"},{"$f":"+IF(N63=0,\" -\",Y63/N63)","v":0},{"$f":"+IF(N63=0,\" -\",IF(AF63>100%,100%,AF63))","v":0},{"$f":"+IF(Q63=0,\" -\",AA63/Q63)","v":0},{"$f":"+IF(Q63=0,\" -\",IF(AH63>100%,100%,AH63))","v":0},{"$f":"+IF(T63=0,\" -\",AC63/T63)","v":0},{"$f":"+IF(T63=0,\" -\",IF(AJ63>100%,100%,AJ63))","v":0},{"$f":"+SUM(AC63,AA63,Y63,W63)/I63","v":0},{"$f":"+IF(AL63>100%,100%,IF(AL63<0%,0%,AL63))","v":0},null,null,null,"Elaborar 1 proyecto de acuerdo municipal para la exención del alumbrado público de la zona residencial rural.",{"$f":"'[1]LÍNEA 6'!P63","v":" -"},"Número de proyectos de acuerdos municipales elaborados para la exención del alumbrado público de la zona residencial rural.",0,{"$f":"'[1]LÍNEA 6'!S63","v":1},{"$f":"'[1]LÍNEA 6'!T63","v":0},0,{"$f":"'[1]LÍNEA 6'!U63","v":1},1,{"$f":"'[1]LÍNEA 6'!V63","v":0},0,{"$f":"'[1]LÍNEA 6'!W63","v":0},0,{"$f":"'[7]2016'!$K$75","v":0},{"$f":"'[5]2017'!$K$24","v":1},{"$f":"'[5]2018'!$K$24","v":0},{"$f":"'[5]2019'!$K$24","v":0}," -"," -",1,1," -"," -"," -"," -",1,1,1,{"$f":"'[7]2016'!P75","v":0},{"$f":"'[7]2016'!Q75","v":0},{"$f":"'[7]2016'!R75","v":0}," -"," -",{"$f":"'[5]2017'!P24","v":0},{"$f":"'[5]2017'!Q24","v":0},{"$f":"'[5]2017'!R24","v":0}," -"," -",{"$f":"'[5]2018'!P24","v":0},{"$f":"'[5]2018'!Q24","v":0},{"$f":"'[5]2018'!R24","v":0}," -"," -",{"$f":"'[5]2019'!P24","v":0},{"$f":"'[5]2019'!Q24","v":0},{"$f":"'[5]2019'!R24","v":0}," -"," -",0,0,0," -"," -","7. Energía asequible y no contaminante","Servicios Públicos",{"$f":"'[1]LÍNEA 6'!AQ63","v":"Sec. Hacienda"}]
[null,null,null,null,null,null,null,null,null,null,null,null,null,null,null,null,null,null,null,null,null,null,null,null,null,null,null,null,null,null,null,null,null,null,null,null,null,null,null,null,null,null,"Instalar y poner en marcha 50 puntos de telemedida.",{"$f":"'[1]LÍNEA 6'!P64","v":2210666},"Número de puntos de telemedida instalados y puestos en marcha.",110,{"$f":"'[1]LÍNEA 6'!S64","v":50},{"$f":"'[1]LÍNEA 6'!T64","v":0},0,{"$f":"'[1]LÍNEA 6'!U64","v":15},0.3,{"$f":"'[1]LÍNEA 6'!V64","v":15},0.3,{"$f":"'[1]LÍNEA 6'!W64","v":20},0.4,{"$f":"'[7]2016'!K76","v":0},{"$f":"'[7]2017'!K82","v":16},{"$f":"'[7]2018'!K82","v":0},{"$f":"'[7]2019'!K82","v":0}," -"," -",1.0666666666666667,1,0,0,0,0,0.32,0.32,0.32,{"$f":"'[7]2016'!P76","v":100000},{"$f":"'[7]2016'!Q76","v":0},{"$f":"'[7]2016'!R76","v":0},0," -",{"$f":"'[7]2017'!P82","v":1843848},{"$f":"'[7]2017'!Q82","v":376392},{"$f":"'[7]2017'!R82","v":0},0.20413396332018691," -",{"$f":"'[7]2018'!P82","v":400000},{"$f":"'[7]2018'!Q82","v":35400},{"$f":"'[7]2018'!R82","v":0},8.8499999999999995E-2," -",{"$f":"'[7]2019'!P82","v":532400},{"$f":"'[7]2019'!Q82","v":0},{"$f":"'[7]2019'!R82","v":0},0," -",2876248,411792,0,0.14316985183475139," -","9. Industria, innovación e infraestructura","Servicios Públicos",{"$f":"'[1]LÍNEA 6'!AQ64","v":"Sec. Infraestructura"}]
[null,null,null,null,null,null,null,null,null,null,null,null,null,null,null,null,null,null,null,null,null,null,null,null,null,null,null,null,null,null,null,null,null,null,null,null,null,null,null,null,null,null,"Poner en funcionamiento 1 proyecto piloto de energía solar.",{"$f":"'[1]LÍNEA 6'!P65","v":0},"Número de proyectos pilotos de energía solar puestos en funcionamiento.",0,{"$f":"'[1]LÍNEA 6'!S65","v":1},{"$f":"'[1]LÍNEA 6'!T65","v":0},0,{"$f":"'[1]LÍNEA 6'!U65","v":1},1,{"$f":"'[1]LÍNEA 6'!V65","v":0},0,{"$f":"'[1]LÍNEA 6'!W65","v":0},0,{"$f":"'[7]2016'!K77","v":0},{"$f":"'[7]2017'!K83","v":0},{"$f":"'[7]2018'!K83","v":0},{"$f":"'[7]2019'!K83","v":0}," -"," -",0,0," -"," -"," -"," -",0,0,0,{"$f":"'[7]2016'!P77","v":0},{"$f":"'[7]2016'!Q77","v":0},{"$f":"'[7]2016'!R77","v":0}," -"," -",{"$f":"'[7]2017'!P83","v":0},{"$f":"'[7]2017'!Q83","v":0},{"$f":"'[7]2017'!R83","v":0}," -"," -",{"$f":"'[7]2018'!P83","v":0},{"$f":"'[7]2018'!Q83","v":0},{"$f":"'[7]2018'!R83","v":0}," -"," -",{"$f":"'[7]2019'!P83","v":0},{"$f":"'[7]2019'!Q83","v":0},{"$f":"'[7]2019'!R83","v":0}," -"," -",0,0,0," -"," -","7. Energía asequible y no contaminante","Servicios Públicos",{"$f":"'[1]LÍNEA 6'!AQ65","v":"Sec. Infraestructura"}]
[null,null,null,null,null,"Aumentar al 55% la cobertura de gas en el sector rural.",0.5,0.55000000000000004,{"$f":"+H66-G66","v":5.0000000000000044E-2},0.5,{"$f":"+J66-G66","v":0},null,0.51,{"$f":"+M66-J66","v":1.0000000000000009E-2},null,0.53,{"$f":"+P66-M66","v":2.0000000000000018E-2},null,0.55000000000000004,{"$f":"+S66-P66","v":2.0000000000000018E-2},null,0.48,{"$f":"+IF(V66=0,0,V66-G66)","v":-2.0000000000000018E-2},null,{"$f":"+IF(X66=0,0,X66-V66)","v":0},null,{"$f":"+IF(Z66=0,0,Z66-X66)","v":0},null,{"$f":"+IF(AB66=0,0,AB66-Z66)","v":0},{"$f":"+IF(K66=0,\" -\",W66/K66)","v":" -"},{"$f":"+IF(K66=0,\" -\",IF(AD66>100%,100%,AD66))","v":" -"},{"$f":"+IF(N66=0,\" -\",Y66/N66)","v":0},{"$f":"+IF(N66=0,\" -\",IF(AF66>100%,100%,AF66))","v":0},{"$f":"+IF(Q66=0,\" -\",AA66/Q66)","v":0},{"$f":"+IF(Q66=0,\" -\",IF(AH66>100%,100%,AH66))","v":0},{"$f":"+IF(T66=0,\" -\",AC66/T66)","v":0},{"$f":"+IF(T66=0,\" -\",IF(AJ66>100%,100%,AJ66))","v":0},{"$f":"+SUM(AC66,AA66,Y66,W66)/I66","v":-0.4},{"$f":"+IF(AL66>100%,100%,IF(AL66<0%,0%,AL66))","v":0},null,null,null,"Modernizar el alumbrado público de 20 parques y/o escenarios públicos.",{"$f":"'[1]LÍNEA 6'!P66","v":2210666},"Número de parques y/o escenarios públicos modernizados en su alumbrado público.",20,{"$f":"'[1]LÍNEA 6'!S66","v":20},{"$f":"'[1]LÍNEA 6'!T66","v":0},0,{"$f":"'[1]LÍNEA 6'!U66","v":8},0.4,{"$f":"'[1]LÍNEA 6'!V66","v":5},0.25,{"$f":"'[1]LÍNEA 6'!W66","v":7},0.35,{"$f":"'[7]2016'!K78","v":0},{"$f":"'[7]2017'!K84","v":9},{"$f":"'[7]2018'!K84","v":0},{"$f":"'[7]2019'!K84","v":0}," -"," -",1.125,1,0,0,0,0,0.45,0.45,0.45,{"$f":"'[7]2016'!P78","v":900000},{"$f":"'[7]2016'!Q78","v":0},{"$f":"'[7]2016'!R78","v":0},0," -",{"$f":"'[7]2017'!P84","v":3000000},{"$f":"'[7]2017'!Q84","v":1264533},{"$f":"'[7]2017'!R84","v":0},0.42151100000000002," -",{"$f":"'[7]2018'!P84","v":9420000},{"$f":"'[7]2018'!Q84","v":0},{"$f":"'[7]2018'!R84","v":0},0," -",{"$f":"'[7]2019'!P84","v":2100000},{"$f":"'[7]2019'!Q84","v":0},{"$f":"'[7]2019'!R84","v":0},0," -",15420000,1264533,0,8.2006031128404669E-2," -","7. Energía asequible y no contaminante","Servicios Públicos",{"$f":"'[1]LÍNEA 6'!AQ66","v":"Sec. Infraestructura"}]
[null,null,null,null,null,null,null,null,null,null,null,null,null,null,null,null,null,null,null,null,null,null,null,null,null,null,null,null,null,null,null,null,null,null,null,null,null,null,null,null,null,null,"Instalar el alumbrado público al 100% de los nuevos espacios públicos.",{"$f":"'[1]LÍNEA 6'!P67","v":2210666},"Porcentaje de nuevos espacios públicos con alumbrado público instalado.",1,{"$f":"'[1]LÍNEA 6'!S67","v":1},{"$f":"'[1]LÍNEA 6'!T67","v":1},0.25,{"$f":"'[1]LÍNEA 6'!U67","v":1},0.25,{"$f":"'[1]LÍNEA 6'!V67","v":1},0.25,{"$f":"'[1]LÍNEA 6'!W67","v":1},0.25,{"$f":"'[7]2016'!K79","v":0},{"$f":"'[7]2017'!K85","v":1},{"$f":"'[7]2018'!K85","v":0},{"$f":"'[7]2019'!K85","v":0},0,0,1,1,0,0,0,0,{"$f":"+AVERAGE(BD67:BG67)/AU67","v":0.25},0.25,0.25,{"$f":"'[7]2016'!P79","v":7400000},{"$f":"'[7]2016'!Q79","v":0},{"$f":"'[7]2016'!R79","v":0},0," -",{"$f":"'[7]2017'!P85","v":2500000},{"$f":"'[7]2017'!Q85","v":3724543},{"$f":"'[7]2017'!R85","v":0},1.4898172000000001," -",{"$f":"'[7]2018'!P85","v":10789000},{"$f":"'[7]2018'!Q85","v":0},{"$f":"'[7]2018'!R85","v":0},0," -",{"$f":"'[7]2019'!P85","v":2500000},{"$f":"'[7]2019'!Q85","v":0},{"$f":"'[7]2019'!R85","v":0},0," -",23189000,3724543,0,0.1606168010694726," -","7. Energía asequible y no contaminante","Servicios Públicos",{"$f":"'[1]LÍNEA 6'!AQ67","v":"Sec. Infraestructura"}]
[null,null,null,null,null,null,null,null,null,null,null,null,null,null,null,null,null,null,null,null,null,null,null,null,null,null,null,null,null,null,null,null,null,null,null,null,null,null,null,null,null,null,"Mantener en funcionamiento al menos el 96% de las luminarias.",{"$f":"'[1]LÍNEA 6'!P68","v":2210666},"Porcentaje de luminarias que se encuentran en funcionamiento.",0.96,{"$f":"'[1]LÍNEA 6'!S68","v":0.96},{"$f":"'[1]LÍNEA 6'!T68","v":0.96},0.25,{"$f":"'[1]LÍNEA 6'!U68","v":0.96},0.25,{"$f":"'[1]LÍNEA 6'!V68","v":0.96},0.25,{"$f":"'[1]LÍNEA 6'!W68","v":0.96},0.25,{"$f":"'[7]2016'!K80","v":0.98},{"$f":"'[7]2017'!K86","v":1},{"$f":"'[7]2018'!K86","v":1},{"$f":"'[7]2019'!K86","v":0},1.0208333333333333,1,1.0416666666666667,1,1.0416666666666667,1,0,0,0.77604166666666674,0.77604166666666674,0.77604166666666674,{"$f":"'[7]2016'!P80","v":19975000},{"$f":"'[7]2016'!Q80","v":17227921},{"$f":"'[7]2016'!R80","v":0},0.86247414267834799," -",{"$f":"'[7]2017'!P86","v":17680000},{"$f":"'[7]2017'!Q86","v":15839311},{"$f":"'[7]2017'!R86","v":0},0.89588863122171947," -",{"$f":"'[7]2018'!P86","v":17863000},{"$f":"'[7]2018'!Q86","v":8964639},{"$f":"'[7]2018'!R86","v":0},0.50185517550243519," -",{"$f":"'[7]2019'!P86","v":14477000},{"$f":"'[7]2019'!Q86","v":0},{"$f":"'[7]2019'!R86","v":0},0," -",69995000,42031871,0,0.60049819272805205," -","7. Energía asequible y no contaminante","Servicios Públicos",{"$f":"'[1]LÍNEA 6'!AQ68","v":"Sec. Infraestructura"}]
[null,null,null,null,null,null,null,null,null,null,null,null,null,null,null,null,null,null,null,null,null,null,null,null,null,null,null,null,null,null,null,null,null,null,null,null,null,null,null,null,null,null,null,null,null,null,{"$f":"'[1]LÍNEA 6'!S69","v":0},{"$f":"'[1]LÍNEA 6'!T69","v":0},{"$f":"+AVERAGE(AW51:AW68)","v":6.3888888888888884E-2},{"$f":"'[1]LÍNEA 6'!U69","v":0},{"$f":"+AVERAGE(AY51:AY68)","v":0.22613001632723209},{"$f":"'[1]LÍNEA 6'!V69","v":0},0.2251987196012718,{"$f":"'[1]LÍNEA 6'!W69","v":0},0.48478237518260719,null,null,null,null,null,{"$f":"+AVERAGE(BI51:BI68)","v":0.6},null,0.81664166666666671,null,0.18181818181818182,null,0,null,{"$f":"+AVERAGE(BQ51:BQ68)","v":0.28278683473690241}]
[null,null,null,{"$f":"+RESUMEN!J146","v":0.37142857142857144},"INFRAESTRUCTURA TECNOLÓGICA","Lograr que 290.000 personas utilicen internet.",260000,290000,{"$f":"+H70-G70","v":30000},260000,{"$f":"+J70-G70","v":0},null,270000,{"$f":"+M70-J70","v":10000},null,280000,{"$f":"+P70-M70","v":10000},null,290000,{"$f":"+S70-P70","v":10000},null,null,{"$f":"+IF(V70=0,0,V70-G70)","v":0},null,{"$f":"+IF(X70=0,0,X70-V70)","v":0},null,{"$f":"+IF(Z70=0,0,Z70-X70)","v":0},null,{"$f":"+IF(AB70=0,0,AB70-Z70)","v":0},{"$f":"+IF(K70=0,\" -\",W70/K70)","v":" -"},{"$f":"+IF(K70=0,\" -\",IF(AD70>100%,100%,AD70))","v":" -"},{"$f":"+IF(N70=0,\" -\",Y70/N70)","v":0},{"$f":"+IF(N70=0,\" -\",IF(AF70>100%,100%,AF70))","v":0},{"$f":"+IF(Q70=0,\" -\",AA70/Q70)","v":0},{"$f":"+IF(Q70=0,\" -\",IF(AH70>100%,100%,AH70))","v":0},{"$f":"+IF(T70=0,\" -\",AC70/T70)","v":0},{"$f":"+IF(T70=0,\" -\",IF(AJ70>100%,100%,AJ70))","v":0},{"$f":"+SUM(AC70,AA70,Y70,W70)/I70","v":0},{"$f":"+IF(AL70>100%,100%,IF(AL70<0%,0%,AL70))","v":0},null,{"$f":"+RESUMEN!J147","v":0.37142857142857144},"BUCARAMANGA CIUDAD INTELIGENTE QUE APRENDE","Implementar y mantener 1 red de plataforma de carpooling (carro compartido).",{"$f":"'[1]LÍNEA 6'!P70","v":0},"Número de redes de plataforma de carpooling (carro compartido) implementados y mantenidos.",0,{"$f":"'[1]LÍNEA 6'!S70","v":1},{"$f":"'[1]LÍNEA 6'!T70","v":0},0,{"$f":"'[1]LÍNEA 6'!U70","v":0},0.33,{"$f":"'[1]LÍNEA 6'!V70","v":1},0.33,{"$f":"'[1]LÍNEA 6'!W70","v":1},0.34,{"$f":"'[10]2016'!K48","v":0},{"$f":"'[10]2017'!K48","v":0.05},{"$f":"'[10]2018'!K48","v":0},{"$f":"'[10]2019'!K48","v":0}," -"," -"," -"," -",0,0,0,0,0.05,0.05,0.05,{"$f":"'[10]2016'!P48","v":0},{"$f":"'[10]2016'!Q48","v":0},{"$f":"'[10]2016'!R48","v":0}," -"," -",{"$f":"'[10]2017'!P48","v":0},{"$f":"'[10]2017'!Q48","v":0},{"$f":"'[10]2017'!R48","v":0}," -"," -",{"$f":"'[10]2018'!P48","v":0},{"$f":"'[10]2018'!Q48","v":0},{"$f":"'[10]2018'!R48","v":0}," -"," -",{"$f":"'[10]2019'!P48","v":80000},{"$f":"'[10]2019'!Q48","v":0},{"$f":"'[10]2019'!R48","v":0},0," -",80000,0,0,0," -","13. Acción por el clima","Fortalecimiento institucional",{"$f":"'[1]LÍNEA 6'!AQ70","v":"Asesor TIC."}]
[null,null,null,null,null,null,null,null,null,null,null,null,null,null,null,null,null,null,null,null,null,null,null,null,null,null,null,null,null,null,null,null,null,null,null,null,null,null,null,null,null,null,"Diseñar e implementar 4 soluciones Big Data, Open Data y/o ciudades inteligentes.",{"$f":"'[1]LÍNEA 6'!P71","v":0},"Número de soluciones Big Data, Open Data y/o ciudades inteligentes diseñadas e implementadas.",0,{"$f":"'[1]LÍNEA 6'!S71","v":4},{"$f":"'[1]LÍNEA 6'!T71","v":0},0,{"$f":"'[1]LÍNEA 6'!U71","v":1},0.25,{"$f":"'[1]LÍNEA 6'!V71","v":1},0.25,{"$f":"'[1]LÍNEA 6'!W71","v":2},0.5,{"$f":"'[10]2016'!K49","v":0},{"$f":"'[10]2017'!K49","v":0.6},{"$f":"'[10]2018'!K49","v":1},{"$f":"'[10]2019'!K49","v":0}," -"," -",0.6,0.6,1,1,0,0,0.4,0.4,0.4,{"$f":"'[10]2016'!P49","v":0},{"$f":"'[10]2016'!Q49","v":0},{"$f":"'[10]2016'!R49","v":0}," -"," -",{"$f":"'[10]2017'!P49","v":0},{"$f":"'[10]2017'!Q49","v":0},{"$f":"'[10]2017'!R49","v":0}," -"," -",{"$f":"'[10]2018'!P49","v":0},{"$f":"'[10]2018'!Q49","v":0},{"$f":"'[10]2018'!R49","v":0}," -"," -",{"$f":"'[10]2019'!P49","v":133000},{"$f":"'[10]2019'!Q49","v":0},{"$f":"'[10]2019'!R49","v":0},0," -",133000,0,0,0," -","11. Ciudades y comunidades sostenibles","Fortalecimiento institucional",{"$f":"'[1]LÍNEA 6'!AQ71","v":"Asesor TIC."}]
[null,null,null,null,null,null,null,null,null,null,null,null,null,null,null,null,null,null,null,null,null,null,null,null,null,null,null,null,null,null,null,null,null,null,null,null,null,null,null,null,null,null,"Desarrollar 1 modelo de teletrabajo para la Alcaldía y/o para los Institutos Descentralizados.",{"$f":"'[1]LÍNEA 6'!P72","v":0},"Número de modelos de teletrabajo desarrollados para la Alcaldía y/o para los Institutos Descentralizados.",0,{"$f":"'[1]LÍNEA 6'!S72","v":1},{"$f":"'[1]LÍNEA 6'!T72","v":0},0,{"$f":"'[1]LÍNEA 6'!U72","v":1},1,{"$f":"'[1]LÍNEA 6'!V72","v":0},0,{"$f":"'[1]LÍNEA 6'!W72","v":0},0,{"$f":"'[10]2016'!K50","v":0},{"$f":"'[10]2017'!K50","v":0},{"$f":"'[10]2018'!K50","v":0},{"$f":"'[10]2019'!K50","v":0}," -"," -",0,0," -"," -"," -"," -",0,0,0,{"$f":"'[10]2016'!P50","v":0},{"$f":"'[10]2016'!Q50","v":0},{"$f":"'[10]2016'!R50","v":0}," -"," -",{"$f":"'[10]2017'!P50","v":0},{"$f":"'[10]2017'!Q50","v":0},{"$f":"'[10]2017'!R50","v":0}," -"," -",{"$f":"'[10]2018'!P50","v":0},{"$f":"'[10]2018'!Q50","v":0},{"$f":"'[10]2018'!R50","v":0}," -"," -",{"$f":"'[10]2019'!P50","v":0},{"$f":"'[10]2019'!Q50","v":0},{"$f":"'[10]2019'!R50","v":0}," -"," -",0,0,0," -"," -","16. Paz, justicia e instituciones sólidas","Fortalecimiento institucional",{"$f":"'[1]LÍNEA 6'!AQ72","v":"Asesor TIC."}]
[null,null,null,null,null,null,null,null,null,null,null,null,null,null,null,null,null,null,null,null,null,null,null,null,null,null,null,null,null,null,null,null,null,null,null,null,null,null,null,null,null,null,"Desarrollar 1 modelo de seguridad ciudadana en pro de áreas libres de delincuencia.",{"$f":"'[1]LÍNEA 6'!P73","v":0},"Número de modelos de seguridad ciudadana desarrolladas en pro de áreas libres de delincuencia.",0,{"$f":"'[1]LÍNEA 6'!S73","v":1},{"$f":"'[1]LÍNEA 6'!T73","v":0},0,{"$f":"'[1]LÍNEA 6'!U73","v":1},1,{"$f":"'[1]LÍNEA 6'!V73","v":0},0,{"$f":"'[1]LÍNEA 6'!W73","v":0},0,{"$f":"'[10]2016'!K51","v":0},{"$f":"'[10]2017'!K51","v":1},{"$f":"'[10]2018'!K51","v":0},{"$f":"'[10]2019'!K51","v":0}," -"," -",1,1," -"," -"," -"," -",1,1,1,{"$f":"'[10]2016'!P51","v":0},{"$f":"'[10]2016'!Q51","v":0},{"$f":"'[10]2016'!R51","v":0}," -"," -",{"$f":"'[10]2017'!P51","v":0},{"$f":"'[10]2017'!Q51","v":0},{"$f":"'[10]2017'!R51","v":0}," -"," -",{"$f":"'[10]2018'!P51","v":0},{"$f":"'[10]2018'!Q51","v":0},{"$f":"'[10]2018'!R51","v":0}," -"," -",{"$f":"'[10]2019'!P51","v":0},{"$f":"'[10]2019'!Q51","v":0},{"$f":"'[10]2019'!R51","v":0}," -"," -",0,0,0," -"," -","16. Paz, justicia e instituciones sólidas","Fortalecimiento institucional",{"$f":"'[1]LÍNEA 6'!AQ73","v":"Asesor TIC."}]
[null,null,null,null,null,null,null,null,null,null,null,null,null,null,null,null,null,null,null,null,null,null,null,null,null,null,null,null,null,null,null,null,null,null,null,null,null,null,null,null,null,null,"Implementar y mantener 1 estrategia cabal de herramientas de Telemedicina y Teleconsulta en el ISABU.",{"$f":"'[1]LÍNEA 6'!P74","v":" -"},"Número de estrategias de herranientas de Telemedicina y Teleconsulta en el ISABU implementadas y mantenidas.",0,{"$f":"'[1]LÍNEA 6'!S74","v":1},{"$f":"'[1]LÍNEA 6'!T74","v":0},0.25,{"$f":"'[1]LÍNEA 6'!U74","v":1},0.25,{"$f":"'[1]LÍNEA 6'!V74","v":1},0.25,{"$f":"'[1]LÍNEA 6'!W74","v":1},0.25,{"$f":"'[10]2016'!K52","v":0},{"$f":"'[10]2017'!K52","v":0},{"$f":"'[10]2018'!K52","v":0},{"$f":"'[10]2019'!K52","v":0}," -"," -",0,0,0,0,0,0,{"$f":"+AVERAGE(BD74:BG74)/AU74","v":0},0,0,{"$f":"'[10]2016'!P52","v":0},{"$f":"'[10]2016'!Q52","v":0},{"$f":"'[10]2016'!R52","v":0}," -"," -",{"$f":"'[10]2017'!P52","v":0},{"$f":"'[10]2017'!Q52","v":0},{"$f":"'[10]2017'!R52","v":0}," -"," -",{"$f":"'[10]2018'!P52","v":0},{"$f":"'[10]2018'!Q52","v":0},{"$f":"'[10]2018'!R52","v":0}," -"," -",{"$f":"'[10]2019'!P52","v":0},{"$f":"'[10]2019'!Q52","v":0},{"$f":"'[10]2019'!R52","v":0}," -"," -",0,0,0," -"," -","3. Salud y bienestar","Fortalecimiento institucional",{"$f":"'[1]LÍNEA 6'!AQ74","v":"Asesor TIC."}]
[null,null,null,null,null,null,null,null,null,null,null,null,null,null,null,null,null,null,null,null,null,null,null,null,null,null,null,null,null,null,null,null,null,null,null,null,null,null,null,null,null,null,"Habilitar 50 zonas urbanas Wi-Fi.",{"$f":"'[1]LÍNEA 6'!P75","v":0},"Número de zonas urbanas Wi-Fi habilitadas.",9,{"$f":"'[1]LÍNEA 6'!S75","v":50},{"$f":"'[1]LÍNEA 6'!T75","v":0},0,{"$f":"'[1]LÍNEA 6'!U75","v":25},0.5,{"$f":"'[1]LÍNEA 6'!V75","v":25},0.5,{"$f":"'[1]LÍNEA 6'!W75","v":0},0,{"$f":"'[10]2016'!K53","v":0},{"$f":"'[10]2017'!K53","v":20},{"$f":"'[10]2018'!K53","v":25},{"$f":"'[10]2019'!K53","v":0}," -"," -",0.8,0.8,1,1," -"," -",0.9,0.9,0.9,{"$f":"'[10]2016'!P53","v":0},{"$f":"'[10]2016'!Q53","v":0},{"$f":"'[10]2016'!R53","v":0}," -"," -",{"$f":"'[10]2017'!P53","v":0},{"$f":"'[10]2017'!Q53","v":0},{"$f":"'[10]2017'!R53","v":0}," -"," -",{"$f":"'[10]2018'!P53","v":0},{"$f":"'[10]2018'!Q53","v":0},{"$f":"'[10]2018'!R53","v":0}," -"," -",{"$f":"'[10]2019'!P53","v":0},{"$f":"'[10]2019'!Q53","v":0},{"$f":"'[10]2019'!R53","v":0}," -"," -",0,0,0," -"," -","9. Industria, innovación e infraestructura","Fortalecimiento institucional",{"$f":"'[1]LÍNEA 6'!AQ75","v":"Asesor TIC."}]
[null,null,null,null,null,null,null,null,null,null,null,null,null,null,null,null,null,null,null,null,null,null,null,null,null,null,null,null,null,null,null,null,null,null,null,null,null,null,null,null,null,null,"Implementar 1 política nacional sobre el sistema de ciudades.",{"$f":"'[1]LÍNEA 6'!P76","v":" -"},"Número de políticas nacionales implementadas sobre el sistema de ciudades.",0,{"$f":"'[1]LÍNEA 6'!S76","v":1},{"$f":"'[1]LÍNEA 6'!T76","v":0},0,{"$f":"'[1]LÍNEA 6'!U76","v":0},0,{"$f":"'[1]LÍNEA 6'!V76","v":1},1,{"$f":"'[1]LÍNEA 6'!W76","v":0},0,{"$f":"'[10]2016'!K54","v":0},{"$f":"'[10]2017'!K54","v":0.25},{"$f":"'[10]2018'!K54","v":0},{"$f":"'[10]2019'!K54","v":0},{"$f":"IF(AV76=0,\" -\",BD76/AV76)","v":" -"},{"$f":"IF(AV76=0,\" -\",IF(BH76>100%,100%,BH76))","v":" -"},{"$f":"IF(AX76=0,\" -\",BE76/AX76)","v":" -"},{"$f":"IF(AX76=0,\" -\",IF(BJ76>100%,100%,BJ76))","v":" -"},{"$f":"IF(AZ76=0,\" -\",BF76/AZ76)","v":0},{"$f":"IF(AZ76=0,\" -\",IF(BL76>100%,100%,BL76))","v":0},{"$f":"IF(BB76=0,\" -\",BG76/BB76)","v":" -"},{"$f":"IF(BB76=0,\" -\",IF(BN76>100%,100%,BN76))","v":" -"},{"$f":"+SUM(BD76:BG76)/AU76","v":0.25},{"$f":"+IF(BP76>100%,100%,BP76)","v":0.25},{"$f":"+BQ76","v":0.25},{"$f":"'[10]2016'!P54","v":0},{"$f":"'[10]2016'!Q54","v":0},{"$f":"'[10]2016'!R54","v":0}," -"," -",{"$f":"'[10]2017'!P54","v":0},{"$f":"'[10]2017'!Q54","v":0},{"$f":"'[10]2017'!R54","v":0}," -"," -",{"$f":"'[10]2018'!P54","v":0},{"$f":"'[10]2018'!Q54","v":0},{"$f":"'[10]2018'!R54","v":0}," -"," -",{"$f":"'[10]2019'!P54","v":0},{"$f":"'[10]2019'!Q54","v":0},{"$f":"'[10]2019'!R54","v":0}," -"," -",0,0,0," -"," -","11. Ciudades y comunidades sostenibles","Fortalecimiento institucional",{"$f":"'[1]LÍNEA 6'!AQ76","v":"Asesor TIC."}]
[null,null,null,null,null,null,null,null,null,null,null,null,null,null,null,null,null,null,null,null,null,null,null,null,null,null,null,null,null,null,null,null,null,null,null,null,null,null,null,null,null,null,null,null,null,null,null,null,{"$f":"+AVERAGE(AW70:AW76)","v":3.5714285714285712E-2},null,{"$f":"+AVERAGE(AY70:AY76)","v":0.4757142857142857},null,0.33285714285714285,null,0.15571428571428572,null,null,null,null,null,{"$f":"+AVERAGE(BI70:BI76)","v":{"$error":"#DIV/0!"}},null,0.48000000000000009,null,0.4,null,0,null,{"$f":"+AVERAGE(BQ70:BQ76)","v":0.37142857142857144}]
[]
[]
[]
[null,null,null,null,null,null,null,null,null,null,null,null,null,null,null,null,null,null,null,null,null,null,null,null,null,null,null,null,null,null,null,null,null,null,null,null,null,null,null,null,null,null,null,null,null,null,null,null,null,null,null,null,null,null,null,2016,2017,2018,2019,"CA"]
[null,null,null,null,null,null,null,null,null,null,null,null,null,null,null,null,null,null,null,null,null,null,null,null,null,null,null,null,null,null,null,null,null,null,null,null,null,null,null,null,null,null,null,null,null,null,null,null,null,null,null,null,null,"AMB",null,{"$f":"+BI17","v":" -"},{"$f":"+BK17","v":0},{"$f":"+BM17","v":" -"},{"$f":"+BO17","v":" -"},{"$f":"+BQ17","v":0.4}]
[null,null,null,null,null,null,null,null,null,null,null,null,null,null,null,null,null,null,null,null,null,null,null,null,null,null,null,null,null,null,null,null,null,null,null,null,null,null,null,null,null,null,null,null,null,null,null,null,null,null,null,null,null,"Infraestructura",null,{"$f":"+AVERAGE(BI18,BI23:BI24,BI40:BI49,BI51:BI68)","v":0.67999999999999994},{"$f":"+AVERAGE(BK18,BK23:BK24,BK40:BK49,BK51:BK68)","v":0.76946266233766225},{"$f":"+AVERAGE(BM18,BM23:BM24,BM40:BM49,BM51:BM68)","v":0.14285714285714285},{"$f":"+AVERAGE(BO18,BO23:BO24,BO40:BO49,BO51:BO68)","v":0},{"$f":"+AVERAGE(BQ18,BQ23:BQ24,BQ40:BQ49,BQ51:BQ68)","v":0.30671869973970672}]
[null,null,null,null,null,null,null,null,null,null,null,null,null,null,null,null,null,null,null,null,null,null,null,null,null,null,null,null,null,null,null,null,null,null,null,null,null,null,null,null,null,null,null,null,null,null,null,null,null,null,null,null,null,"Metrolínea",null,{"$f":"+AVERAGE(BI11:BI16)","v":1},{"$f":"+AVERAGE(BK11:BK16)","v":1},{"$f":"+AVERAGE(BM11:BM16)","v":0.5625},{"$f":"+AVERAGE(BO11:BO16)","v":0},{"$f":"+AVERAGE(BQ11:BQ16)","v":0.73611111111111105}]
[null,null,null,null,null,null,null,null,null,null,null,null,null,null,null,null,null,null,null,null,null,null,null,null,null,null,null,null,null,null,null,null,null,null,null,null,null,null,null,null,null,null,null,null,null,null,null,null,null,null,null,null,null,"Sistemas",null,{"$f":"+AVERAGE(BI70:BI76)","v":{"$error":"#DIV/0!"}},{"$f":"+AVERAGE(BK70:BK76)","v":0.48000000000000009},{"$f":"+AVERAGE(BM70:BM76)","v":0.4},{"$f":"+AVERAGE(BO70:BO76)","v":0},{"$f":"+AVERAGE(BQ70:BQ76)","v":0.37142857142857144}]
[null,null,null,null,null,null,null,null,null,null,null,null,null,null,null,null,null,null,null,null,null,null,null,null,null,null,null,null,null,null,null,null,null,null,null,null,null,null,null,null,null,null,null,null,null,null,null,null,null,null,null,null,null,"Tránsito",null,{"$f":"+AVERAGE(BI19:BI22,BI25:BI39)","v":0.95},{"$f":"+AVERAGE(BK19:BK22,BK25:BK39)","v":0.94210526315789467},{"$f":"+AVERAGE(BM19:BM22,BM25:BM39)","v":0.76891228070175444},{"$f":"+AVERAGE(BO19:BO22,BO25:BO39)","v":0},{"$f":"+AVERAGE(BQ19:BQ22,BQ25:BQ39)","v":0.73116500711237564}]

{"sheet":"RESUMEN","index":7,"n_rows":181,"n_cols":16,"rows_kept":181,"cut":false,"hidden":false,"merged":[[7,2,7,3],[16,2,16,3],[15,2,15,3],[14,2,14,3],[13,2,13,3],[12,2,12,3],[6,9,6,10],[2,2,2,15],[4,4,5,7],[4,8,5,8],[4,9,5,10],[4,11,4,15],[5,11,5,15],[11,2,11,3],[10,2,10,3],[9,2,9,3],[8,2,8,3],[42,2,42,3],[41,2,41,3],[40,2,40,3],[39,2,39,3],[38,2,38,3],[19,2,19,3],[18,2,18,3],[27,2,27,3],[26,2,26,3],[25,2,25,3],[24,2,24,3],[23,2,23,3],[32,2,32,3],[31,2,31,3],[37,2,37,3],[36,2,36,3],[35,2,35,3],[34,2,34,3],[33,2,33,3],[30,2,30,3],[29,2,29,3],[28,2,28,3],[78,2,78,3],[77,2,77,3],[76,2,76,3],[75,2,75,3],[74,2,74,3],[65,2,65,3],[64,2,64,3],[73,2,73,3],[72,2,72,3],[71,2,71,3],[70,2,70,3],[69,2,69,3],[53,2,53,3],[52,2,52,3],[51,2,51,3],[50,2,50,3],[47,2,47,3],[46,2,46,3],[45,2,45,3],[44,2,44,3],[43,2,43,3],[17,2,17,3],[49,2,49,3],[48,2,48,3],[91,2,91,3],[90,2,90,3],[89,2,89,3],[88,2,88,3],[87,2,87,3],[86,2,86,3],[85,2,85,3],[84,2,84,3],[83,2,83,3],[82,2,82,3],[81,2,81,3],[80,2,80,3],[79,2,79,3],[22,2,22,3],[21,2,21,3],[20,2,20,3],[60,2,60,3],[59,2,59,3],[68,2,68,3],[67,2,67,3],[66,2,66,3],[147,2,147,3],[146,2,146,3],[145,2,145,3],[144,2,144,3],[143,2,143,3],[142,2,142,3],[141,2,141,3],[140,2,140,3],[139,2,139,3],[138,2,138,3],[137,2,137,3],[136,2,136,3],[58,2,58,3],[57,2,57,3],[56,2,56,3],[55,2,55,3],[54,2,54,3],[63,2,63,3],[62,2,62,3],[61,2,61,3],[130,2,130,3],[129,2,129,3],[128,2,128,3],[127,2,127,3],[126,2,126,3],[135,2,135,3],[134,2,134,3],[133,2,133,3],[132,2,132,3],[131,2,131,3],[113,2,113,3],[112,2,112,3],[111,2,111,3],[120,2,120,3],[119,2,119,3],[118,2,118,3],[117,2,117,3],[116,2,116,3],[125,2,125,3],[124,2,124,3],[123,2,123,3],[122,2,122,3],[121,2,121,3],[153,3,153,15],[155,9,155,10],[95,2,95,3],[94,2,94,3],[93,2,93,3],[92,2,92,3],[6,2,6,3],[100,2,100,3],[99,2,99,3],[98,2,98,3],[97,2,97,3],[96,2,96,3],[105,2,105,3],[104,2,104,3],[103,2,103,3],[102,2,102,3],[101,2,101,3],[110,2,110,3],[109,2,109,3],[108,2,108,3],[107,2,107,3],[106,2,106,3],[115,2,115,3],[114,2,114,3]]}
[]
[]
[null,null,"RESUMEN CUMPLIMIENTO PLAN DE DESARROLLO 2016 - 2019"]
[]
[null,null,null,null,"CUMPLIMIENTO POR AÑO",null,null,null,"META","AVANCE EN CUMPLIMIENTO",null,"RECURSOS DEL PLAN DE DESARROLLO (Cifras en Miles de Pesos)"]
[null,null,null,null,null,null,null,null,null,null,null,"2016 - 2019"]
[null,null,null,null,2016,2017,2018,2019,"2016 - 2018","2016 - 2019",null,"RECURSOS PROGRAMADOS","RECURSOS EJECUTADOS","RECURSOS GESTIONADOS","PORCENTAJE EJECUCIÓN","NIVEL DE GESTIÓN"]
[null,1,"LÍNEA ESTRATÉGICA 1: GOBERNANZA DEMOCRÁTICA",null,{"$f":"+AVERAGE(E9,E18,E27,E32)","v":0.91346568362193359},{"$f":"+AVERAGE(F9,F18,F27,F32)","v":0.79179115004101874},0.71309338439338443,0,{"$f":"+AVERAGE(I9,I18,I27,I32)","v":0.75145072845749938},{"$f":"+AVERAGE(J9,J18,J27,J32)","v":0.64881698401554722},{"$f":"+J8","v":0.64881698401554722},{"$f":"+L9+L18+L27+L32","v":144130646.16637051},{"$f":"+M9+M18+M27+M32","v":102491428.316},1771151,{"$f":"IF(L8=0,\"-\",+M8/L8)","v":0.71110087300721447},{"$f":"IF(N8=0,\" -\",IF(M8=0,100%,N8/M8))","v":1.7280967092576899E-2}]
[null,"1.1","GOBIERNO PARTICIPATIVO Y ABIERTO",null,{"$f":"+AVERAGE(E10:E17)","v":0.89917027417027418},{"$f":"+AVERAGE(F10:F17)","v":0.883961444193062},0.74667346542346547,0,{"$f":"+AVERAGE(I10:I17)","v":0.74915973956598958},0.64665825507553443,0.64665825507553443,{"$f":"+SUM(L10:L17)","v":19614635},{"$f":"+SUM(M10:M17)","v":9069613},293441,0.46239009800590225,{"$f":"IF(N9=0,\" -\",IF(M9=0,100%,N9/M9))","v":3.2354302217746225E-2}]
[null,"1.1.1","Nuevos Liderazgos",null,{"$f":"+IF(SUM('LÍNEA 1'!AV11:AV13)>0,AVERAGE('LÍNEA 1'!BI11:BI13),\" -\")","v":1},{"$f":"+IF(SUM('LÍNEA 1'!AX11:AX13)>0,AVERAGE('LÍNEA 1'!BK11:BK13),\" -\")","v":1},{"$f":"+IF(SUM('LÍNEA 1'!AZ11:AZ13)>0,AVERAGE('LÍNEA 1'!BM11:BM13),\" -\")","v":0.79999999999999993},{"$f":"+IF(SUM('LÍNEA 1'!BB11:BB13)>0,AVERAGE('LÍNEA 1'!BO11:BO13),\" -\")","v":0},{"$f":"+AVERAGE('LÍNEA 1'!AW11:AW13)+AVERAGE('LÍNEA 1'!AY11:AY13)+AVERAGE('LÍNEA 1'!BA11:BA13)","v":0.70809523809523811},{"$f":"+AVERAGE('LÍNEA 1'!BQ11:BQ13)","v":0.65317460317460307},0.65317460317460307,{"$f":"+SUM('LÍNEA 1'!BS11:BS13)+SUM('LÍNEA 1'!BX11:BX13)+(SUM('LÍNEA 1'!CC11:CC13))","v":550384},{"$f":"+SUM('LÍNEA 1'!CN11:CN13)","v":351156},{"$f":"+SUM('LÍNEA 1'!CO11:CO13)","v":0},{"$f":"IF(L10=0,\"-\",+M10/L10)","v":0.63802000058141228},{"$f":"IF(N10=0,\" -\",IF(M10=0,100%,N10/M10))","v":" -"}]
[null,"1.1.2","Presupuestos Incluyentes",null,{"$f":"+IF(SUM('LÍNEA 1'!AV14:AV19)>0,AVERAGE('LÍNEA 1'!BI14:BI19),\" -\")","v":0.83333333333333337},{"$f":"+IF(SUM('LÍNEA 1'!AX14:AX19)>0,AVERAGE('LÍNEA 1'!BK14:BK19),\" -\")","v":0.90196078431372551},{"$f":"+IF(SUM('LÍNEA 1'!AZ14:AZ19)>0,AVERAGE('LÍNEA 1'!BM14:BM19),\" -\")","v":0.66666666666666663},{"$f":"+IF(SUM('LÍNEA 1'!BB14:BB19)>0,AVERAGE('LÍNEA 1'!BO14:BO19),\" -\")","v":0},{"$f":"+AVERAGE('LÍNEA 1'!AW14:AW19)+AVERAGE('LÍNEA 1'!AY14:AY19)+AVERAGE('LÍNEA 1'!BA14:BA19)","v":0.75},{"$f":"+AVERAGE('LÍNEA 1'!BQ14:BQ19)","v":0.60049019607843135},0.60049019607843135,{"$f":"+SUM('LÍNEA 1'!BS14:BS19)+SUM('LÍNEA 1'!BX14:BX19)+SUM('LÍNEA 1'!CC14:CC19)","v":7786332},{"$f":"+SUM('LÍNEA 1'!CN14:CN19)","v":791144},{"$f":"+SUM('LÍNEA 1'!CO14:CO19)","v":0},{"$f":"IF(L11=0,\"-\",+M11/L11)","v":0.10160676426332707},{"$f":"IF(N11=0,\" -\",IF(M11=0,100%,N11/M11))","v":" -"}]
[null,"1.1.3","Ciudadanía Empoderada y Debate Público",null,{"$f":"+IF(SUM('LÍNEA 1'!AV20:AV34)>0,AVERAGE('LÍNEA 1'!BI20:BI34),\" -\")","v":0.61363636363636365},{"$f":"+IF(SUM('LÍNEA 1'!AX20:AX34)>0,AVERAGE('LÍNEA 1'!BK20:BK34),\" -\")","v":0.77800000000000002},{"$f":"+IF(SUM('LÍNEA 1'!AZ20:AZ34)>0,AVERAGE('LÍNEA 1'!BM20:BM34),\" -\")","v":0.66025641025641035},{"$f":"+IF(SUM('LÍNEA 1'!BB20:BB34)>0,AVERAGE('LÍNEA 1'!BO20:BO34),\" -\")","v":0},{"$f":"+AVERAGE('LÍNEA 1'!AW20:AW34)+AVERAGE('LÍNEA 1'!AY20:AY34)+AVERAGE('LÍNEA 1'!BA20:BA34)","v":0.76716666666666666},{"$f":"+AVERAGE('LÍNEA 1'!BQ20:BQ34)","v":0.50561111111111112},0.50561111111111112,{"$f":"+SUM('LÍNEA 1'!BS20:BS34)+SUM('LÍNEA 1'!BX20:BX34)+SUM('LÍNEA 1'!CC20:CC34)","v":3969825},{"$f":"+SUM('LÍNEA 1'!CN20:CN34)","v":1677999},{"$f":"+SUM('LÍNEA 1'!CO20:CO34)","v":0},0.42268840566019911,{"$f":"IF(N12=0,\" -\",IF(M12=0,100%,N12/M12))","v":" -"}]
[null,"1.1.4","Instituciones Democráticas de Base Fortalecidas e Incluyentes",null,{"$f":"+IF(SUM('LÍNEA 1'!AV35:AV47)>0,AVERAGE('LÍNEA 1'!BI35:BI47),\" -\")","v":1},{"$f":"+IF(SUM('LÍNEA 1'!AX35:AX47)>0,AVERAGE('LÍNEA 1'!BK35:BK47),\" -\")","v":0.91923076923076918},{"$f":"+IF(SUM('LÍNEA 1'!AZ35:AZ47)>0,AVERAGE('LÍNEA 1'!BM35:BM47),\" -\")","v":0.69090909090909092},{"$f":"+IF(SUM('LÍNEA 1'!BB35:BB47)>0,AVERAGE('LÍNEA 1'!BO35:BO47),\" -\")","v":0},{"$f":"+AVERAGE('LÍNEA 1'!AW35:AW47)+AVERAGE('LÍNEA 1'!AY35:AY47)+AVERAGE('LÍNEA 1'!BA35:BA47)","v":0.78846153846153855},{"$f":"+AVERAGE('LÍNEA 1'!BQ35:BQ47)","v":0.76826923076923082},0.76826923076923082,{"$f":"+SUM('LÍNEA 1'!BS35:BS47)+SUM('LÍNEA 1'!BX35:BX47)+SUM('LÍNEA 1'!CC35:CC47)","v":5268896},{"$f":"+SUM('LÍNEA 1'!CN35:CN47)","v":4690915},{"$f":"+SUM('LÍNEA 1'!CO35:CO47)","v":293441},0.89030320583287281,6.2555173137863296E-2]
[null,"1.1.5","Rendición de Cuentas Permanente e Interactiva",null,{"$f":"+IF(SUM('LÍNEA 1'!AV48:AV56)>0,AVERAGE('LÍNEA 1'!BI48:BI56),\" -\")","v":0.875},{"$f":"+IF(SUM('LÍNEA 1'!AX48:AX56)>0,AVERAGE('LÍNEA 1'!BK48:BK56),\" -\")","v":1},{"$f":"+IF(SUM('LÍNEA 1'!AZ48:AZ56)>0,AVERAGE('LÍNEA 1'!BM48:BM56),\" -\")","v":0.77777777777777779},{"$f":"+IF(SUM('LÍNEA 1'!BB48:BB56)>0,AVERAGE('LÍNEA 1'!BO48:BO56),\" -\")","v":0},{"$f":"+AVERAGE('LÍNEA 1'!AW48:AW56)+AVERAGE('LÍNEA 1'!AY48:AY56)+AVERAGE('LÍNEA 1'!BA48:BA56)","v":0.73603174603174604},{"$f":"+AVERAGE('LÍNEA 1'!BQ48:BQ56)","v":0.64947089947089942},0.64947089947089942,{"$f":"+SUM('LÍNEA 1'!BS48:BS56)+SUM('LÍNEA 1'!BX48:BX56)+SUM('LÍNEA 1'!CC48:CC56)","v":0},{"$f":"+SUM('LÍNEA 1'!CN48:CN56)","v":0},{"$f":"+SUM('LÍNEA 1'!CO48:CO56)","v":0},"-"," -"]
[null,"1.1.6","Cultura Metropolitana y Ciudad Región: Participación que Atraviesa Fronteras",null,{"$f":"+IF(SUM('LÍNEA 1'!AV57:AV60)>0,AVERAGE('LÍNEA 1'!BI57:BI60),\" -\")","v":" -"},{"$f":"+IF(SUM('LÍNEA 1'!AX57:AX60)>0,AVERAGE('LÍNEA 1'!BK57:BK60),\" -\")","v":0.71250000000000002},{"$f":"+IF(SUM('LÍNEA 1'!AZ57:AZ60)>0,AVERAGE('LÍNEA 1'!BM57:BM60),\" -\")","v":0.5},{"$f":"+IF(SUM('LÍNEA 1'!BB57:BB60)>0,AVERAGE('LÍNEA 1'!BO57:BO60),\" -\")","v":0},{"$f":"+AVERAGE('LÍNEA 1'!AW57:AW60)+AVERAGE('LÍNEA 1'!AY57:AY60)+AVERAGE('LÍNEA 1'!BA57:BA60)","v":0.65625},{"$f":"+AVERAGE('LÍNEA 1'!BQ57:BQ60)","v":0.56874999999999998},0.56874999999999998,{"$f":"+SUM('LÍNEA 1'!BS57:BS60)+SUM('LÍNEA 1'!BX57:BX60)+SUM('LÍNEA 1'!CC57:CC60)","v":21000},{"$f":"+SUM('LÍNEA 1'!CN57:CN60)","v":13000},{"$f":"+SUM('LÍNEA 1'!CO57:CO60)","v":0},0.61904761904761907," -"]
[null,"1.1.7","Gobierno Transparente",null,{"$f":"+IF(SUM('LÍNEA 1'!AV61:AV71)>0,AVERAGE('LÍNEA 1'!BI61:BI71),\" -\")","v":0.97222222222222221},{"$f":"+IF(SUM('LÍNEA 1'!AX61:AX71)>0,AVERAGE('LÍNEA 1'!BK61:BK71),\" -\")","v":0.9},{"$f":"+IF(SUM('LÍNEA 1'!AZ61:AZ71)>0,AVERAGE('LÍNEA 1'!BM61:BM71),\" -\")","v":0.87777777777777777},{"$f":"+IF(SUM('LÍNEA 1'!BB61:BB71)>0,AVERAGE('LÍNEA 1'!BO61:BO71),\" -\")","v":0},{"$f":"+AVERAGE('LÍNEA 1'!AW61:AW71)+AVERAGE('LÍNEA 1'!AY61:AY71)+AVERAGE('LÍNEA 1'!BA61:BA71)","v":0.78727272727272724},{"$f":"+AVERAGE('LÍNEA 1'!BQ61:BQ71)","v":0.66249999999999998},0.66249999999999998,{"$f":"+SUM('LÍNEA 1'!BS61:BS71)+SUM('LÍNEA 1'!BX61:BX71)+SUM('LÍNEA 1'!CC61:CC71)","v":1943644},{"$f":"+SUM('LÍNEA 1'!CN61:CN71)","v":1470845},{"$f":"+SUM('LÍNEA 1'!CO61:CO71)","v":0},0.75674609136241," -"]
[null,"1.1.8","Gobierno Comprensible y Accesible",null,{"$f":"+IF(SUM('LÍNEA 1'!AV72:AV76)>0,AVERAGE('LÍNEA 1'!BI72:BI76),\" -\")","v":1},{"$f":"+IF(SUM('LÍNEA 1'!AX72:AX76)>0,AVERAGE('LÍNEA 1'!BK72:BK76),\" -\")","v":0.86},{"$f":"+IF(SUM('LÍNEA 1'!AZ72:AZ76)>0,AVERAGE('LÍNEA 1'!BM72:BM76),\" -\")","v":1},{"$f":"+IF(SUM('LÍNEA 1'!BB72:BB76)>0,AVERAGE('LÍNEA 1'!BO72:BO76),\" -\")","v":0},{"$f":"+AVERAGE('LÍNEA 1'!AW72:AW76)+AVERAGE('LÍNEA 1'!AY72:AY76)+AVERAGE('LÍNEA 1'!BA72:BA76)","v":0.8},{"$f":"+AVERAGE('LÍNEA 1'!BQ72:BQ76)","v":0.76500000000000001},0.76500000000000001,{"$f":"+SUM('LÍNEA 1'!BS72:BS76)+SUM('LÍNEA 1'!BX72:BX76)+SUM('LÍNEA 1'!CC72:CC76)","v":74554},{"$f":"+SUM('LÍNEA 1'!CN72:CN76)","v":74554},{"$f":"+SUM('LÍNEA 1'!CO72:CO76)","v":0},1," -"]
[null,"1.2","GOBIERNO LEGAL Y EFECTIVO",null,{"$f":"+AVERAGE(E19:E26)","v":0.85163690476190479},{"$f":"+AVERAGE(F19:F26)","v":0.81696109247894966},0.71220959595959599,0,{"$f":"+AVERAGE(I19:I26)","v":0.76835428537511874},0.59149162543109912,0.59149162543109912,{"$f":"+SUM(L19:L26)","v":104886119.16637053},{"$f":"+SUM(M19:M26)","v":78557702.316},974238,0.74898092274147021,1.2401559252345585E-2]
[null,"1.2.1","Nuevo Modelo de Atención a la Ciudadanía",null,{"$f":"+IF(SUM('LÍNEA 1'!AV78:AV81)>0,AVERAGE('LÍNEA 1'!BI78:BI81),\" -\")","v":1},{"$f":"+IF(SUM('LÍNEA 1'!AX78:AX81)>0,AVERAGE('LÍNEA 1'!BK78:BK81),\" -\")","v":0.75},{"$f":"+IF(SUM('LÍNEA 1'!AZ78:AZ81)>0,AVERAGE('LÍNEA 1'!BM78:BM81),\" -\")","v":0.93333333333333324},{"$f":"+IF(SUM('LÍNEA 1'!BB78:BB81)>0,AVERAGE('LÍNEA 1'!BO78:BO81),\" -\")","v":0},{"$f":"+AVERAGE('LÍNEA 1'!AW78:AW81)+AVERAGE('LÍNEA 1'!AY78:AY81)+AVERAGE('LÍNEA 1'!BA78:BA81)","v":0.85250000000000004},{"$f":"+AVERAGE('LÍNEA 1'!BQ78:BQ81)","v":0.57916666666666661},0.57916666666666661,{"$f":"+SUM('LÍNEA 1'!BS78:BS81)+SUM('LÍNEA 1'!BX78:BX81)+SUM('LÍNEA 1'!CC78:CC81)","v":1751669},{"$f":"+SUM('LÍNEA 1'!CN78:CN81)","v":992651},{"$f":"+SUM('LÍNEA 1'!CO78:CO81)","v":0},0.56668868376388459," -"]
[null,"1.2.2","Acciones Constitucionales y Acciones Legales: Respuesta y Gestión Social y Estratégica",null,{"$f":"+IF(SUM('LÍNEA 1'!AV82:AV84)>0,AVERAGE('LÍNEA 1'!BI82:BI84),\" -\")","v":0.66666666666666663},{"$f":"+IF(SUM('LÍNEA 1'!AX82:AX84)>0,AVERAGE('LÍNEA 1'!BK82:BK84),\" -\")","v":1},{"$f":"+IF(SUM('LÍNEA 1'!AZ82:AZ84)>0,AVERAGE('LÍNEA 1'!BM82:BM84),\" -\")","v":0.66666666666666663},{"$f":"+IF(SUM('LÍNEA 1'!BB82:BB84)>0,AVERAGE('LÍNEA 1'!BO82:BO84),\" -\")","v":0},{"$f":"+AVERAGE('LÍNEA 1'!AW82:AW84)+AVERAGE('LÍNEA 1'!AY82:AY84)+AVERAGE('LÍNEA 1'!BA82:BA84)","v":0.75},{"$f":"+AVERAGE('LÍNEA 1'!BQ82:BQ84)","v":0.58333333333333337},0.58333333333333337,{"$f":"+SUM('LÍNEA 1'!BS82:BS84)+SUM('LÍNEA 1'!BX82:BX84)+SUM('LÍNEA 1'!CC82:CC84)","v":187400},{"$f":"+SUM('LÍNEA 1'!CN82:CN84)","v":120771},{"$f":"+SUM('LÍNEA 1'!CO82:CO84)","v":0},0.64445570971184629," -"]
[null,"1.2.3","Administración Articulada y Coherente",null,{"$f":"+IF(SUM('LÍNEA 1'!AV85:AV99)>0,AVERAGE('LÍNEA 1'!BI85:BI99),\" -\")","v":1},{"$f":"+IF(SUM('LÍNEA 1'!AX85:AX99)>0,AVERAGE('LÍNEA 1'!BK85:BK99),\" -\")","v":0.84653846153846157},{"$f":"+IF(SUM('LÍNEA 1'!AZ85:AZ99)>0,AVERAGE('LÍNEA 1'!BM85:BM99),\" -\")","v":0.62045454545454537},{"$f":"+IF(SUM('LÍNEA 1'!BB85:BB99)>0,AVERAGE('LÍNEA 1'!BO85:BO99),\" -\")","v":0},{"$f":"+AVERAGE('LÍNEA 1'!AW85:AW99)+AVERAGE('LÍNEA 1'!AY85:AY99)+AVERAGE('LÍNEA 1'!BA85:BA99)","v":0.80911111111111111},{"$f":"+AVERAGE('LÍNEA 1'!BQ85:BQ99)","v":0.62124444444444449},0.62124444444444449,{"$f":"+SUM('LÍNEA 1'!BS85:BS99)+SUM('LÍNEA 1'!BX85:BX99)+SUM('LÍNEA 1'!CC85:CC99)","v":86377294.25},{"$f":"+SUM('LÍNEA 1'!CN85:CN99)","v":67433543.316},{"$f":"+SUM('LÍNEA 1'!CO85:CO99)","v":618838},0.78068598815828272,9.1770055312096876E-3]
[null,"1.2.4","Una Ciudad Visible que toma Decisiones Inteligentes",null,{"$f":"+IF(SUM('LÍNEA 1'!AV100:AV112)>0,AVERAGE('LÍNEA 1'!BI100:BI112),\" -\")","v":0.5714285714285714},{"$f":"+IF(SUM('LÍNEA 1'!AX100:AX112)>0,AVERAGE('LÍNEA 1'!BK100:BK112),\" -\")","v":0.47727272727272729},{"$f":"+IF(SUM('LÍNEA 1'!AZ100:AZ112)>0,AVERAGE('LÍNEA 1'!BM100:BM112),\" -\")","v":0.8},{"$f":"+IF(SUM('LÍNEA 1'!BB100:BB112)>0,AVERAGE('LÍNEA 1'!BO100:BO112),\" -\")","v":0},{"$f":"+AVERAGE('LÍNEA 1'!AW100:AW112)+AVERAGE('LÍNEA 1'!AY100:AY112)+AVERAGE('LÍNEA 1'!BA100:BA112)","v":0.69769230769230761},{"$f":"+AVERAGE('LÍNEA 1'!BQ100:BQ112)","v":0.35737179487179493},0.35737179487179493,{"$f":"+SUM('LÍNEA 1'!BS100:BS112)+SUM('LÍNEA 1'!BX100:BX112)+SUM('LÍNEA 1'!CC100:CC112)","v":3616003.8841300001},{"$f":"+SUM('LÍNEA 1'!CN100:CN112)","v":1409169},{"$f":"+SUM('LÍNEA 1'!CO100:CO112)","v":344000},0.38970339777138868,0.24411550353435252]
[null,"1.2.5","Finanzas Públicas Sostenibles y Comprensibles para la Ciudadanía",null,{"$f":"+IF(SUM('LÍNEA 1'!AV113:AV117)>0,AVERAGE('LÍNEA 1'!BI113:BI117),\" -\")","v":0.7},{"$f":"+IF(SUM('LÍNEA 1'!AX113:AX117)>0,AVERAGE('LÍNEA 1'!BK113:BK117),\" -\")","v":0.9},{"$f":"+IF(SUM('LÍNEA 1'!AZ113:AZ117)>0,AVERAGE('LÍNEA 1'!BM113:BM117),\" -\")","v":0.53888888888888886},{"$f":"+IF(SUM('LÍNEA 1'!BB113:BB117)>0,AVERAGE('LÍNEA 1'!BO113:BO117),\" -\")","v":0},{"$f":"+AVERAGE('LÍNEA 1'!AW113:AW117)+AVERAGE('LÍNEA 1'!AY113:AY117)+AVERAGE('LÍNEA 1'!BA113:BA117)","v":0.85},{"$f":"+AVERAGE('LÍNEA 1'!BQ113:BQ117)","v":0.72083333333333333},0.72083333333333333,{"$f":"+SUM('LÍNEA 1'!BS113:BS117)+SUM('LÍNEA 1'!BX113:BX117)+SUM('LÍNEA 1'!CC113:CC117)","v":10182841},{"$f":"+SUM('LÍNEA 1'!CN113:CN117)","v":6854405},{"$f":"+SUM('LÍNEA 1'!CO113:CO117)","v":0},0.67313287126844068," -"]
[null,"1.2.6","Gestión Inteligente del Patrimonio Inmobiliario Municipal",null,{"$f":"+IF(SUM('LÍNEA 1'!AV118:AV120)>0,AVERAGE('LÍNEA 1'!BI118:BI120),\" -\")","v":0.92500000000000004},{"$f":"+IF(SUM('LÍNEA 1'!AX118:AX120)>0,AVERAGE('LÍNEA 1'!BK118:BK120),\" -\")","v":0.76800000000000002},{"$f":"+IF(SUM('LÍNEA 1'!AZ118:AZ120)>0,AVERAGE('LÍNEA 1'!BM118:BM120),\" -\")","v":0.55666666666666664},{"$f":"+IF(SUM('LÍNEA 1'!BB118:BB120)>0,AVERAGE('LÍNEA 1'!BO118:BO120),\" -\")","v":0},{"$f":"+AVERAGE('LÍNEA 1'!AW118:AW120)+AVERAGE('LÍNEA 1'!AY118:AY120)+AVERAGE('LÍNEA 1'!BA118:BA120)","v":0.66666666666666663},{"$f":"+AVERAGE('LÍNEA 1'!BQ118:BQ120)","v":0.42799999999999999},0.42799999999999999,{"$f":"+SUM('LÍNEA 1'!BS118:BS120)+SUM('LÍNEA 1'!BX118:BX120)+SUM('LÍNEA 1'!CC118:CC120)","v":0},{"$f":"+SUM('LÍNEA 1'!CN118:CN120)","v":0},{"$f":"+SUM('LÍNEA 1'!CO118:CO120)","v":0},"-"," -"]
[null,"1.2.7","Inspecciones y Comisarías que Funcionan",null,{"$f":"+IF(SUM('LÍNEA 1'!AV121:AV129)>0,AVERAGE('LÍNEA 1'!BI121:BI129),\" -\")","v":1},{"$f":"+IF(SUM('LÍNEA 1'!AX121:AX129)>0,AVERAGE('LÍNEA 1'!BK121:BK129),\" -\")","v":0.79387755102040813},{"$f":"+IF(SUM('LÍNEA 1'!AZ121:AZ129)>0,AVERAGE('LÍNEA 1'!BM121:BM129),\" -\")","v":0.94833333333333325},{"$f":"+IF(SUM('LÍNEA 1'!BB121:BB129)>0,AVERAGE('LÍNEA 1'!BO121:BO129),\" -\")","v":0},{"$f":"+AVERAGE('LÍNEA 1'!AW121:AW129)+AVERAGE('LÍNEA 1'!AY121:AY129)+AVERAGE('LÍNEA 1'!BA121:BA129)","v":0.77086419753086421},{"$f":"+AVERAGE('LÍNEA 1'!BQ121:BQ129)","v":0.66018518518518521},0.66018518518518521,{"$f":"+SUM('LÍNEA 1'!BS121:BS129)+SUM('LÍNEA 1'!BX121:BX129)+SUM('LÍNEA 1'!CC121:CC129)","v":2469624},{"$f":"+SUM('LÍNEA 1'!CN121:CN129)","v":1667343},{"$f":"+SUM('LÍNEA 1'!CO121:CO129)","v":0},0.67514042623492487," -"]
[null,"1.2.8","Cultura de la Legalidad y la Ética Pública",null,{"$f":"+IF(SUM('LÍNEA 1'!AV130:AV135)>0,AVERAGE('LÍNEA 1'!BI130:BI135),\" -\")","v":0.95000000000000007},{"$f":"+IF(SUM('LÍNEA 1'!AX130:AX135)>0,AVERAGE('LÍNEA 1'!BK130:BK135),\" -\")","v":1},{"$f":"+IF(SUM('LÍNEA 1'!AZ130:AZ135)>0,AVERAGE('LÍNEA 1'!BM130:BM135),\" -\")","v":0.6333333333333333},{"$f":"+IF(SUM('LÍNEA 1'!BB130:BB135)>0,AVERAGE('LÍNEA 1'!BO130:BO135),\" -\")","v":0},{"$f":"+AVERAGE('LÍNEA 1'!AW130:AW135)+AVERAGE('LÍNEA 1'!AY130:AY135)+AVERAGE('LÍNEA 1'!BA130:BA135)","v":0.75},{"$f":"+AVERAGE('LÍNEA 1'!BQ130:BQ135)","v":0.7817982456140351},0.7817982456140351,{"$f":"+SUM('LÍNEA 1'!BS130:BS135)+SUM('LÍNEA 1'!BX130:BX135)+SUM('LÍNEA 1'!C130:CC135)","v":301287.0322405278},{"$f":"+SUM('LÍNEA 1'!CN130:CN135)","v":79820},{"$f":"+SUM('LÍNEA 1'!CO130:CO135)","v":11400},0.26493008811702506,0.14282134803307442]
[null,"1.3","GOBIERNO MUNICIPAL EN LÍNEA",null,{"$f":"+AVERAGE(E28:E31)","v":0.99722222222222223},{"$f":"+AVERAGE(F28:F31)","v":0.67874999999999996},0.88749999999999996,0,{"$f":"+AVERAGE(I28:I31)","v":0.72650000000000015},0.77111805555555546,0.77111805555555546,{"$f":"+SUM(L28:L31)","v":100000},{"$f":"+SUM(M28:M31)","v":0},0,0," -"]
[null,"1.3.1","Ciudad Modelo en Gobierno en Línea",null,{"$f":"+IF(SUM('LÍNEA 1'!AV137:AV140)>0,AVERAGE('LÍNEA 1'!BI137:BI140),\" -\")","v":0.9916666666666667},{"$f":"+IF(SUM('LÍNEA 1'!AX137:AX140)>0,AVERAGE('LÍNEA 1'!BK137:BK140),\" -\")","v":0.57499999999999996},{"$f":"+IF(SUM('LÍNEA 1'!AZ137:AZ140)>0,AVERAGE('LÍNEA 1'!BM137:BM140),\" -\")","v":1},{"$f":"+IF(SUM('LÍNEA 1'!BB137:BB140)>0,AVERAGE('LÍNEA 1'!BO137:BO140),\" -\")","v":0},{"$f":"+AVERAGE('LÍNEA 1'!AW137:AW140)+AVERAGE('LÍNEA 1'!AY137:AY140)+AVERAGE('LÍNEA 1'!BA137:BA140)","v":0.75},{"$f":"+AVERAGE('LÍNEA 1'!BQ137:BQ140)","v":0.92974999999999997},0.92974999999999997,{"$f":"+SUM('LÍNEA 1'!BS137:BS140)+SUM('LÍNEA 1'!BX137:BX140)+SUM('LÍNEA 1'!CC137:CC140)","v":100000},{"$f":"+SUM('LÍNEA 1'!CN137:CN140)","v":0},{"$f":"+SUM('LÍNEA 1'!CO137:CO140)","v":0},0," -"]
[null,"1.3.2","Vive Digital para las Ciudadanas y Ciudadanos",null,{"$f":"+IF(SUM('LÍNEA 1'!AV141:AV145)>0,AVERAGE('LÍNEA 1'!BI141:BI145),\" -\")","v":1},{"$f":"+IF(SUM('LÍNEA 1'!AX141:AX145)>0,AVERAGE('LÍNEA 1'!BK141:BK145),\" -\")","v":1},{"$f":"+IF(SUM('LÍNEA 1'!AZ141:AZ145)>0,AVERAGE('LÍNEA 1'!BM141:BM145),\" -\")","v":0.8},{"$f":"+IF(SUM('LÍNEA 1'!BB141:BB145)>0,AVERAGE('LÍNEA 1'!BO141:BO145),\" -\")","v":0},{"$f":"+AVERAGE('LÍNEA 1'!AW141:AW145)+AVERAGE('LÍNEA 1'!AY141:AY145)+AVERAGE('LÍNEA 1'!BA141:BA145)","v":0.72766666666666668},{"$f":"+AVERAGE('LÍNEA 1'!BQ141:BQ145)","v":0.7},0.7,{"$f":"+SUM('LÍNEA 1'!BS141:BS145)+SUM('LÍNEA 1'!BX141:BX145)+SUM('LÍNEA 1'!CC141:CC145)","v":0},{"$f":"+SUM('LÍNEA 1'!CN141:CN145)","v":0},{"$f":"+SUM('LÍNEA 1'!CO141:CO145)","v":0},"-"," -"]
[null,"1.3.3","Gestión y Mejoramiento de los Sistemas de Información",null,{"$f":"+IF(SUM('LÍNEA 1'!AV146:AV147)>0,AVERAGE('LÍNEA 1'!BI146:BI147),\" -\")","v":" -"},{"$f":"+IF(SUM('LÍNEA 1'!AX146:AX147)>0,AVERAGE('LÍNEA 1'!BK146:BK147),\" -\")","v":0.4},{"$f":"+IF(SUM('LÍNEA 1'!AZ146:AZ147)>0,AVERAGE('LÍNEA 1'!BM146:BM147),\" -\")","v":1},{"$f":"+IF(SUM('LÍNEA 1'!BB146:BB147)>0,AVERAGE('LÍNEA 1'!BO146:BO147),\" -\")","v":0},{"$f":"+AVERAGE('LÍNEA 1'!AW146:AW147)+AVERAGE('LÍNEA 1'!AY146:AY147)+AVERAGE('LÍNEA 1'!BA146:BA147)","v":0.625},{"$f":"+AVERAGE('LÍNEA 1'!BQ146:BQ147)","v":0.76249999999999996},0.76249999999999996,{"$f":"+SUM('LÍNEA 1'!BS146:BS147)+SUM('LÍNEA 1'!BX146:BX147)+SUM('LÍNEA 1'!CC146:CC147)","v":0},{"$f":"+SUM('LÍNEA 1'!CN146:CN147)","v":0},{"$f":"+SUM('LÍNEA 1'!CO146:CO147)","v":0},"-"," -"]
[null,"1.3.4","Tecnología para la Interacción Ciudadana",null,{"$f":"+IF(SUM('LÍNEA 1'!AV148:AV150)>0,AVERAGE('LÍNEA 1'!BI148:BI150), \"-\")","v":1},{"$f":"+IF(SUM('LÍNEA 1'!AX148:AX150)>0,AVERAGE('LÍNEA 1'!BK148:BK150), \"-\")","v":0.74},{"$f":"+IF(SUM('LÍNEA 1'!AZ148:AZ150)>0,AVERAGE('LÍNEA 1'!BM148:BM150), \"-\")","v":0.75},{"$f":"+IF(SUM('LÍNEA 1'!BB148:BB150)>0,AVERAGE('LÍNEA 1'!BO148:BO150), \"-\")","v":0},{"$f":"+AVERAGE('LÍNEA 1'!AW148:AW150)+AVERAGE('LÍNEA 1'!AY148:AY150)+AVERAGE('LÍNEA 1'!BA148:BA150)","v":0.80333333333333345},{"$f":"+AVERAGE('LÍNEA 1'!BQ148:BQ150)","v":0.69222222222222218},0.69222222222222218,{"$f":"+SUM('LÍNEA 1'!BS148:BS150)+SUM('LÍNEA 1'!BX148:BX150)+SUM('LÍNEA 1'!CC148:CC150)","v":0},{"$f":"+SUM('LÍNEA 1'!CN148:CN150)","v":0},{"$f":"+SUM('LÍNEA 1'!CO148:CO150)","v":0},"-"," -"]
[null,"1.4","GOBERNANZA URBANA",null,{"$f":"+AVERAGE(E33:E37)","v":0.90583333333333338},{"$f":"+AVERAGE(F33:F37)","v":0.78749206349206347},0.50599047619047632,0,{"$f":"+AVERAGE(I33:I37)","v":0.76178888888888896},0.58599999999999997,0.58599999999999997,{"$f":"+SUM(L33:L37)","v":19529892},{"$f":"+SUM(M33:M37)","v":14864113},503472,0.76109550426597339,3.3871647773398926E-2]
[null,"1.4.1","Ordenamiento Territorial en Marcha",null,{"$f":"+IF(SUM('LÍNEA 1'!AV152:AV160)>0,AVERAGE('LÍNEA 1'!BI152:BI160),\" -\")","v":0.94000000000000006},{"$f":"+IF(SUM('LÍNEA 1'!AX152:AX160)>0,AVERAGE('LÍNEA 1'!BK152:BK160),\" -\")","v":0.82857142857142851},{"$f":"+IF(SUM('LÍNEA 1'!AZ152:AZ160)>0,AVERAGE('LÍNEA 1'!BM152:BM160),\" -\")","v":0.624},{"$f":"+IF(SUM('LÍNEA 1'!BB152:BB160)>0,AVERAGE('LÍNEA 1'!BO152:BO160),\" -\")","v":0},{"$f":"+AVERAGE('LÍNEA 1'!AW152:AW160)+AVERAGE('LÍNEA 1'!AY152:AY160)+AVERAGE('LÍNEA 1'!BA152:BA160)","v":0.77777777777777779},{"$f":"+AVERAGE('LÍNEA 1'!BQ152:BQ160)","v":0.66861111111111116},0.66861111111111116,{"$f":"+SUM('LÍNEA 1'!BS152:BS160)+SUM('LÍNEA 1'!BX152:BX160)+SUM('LÍNEA 1'!CC152:CC160)","v":4201749},{"$f":"+SUM('LÍNEA 1'!CN152:CN160)","v":2304127},{"$f":"+SUM('LÍNEA 1'!CO152:CO160)","v":0},0.54837330835325959," -"]
[null,"1.4.2","Diseño Urbano Inteligente y Sustentable",null,{"$f":"+IF(SUM('LÍNEA 1'!AV161:AV162)>0,AVERAGE('LÍNEA 1'!BI161:BI162),\" -\")","v":1},{"$f":"+IF(SUM('LÍNEA 1'!AX161:AX162)>0,AVERAGE('LÍNEA 1'!BK161:BK162),\" -\")","v":0.79166666666666674},{"$f":"+IF(SUM('LÍNEA 1'!AZ161:AZ162)>0,AVERAGE('LÍNEA 1'!BM161:BM162),\" -\")","v":0.5},{"$f":"+IF(SUM('LÍNEA 1'!BB161:BB162)>0,AVERAGE('LÍNEA 1'!BO161:BO162),\" -\")","v":0},{"$f":"+AVERAGE('LÍNEA 1'!AW161:AW162)+AVERAGE('LÍNEA 1'!AY161:AY162)+AVERAGE('LÍNEA 1'!BA161:BA162)","v":0.79166666666666663},{"$f":"+AVERAGE('LÍNEA 1'!BQ161:BQ162)","v":0.54166666666666663},0.54166666666666663,{"$f":"+SUM('LÍNEA 1'!BS161:BS162)+SUM('LÍNEA 1'!BX161:BX162)+SUM('LÍNEA 1'!CC161:CC162)","v":2362036},{"$f":"+SUM('LÍNEA 1'!CN161:CN162)","v":1373987},{"$f":"+SUM('LÍNEA 1'!CO161:CO162)","v":0},0.5816960452761939," -"]
[null,"1.4.3","Una Ciudad que Hace y Ejecuta Planes",null,{"$f":"+IF(SUM('LÍNEA 1'!AV163:AV170)>0,AVERAGE('LÍNEA 1'!BI163:BI170),\" -\")","v":0.85},{"$f":"+IF(SUM('LÍNEA 1'!AX163:AX170)>0,AVERAGE('LÍNEA 1'!BK163:BK170),\" -\")","v":0.97499999999999998},{"$f":"+IF(SUM('LÍNEA 1'!AZ163:AZ170)>0,AVERAGE('LÍNEA 1'!BM163:BM170),\" -\")","v":0.75},{"$f":"+IF(SUM('LÍNEA 1'!BB163:BB170)>0,AVERAGE('LÍNEA 1'!BO163:BO170),\" -\")","v":0},{"$f":"+AVERAGE('LÍNEA 1'!AW163:AW170)+AVERAGE('LÍNEA 1'!AY163:AY170)+AVERAGE('LÍNEA 1'!BA163:BA170)","v":0.8125},{"$f":"+AVERAGE('LÍNEA 1'!BQ163:BQ170)","v":0.76249999999999996},0.76249999999999996,{"$f":"+SUM('LÍNEA 1'!BS163:BS170)+SUM('LÍNEA 1'!BX163:BX170)+SUM('LÍNEA 1'!CC163:CC170)","v":9199717},{"$f":"+SUM('LÍNEA 1'!CN163:CN170)","v":7454209},{"$f":"+SUM('LÍNEA 1'!CO163:CO170)","v":503472},0.81026503315265019,6.7541975278664707E-2]
[null,"1.4.4","Territorios Vulnerables, Territorios Visibles",null,{"$f":"+IF(SUM('LÍNEA 1'!AV171:AV175)>0,AVERAGE('LÍNEA 1'!BI171:BI175),\" -\")","v":0.83333333333333337},{"$f":"+IF(SUM('LÍNEA 1'!AX171:AX175)>0,AVERAGE('LÍNEA 1'!BK171:BK175),\" -\")","v":0.62222222222222223},{"$f":"+IF(SUM('LÍNEA 1'!AZ171:AZ175)>0,AVERAGE('LÍNEA 1'!BM171:BM175),\" -\")","v":0.21428571428571427},{"$f":"+IF(SUM('LÍNEA 1'!BB171:BB175)>0,AVERAGE('LÍNEA 1'!BO171:BO175),\" -\")","v":0},{"$f":"+AVERAGE('LÍNEA 1'!AW171:AW175)+AVERAGE('LÍNEA 1'!AY171:AY175)+AVERAGE('LÍNEA 1'!BA171:BA175)","v":0.83200000000000007},{"$f":"+AVERAGE('LÍNEA 1'!BQ171:BQ175)","v":0.56000000000000005},0.56000000000000005,{"$f":"+SUM('LÍNEA 1'!BS171:BS175)+SUM('LÍNEA 1'!BX171:BX175)+SUM('LÍNEA 1'!CC171:CC175)","v":223750},{"$f":"+SUM('LÍNEA 1'!CN171:CN175)","v":189150},{"$f":"+SUM('LÍNEA 1'!CO171:CO175)","v":0},0.8453631284916201," -"]
[null,"1.4.5","Territorios Metropolitanos, Planes Conjuntos",null,{"$f":"+IF(SUM('LÍNEA 1'!AV176:AV181)>0,AVERAGE('LÍNEA 1'!BI176:BI181),\" -\")","v":" -"},{"$f":"+IF(SUM('LÍNEA 1'!AX176:AX181)>0,AVERAGE('LÍNEA 1'!BK176:BK181),\" -\")","v":0.72},{"$f":"+IF(SUM('LÍNEA 1'!AZ176:AZ181)>0,AVERAGE('LÍNEA 1'!BM176:BM181),\" -\")","v":0.44166666666666665},{"$f":"+IF(SUM('LÍNEA 1'!BB176:BB181)>0,AVERAGE('LÍNEA 1'!BO176:BO181),\" -\")","v":0},{"$f":"+AVERAGE('LÍNEA 1'!AW176:AW181)+AVERAGE('LÍNEA 1'!AY176:AY181)+AVERAGE('LÍNEA 1'!BA176:BA181)","v":0.59500000000000008},{"$f":"+AVERAGE('LÍNEA 1'!BQ176:BQ181)","v":0.39722222222222214},0.39722222222222214,{"$f":"+SUM('LÍNEA 1'!BS176:BS181)+SUM('LÍNEA 1'!BX176:BX181)+SUM('LÍNEA 1'!CC176:CC181)","v":3542640},{"$f":"+SUM('LÍNEA 1'!CN176:CN181)","v":3542640},{"$f":"+SUM('LÍNEA 1'!CO176:CO181)","v":0},1," -"]
[null,2,"LÍNEA ESTRATÉGICA 2: INCLUSIÓN SOCIAL",null,{"$f":"+AVERAGE(E39,E49,E56,E60)","v":0.80721762045824552},{"$f":"+AVERAGE(F39,F49,F56,F60)","v":0.80686665702160498},0.66044821824780164,0,{"$f":"+AVERAGE(I39,I49,I56,I60)","v":0.70261475562447206},{"$f":"+AVERAGE(J39,J49,J56,J60)","v":0.55760735326538025},0.55760735326538025,{"$f":"+L39+L49+L56+L60","v":113177794},{"$f":"+M39+M49+M56+M60","v":67859937},6040361,0.59958702676251141,8.9012181075263888E-2]
[null,"2.1.","ATENCIÓN PRIORITARIA Y FOCALIZADA A GRUPOS DE POBLACIÓN VULNERABLE",null,{"$f":"+AVERAGE(E40:E48)","v":0.64928774928774924},{"$f":"+AVERAGE(F40:F48)","v":0.85851322751322756},0.53738756613756622,0,{"$f":"+AVERAGE(I40:I48)","v":0.72849603174603184},0.52502948633156976,0.52502948633156976,{"$f":"+SUM(L40:L48)","v":13295593},{"$f":"+SUM(M40:M48)","v":9384732},1178212,0.70585283409322175,0.12554562026917765]
[null,"2.1.1","Habitante de Calle",null,{"$f":"+IF(SUM('LÍNEA 2'!AV11:AV16)>0,AVERAGE('LÍNEA 2'!BI11:BI16),\" -\")","v":0.91666666666666663},{"$f":"+IF(SUM('LÍNEA 2'!AX11:AX16)>0,AVERAGE('LÍNEA 2'!BK11:BK16),\" -\")","v":0.92400000000000004},{"$f":"+IF(SUM('LÍNEA 2'!AZ11:AZ16)>0,AVERAGE('LÍNEA 2'!BM11:BM16),\" -\")","v":0.875},{"$f":"+IF(SUM('LÍNEA 2'!BB11:BB16)>0,AVERAGE('LÍNEA 2'!BO11:BO16),\" -\")","v":0},{"$f":"+AVERAGE('LÍNEA 2'!AW11:AW16)+AVERAGE('LÍNEA 2'!AY11:AY16)+AVERAGE('LÍNEA 2'!BA11:BA16)","v":0.75},{"$f":"+AVERAGE('LÍNEA 2'!BQ11:BQ16)","v":0.78125},{"$f":"+J40","v":0.78125},{"$f":"+SUM('LÍNEA 2'!BS11:BS16)+SUM('LÍNEA 2'!BX11:BX16)+SUM('LÍNEA 2'!CC11:CC16)","v":3293160},{"$f":"+SUM('LÍNEA 2'!CN11:CN16)","v":2940658},{"$f":"+SUM('LÍNEA 2'!CO11:CO16)","v":472171},0.8929593460384555,0.1605664446528634]
[null,"2.1.2","Población con Discapacidad",null,{"$f":"+IF(SUM('LÍNEA 2'!AV17:AV30)>0,AVERAGE('LÍNEA 2'!BI17:BI30),\" -\")","v":0.73858974358974361},{"$f":"+IF(SUM('LÍNEA 2'!AX17:AX30)>0,AVERAGE('LÍNEA 2'!BK17:BK30),\" -\")","v":0.75386904761904761},{"$f":"+IF(SUM('LÍNEA 2'!AZ17:AZ30)>0,AVERAGE('LÍNEA 2'!BM17:BM30),\" -\")","v":0.54529761904761898},{"$f":"+IF(SUM('LÍNEA 2'!BB17:BB30)>0,AVERAGE('LÍNEA 2'!BO17:BO30),\" -\")","v":0},{"$f":"+AVERAGE('LÍNEA 2'!AW17:AW30)+AVERAGE('LÍNEA 2'!AY17:AY30)+AVERAGE('LÍNEA 2'!BA17:BA30)","v":0.74357142857142855},{"$f":"+AVERAGE('LÍNEA 2'!BQ17:BQ30)","v":0.52032738095238096},0.52032738095238096,{"$f":"+SUM('LÍNEA 2'!BS17:BS30)+SUM('LÍNEA 2'!BX17:BX30)+SUM('LÍNEA 2'!CC17:CC30)","v":4077758},{"$f":"+SUM('LÍNEA 2'!CN17:CN30)","v":2950535},{"$f":"+SUM('LÍNEA 2'!CO17:CO30)","v":429062},0.723567950820034,0.14541837327806653]
[null,"2.1.3","Minorías Étnicas",null,{"$f":"+IF(SUM('LÍNEA 2'!AV31:AV32)>0,AVERAGE('LÍNEA 2'!BI31:BI32),\" -\")","v":0.5},{"$f":"+IF(SUM('LÍNEA 2'!AX31:AX32)>0,AVERAGE('LÍNEA 2'!BK31:BK32),\" -\")","v":1},{"$f":"+IF(SUM('LÍNEA 2'!AZ31:AZ32)>0,AVERAGE('LÍNEA 2'!BM31:BM32),\" -\")","v":0},{"$f":"+IF(SUM('LÍNEA 2'!BB31:BB32)>0,AVERAGE('LÍNEA 2'!BO31:BO32),\" -\")","v":0},{"$f":"+AVERAGE('LÍNEA 2'!AW31:AW32)+AVERAGE('LÍNEA 2'!AY31:AY32)+AVERAGE('LÍNEA 2'!BA31:BA32)","v":0.75},{"$f":"+AVERAGE('LÍNEA 2'!BQ31:BQ32)","v":0.375},0.375,{"$f":"+SUM('LÍNEA 2'!BS31:BS32)+SUM('LÍNEA 2'!BX31:BX32)+SUM('LÍNEA 2'!CC31:CC32)","v":0},{"$f":"+SUM('LÍNEA 2'!CN31:CN32)","v":0},{"$f":"+SUM('LÍNEA 2'!CO31:CO32)","v":0},"-"," -"]
[null,"2.1.4","Comunidades LGTBI",null,{"$f":"+IF(SUM('LÍNEA 2'!AV33:AV35)>0,AVERAGE('LÍNEA 2'!BI33:BI35),\" -\")","v":1},{"$f":"+IF(SUM('LÍNEA 2'!AX33:AX35)>0,AVERAGE('LÍNEA 2'!BK33:BK35),\" -\")","v":0.73333333333333339},{"$f":"+IF(SUM('LÍNEA 2'!AZ33:AZ35)>0,AVERAGE('LÍNEA 2'!BM33:BM35),\" -\")","v":0.73333333333333339},{"$f":"+IF(SUM('LÍNEA 2'!BB33:BB35)>0,AVERAGE('LÍNEA 2'!BO33:BO35),\" -\")","v":0},{"$f":"+AVERAGE('LÍNEA 2'!AW33:AW35)+AVERAGE('LÍNEA 2'!AY33:AY35)+AVERAGE('LÍNEA 2'!BA33:BA35)","v":0.72},{"$f":"+AVERAGE('LÍNEA 2'!BQ33:BQ35)","v":0.62777777777777777},0.62777777777777777,{"$f":"+SUM('LÍNEA 2'!BS33:BS35)+SUM('LÍNEA 2'!BX33:BX35)+SUM('LÍNEA 2'!CC33:CC35)","v":105000},{"$f":"+SUM('LÍNEA 2'!CN33:CN35)","v":103265},{"$f":"+SUM('LÍNEA 2'!CO33:CO35)","v":0},0.9834761904761905," -"]
[null,"2.1.5","Prevención y Atención a la Población en Condición de Adicción a Sustancias Psicoactivas",null,{"$f":"+IF(SUM('LÍNEA 2'!AV36:AV38)>0,AVERAGE('LÍNEA 2'!BI36:BI38),\" -\")","v":0},{"$f":"+IF(SUM('LÍNEA 2'!AX36:AX38)>0,AVERAGE('LÍNEA 2'!BK36:BK38),\" -\")","v":1},{"$f":"+IF(SUM('LÍNEA 2'!AZ36:AZ38)>0,AVERAGE('LÍNEA 2'!BM36:BM38),\" -\")","v":0.87333333333333341},{"$f":"+IF(SUM('LÍNEA 2'!BB36:BB38)>0,AVERAGE('LÍNEA 2'!BO36:BO38),\" -\")","v":0},{"$f":"+AVERAGE('LÍNEA 2'!AW36:AW38)+AVERAGE('LÍNEA 2'!AY36:AY38)+AVERAGE('LÍNEA 2'!BA36:BA38)","v":0.72},{"$f":"+AVERAGE('LÍNEA 2'!BQ36:BQ38)","v":0.52388888888888896},0.52388888888888896,{"$f":"+SUM('LÍNEA 2'!BS36:BS38)+SUM('LÍNEA 2'!BX36:BX38)+SUM('LÍNEA 2'!CC36:CC38)","v":218148},{"$f":"+SUM('LÍNEA 2'!CN36:CN38)","v":126994},{"$f":"+SUM('LÍNEA 2'!CO36:CO38)","v":0},0.58214606597355922," -"]
[null,"2.1.6","Trabajadoras y Trabajadores Sexuales",null,{"$f":"+IF(SUM('LÍNEA 2'!AV39:AV42)>0,AVERAGE('LÍNEA 2'!BI39:BI42),\" -\")","v":0},{"$f":"+IF(SUM('LÍNEA 2'!AX39:AX42)>0,AVERAGE('LÍNEA 2'!BK39:BK42),\" -\")","v":0.5},{"$f":"+IF(SUM('LÍNEA 2'!AZ39:AZ42)>0,AVERAGE('LÍNEA 2'!BM39:BM42),\" -\")","v":0},{"$f":"+IF(SUM('LÍNEA 2'!BB39:BB42)>0,AVERAGE('LÍNEA 2'!BO39:BO42),\" -\")","v":0},{"$f":"+AVERAGE('LÍNEA 2'!AW39:AW42)+AVERAGE('LÍNEA 2'!AY39:AY42)+AVERAGE('LÍNEA 2'!BA39:BA42)","v":0.75857142857142856},{"$f":"+AVERAGE('LÍNEA 2'!BQ39:BQ42)","v":0.15476190476190477},0.15476190476190477,{"$f":"+SUM('LÍNEA 2'!BS39:BS42)+SUM('LÍNEA 2'!BX39:BX42)+SUM('LÍNEA 2'!CC39:CC42)","v":30000},{"$f":"+SUM('LÍNEA 2'!CN39:CN42)","v":0},{"$f":"+SUM('LÍNEA 2'!CO39:CO42)","v":0},0," -"]
[null,"2.1.7","Víctimas del Conflicto Interno Armado",null,{"$f":"+IF(SUM('LÍNEA 2'!AV43:AV58)>0,AVERAGE('LÍNEA 2'!BI43:BI58),\" -\")","v":0.85500000000000009},{"$f":"+IF(SUM('LÍNEA 2'!AX43:AX58)>0,AVERAGE('LÍNEA 2'!BK43:BK58),\" -\")","v":0.8354166666666667},{"$f":"+IF(SUM('LÍNEA 2'!AZ43:AZ58)>0,AVERAGE('LÍNEA 2'!BM43:BM58),\" -\")","v":0.6428571428571429},{"$f":"+IF(SUM('LÍNEA 2'!BB43:BB58)>0,AVERAGE('LÍNEA 2'!BO43:BO58),\" -\")","v":0},{"$f":"+AVERAGE('LÍNEA 2'!AW43:AW58)+AVERAGE('LÍNEA 2'!AY43:AY58)+AVERAGE('LÍNEA 2'!BA43:BA58)","v":0.70898809523809525},{"$f":"+AVERAGE('LÍNEA 2'!BQ43:BQ58)","v":0.52503720238095242},0.52503720238095242,{"$f":"+SUM('LÍNEA 2'!BS43:BS58)+SUM('LÍNEA 2'!BX43:BX58)+SUM('LÍNEA 2'!CC43:CC58)","v":4739043},{"$f":"+SUM('LÍNEA 2'!CN43:CN58)","v":2926053},{"$f":"+SUM('LÍNEA 2'!CO43:CO58)","v":189020},0.61743541892318765,6.4598966594248297E-2]
[null,"2.1.8","Población en Proceso de Reintegración",null,{"$f":"+IF(SUM('LÍNEA 2'!AV59:AV61)>0,AVERAGE('LÍNEA 2'!BI59:BI61),\" -\")","v":1},{"$f":"+IF(SUM('LÍNEA 2'!AX59:AX61)>0,AVERAGE('LÍNEA 2'!BK59:BK61),\" -\")","v":1},{"$f":"+IF(SUM('LÍNEA 2'!AZ59:AZ61)>0,AVERAGE('LÍNEA 2'!BM59:BM61),\" -\")","v":0.46666666666666662},{"$f":"+IF(SUM('LÍNEA 2'!BB59:BB61)>0,AVERAGE('LÍNEA 2'!BO59:BO61),\" -\")","v":0},{"$f":"+AVERAGE('LÍNEA 2'!AW59:AW61)+AVERAGE('LÍNEA 2'!AY59:AY61)+AVERAGE('LÍNEA 2'!BA59:BA61)","v":0.69000000000000017},{"$f":"+AVERAGE('LÍNEA 2'!BQ59:BQ61)","v":0.53888888888888886},0.53888888888888886,{"$f":"+SUM('LÍNEA 2'!BS59:BS61)+SUM('LÍNEA 2'!BX59:BX61)+SUM('LÍNEA 2'!CC59:CC61)","v":0},{"$f":"+SUM('LÍNEA 2'!CN59:CN61)","v":0},{"$f":"+SUM('LÍNEA 2'!CO59:CO61)","v":0},"-"," -"]
[null,"2.1.9","Población Carcelaria y Pospenados",null,{"$f":"+IF(SUM('LÍNEA 2'!AV62:AV66)>0,AVERAGE('LÍNEA 2'!BI62:BI66),\" -\")","v":0.83333333333333337},{"$f":"+IF(SUM('LÍNEA 2'!AX62:AX66)>0,AVERAGE('LÍNEA 2'!BK62:BK66),\" -\")","v":0.98000000000000009},{"$f":"+IF(SUM('LÍNEA 2'!AZ62:AZ66)>0,AVERAGE('LÍNEA 2'!BM62:BM66),\" -\")","v":0.7},{"$f":"+IF(SUM('LÍNEA 2'!BB62:BB66)>0,AVERAGE('LÍNEA 2'!BO62:BO66),\" -\")","v":0},{"$f":"+AVERAGE('LÍNEA 2'!AW62:AW66)+AVERAGE('LÍNEA 2'!AY62:AY66)+AVERAGE('LÍNEA 2'!BA62:BA66)","v":0.71533333333333338},{"$f":"+AVERAGE('LÍNEA 2'!BQ62:BQ66)","v":0.67833333333333334},0.67833333333333334,{"$f":"+SUM('LÍNEA 2'!BS62:BS66)+SUM('LÍNEA 2'!BX62:BX66)+SUM('LÍNEA 2'!CC62:CC66)","v":832484},{"$f":"+SUM('LÍNEA 2'!CN62:CN66)","v":337227},{"$f":"+SUM('LÍNEA 2'!CO62:CO66)","v":87959},0.40508526289994762,0.26083024194385385]
[null,"2.2","LOS CAMINOS DE LA VIDA",null,{"$f":"+AVERAGE(E50:E55)","v":0.74069384365634372},{"$f":"+AVERAGE(F50:F55)","v":0.78370273919753097},0.66639871313871313,0,{"$f":"+AVERAGE(I50:I55)","v":0.74556220821662},0.57756337859217766,0.57756337859217766,{"$f":"+SUM(L50:L55)","v":54111753},{"$f":"+SUM(M50:M55)","v":39750378},1152436,0.73459786083810663,2.899182493308617E-2]
[null,"2.2.1","Inicio Feliz (Primera Infancia)",null,{"$f":"+IF(SUM('LÍNEA 2'!AV68:AV81)>0,AVERAGE('LÍNEA 2'!BI68:BI81),\" -\")","v":0.66060606060606064},{"$f":"+IF(SUM('LÍNEA 2'!AX68:AX81)>0,AVERAGE('LÍNEA 2'!BK68:BK81),\" -\")","v":0.8928571428571429},{"$f":"+IF(SUM('LÍNEA 2'!AZ68:AZ81)>0,AVERAGE('LÍNEA 2'!BM68:BM81),\" -\")","v":0.67435897435897429},{"$f":"+IF(SUM('LÍNEA 2'!BB68:BB81)>0,AVERAGE('LÍNEA 2'!BO68:BO81),\" -\")","v":0},{"$f":"+AVERAGE('LÍNEA 2'!AW68:AW81)+AVERAGE('LÍNEA 2'!AY68:AY81)+AVERAGE('LÍNEA 2'!BA68:BA81)","v":0.74488095238095231},{"$f":"+AVERAGE('LÍNEA 2'!BQ68:BQ81)","v":0.63630952380952388},0.63630952380952388,{"$f":"+SUM('LÍNEA 2'!BS68:BS81)+SUM('LÍNEA 2'!BX68:BX81)+SUM('LÍNEA 2'!CC68:CC81)","v":8268128},{"$f":"+SUM('LÍNEA 2'!CN68:CN81)","v":5060681},{"$f":"+SUM('LÍNEA 2'!CO68:CO81)","v":186949},0.61207095487636376,3.6941470920613256E-2]
[null,"2.2.2","Jugando y Aprendiendo (Infancia)",null,{"$f":"+IF(SUM('LÍNEA 2'!AV82:AV90)>0,AVERAGE('LÍNEA 2'!BI82:BI90),\" -\")","v":0.69714015151515152},{"$f":"+IF(SUM('LÍNEA 2'!AX82:AX90)>0,AVERAGE('LÍNEA 2'!BK82:BK90),\" -\")","v":0.98518518518518527},{"$f":"+IF(SUM('LÍNEA 2'!AZ82:AZ90)>0,AVERAGE('LÍNEA 2'!BM82:BM90),\" -\")","v":0.75301616161616169},{"$f":"+IF(SUM('LÍNEA 2'!BB82:BB90)>0,AVERAGE('LÍNEA 2'!BO82:BO90),\" -\")","v":0},{"$f":"+AVERAGE('LÍNEA 2'!AW82:AW90)+AVERAGE('LÍNEA 2'!AY82:AY90)+AVERAGE('LÍNEA 2'!BA82:BA90)","v":0.71666666666666667},{"$f":"+AVERAGE('LÍNEA 2'!BQ82:BQ90)","v":0.6900074074074074},0.6900074074074074,{"$f":"+SUM('LÍNEA 2'!BS82:BS90)+SUM('LÍNEA 2'!BX82:BX90)+SUM('LÍNEA 2'!CC82:CC90)","v":5387332},{"$f":"+SUM('LÍNEA 2'!CN82:CN90)","v":4747471},{"$f":"+SUM('LÍNEA 2'!CO82:CO90)","v":387359},0.88122859329998593,8.1592704831688276E-2]
[null,"2.2.3","Creciendo y Construyendo (Adolescencia)",null,{"$f":"+IF(SUM('LÍNEA 2'!AV91:AV98)>0,AVERAGE('LÍNEA 2'!BI91:BI98),\" -\")","v":0.83333333333333337},{"$f":"+IF(SUM('LÍNEA 2'!AX91:AX98)>0,AVERAGE('LÍNEA 2'!BK91:BK98),\" -\")","v":0.82499999999999996},{"$f":"+IF(SUM('LÍNEA 2'!AZ91:AZ98)>0,AVERAGE('LÍNEA 2'!BM91:BM98),\" -\")","v":0.75},{"$f":"+IF(SUM('LÍNEA 2'!BB91:BB98)>0,AVERAGE('LÍNEA 2'!BO91:BO98),\" -\")","v":0},{"$f":"+AVERAGE('LÍNEA 2'!AW91:AW98)+AVERAGE('LÍNEA 2'!AY91:AY98)+AVERAGE('LÍNEA 2'!BA91:BA98)","v":0.73875000000000002},{"$f":"+AVERAGE('LÍNEA 2'!BQ91:BQ98)","v":0.53281250000000002},0.53281250000000002,{"$f":"+SUM('LÍNEA 2'!BS91:BS98)+SUM('LÍNEA 2'!BX91:BX98)+SUM('LÍNEA 2'!CC91:CC98)","v":6589606},{"$f":"+SUM('LÍNEA 2'!CN91:CN98)","v":5488700},{"$f":"+SUM('LÍNEA 2'!CO91:CO98)","v":123212},0.83293295532388434,2.2448302876819648E-2]
[null,"2.2.4","Jóvenes Vitales (Juventud)",null,{"$f":"+IF(SUM('LÍNEA 2'!AV99:AV105)>0,AVERAGE('LÍNEA 2'!BI99:BI105),\" -\")","v":0.81679999999999997},{"$f":"+IF(SUM('LÍNEA 2'!AX99:AX105)>0,AVERAGE('LÍNEA 2'!BK99:BK105),\" -\")","v":0.7857142857142857},{"$f":"+IF(SUM('LÍNEA 2'!AZ99:AZ105)>0,AVERAGE('LÍNEA 2'!BM99:BM105),\" -\")","v":0.5573095238095237},{"$f":"+IF(SUM('LÍNEA 2'!BB99:BB105)>0,AVERAGE('LÍNEA 2'!BO99:BO105),\" -\")","v":0},{"$f":"+AVERAGE('LÍNEA 2'!AW99:AW105)+AVERAGE('LÍNEA 2'!AY99:AY105)+AVERAGE('LÍNEA 2'!BA99:BA105)","v":0.77476190476190476},{"$f":"+AVERAGE('LÍNEA 2'!BQ99:BQ105)","v":0.5521571428571429},0.5521571428571429,{"$f":"+SUM('LÍNEA 2'!BS99:BS105)+SUM('LÍNEA 2'!BX99:BX105)+SUM('LÍNEA 2'!CC99:CC105)","v":1345450},{"$f":"+SUM('LÍNEA 2'!CN99:CN105)","v":811886},{"$f":"+SUM('LÍNEA 2'!CO99:CO105)","v":0},0.60343082240142698," -"]
[null,"2.2.5","Primero mi Familia",null,{"$f":"+IF(SUM('LÍNEA 2'!AV106:AV110)>0,AVERAGE('LÍNEA 2'!BI106:BI110),\" -\")","v":0.66666666666666663},{"$f":"+IF(SUM('LÍNEA 2'!AX106:AX110)>0,AVERAGE('LÍNEA 2'!BK106:BK110),\" -\")","v":0.4},{"$f":"+IF(SUM('LÍNEA 2'!AZ106:AZ110)>0,AVERAGE('LÍNEA 2'!BM106:BM110),\" -\")","v":0.6},{"$f":"+IF(SUM('LÍNEA 2'!BB106:BB110)>0,AVERAGE('LÍNEA 2'!BO106:BO110),\" -\")","v":0},{"$f":"+AVERAGE('LÍNEA 2'!AW106:AW110)+AVERAGE('LÍNEA 2'!AY106:AY110)+AVERAGE('LÍNEA 2'!BA106:BA110)","v":0.71400000000000008},{"$f":"+AVERAGE('LÍNEA 2'!BQ106:BQ110)","v":0.35},0.35,{"$f":"+SUM('LÍNEA 2'!BS106:BS110)+SUM('LÍNEA 2'!BX106:BX110)+SUM('LÍNEA 2'!CC106:CC110)","v":1789301},{"$f":"+SUM('LÍNEA 2'!CN106:CN110)","v":1554630},{"$f":"+SUM('LÍNEA 2'!CO106:CO110)","v":14207},0.86884766732930907,9.1385088413320215E-3]
[null,"2.2.6","Adulto Mayor Digno",null,{"$f":"+IF(SUM('LÍNEA 2'!AV111:AV127)>0,AVERAGE('LÍNEA 2'!BI111:BI127),\" -\")","v":0.76961684981684997},{"$f":"+IF(SUM('LÍNEA 2'!AX111:AX127)>0,AVERAGE('LÍNEA 2'!BK111:BK127),\" -\")","v":0.81345982142857143},{"$f":"+IF(SUM('LÍNEA 2'!AZ111:AZ127)>0,AVERAGE('LÍNEA 2'!BM111:BM127),\" -\")","v":0.6637076190476191},{"$f":"+IF(SUM('LÍNEA 2'!BB111:BB127)>0,AVERAGE('LÍNEA 2'!BO111:BO127),\" -\")","v":0},{"$f":"+AVERAGE('LÍNEA 2'!AW111:AW127)+AVERAGE('LÍNEA 2'!AY111:AY127)+AVERAGE('LÍNEA 2'!BA111:BA127)","v":0.78431372549019618},{"$f":"+AVERAGE('LÍNEA 2'!BQ111:BQ127)","v":0.70409369747899164},0.70409369747899164,{"$f":"+SUM('LÍNEA 2'!BS111:BS127)+SUM('LÍNEA 2'!BX111:BX127)+SUM('LÍNEA 2'!CC111:CC127)","v":30731936},{"$f":"+SUM('LÍNEA 2'!CN111:CN127)","v":22087010},{"$f":"+SUM('LÍNEA 2'!CO111:CO127)","v":440709},0.71869894561800463,1.9953311924067584E-2]
[null,"2.3","MUJERES Y EQUIDAD DE GÉNERO",null,{"$f":"+AVERAGE(E57:E59)","v":0.88888888888888884},{"$f":"+AVERAGE(F57:F59)","v":0.7947089947089947},0.74887932098765431,0,{"$f":"+AVERAGE(I57:I59)","v":0.76198101462807344},0.5753645243282498,0.5753645243282498,{"$f":"+SUM(L57:L59)","v":666414},{"$f":"+SUM(M57:M59)","v":357330},80350,0.53619821912504839,0.22486217222175581]
[null,"2.3.1","Vida Libre de Violencias",null,{"$f":"+IF(SUM('LÍNEA 2'!AV129:AV137)>0,AVERAGE('LÍNEA 2'!BI129:BI137),\" -\")","v":0.66666666666666663},{"$f":"+IF(SUM('LÍNEA 2'!AX129:AX137)>0,AVERAGE('LÍNEA 2'!BK129:BK137),\" -\")","v":0.88888888888888884},{"$f":"+IF(SUM('LÍNEA 2'!AZ129:AZ137)>0,AVERAGE('LÍNEA 2'!BM129:BM137),\" -\")","v":0.7407407407407407},{"$f":"+IF(SUM('LÍNEA 2'!BB129:BB137)>0,AVERAGE('LÍNEA 2'!BO129:BO137),\" -\")","v":0},{"$f":"+AVERAGE('LÍNEA 2'!AW129:AW137)+AVERAGE('LÍNEA 2'!AY129:AY137)+AVERAGE('LÍNEA 2'!BA129:BA137)","v":0.74633986928104579},{"$f":"+AVERAGE('LÍNEA 2'!BQ129:BQ137)","v":0.60893246187363836},0.60893246187363836,{"$f":"+SUM('LÍNEA 2'!BS129:BS137)+SUM('LÍNEA 2'!BX129:BX137)+SUM('LÍNEA 2'!CC129:CC137)","v":357564},{"$f":"+SUM('LÍNEA 2'!CN129:CN137)","v":198599},{"$f":"+SUM('LÍNEA 2'!CO129:CO137)","v":2200},0.55542224608741375,1.1077598578039164E-2]
[null,"2.3.2","Fortalecimiento de la Participación Política, Económica y Social de las Mujeres",null,{"$f":"+IF(SUM('LÍNEA 2'!AV138:AV144)>0,AVERAGE('LÍNEA 2'!BI138:BI144),\" -\")","v":1},{"$f":"+IF(SUM('LÍNEA 2'!AX138:AX144)>0,AVERAGE('LÍNEA 2'!BK138:BK144),\" -\")","v":0.76190476190476186},{"$f":"+IF(SUM('LÍNEA 2'!AZ138:AZ144)>0,AVERAGE('LÍNEA 2'!BM138:BM144),\" -\")","v":0.83923055555555548},{"$f":"+IF(SUM('LÍNEA 2'!BB138:BB144)>0,AVERAGE('LÍNEA 2'!BO138:BO144),\" -\")","v":0},{"$f":"+AVERAGE('LÍNEA 2'!AW138:AW144)+AVERAGE('LÍNEA 2'!AY138:AY144)+AVERAGE('LÍNEA 2'!BA138:BA144)","v":0.74904761904761907},{"$f":"+AVERAGE('LÍNEA 2'!BQ138:BQ144)","v":0.55327222222222228},0.55327222222222228,{"$f":"+SUM('LÍNEA 2'!BS138:BS144)+SUM('LÍNEA 2'!BX138:BX144)+SUM('LÍNEA 2'!CC138:CC144)","v":308850},{"$f":"+SUM('LÍNEA 2'!CN138:CN144)","v":158731},{"$f":"+SUM('LÍNEA 2'!CO138:CO144)","v":69150},0.51394204306297553,0.43564269109373721]
[null,"2.3.3","Comunicación para la Inclusión de las Mujeres al Desarrollo",null,{"$f":"+IF(SUM('LÍNEA 2'!AV145:AV150)>0,AVERAGE('LÍNEA 2'!BI145:BI150),\" -\")","v":1},{"$f":"+IF(SUM('LÍNEA 2'!AX145:AX150)>0,AVERAGE('LÍNEA 2'!BK145:BK150),\" -\")","v":0.73333333333333339},{"$f":"+IF(SUM('LÍNEA 2'!AZ145:AZ150)>0,AVERAGE('LÍNEA 2'!BM145:BM150),\" -\")","v":0.66666666666666663},{"$f":"+IF(SUM('LÍNEA 2'!BB145:BB150)>0,AVERAGE('LÍNEA 2'!BO145:BO150),\" -\")","v":0},{"$f":"+AVERAGE('LÍNEA 2'!AW145:AW150)+AVERAGE('LÍNEA 2'!AY145:AY150)+AVERAGE('LÍNEA 2'!BA145:BA150)","v":0.79055555555555557},{"$f":"+AVERAGE('LÍNEA 2'!BQ145:BQ150)","v":0.56388888888888888},0.56388888888888888,{"$f":"+SUM('LÍNEA 2'!BS145:BS150)+SUM('LÍNEA 2'!BX145:BX150)+SUM('LÍNEA 2'!CC145:CC150)","v":0},{"$f":"+SUM('LÍNEA 2'!CN145:CN150)","v":0},{"$f":"+SUM('LÍNEA 2'!CO145:CO150)","v":9000},"-",1]
[null,"2.4","HOGARES FELICES",null,{"$f":"+AVERAGE(E61:E64)","v":0.95},{"$f":"+AVERAGE(F61:F64)","v":0.7905416666666667},0.6891272727272727,0,{"$f":"+AVERAGE(I61:I64)","v":0.57441976790716298},0.55247202380952387,0.55247202380952387,{"$f":"+SUM(L61:L64)","v":45104034},{"$f":"+SUM(M61:M64)","v":18367497},3629363,0.40722514975046359,6.5046150243597831E-4]
[null,"2.4.1","Construyendo mi Hogar",null,{"$f":"+IF(SUM('LÍNEA 2'!AV152:AV157)>0,AVERAGE('LÍNEA 2'!BI152:BI157),\" -\")","v":0.8},{"$f":"+IF(SUM('LÍNEA 2'!AX152:AX157)>0,AVERAGE('LÍNEA 2'!BK152:BK157),\" -\")","v":0.71666666666666667},{"$f":"+IF(SUM('LÍNEA 2'!AZ152:AZ157)>0,AVERAGE('LÍNEA 2'!BM152:BM157),\" -\")","v":0.52050909090909092},{"$f":"+IF(SUM('LÍNEA 2'!BB152:BB157)>0,AVERAGE('LÍNEA 2'!BO152:BO157),\" -\")","v":0},{"$f":"+AVERAGE('LÍNEA 2'!AW152:AW157)+AVERAGE('LÍNEA 2'!AY152:AY157)+AVERAGE('LÍNEA 2'!BA152:BA157)","v":0.56519607843137254},{"$f":"+AVERAGE('LÍNEA 2'!BQ152:BQ157)","v":0.58950000000000002},0.58950000000000002,{"$f":"+SUM('LÍNEA 2'!BS152:BS157)+SUM('LÍNEA 2'!BX152:BX157)+SUM('LÍNEA 2'!CC152:CC157)","v":9065282},{"$f":"+SUM('LÍNEA 2'!CN152:CN157)","v":5681165},{"$f":"+SUM('LÍNEA 2'!CO152:CO157)","v":2829363},0.62669479007933782,0.49802514097020595]
[null,"2.4.2","Mejorando mi Hogar",null,{"$f":"+IF(SUM('LÍNEA 2'!AV158:AV159)>0,AVERAGE('LÍNEA 2'!BI158:BI159),\" -\")","v":1},{"$f":"+IF(SUM('LÍNEA 2'!AX158:AX159)>0,AVERAGE('LÍNEA 2'!BK158:BK159),\" -\")","v":1},{"$f":"+IF(SUM('LÍNEA 2'!AZ158:AZ159)>0,AVERAGE('LÍNEA 2'!BM158:BM159),\" -\")","v":0.89999999999999991},{"$f":"+IF(SUM('LÍNEA 2'!BB158:BB159)>0,AVERAGE('LÍNEA 2'!BO158:BO159),\" -\")","v":0},{"$f":"+AVERAGE('LÍNEA 2'!AW158:AW159)+AVERAGE('LÍNEA 2'!AY158:AY159)+AVERAGE('LÍNEA 2'!BA158:BA159)","v":0.55000000000000004},{"$f":"+AVERAGE('LÍNEA 2'!BQ158:BQ159)","v":0.54499999999999993},0.54499999999999993,{"$f":"+SUM('LÍNEA 2'!BS158:BS159)+SUM('LÍNEA 2'!BX158:BX159)+SUM('LÍNEA 2'!CC158:CC159)","v":1560066},{"$f":"+SUM('LÍNEA 2'!CN158:CN159)","v":672107},{"$f":"+SUM('LÍNEA 2'!CO158:CO159)","v":0},0.43081959353001731," -"]
[null,"2.4.3","Formación y Acompañamiento para mi Hogar",null,{"$f":"+IF(SUM('LÍNEA 2'!AV160:AV161)>0,AVERAGE('LÍNEA 2'!BI160:BI161),\" -\")","v":1},{"$f":"+IF(SUM('LÍNEA 2'!AX160:AX161)>0,AVERAGE('LÍNEA 2'!BK160:BK161),\" -\")","v":0.5},{"$f":"+IF(SUM('LÍNEA 2'!AZ160:AZ161)>0,AVERAGE('LÍNEA 2'!BM160:BM161),\" -\")","v":1},{"$f":"+IF(SUM('LÍNEA 2'!BB160:BB161)>0,AVERAGE('LÍNEA 2'!BO160:BO161),\" -\")","v":0},{"$f":"+AVERAGE('LÍNEA 2'!AW160:AW161)+AVERAGE('LÍNEA 2'!AY160:AY161)+AVERAGE('LÍNEA 2'!BA160:BA161)","v":0.74914965986394566},{"$f":"+AVERAGE('LÍNEA 2'!BQ160:BQ161)","v":0.6785714285714286},0.6785714285714286,{"$f":"+SUM('LÍNEA 2'!BS160:BS161)+SUM('LÍNEA 2'!BX160:BX161)+SUM('LÍNEA 2'!CC160:CC161)","v":520226},{"$f":"+SUM('LÍNEA 2'!CN160:CN161)","v":246142},{"$f":"+SUM('LÍNEA 2'!CO160:CO161)","v":0},0.47314436418018324," -"]
[null,"2.4.4","Mejoramiento y Consolidación de la Ciudad Construida",null,{"$f":"+IF(SUM('LÍNEA 2'!AV162:AV165)>0,AVERAGE('LÍNEA 2'!BI162:BI165),\" -\")","v":1},{"$f":"+IF(SUM('LÍNEA 2'!AX162:AX165)>0,AVERAGE('LÍNEA 2'!BK162:BK165),\" -\")","v":0.94550000000000001},{"$f":"+IF(SUM('LÍNEA 2'!AZ162:AZ165)>0,AVERAGE('LÍNEA 2'!BM162:BM165),\" -\")","v":0.33599999999999997},{"$f":"+IF(SUM('LÍNEA 2'!BB162:BB165)>0,AVERAGE('LÍNEA 2'!BO162:BO165),\" -\")","v":0},{"$f":"+AVERAGE('LÍNEA 2'!AW162:AW165)+AVERAGE('LÍNEA 2'!AY162:AY165)+AVERAGE('LÍNEA 2'!BA162:BA165)","v":0.43333333333333335},{"$f":"+AVERAGE('LÍNEA 2'!BQ162:BQ165)","v":0.39681666666666665},0.39681666666666665,{"$f":"+SUM('LÍNEA 2'!BS162:BS165)+SUM('LÍNEA 2'!BX162:BX165)+SUM('LÍNEA 2'!CC162:CC165)","v":33958460},{"$f":"+SUM('LÍNEA 2'!CN162:CN165)","v":11768083},{"$f":"+SUM('LÍNEA 2'!CO162:CO165)","v":800000},0.34654348283167141,6.7980485861630996E-2]
[null,3,"LÍNEA ESTRATÉGICA 3: SOSTENIBILIDAD AMBIENTAL",null,{"$f":"+AVERAGE(E66,E69,E73,E77)","v":0.77458333333333329},{"$f":"+AVERAGE(F66,F69,F73,F77)","v":0.73339743589743578},0.61605710016073933,0,{"$f":"+AVERAGE(I66,I69,I73,I77)","v":0.69820494220334983},{"$f":"+AVERAGE(J66,J69,J73,J77)","v":0.51385916588031766},0.51385916588031766,{"$f":"+L66+L69+L73+L77","v":90749406},{"$f":"+M66+M69+M73+M77","v":47535535},1621172,0.52381097679030542,3.4104423143654534E-2]
[null,"3.1","ESPACIOS VERDES PARA LA DEMOCRACIA",null,{"$f":"+AVERAGE(E67:E68)","v":0.5},{"$f":"+AVERAGE(F67:F68)","v":0.66666666666666663},0.5,0,{"$f":"+AVERAGE(I67:I68)","v":0.63055555555555554},0.28472222222222221,0.28472222222222221,{"$f":"+SUM(L67:L68)","v":16280948},{"$f":"+SUM(M67:M68)","v":899751},0,5.526404236411786E-2," -"]
[null,"3.1.1","Ecosistemas para la Vida",null,{"$f":"+IF(SUM('LÍNEA 3'!AV11:AV13)>0,AVERAGE('LÍNEA 3'!BI11:BI13),\" -\")","v":0.5},{"$f":"+IF(SUM('LÍNEA 3'!AX11:AX13)>0,AVERAGE('LÍNEA 3'!BK11:BK13),\" -\")","v":1},{"$f":"+IF(SUM('LÍNEA 3'!AZ11:AZ13)>0,AVERAGE('LÍNEA 3'!BM11:BM13),\" -\")","v":1},{"$f":"+IF(SUM('LÍNEA 3'!BB11:BB13)>0,AVERAGE('LÍNEA 3'!BO11:BO13),\" -\")","v":0},{"$f":"+AVERAGE('LÍNEA 3'!AW11:AW13)+AVERAGE('LÍNEA 3'!AY11:AY13)+AVERAGE('LÍNEA 3'!BA11:BA13)","v":0.36111111111111105},{"$f":"+AVERAGE('LÍNEA 3'!BQ11:BQ13)","v":0.31944444444444442},0.31944444444444442,{"$f":"+SUM('LÍNEA 3'!BS11:BS13)+SUM('LÍNEA 3'!BX11:BX13)+SUM('LÍNEA 3'!CC11:CC13)","v":12617476},{"$f":"+SUM('LÍNEA 3'!CN11:CN13)","v":107975},{"$f":"+SUM('LÍNEA 3'!CO11:CO13)","v":0},8.5575752234440545E-3," -"]
[null,"3.1.2","Senderos para la Vida",null,{"$f":"+IF(SUM('LÍNEA 3'!AV14:AV17)>0,AVERAGE('LÍNEA 3'!BI14:BI17),\" -\")","v":" -"},{"$f":"+IF(SUM('LÍNEA 3'!AX14:AX17)>0,AVERAGE('LÍNEA 3'!BK14:BK17),\" -\")","v":0.33333333333333331},{"$f":"+IF(SUM('LÍNEA 3'!AZ14:AZ17)>0,AVERAGE('LÍNEA 3'!BM14:BM17),\" -\")","v":0},{"$f":"+IF(SUM('LÍNEA 3'!BB14:BB17)>0,AVERAGE('LÍNEA 3'!BO14:BO17),\" -\")","v":0},{"$f":"+AVERAGE('LÍNEA 3'!AW14:AW17)+AVERAGE('LÍNEA 3'!AY14:AY17)+AVERAGE('LÍNEA 3'!BA14:BA17)","v":0.9},{"$f":"+AVERAGE('LÍNEA 3'!BQ14:BQ17)","v":0.25},0.25,{"$f":"+SUM('LÍNEA 3'!BS14:BS17)+SUM('LÍNEA 3'!BX14:BX17)+SUM('LÍNEA 3'!CC14:CC17)","v":3663472},{"$f":"+SUM('LÍNEA 3'!CN14:CN17)","v":791776},{"$f":"+SUM('LÍNEA 3'!CO14:CO17)","v":0},0.21612721483881958," -"]
[null,"3.2","GESTIÓN DEL RIESGO",null,{"$f":"+AVERAGE(E70:E72)","v":0.95000000000000007},{"$f":"+AVERAGE(F70:F72)","v":0.66867724867724865},0.46428571428571425,0,{"$f":"+AVERAGE(I70:I72)","v":0.66085185185185191},0.43745370370370368,0.43745370370370368,{"$f":"SUM(L70:L72)","v":33267169},{"$f":"SUM(M70:M72)","v":16138455},1600421,0.48511657243812961,9.9168166965177273E-2]
[null,"3.2.1","Conocimientos del Riesgo del Desastre",null,{"$f":"+IF(SUM('LÍNEA 3'!AV19:AV28)>0,AVERAGE('LÍNEA 3'!BI19:BI28),\" -\")","v":1},{"$f":"+IF(SUM('LÍNEA 3'!AX19:AX28)>0,AVERAGE('LÍNEA 3'!BK19:BK28),\" -\")","v":0.55714285714285716},{"$f":"+IF(SUM('LÍNEA 3'!AZ19:AZ28)>0,AVERAGE('LÍNEA 3'!BM19:BM28),\" -\")","v":0.14285714285714285},{"$f":"+IF(SUM('LÍNEA 3'!BB19:BB28)>0,AVERAGE('LÍNEA 3'!BO19:BO28),\" -\")","v":0},{"$f":"+AVERAGE('LÍNEA 3'!AW19:AW28)+AVERAGE('LÍNEA 3'!AY19:AY28)+AVERAGE('LÍNEA 3'!BA19:BA28)","v":0.57366666666666677},{"$f":"+AVERAGE('LÍNEA 3'!BQ19:BQ28)","v":0.24249999999999999},0.24249999999999999,{"$f":"+SUM('LÍNEA 3'!BS19:BS28)+SUM('LÍNEA 3'!BX19:BX28)+SUM('LÍNEA 3'!CC19:CC28)","v":623700},{"$f":"+SUM('LÍNEA 3'!CN19:CN28)","v":162014},{"$f":"+SUM('LÍNEA 3'!CO19:CO28)","v":0},0.2597627064293731," -"]
[null,"3.2.2","Reducción y Mitigación del Riesgo de Desastre",null,{"$f":"+IF(SUM('LÍNEA 3'!AV29:AV34)>0,AVERAGE('LÍNEA 3'!BI29:BI34),\" -\")","v":0.85},{"$f":"+IF(SUM('LÍNEA 3'!AX29:AX34)>0,AVERAGE('LÍNEA 3'!BK29:BK34),\" -\")","v":0.51555555555555554},{"$f":"+IF(SUM('LÍNEA 3'!AZ29:AZ34)>0,AVERAGE('LÍNEA 3'!BM29:BM34),\" -\")","v":0.58333333333333337},{"$f":"+IF(SUM('LÍNEA 3'!BB29:BB34)>0,AVERAGE('LÍNEA 3'!BO29:BO34),\" -\")","v":0},{"$f":"+AVERAGE('LÍNEA 3'!AW29:AW34)+AVERAGE('LÍNEA 3'!AY29:AY34)+AVERAGE('LÍNEA 3'!BA29:BA34)","v":0.68888888888888888},{"$f":"+AVERAGE('LÍNEA 3'!BQ29:BQ34)","v":0.45319444444444446},0.45319444444444446,{"$f":"+SUM('LÍNEA 3'!BS29:BS34)+SUM('LÍNEA 3'!BX29:BX34)+SUM('LÍNEA 3'!CC29:CC34)","v":30840248},{"$f":"+SUM('LÍNEA 3'!CN29:CN34)","v":14879464},{"$f":"+SUM('LÍNEA 3'!CO29:CO34)","v":1583901},0.48246901257084573,0.10644879412322918]
[null,"3.2.3","Manejo de Emergencias y Desastres",null,{"$f":"+IF(SUM('LÍNEA 3'!AV35:AV37)>0,AVERAGE('LÍNEA 3'!BI35:BI37),\" -\")","v":1},{"$f":"+IF(SUM('LÍNEA 3'!AX35:AX37)>0,AVERAGE('LÍNEA 3'!BK35:BK37),\" -\")","v":0.93333333333333324},{"$f":"+IF(SUM('LÍNEA 3'!AZ35:AZ37)>0,AVERAGE('LÍNEA 3'!BM35:BM37),\" -\")","v":0.66666666666666663},{"$f":"+IF(SUM('LÍNEA 3'!BB35:BB37)>0,AVERAGE('LÍNEA 3'!BO35:BO37),\" -\")","v":0},{"$f":"+AVERAGE('LÍNEA 3'!AW35:AW37)+AVERAGE('LÍNEA 3'!AY35:AY37)+AVERAGE('LÍNEA 3'!BA35:BA37)","v":0.72},{"$f":"+AVERAGE('LÍNEA 3'!BQ35:BQ37)","v":0.6166666666666667},{"$f":"+J72","v":0.6166666666666667},{"$f":"+SUM('LÍNEA 3'!BS35:BS37)+SUM('LÍNEA 3'!BX35:BX37)+SUM('LÍNEA 3'!CC35:CC37)","v":1803221},{"$f":"+SUM('LÍNEA 3'!CN35:CN37)","v":1096977},{"$f":"+SUM('LÍNEA 3'!CO35:CO37)","v":16520},0.60834307053877479,1.5059568249835684E-2]
[null,"3.3","AMBIENTE PARA LA CIUDADANÍA",null,{"$f":"+AVERAGE(E74:E76)","v":0.98166666666666658},{"$f":"+AVERAGE(F74:F76)","v":0.95655270655270652},0.87494268635724326,0,{"$f":"+AVERAGE(I74:I76)","v":0.78456050955414014},0.76273604623732005,0.76273604623732005,{"$f":"SUM(L74:L76)","v":39932749},{"$f":"SUM(M74:M76)","v":29641828},0,0.74229369984019888," -"]
[null,"3.3.1","Implementación del PGIRS",null,{"$f":"+IF(SUM('LÍNEA 3'!AV39:AV53)>0,AVERAGE('LÍNEA 3'!BI39:BI53),\" -\")","v":0.94499999999999995},{"$f":"+IF(SUM('LÍNEA 3'!AX39:AX53)>0,AVERAGE('LÍNEA 3'!BK39:BK53),\" -\")","v":0.91965811965811972},{"$f":"+IF(SUM('LÍNEA 3'!AZ39:AZ53)>0,AVERAGE('LÍNEA 3'!BM39:BM53),\" -\")","v":0.79982805907172994},{"$f":"+IF(SUM('LÍNEA 3'!BB39:BB53)>0,AVERAGE('LÍNEA 3'!BO39:BO53),\" -\")","v":0},{"$f":"+AVERAGE('LÍNEA 3'!AW39:AW53)+AVERAGE('LÍNEA 3'!AY39:AY53)+AVERAGE('LÍNEA 3'!BA39:BA53)","v":0.73034819532908701},{"$f":"+AVERAGE('LÍNEA 3'!BQ39:BQ53)","v":0.73820813871196023},0.73820813871196023,{"$f":"+SUM('LÍNEA 3'!BS39:BS53)+SUM('LÍNEA 3'!BX39:BX53)+SUM('LÍNEA 3'!CC39:CC53)","v":39103634},{"$f":"+SUM('LÍNEA 3'!CN39:CN53)","v":29241916},{"$f":"+SUM('LÍNEA 3'!CO39:CO53)","v":0},0.74780558758298521," -"]
[null,"3.3.2","Educación Ambiental",null,{"$f":"+IF('LÍNEA 3'!AV54>0,'LÍNEA 3'!BI54,\" -\")","v":1},{"$f":"+IF('LÍNEA 3'!AX54>0,'LÍNEA 3'!BK54,\" -\")","v":1},{"$f":"+IF('LÍNEA 3'!AZ54>0,'LÍNEA 3'!BM54,\" -\")","v":1},{"$f":"+IF('LÍNEA 3'!BB54>0,'LÍNEA 3'!BO54,\" -\")","v":0},{"$f":"+'LÍNEA 3'!AW54+'LÍNEA 3'!AY54+'LÍNEA 3'!BA54","v":0.83333333333333326},{"$f":"+'LÍNEA 3'!BQ54","v":0.83333333333333337},0.83333333333333337,{"$f":"+'LÍNEA 3'!BS54+'LÍNEA 3'!BX54+'LÍNEA 3'!CC54","v":162600},{"$f":"+'LÍNEA 3'!CN54","v":73638},{"$f":"+'LÍNEA 3'!CO54","v":0},{"$f":"IF(L75=0,\"-\",+M75/L75)","v":0.45287822878228784}," -"]
[null,"3.3.3","Calidad ambiental y Adaptación al Cambio Climático",null,{"$f":"+IF(SUM('LÍNEA 3'!AV55:AV58)>0,AVERAGE('LÍNEA 3'!BI55:BI58),\" -\")","v":1},{"$f":"+IF(SUM('LÍNEA 3'!AX55:AX58)>0,AVERAGE('LÍNEA 3'!BK55:BK58),\" -\")","v":0.95},{"$f":"+IF(SUM('LÍNEA 3'!AZ55:AZ58)>0,AVERAGE('LÍNEA 3'!BM55:BM58),\" -\")","v":0.82499999999999996},{"$f":"+IF(SUM('LÍNEA 3'!BB55:BB58)>0,AVERAGE('LÍNEA 3'!BO55:BO58),\" -\")","v":0},{"$f":"+AVERAGE('LÍNEA 3'!AW55:AW58)+AVERAGE('LÍNEA 3'!AY55:AY58)+AVERAGE('LÍNEA 3'!BA55:BA58)","v":0.79},{"$f":"+AVERAGE('LÍNEA 3'!BQ55:BQ58)","v":0.71666666666666667},0.71666666666666667,{"$f":"+SUM('LÍNEA 3'!BS55:BS58)+SUM('LÍNEA 3'!BX55:BX58)+SUM('LÍNEA 3'!CC55:CC58)","v":666515},{"$f":"+SUM('LÍNEA 3'!CN55:CN58)","v":326274},{"$f":"+SUM('LÍNEA 3'!CO55:CO58)","v":0},0.48952236633834195," -"]
[null,"3.4","RURALIDAD CON EQUIDAD",null,{"$f":"+AVERAGE(E78:E79)","v":0.66666666666666663},{"$f":"+AVERAGE(F78:F79)","v":0.64169312169312165},0.625,0,{"$f":"+AVERAGE(I78:I79)","v":0.71685185185185185},0.57052469135802464,0.57052469135802464,{"$f":"SUM(L78:L79)","v":1268540},{"$f":"SUM(M78:M79)","v":855501},20751,0.6743981269806234,2.4255962295777561E-2]
[null,"3.4.1","Agricultura Sostenible para la Seguridad Alimentaria",null,{"$f":"+IF(SUM('LÍNEA 3'!AV60:AV61)>0,AVERAGE('LÍNEA 3'!BI60:BI61),\" -\")","v":" -"},{"$f":"+IF(SUM('LÍNEA 3'!AX60:AX61)>0,AVERAGE('LÍNEA 3'!BK60:BK61),\" -\")","v":0.62857142857142856},{"$f":"+IF(SUM('LÍNEA 3'!AZ60:AZ61)>0,AVERAGE('LÍNEA 3'!BM60:BM61),\" -\")","v":0.8214285714285714},{"$f":"+IF(SUM('LÍNEA 3'!BB60:BB61)>0,AVERAGE('LÍNEA 3'!BO60:BO61),\" -\")","v":0},{"$f":"+AVERAGE('LÍNEA 3'!AW60:AW61)+AVERAGE('LÍNEA 3'!AY60:AY61)+AVERAGE('LÍNEA 3'!BA60:BA61)","v":0.66666666666666663},{"$f":"+AVERAGE('LÍNEA 3'!BQ60:BQ61)","v":0.65},0.65,{"$f":"+SUM('LÍNEA 3'!BS60:BS61)+SUM('LÍNEA 3'!BX60:BX61)+SUM('LÍNEA 3'!CC60:CC61)","v":252995},{"$f":"+SUM('LÍNEA 3'!CN60:CN61)","v":251200},{"$f":"+SUM('LÍNEA 3'!CO60:CO61)","v":0},0.99290499812249255," -"]
[null,"3.4.2","Nuestro Proyecto Agropecuario",null,{"$f":"+IF(SUM('LÍNEA 3'!AV62:AV70)>0,AVERAGE('LÍNEA 3'!BI62:BI70),\" -\")","v":0.66666666666666663},{"$f":"+IF(SUM('LÍNEA 3'!AX62:AX70)>0,AVERAGE('LÍNEA 3'!BK62:BK70),\" -\")","v":0.65481481481481485},{"$f":"+IF(SUM('LÍNEA 3'!AZ62:AZ70)>0,AVERAGE('LÍNEA 3'!BM62:BM70),\" -\")","v":0.42857142857142855},{"$f":"+IF(SUM('LÍNEA 3'!BB62:BB70)>0,AVERAGE('LÍNEA 3'!BO62:BO70),\" -\")","v":0},{"$f":"+AVERAGE('LÍNEA 3'!AW62:AW70)+AVERAGE('LÍNEA 3'!AY62:AY70)+AVERAGE('LÍNEA 3'!BA62:BA70)","v":0.76703703703703696},{"$f":"+AVERAGE('LÍNEA 3'!BQ62:BQ70)","v":0.49104938271604937},0.49104938271604937,{"$f":"+SUM('LÍNEA 3'!BS62:BS70)+SUM('LÍNEA 3'!BX62:BX70)+SUM('LÍNEA 3'!CC62:CC70)","v":1015545},{"$f":"+SUM('LÍNEA 3'!CN62:CN70)","v":604301},{"$f":"+SUM('LÍNEA 3'!CO62:CO70)","v":20751},0.59505093324274161,3.4338847693450782E-2]
[null,4,"LÍNEA ESTRATÉGICA 4: CALIDAD DE VIDA",null,{"$f":"+AVERAGE(E81,E86,E96,E103,E112,E115)","v":0.84922293802875937},{"$f":"+AVERAGE(F81,F86,F96,F103,F112,F115)","v":0.86594314504278402},0.5867559745259211,0,{"$f":"+AVERAGE(I81,I86,I96,I103,I112,I115)","v":0.74803050316934472},{"$f":"+AVERAGE(J81,J86,J96,J103,J112,J115)","v":0.64588137113663124},0.64588137113663124,{"$f":"+L81+L86+L96+L103+L112+L115","v":1427108479},{"$f":"+M81+M86+M96+M103+M112+M115","v":1031770960},21563297,0.72298005034836599,2.0899305985506707E-2]
[null,"4.1","EDUCACIÓN: BUCARAMANGA EDUCADA, CULTA E INNOVADORA",null,{"$f":"+AVERAGE(E82:E85)","v":0.82141887601379349},{"$f":"+AVERAGE(F82:F85)","v":0.81699069589133921},0.52503048911398109,0,{"$f":"+AVERAGE(I82:I85)","v":0.74196742662782289},0.59406292009648864,0.59406292009648864,{"$f":"SUM(L82:L85)","v":735701594},{"$f":"SUM(M82:M85)","v":592555595},7339577,0.80542926620327537,1.2386309507380485E-2]
[null,"4.1.1","Disponibilidad (Asequibilidad): \"Entornos de Aprendizajes Bellos y Agradables\"",null,{"$f":"+IF(SUM('LÍNEA 4'!AV11:AV23)>0,AVERAGE('LÍNEA 4'!BI11:BI23),\" -\")","v":0.88684003152088264},{"$f":"+IF(SUM('LÍNEA 4'!AX11:AX23)>0,AVERAGE('LÍNEA 4'!BK11:BK23),\" -\")","v":0.7703116202945991},{"$f":"+IF(SUM('LÍNEA 4'!AZ11:AZ23)>0,AVERAGE('LÍNEA 4'!BM11:BM23),\" -\")","v":0.42766743044189853},{"$f":"+IF(SUM('LÍNEA 4'!BB11:BB23)>0,AVERAGE('LÍNEA 4'!BO11:BO23),\" -\")","v":0},{"$f":"+AVERAGE('LÍNEA 4'!AW11:AW23)+AVERAGE('LÍNEA 4'!AY11:AY23)+AVERAGE('LÍNEA 4'!BA11:BA23)","v":0.74944095999337601},{"$f":"+AVERAGE('LÍNEA 4'!BQ11:BQ23)","v":0.51740942728937689},0.51740942728937689,{"$f":"+SUM('LÍNEA 4'!BS11:BS23)+SUM('LÍNEA 4'!BX11:BX23)+SUM('LÍNEA 4'!CC11:CC23)","v":622912997},{"$f":"+SUM('LÍNEA 4'!CN11:CN23)","v":492849923},{"$f":"+SUM('LÍNEA 4'!CO11:CO23)","v":3725281},0.79120186185487473,7.5586518860022225E-3]
[null,"4.1.2","Acceso (Accesibilidad): \"Educación para una Ciudadanía Inteligente y solidaria\"",null,{"$f":"+IF(SUM('LÍNEA 4'!AV24:AV39)>0,AVERAGE('LÍNEA 4'!BI24:BI39),\" -\")","v":0.93949491720724532},{"$f":"+IF(SUM('LÍNEA 4'!AX24:AX39)>0,AVERAGE('LÍNEA 4'!BK24:BK39),\" -\")","v":0.92638576573436393},{"$f":"+IF(SUM('LÍNEA 4'!AZ24:AZ39)>0,AVERAGE('LÍNEA 4'!BM24:BM39),\" -\")","v":0.76584412412277303},{"$f":"+IF(SUM('LÍNEA 4'!BB24:BB39)>0,AVERAGE('LÍNEA 4'!BO24:BO39),\" -\")","v":0},{"$f":"+AVERAGE('LÍNEA 4'!AW24:AW39)+AVERAGE('LÍNEA 4'!AY24:AY39)+AVERAGE('LÍNEA 4'!BA24:BA39)","v":0.7443446391907742},{"$f":"+AVERAGE('LÍNEA 4'!BQ24:BQ39)","v":0.73686088878153477},0.73686088878153477,{"$f":"+SUM('LÍNEA 4'!BS24:BS39)+SUM('LÍNEA 4'!BX24:BX39)+SUM('LÍNEA 4'!CC24:CC39)","v":104005590},{"$f":"+SUM('LÍNEA 4'!CN24:CN39)","v":95592792},{"$f":"+SUM('LÍNEA 4'!CO24:CO39)","v":1772562},0.91911205926527606,1.8542841598349801E-2]
[null,"4.1.3","Permanencia en el Sistema Educativo (Adaptabilidad)",null,{"$f":"+IF(SUM('LÍNEA 4'!AV40:AV43)>0,AVERAGE('LÍNEA 4'!BI40:BI43),\" -\")","v":1},{"$f":"+IF(SUM('LÍNEA 4'!AX40:AX43)>0,AVERAGE('LÍNEA 4'!BK40:BK43),\" -\")","v":0.7606382978723405},{"$f":"+IF(SUM('LÍNEA 4'!AZ40:AZ43)>0,AVERAGE('LÍNEA 4'!BM40:BM43),\" -\")","v":0.55567375886524817},{"$f":"+IF(SUM('LÍNEA 4'!BB40:BB43)>0,AVERAGE('LÍNEA 4'!BO40:BO43),\" -\")","v":0},{"$f":"+AVERAGE('LÍNEA 4'!AW40:AW43)+AVERAGE('LÍNEA 4'!AY40:AY43)+AVERAGE('LÍNEA 4'!BA40:BA43)","v":0.72750000000000004},{"$f":"+AVERAGE('LÍNEA 4'!BQ40:BQ43)","v":0.59840425531914898},0.59840425531914898,{"$f":"+SUM('LÍNEA 4'!BS40:BS43)+SUM('LÍNEA 4'!BX40:BX43)+SUM('LÍNEA 4'!CC40:CC43)","v":1152988},{"$f":"+SUM('LÍNEA 4'!CN40:CN43)","v":305331},{"$f":"+SUM('LÍNEA 4'!CO40:CO43)","v":70961},0.26481715334418049,0.23240679786854265]
[null,"4.1.4","Calidad (Aceptabilidad): \"Innovadores y Profesionales\"",null,{"$f":"+IF(SUM('LÍNEA 4'!AV44:AV62)>0,AVERAGE('LÍNEA 4'!BI44:BI62),\" -\")","v":0.45934055532704554},{"$f":"+IF(SUM('LÍNEA 4'!AX44:AX62)>0,AVERAGE('LÍNEA 4'!BK44:BK62),\" -\")","v":0.81062709966405377},{"$f":"+IF(SUM('LÍNEA 4'!AZ44:AZ62)>0,AVERAGE('LÍNEA 4'!BM44:BM62),\" -\")","v":0.3509366430260048},{"$f":"+IF(SUM('LÍNEA 4'!BB44:BB62)>0,AVERAGE('LÍNEA 4'!BO44:BO62),\" -\")","v":0},{"$f":"+AVERAGE('LÍNEA 4'!AW44:AW62)+AVERAGE('LÍNEA 4'!AY44:AY62)+AVERAGE('LÍNEA 4'!BA44:BA62)","v":0.74658410732714131},{"$f":"+AVERAGE('LÍNEA 4'!BQ44:BQ62)","v":0.52357710899589405},0.52357710899589405,{"$f":"+SUM('LÍNEA 4'!BS44:BS62)+SUM('LÍNEA 4'!BX44:BX62)+SUM('LÍNEA 4'!CC44:CC62)","v":7630019},{"$f":"+SUM('LÍNEA 4'!CN44:CN62)","v":3807549},{"$f":"+SUM('LÍNEA 4'!CO44:CO62)","v":1770773},0.4990222173758676,0.46506899845543681]
[null,"4.2","SALUD PÚBLICA: SALUD PARA TODOS Y CON TODOS",null,{"$f":"+AVERAGE(E87:E95)","v":0.81225049819050854},{"$f":"+AVERAGE(F87:F95)","v":0.87094605033554917},0.78793687910280774,0,{"$f":"+AVERAGE(I87:I95)","v":0.77489649388842941},0.66873051676647299,0.66873051676647299,{"$f":"SUM(L87:L95)","v":532000588},{"$f":"SUM(M87:M95)","v":336654432},0,0.63280838328697486," -"]
[null,"4.2.1","Aseguramiento",null,{"$f":"+IF(SUM('LÍNEA 4'!AV64:AV67)>0,AVERAGE('LÍNEA 4'!BI64:BI67),\" -\")","v":0.99924999999999997},{"$f":"+IF(SUM('LÍNEA 4'!AX64:AX67)>0,AVERAGE('LÍNEA 4'!BK64:BK67),\" -\")","v":0.99924999999999997},{"$f":"+IF(SUM('LÍNEA 4'!AZ64:AZ67)>0,AVERAGE('LÍNEA 4'!BM64:BM67),\" -\")","v":0.99924999999999997},{"$f":"+IF(SUM('LÍNEA 4'!BB64:BB67)>0,AVERAGE('LÍNEA 4'!BO64:BO67),\" -\")","v":0},{"$f":"+AVERAGE('LÍNEA 4'!AW64:AW67)+AVERAGE('LÍNEA 4'!AY64:AY67)+AVERAGE('LÍNEA 4'!BA64:BA67)","v":0.75},{"$f":"+AVERAGE('LÍNEA 4'!BQ64:BQ67)","v":0.74943749999999998},0.74943749999999998,{"$f":"+SUM('LÍNEA 4'!BS64:BS67)+SUM('LÍNEA 4'!BX64:BX67)+SUM('LÍNEA 4'!CC64:CC67)","v":414842975},{"$f":"+SUM('LÍNEA 4'!CN64:CN67)","v":321867634},{"$f":"+SUM('LÍNEA 4'!CO64:CO67)","v":0},0.77587823199850503," -"]
[null,"4.2.2","Salud Ambiental",null,{"$f":"+IF(SUM('LÍNEA 4'!AV68:AV75)>0,AVERAGE('LÍNEA 4'!BI68:BI75),\" -\")","v":0.6740666666666667},{"$f":"+IF(SUM('LÍNEA 4'!AX68:AX75)>0,AVERAGE('LÍNEA 4'!BK68:BK75),\" -\")","v":0.73378571428571426},{"$f":"+IF(SUM('LÍNEA 4'!AZ68:AZ75)>0,AVERAGE('LÍNEA 4'!BM68:BM75),\" -\")","v":0.37200000000000005},{"$f":"+IF(SUM('LÍNEA 4'!BB68:BB75)>0,AVERAGE('LÍNEA 4'!BO68:BO75),\" -\")","v":0},{"$f":"+AVERAGE('LÍNEA 4'!AW68:AW75)+AVERAGE('LÍNEA 4'!AY68:AY75)+AVERAGE('LÍNEA 4'!BA68:BA75)","v":0.71448511166253104},{"$f":"+AVERAGE('LÍNEA 4'!BQ68:BQ75)","v":0.48249348635235734},0.48249348635235734,{"$f":"+SUM('LÍNEA 4'!BS68:BS75)+SUM('LÍNEA 4'!BX68:BX75)+SUM('LÍNEA 4'!CC68:CC75)","v":4753492},{"$f":"+SUM('LÍNEA 4'!CN68:CN75)","v":1314256},{"$f":"+SUM('LÍNEA 4'!CO68:CO75)","v":0},0.27648221560065739," -"]
[null,"4.2.3","Vida Saludable y Condiciones No Transmisibles",null,{"$f":"+IF('LÍNEA 4'!AV76>0,'LÍNEA 4'!BI76,\" -\")","v":1},{"$f":"+IF('LÍNEA 4'!AX76>0,'LÍNEA 4'!BK76,\" -\")","v":1},{"$f":"+IF('LÍNEA 4'!AZ76>0,'LÍNEA 4'!BM76,\" -\")","v":1},{"$f":"+IF('LÍNEA 4'!BB76>0,'LÍNEA 4'!BO76,\" -\")","v":0},{"$f":"+'LÍNEA 4'!AW76+'LÍNEA 4'!AY76+'LÍNEA 4'!BA76","v":0.75},{"$f":"+'LÍNEA 4'!BQ76","v":0.75},0.75,{"$f":"+'LÍNEA 4'!BS76+'LÍNEA 4'!BX76+'LÍNEA 4'!CC76","v":2162882},{"$f":"+'LÍNEA 4'!CN76","v":1558001},{"$f":"+'LÍNEA 4'!CO76","v":0},0.72033564475546974," -"]
[null,"4.2.4","Convivencia Social y Salud Mental",null,{"$f":"+IF(SUM('LÍNEA 4'!AV77:AV82)>0,AVERAGE('LÍNEA 4'!BI77:BI82),\" -\")","v":0.40500000000000003},{"$f":"+IF(SUM('LÍNEA 4'!AX77:AX82)>0,AVERAGE('LÍNEA 4'!BK77:BK82),\" -\")","v":0.6},{"$f":"+IF(SUM('LÍNEA 4'!AZ77:AZ82)>0,AVERAGE('LÍNEA 4'!BM77:BM82),\" -\")","v":0.73333333333333339},{"$f":"+IF(SUM('LÍNEA 4'!BB77:BB82)>0,AVERAGE('LÍNEA 4'!BO77:BO82),\" -\")","v":0},{"$f":"+AVERAGE('LÍNEA 4'!AW77:AW82)+AVERAGE('LÍNEA 4'!AY77:AY82)+AVERAGE('LÍNEA 4'!BA77:BA82)","v":0.875},{"$f":"+AVERAGE('LÍNEA 4'!BQ77:BQ82)","v":0.60083333333333344},0.60083333333333344,{"$f":"+SUM('LÍNEA 4'!BS77:BS82)+SUM('LÍNEA 4'!BX77:BX82)+SUM('LÍNEA 4'!CC77:CC82)","v":2310559},{"$f":"+SUM('LÍNEA 4'!CN77:CN82)","v":1555208},{"$f":"+SUM('LÍNEA 4'!CO77:CO82)","v":0},0.67308733514270791,{"$f":"IF(N90=0,\" -\",IF(M90=0,100%,N90/M90))","v":" -"}]
[null,"4.2.5","Seguridad Alimentaria y Nutricional",null,{"$f":"+IF(SUM('LÍNEA 4'!AV83:AV86)>0,AVERAGE('LÍNEA 4'!BI83:BI86),\" -\")","v":0.82499999999999996},{"$f":"+IF(SUM('LÍNEA 4'!AX83:AX86)>0,AVERAGE('LÍNEA 4'!BK83:BK86),\" -\")","v":1},{"$f":"+IF(SUM('LÍNEA 4'!AZ83:AZ86)>0,AVERAGE('LÍNEA 4'!BM83:BM86),\" -\")","v":1},{"$f":"+IF(SUM('LÍNEA 4'!BB83:BB86)>0,AVERAGE('LÍNEA 4'!BO83:BO86),\" -\")","v":0},{"$f":"+AVERAGE('LÍNEA 4'!AW83:AW86)+AVERAGE('LÍNEA 4'!AY83:AY86)+AVERAGE('LÍNEA 4'!BA83:BA86)","v":0.8125},{"$f":"+AVERAGE('LÍNEA 4'!BQ83:BQ86)","v":0.8},0.8,{"$f":"+SUM('LÍNEA 4'!BS83:BS86)+SUM('LÍNEA 4'!BX83:BX86)+SUM('LÍNEA 4'!CC83:CC86)","v":2934830},{"$f":"+SUM('LÍNEA 4'!CN83:CN86)","v":2278330},{"$f":"+SUM('LÍNEA 4'!CO83:CO86)","v":0},0.77630731592630575," -"]
[null,"4.2.6","Sexualidad, Derechos Sexuales y Reproductivos",null,{"$f":"+IF(SUM('LÍNEA 4'!AV87:AV89)>0,AVERAGE('LÍNEA 4'!BI87:BI89),\" -\")","v":0.76666666666666661},{"$f":"+IF(SUM('LÍNEA 4'!AX87:AX89)>0,AVERAGE('LÍNEA 4'!BK87:BK89),\" -\")","v":1},{"$f":"+IF(SUM('LÍNEA 4'!AZ87:AZ89)>0,AVERAGE('LÍNEA 4'!BM87:BM89),\" -\")","v":0.83333333333333337},{"$f":"+IF(SUM('LÍNEA 4'!BB87:BB89)>0,AVERAGE('LÍNEA 4'!BO87:BO89),\" -\")","v":0},{"$f":"+AVERAGE('LÍNEA 4'!AW87:AW89)+AVERAGE('LÍNEA 4'!AY87:AY89)+AVERAGE('LÍNEA 4'!BA87:BA89)","v":0.75},{"$f":"+AVERAGE('LÍNEA 4'!BQ87:BQ89)","v":0.65},0.65,{"$f":"+SUM('LÍNEA 4'!BS87:BS89)+SUM('LÍNEA 4'!BX87:BX89)+SUM('LÍNEA 4'!CC87:CC89)","v":2885820},{"$f":"+SUM('LÍNEA 4'!CN87:CN89)","v":1472968},{"$f":"+SUM('LÍNEA 4'!CO87:CO89)","v":0},0.51041575704652409," -"]
[null,"4.2.7","Vida Saludable y Enfermedades Transmisibles",null,{"$f":"+IF(SUM('LÍNEA 4'!AV90:AV93)>0,AVERAGE('LÍNEA 4'!BI90:BI93),\" -\")","v":0.81527115038124376},{"$f":"+IF(SUM('LÍNEA 4'!AX90:AX93)>0,AVERAGE('LÍNEA 4'!BK90:BK93),\" -\")","v":0.81262159587708538},{"$f":"+IF(SUM('LÍNEA 4'!AZ90:AZ93)>0,AVERAGE('LÍNEA 4'!BM90:BM93),\" -\")","v":0.78284857859193657},{"$f":"+IF(SUM('LÍNEA 4'!BB90:BB93)>0,AVERAGE('LÍNEA 4'!BO90:BO93),\" -\")","v":0},{"$f":"+AVERAGE('LÍNEA 4'!AW90:AW93)+AVERAGE('LÍNEA 4'!AY90:AY93)+AVERAGE('LÍNEA 4'!BA90:BA93)","v":0.75},{"$f":"+AVERAGE('LÍNEA 4'!BQ90:BQ93)","v":0.6026853312125664},0.6026853312125664,{"$f":"+SUM('LÍNEA 4'!BS90:BS93)+SUM('LÍNEA 4'!BX90:BX93)+SUM('LÍNEA 4'!CC90:CC93)","v":2542118},{"$f":"+SUM('LÍNEA 4'!CN90:CN93)","v":1531775},{"$f":"+SUM('LÍNEA 4'!CO90:CO93)","v":0},0.60255857517235623," -"]
[null,"4.2.8","Salud y Ámbito Laboral",null,{"$f":"+IF(SUM('LÍNEA 4'!AV94:AV95)>0,AVERAGE('LÍNEA 4'!BI94:BI95),\" -\")","v":1},{"$f":"+IF(SUM('LÍNEA 4'!AX94:AX95)>0,AVERAGE('LÍNEA 4'!BK94:BK95),\" -\")","v":1},{"$f":"+IF(SUM('LÍNEA 4'!AZ94:AZ95)>0,AVERAGE('LÍNEA 4'!BM94:BM95),\" -\")","v":0.6},{"$f":"+IF(SUM('LÍNEA 4'!BB94:BB95)>0,AVERAGE('LÍNEA 4'!BO94:BO95),\" -\")","v":0},{"$f":"+AVERAGE('LÍNEA 4'!AW94:AW95)+AVERAGE('LÍNEA 4'!AY94:AY95)+AVERAGE('LÍNEA 4'!BA94:BA95)","v":0.83333333333333326},{"$f":"+AVERAGE('LÍNEA 4'!BQ94:BQ95)","v":0.76666666666666661},0.76666666666666661,{"$f":"+SUM('LÍNEA 4'!BS94:BS95)+SUM('LÍNEA 4'!BX94:BX95)+SUM('LÍNEA 4'!CC94:CC95)","v":171500},{"$f":"+SUM('LÍNEA 4'!CN94:CN95)","v":102060},{"$f":"+SUM('LÍNEA 4'!CO94:CO95)","v":0},0.59510204081632656," -"]
[null,"4.2.9","Fortalecimiento de la Autoridad Sanitaria para la Gestión de la Salud",null,{"$f":"+IF(SUM('LÍNEA 4'!AV96:AV103)>0,AVERAGE('LÍNEA 4'!BI96:BI103),\" -\")","v":0.82499999999999996},{"$f":"+IF(SUM('LÍNEA 4'!AX96:AX103)>0,AVERAGE('LÍNEA 4'!BK96:BK103),\" -\")","v":0.69285714285714284},{"$f":"+IF(SUM('LÍNEA 4'!AZ96:AZ103)>0,AVERAGE('LÍNEA 4'!BM96:BM103),\" -\")","v":0.77066666666666672},{"$f":"+IF(SUM('LÍNEA 4'!BB96:BB103)>0,AVERAGE('LÍNEA 4'!BO96:BO103),\" -\")","v":0},{"$f":"+AVERAGE('LÍNEA 4'!AW96:AW103)+AVERAGE('LÍNEA 4'!AY96:AY103)+AVERAGE('LÍNEA 4'!BA96:BA103)","v":0.73875000000000002},{"$f":"+AVERAGE('LÍNEA 4'!BQ96:BQ103)","v":0.61645833333333333},0.61645833333333333,{"$f":"+SUM('LÍNEA 4'!BS96:BS103)+SUM('LÍNEA 4'!BX96:BX103)+SUM('LÍNEA 4'!CC96:CC103)","v":99396412},{"$f":"+SUM('LÍNEA 4'!CN96:CN103)","v":4974200},{"$f":"+SUM('LÍNEA 4'!CO96:CO103)","v":0},5.0044059940513745E-2," -"]
[null,"4.3","ACTIVIDAD FÍSICA, EDUCACIÓN FÍSICA, RECREACIÓN Y DEPORTE",null,{"$f":"+AVERAGE(E97:E102)","v":1},{"$f":"+AVERAGE(F97:F102)","v":0.91666666666666663},0.69242032730404823,0,{"$f":"+AVERAGE(I97:I102)","v":0.74201981301641329},0.73633145667507938,0.73633145667507938,{"$f":"SUM(L97:L102)","v":13305641},{"$f":"SUM(M97:M102)","v":9731071},{"$f":"SUM(N97:N102)","v":207615},0.73134928260878229,2.1335267207484149E-2]
[null,"4.3.1","Actividad física y Salud \"Bucaramanga Activa y Saludable\"",null,{"$f":"+IF(SUM('LÍNEA 4'!AV105:AV106)>0,AVERAGE('LÍNEA 4'!BI105:BI106),\" -\")","v":1},{"$f":"+IF(SUM('LÍNEA 4'!AX105:AX106)>0,AVERAGE('LÍNEA 4'!BK105:BK106),\" -\")","v":1},{"$f":"+IF(SUM('LÍNEA 4'!AZ105:AZ106)>0,AVERAGE('LÍNEA 4'!BM105:BM106),\" -\")","v":0.97674418604651159},{"$f":"+IF(SUM('LÍNEA 4'!BB105:BB106)>0,AVERAGE('LÍNEA 4'!BO105:BO106),\" -\")","v":0},{"$f":"+AVERAGE('LÍNEA 4'!AW105:AW106)+AVERAGE('LÍNEA 4'!AY105:AY106)+AVERAGE('LÍNEA 4'!BA105:BA106)","v":0.72875816993464049},{"$f":"+AVERAGE('LÍNEA 4'!BQ105:BQ106)","v":0.92647058823529416},0.92647058823529416,{"$f":"+SUM('LÍNEA 4'!BS105:BS106)+SUM('LÍNEA 4'!BX105:BX106)+SUM('LÍNEA 4'!CC105:CC106)","v":2629024},{"$f":"+SUM('LÍNEA 4'!CN105:CN106)","v":2348357},{"$f":"+SUM('LÍNEA 4'!CO105:CO106)","v":81188},0.89324289165865356,3.4572256262569961E-2]
[null,"4.3.2","Deporte Formativo",null,{"$f":"+IF(SUM('LÍNEA 4'!AV107:AV109)>0,AVERAGE('LÍNEA 4'!BI107:BI109),\" -\")","v":1},{"$f":"+IF(SUM('LÍNEA 4'!AX107:AX109)>0,AVERAGE('LÍNEA 4'!BK107:BK109),\" -\")","v":1},{"$f":"+IF(SUM('LÍNEA 4'!AZ107:AZ109)>0,AVERAGE('LÍNEA 4'!BM107:BM109),\" -\")","v":1},{"$f":"+IF(SUM('LÍNEA 4'!BB107:BB109)>0,AVERAGE('LÍNEA 4'!BO107:BO109),\" -\")","v":0},{"$f":"+AVERAGE('LÍNEA 4'!AW107:AW109)+AVERAGE('LÍNEA 4'!AY107:AY109)+AVERAGE('LÍNEA 4'!BA107:BA109)","v":0.72336070816383957},{"$f":"+AVERAGE('LÍNEA 4'!BQ107:BQ109)","v":0.99151815181518155},0.99151815181518155,{"$f":"+SUM('LÍNEA 4'!BS107:BS109)+SUM('LÍNEA 4'!BX107:BX109)+SUM('LÍNEA 4'!CC107:CC109)","v":3952799},{"$f":"+SUM('LÍNEA 4'!CN107:CN109)","v":2945847},{"$f":"+SUM('LÍNEA 4'!CO107:CO109)","v":85342},0.74525595660189148,2.897027578146455E-2]
[null,"4.3.3","Deporte y Recreación Social Comunitario",null,{"$f":"+IF(SUM('LÍNEA 4'!AV110:AV112)>0,AVERAGE('LÍNEA 4'!BI110:BI112),\" -\")","v":1},{"$f":"+IF(SUM('LÍNEA 4'!AX110:AX112)>0,AVERAGE('LÍNEA 4'!BK110:BK112),\" -\")","v":1},{"$f":"+IF(SUM('LÍNEA 4'!AZ110:AZ112)>0,AVERAGE('LÍNEA 4'!BM110:BM112),\" -\")","v":0.44444444444444442},{"$f":"+IF(SUM('LÍNEA 4'!BB110:BB112)>0,AVERAGE('LÍNEA 4'!BO110:BO112),\" -\")","v":0},{"$f":"+AVERAGE('LÍNEA 4'!AW110:AW112)+AVERAGE('LÍNEA 4'!AY110:AY112)+AVERAGE('LÍNEA 4'!BA110:BA112)","v":0.75},{"$f":"+AVERAGE('LÍNEA 4'!BQ110:BQ112)","v":0.69444444444444453},0.69444444444444453,{"$f":"+SUM('LÍNEA 4'!BS110:BS112)+SUM('LÍNEA 4'!BX110:BX112)+SUM('LÍNEA 4'!CC110:CC112)","v":1136758},{"$f":"+SUM('LÍNEA 4'!CN110:CN112)","v":718672},{"$f":"+SUM('LÍNEA 4'!CO110:CO112)","v":0},0.63221195716238632," -"]
[null,"4.3.4","Cualificación del Talento Deportivo",null,{"$f":"+IF('LÍNEA 4'!AV113>0,'LÍNEA 4'!BI113,\" -\")","v":1},{"$f":"+IF('LÍNEA 4'!AX113>0,'LÍNEA 4'!BK113,\" -\")","v":1},{"$f":"+IF('LÍNEA 4'!AZ113>0,'LÍNEA 4'!BM113,\" -\")","v":1},{"$f":"+IF('LÍNEA 4'!BB113>0,'LÍNEA 4'!BO113,\" -\")","v":0},{"$f":"+'LÍNEA 4'!AW113+'LÍNEA 4'!AY113+'LÍNEA 4'!BA113","v":0.75},{"$f":"+'LÍNEA 4'!BQ113","v":1},1,{"$f":"+'LÍNEA 4'!BS113+'LÍNEA 4'!BX113+'LÍNEA 4'!CC113","v":80739},{"$f":"+'LÍNEA 4'!CN113","v":47266},{"$f":"+'LÍNEA 4'!CO113","v":0},0.58541720853614732," -"]
[null,"4.3.5","Ambientes Deportivos y Recreativos",null,{"$f":"+IF(SUM('LÍNEA 4'!AV114:AV116)>0,AVERAGE('LÍNEA 4'!BI114:BI116),\" -\")","v":1},{"$f":"+IF(SUM('LÍNEA 4'!AX114:AX116)>0,AVERAGE('LÍNEA 4'!BK114:BK116),\" -\")","v":0.5},{"$f":"+IF(SUM('LÍNEA 4'!AZ114:AZ116)>0,AVERAGE('LÍNEA 4'!BM114:BM116),\" -\")","v":0.33333333333333331},{"$f":"+IF(SUM('LÍNEA 4'!BB114:BB116)>0,AVERAGE('LÍNEA 4'!BO114:BO116),\" -\")","v":0},{"$f":"+AVERAGE('LÍNEA 4'!AW114:AW116)+AVERAGE('LÍNEA 4'!AY114:AY116)+AVERAGE('LÍNEA 4'!BA114:BA116)","v":0.79166666666666663},{"$f":"+AVERAGE('LÍNEA 4'!BQ114:BQ116)","v":0.24722222222222223},0.24722222222222223,{"$f":"+SUM('LÍNEA 4'!BS114:BS116)+SUM('LÍNEA 4'!BX114:BX116)+SUM('LÍNEA 4'!CC114:CC116)","v":5069899},{"$f":"+SUM('LÍNEA 4'!CN114:CN116)","v":3571629},{"$f":"+SUM('LÍNEA 4'!CO114:CO116)","v":41085},0.70447734757635216,1.150315444297266E-2]
[null,"4.3.6","Deporte Asociado y Comunitario",null,{"$f":"+IF(SUM('LÍNEA 4'!AV117:AV119)>0,AVERAGE('LÍNEA 4'!BI117:BI119),\" -\")","v":1},{"$f":"+IF(SUM('LÍNEA 4'!AX117:AX119)>0,AVERAGE('LÍNEA 4'!BK117:BK119),\" -\")","v":1},{"$f":"+IF(SUM('LÍNEA 4'!AZ117:AZ119)>0,AVERAGE('LÍNEA 4'!BM117:BM119),\" -\")","v":0.39999999999999997},{"$f":"+IF(SUM('LÍNEA 4'!BB117:BB119)>0,AVERAGE('LÍNEA 4'!BO117:BO119),\" -\")","v":0},{"$f":"+AVERAGE('LÍNEA 4'!AW117:AW119)+AVERAGE('LÍNEA 4'!AY117:AY119)+AVERAGE('LÍNEA 4'!BA117:BA119)","v":0.70833333333333337},{"$f":"+AVERAGE('LÍNEA 4'!BQ117:BQ119)","v":0.55833333333333335},0.55833333333333335,{"$f":"+SUM('LÍNEA 4'!BS117:BS119)+SUM('LÍNEA 4'!BX117:BX119)+SUM('LÍNEA 4'!CC117:CC119)","v":436422},{"$f":"+SUM('LÍNEA 4'!CN117:CN119)","v":99300},{"$f":"+SUM('LÍNEA 4'!CO117:CO119)","v":0},0.22753206758596037," -"]
[null,"4.4","CIUDADANAS Y CIUDADANOS INTELIGENTES",null,{"$f":"+AVERAGE(E104:E111)","v":0.87797619047619058},{"$f":"+AVERAGE(F104:F111)","v":0.88311688311688308},0.43712121212121213,0,{"$f":"+AVERAGE(I104:I111)","v":0.7125539772727274},0.63167670003607501,0.63167670003607501,{"$f":"SUM(L104:L111)","v":44988441},{"$f":"SUM(M104:M111)","v":28222434},746905,0.62732633922566905,2.6464939204038886E-2]
[null,"4.4.1","Transformación de los Determinantes del Comportamiento Social (Cultura Ciudadana)",null,{"$f":"+IF('LÍNEA 4'!AV121>0,'LÍNEA 4'!BI121,\" -\")","v":" -"},{"$f":"+IF('LÍNEA 4'!AX121>0,'LÍNEA 4'!BK121,\" -\")","v":1},{"$f":"+IF('LÍNEA 4'!AZ121>0,'LÍNEA 4'!BM121,\" -\")","v":" -"},{"$f":"+IF('LÍNEA 4'!BB121>0,'LÍNEA 4'!BO121,\" -\")","v":0},{"$f":"+'LÍNEA 4'!AW121+'LÍNEA 4'!AY121+'LÍNEA 4'!BA121","v":0.5},{"$f":"+'LÍNEA 4'!BQ121","v":0.5},{"$f":"+J104","v":0.5},{"$f":"+'LÍNEA 4'!BS121+'LÍNEA 4'!BX121+'LÍNEA 4'!CC121","v":236297},{"$f":"+'LÍNEA 4'!CN121","v":44703},{"$f":"+'LÍNEA 4'!CO121","v":0},0.18918141152871173," -"]
[null,"4.4.2","Lectura, Escritura y Oralidad - LEO",null,{"$f":"+IF(SUM('LÍNEA 4'!AV122:AV133)>0,AVERAGE('LÍNEA 4'!BI122:BI133),\" -\")","v":0.95833333333333337},{"$f":"+IF(SUM('LÍNEA 4'!AX122:AX133)>0,AVERAGE('LÍNEA 4'!BK122:BK133),\" -\")","v":0.88636363636363635},{"$f":"+IF(SUM('LÍNEA 4'!AZ122:AZ133)>0,AVERAGE('LÍNEA 4'!BM122:BM133),\" -\")","v":0.81818181818181823},{"$f":"+IF(SUM('LÍNEA 4'!BB122:BB133)>0,AVERAGE('LÍNEA 4'!BO122:BO133),\" -\")","v":0},{"$f":"+AVERAGE('LÍNEA 4'!AW122:AW133)+AVERAGE('LÍNEA 4'!AY122:AY133)+AVERAGE('LÍNEA 4'!BA122:BA133)","v":0.77770562770562768},{"$f":"+AVERAGE('LÍNEA 4'!BQ122:BQ133)","v":0.71115169552669555},0.71115169552669555,{"$f":"+SUM('LÍNEA 4'!BS122:BS133)+SUM('LÍNEA 4'!BX122:BX133)+SUM('LÍNEA 4'!CC122:CC133)","v":13973115},{"$f":"+SUM('LÍNEA 4'!CN122:CN133)","v":6990807},{"$f":"+SUM('LÍNEA 4'!CO122:CO133)","v":35670},0.50030411973278688,5.1024152147241368E-3]
[null,"4.4.3","Procesos de Formación en Arte y Música",null,{"$f":"+IF(SUM('LÍNEA 4'!AV134:AV140)>0,AVERAGE('LÍNEA 4'!BI134:BI140),\" -\")","v":1},{"$f":"+IF(SUM('LÍNEA 4'!AX134:AX140)>0,AVERAGE('LÍNEA 4'!BK134:BK140),\" -\")","v":1},{"$f":"+IF(SUM('LÍNEA 4'!AZ134:AZ140)>0,AVERAGE('LÍNEA 4'!BM134:BM140),\" -\")","v":1},{"$f":"+IF(SUM('LÍNEA 4'!BB134:BB140)>0,AVERAGE('LÍNEA 4'!BO134:BO140),\" -\")","v":0},{"$f":"+AVERAGE('LÍNEA 4'!AW134:AW140)+AVERAGE('LÍNEA 4'!AY134:AY140)+AVERAGE('LÍNEA 4'!BA134:BA140)","v":0.7857142857142857},{"$f":"+AVERAGE('LÍNEA 4'!BQ134:BQ140)","v":0.8214285714285714},0.8214285714285714,{"$f":"+SUM('LÍNEA 4'!BS134:BS140)+SUM('LÍNEA 4'!BX134:BX140)+SUM('LÍNEA 4'!CC134:CC140)","v":3946363},{"$f":"+SUM('LÍNEA 4'!CN134:CN140)","v":2682862},{"$f":"+SUM('LÍNEA 4'!CO134:CO140)","v":0},0.67983153095647819," -"]
[null,"4.4.4","Fomento de la Producción Artística",null,{"$f":"+IF(SUM('LÍNEA 4'!AV141:AV147)>0,AVERAGE('LÍNEA 4'!BI141:BI147),\" -\")","v":1},{"$f":"+IF(SUM('LÍNEA 4'!AX141:AX147)>0,AVERAGE('LÍNEA 4'!BK141:BK147),\" -\")","v":0.5714285714285714},{"$f":"+IF(SUM('LÍNEA 4'!AZ141:AZ147)>0,AVERAGE('LÍNEA 4'!BM141:BM147),\" -\")","v":0.8},{"$f":"+IF(SUM('LÍNEA 4'!BB141:BB147)>0,AVERAGE('LÍNEA 4'!BO141:BO147),\" -\")","v":0},{"$f":"+AVERAGE('LÍNEA 4'!AW141:AW147)+AVERAGE('LÍNEA 4'!AY141:AY147)+AVERAGE('LÍNEA 4'!BA141:BA147)","v":0.8214285714285714},{"$f":"+AVERAGE('LÍNEA 4'!BQ141:BQ146)","v":0.75},0.75,{"$f":"+SUM('LÍNEA 4'!BS141:BS147)+SUM('LÍNEA 4'!BX141:BX147)+SUM('LÍNEA 4'!CC141:CC147)","v":6279226},{"$f":"+SUM('LÍNEA 4'!CN141:CN147)","v":2790320},{"$f":"+SUM('LÍNEA 4'!CO141:CO147)","v":0},0.44437323963176351," -"]
[null,"4.4.5","La Cultura a la Calle",null,{"$f":"+IF('LÍNEA 4'!AV148>0,'LÍNEA 4'!BI148,\" -\")","v":1},{"$f":"+IF('LÍNEA 4'!AX148>0,'LÍNEA 4'!BK148,\" -\")","v":1},{"$f":"+IF('LÍNEA 4'!AZ148>0,'LÍNEA 4'!BM148,\" -\")","v":0},{"$f":"+IF('LÍNEA 4'!BB148>0,'LÍNEA 4'!BO148,\" -\")","v":0},{"$f":"+'LÍNEA 4'!AW148+'LÍNEA 4'!AY148+'LÍNEA 4'!BA148","v":0.70833333333333337},{"$f":"+'LÍNEA 4'!BQ148","v":1},1,{"$f":"+'LÍNEA 4'!BS148+'LÍNEA 4'!BX148+'LÍNEA 4'!CC148","v":2631889},{"$f":"+'LÍNEA 4'!CN148","v":1608194},{"$f":"+'LÍNEA 4'!CO148","v":511235},0.6110417270637174,0.31789386106402584]
[null,"4.4.6","\"A Cuidar lo que es Valioso\": Recuperación y Conservación del Patrimonio",null,{"$f":"+IF(SUM('LÍNEA 4'!AV149:AV156)>0,AVERAGE('LÍNEA 4'!BI149:BI156),\" -\")","v":0.66666666666666663},{"$f":"+IF(SUM('LÍNEA 4'!AX149:AX156)>0,AVERAGE('LÍNEA 4'!BK149:BK156),\" -\")","v":0.75},{"$f":"+IF(SUM('LÍNEA 4'!AZ149:AZ156)>0,AVERAGE('LÍNEA 4'!BM149:BM156),\" -\")","v":6.6666666666666666E-2},{"$f":"+IF(SUM('LÍNEA 4'!BB149:BB156)>0,AVERAGE('LÍNEA 4'!BO149:BO156),\" -\")","v":0},{"$f":"+AVERAGE('LÍNEA 4'!AW149:AW156)+AVERAGE('LÍNEA 4'!AY149:AY156)+AVERAGE('LÍNEA 4'!BA149:BA156)","v":0.71875},{"$f":"+AVERAGE('LÍNEA 4'!BQ149:BQ156)","v":0.4375},0.4375,{"$f":"+SUM('LÍNEA 4'!BS149:BS156)+SUM('LÍNEA 4'!BX149:BX156)+SUM('LÍNEA 4'!CC149:CC156)","v":4925160},{"$f":"+SUM('LÍNEA 4'!CN149:CN156)","v":3957218},{"$f":"+SUM('LÍNEA 4'!CO149:CO156)","v":0},0.80346993803247002," -"]
[null,"4.4.7","Procesos de Fortalecimiento de los Oficios",null,{"$f":"+IF('LÍNEA 4'!AV157>0,'LÍNEA 4'!BI157,\" -\")","v":" -"},{"$f":"+IF('LÍNEA 4'!AX157>0,'LÍNEA 4'!BK157,\" -\")","v":1},{"$f":"+IF('LÍNEA 4'!AZ157>0,'LÍNEA 4'!BM157,\" -\")","v":0},{"$f":"+IF('LÍNEA 4'!BB157>0,'LÍNEA 4'!BO157,\" -\")","v":0},{"$f":"+'LÍNEA 4'!AW157+'LÍNEA 4'!AY157+'LÍNEA 4'!BA157","v":0.66},{"$f":"+'LÍNEA 4'!BQ157","v":0.33333333333333331},0.33333333333333331,{"$f":"+'LÍNEA 4'!BS157+'LÍNEA 4'!BX157+'LÍNEA 4'!CC157","v":140000},{"$f":"+'LÍNEA 4'!CN157","v":90000},{"$f":"+'LÍNEA 4'!CO157","v":0},0.6428571428571429," -"]
[null,"4.4.8","Observar y Ser Observado: Fomento al Turismo",null,{"$f":"+IF(SUM('LÍNEA 4'!AV158:AV167)>0,AVERAGE('LÍNEA 4'!BI158:BI167),\" -\")","v":0.6428571428571429},{"$f":"+IF(SUM('LÍNEA 4'!AX158:AX167)>0,AVERAGE('LÍNEA 4'!BK158:BK167),\" -\")","v":0.8571428571428571},{"$f":"+IF(SUM('LÍNEA 4'!AZ158:AZ167)>0,AVERAGE('LÍNEA 4'!BM158:BM167),\" -\")","v":0.375},{"$f":"+IF(SUM('LÍNEA 4'!BB158:BB167)>0,AVERAGE('LÍNEA 4'!BO158:BO167),\" -\")","v":0},{"$f":"+AVERAGE('LÍNEA 4'!AW158:AW167)+AVERAGE('LÍNEA 4'!AY158:AY167)+AVERAGE('LÍNEA 4'!BA158:BA167)","v":0.72850000000000004},{"$f":"+AVERAGE('LÍNEA 4'!BQ158:BQ167)","v":0.5},0.5,{"$f":"+SUM('LÍNEA 4'!BS158:BS167)+SUM('LÍNEA 4'!BX158:BX167)+SUM('LÍNEA 4'!CC158:CC167)","v":12856391},{"$f":"+SUM('LÍNEA 4'!CN158:CN167)","v":10058330},{"$f":"+SUM('LÍNEA 4'!CO158:CO167)","v":200000},0.78236030624768649,1.9884016531571343E-2]
[null,"4.5","RED DE ESPACIO PÚBLICO",null,{"$f":"+AVERAGE(E113:E114)","v":0.9107142857142857},{"$f":"+AVERAGE(F113:F114)","v":0.81428571428571428},0.37270833333333331,0,{"$f":"+AVERAGE(I113:I114)","v":0.72664488017429185},0.58650768518518515,0.58650768518518515,{"$f":"SUM(L113:L114)","v":67938547},{"$f":"SUM(M113:M114)","v":50690244},0,0.74611904785069949," -"]
[null,"4.5.1","Aprovechamiento Social del Espacio Público",null,{"$f":"+IF(SUM('LÍNEA 4'!AV169:AV171)>0,AVERAGE('LÍNEA 4'!BI169:BI171),\" -\")","v":1},{"$f":"+IF(SUM('LÍNEA 4'!AX169:AX171)>0,AVERAGE('LÍNEA 4'!BK169:BK171),\" -\")","v":1},{"$f":"+IF(SUM('LÍNEA 4'!AZ169:AZ171)>0,AVERAGE('LÍNEA 4'!BM169:BM171),\" -\")","v":0.5},{"$f":"+IF(SUM('LÍNEA 4'!BB169:BB171)>0,AVERAGE('LÍNEA 4'!BO169:BO171),\" -\")","v":0},{"$f":"+AVERAGE('LÍNEA 4'!AW169:AW171)+AVERAGE('LÍNEA 4'!AY169:AY171)+AVERAGE('LÍNEA 4'!BA169:BA171)","v":0.76666666666666661},{"$f":"+AVERAGE('LÍNEA 4'!BQ169:BQ171)","v":0.83177833333333329},0.83177833333333329,{"$f":"+SUM('LÍNEA 4'!BS169:BS171)+SUM('LÍNEA 4'!BX169:BX171)+SUM('LÍNEA 4'!CC169:CC171)","v":0},{"$f":"+SUM('LÍNEA 4'!CN169:CN171)","v":0},{"$f":"+SUM('LÍNEA 4'!CO169:CO171)","v":0},"-"," -"]
[null,"4.5.2","Intervención Social del Espacio Público",null,{"$f":"+IF(SUM('LÍNEA 4'!AV172:AV189)>0,AVERAGE('LÍNEA 4'!BI172:BI189),\" -\")","v":0.8214285714285714},{"$f":"+IF(SUM('LÍNEA 4'!AX172:AX189)>0,AVERAGE('LÍNEA 4'!BK172:BK189),\" -\")","v":0.62857142857142867},{"$f":"+IF(SUM('LÍNEA 4'!AZ172:AZ189)>0,AVERAGE('LÍNEA 4'!BM172:BM189),\" -\")","v":0.24541666666666667},{"$f":"+IF(SUM('LÍNEA 4'!BB172:BB189)>0,AVERAGE('LÍNEA 4'!BO172:BO189),\" -\")","v":0},{"$f":"+AVERAGE('LÍNEA 4'!AW172:AW189)+AVERAGE('LÍNEA 4'!AY172:AY189)+AVERAGE('LÍNEA 4'!BA172:BA189)","v":0.6866230936819171},{"$f":"+AVERAGE('LÍNEA 4'!BQ172:BQ189)","v":0.34123703703703706},0.34123703703703706,{"$f":"+SUM('LÍNEA 4'!BS172:BS189)+SUM('LÍNEA 4'!BX172:BX189)+SUM('LÍNEA 4'!CC172:CC189)","v":67938547},{"$f":"+SUM('LÍNEA 4'!CN172:CN189)","v":50690244},{"$f":"+SUM('LÍNEA 4'!CO172:CO189)","v":0},0.74611904785069949," -"]
[null,"4.6","SEGURIDAD Y CONVIVENCIA",null,{"$f":"+AVERAGE(E116:E120)","v":0.67297777777777779},{"$f":"+AVERAGE(F116:F120)","v":0.89365285996055233},0.70531860618014464,0,{"$f":"+AVERAGE(I116:I120)","v":0.79010042803638314},0.65797894806048662,0.65797894806048662,{"$f":"SUM(L116:L120)","v":33173668},{"$f":"SUM(M116:M120)","v":13917184},13269200,0.41952502810361519,0.95344000625413872]
[null,"4.6.1","Casas de Justicia",null,{"$f":"+IF(SUM('LÍNEA 4'!AV191:AV194)>0,AVERAGE('LÍNEA 4'!BI191:BI194),\" -\")","v":1},{"$f":"+IF(SUM('LÍNEA 4'!AX191:AX194)>0,AVERAGE('LÍNEA 4'!BK191:BK194),\" -\")","v":1},{"$f":"+IF(SUM('LÍNEA 4'!AZ191:AZ194)>0,AVERAGE('LÍNEA 4'!BM191:BM194),\" -\")","v":1},{"$f":"+IF(SUM('LÍNEA 4'!BB191:BB194)>0,AVERAGE('LÍNEA 4'!BO191:BO194),\" -\")","v":0},{"$f":"+AVERAGE('LÍNEA 4'!AW191:AW194)+AVERAGE('LÍNEA 4'!AY191:AY194)+AVERAGE('LÍNEA 4'!BA191:BA194)","v":0.8125},{"$f":"+AVERAGE('LÍNEA 4'!BQ191:BQ194)","v":0.6875},0.6875,{"$f":"+SUM('LÍNEA 4'!BS191:BS194)+SUM('LÍNEA 4'!BX191:BX194)+SUM('LÍNEA 4'!CC191:CC194)","v":335000},{"$f":"+SUM('LÍNEA 4'!CN191:CN194)","v":9000},{"$f":"+SUM('LÍNEA 4'!CO191:CO194)","v":14325},2.6865671641791045E-2,1.5916666666666666]
[null,"4.6.2","Seguridad con Lógica y Ética",null,{"$f":"+IF(SUM('LÍNEA 4'!AV195:AV204)>0,AVERAGE('LÍNEA 4'!BI195:BI204),\" -\")","v":0.5},{"$f":"+IF(SUM('LÍNEA 4'!AX195:AX204)>0,AVERAGE('LÍNEA 4'!BK195:BK204),\" -\")","v":0.72715318869165024},{"$f":"+IF(SUM('LÍNEA 4'!AZ195:AZ204)>0,AVERAGE('LÍNEA 4'!BM195:BM204),\" -\")","v":0.6997041420118344},{"$f":"+IF(SUM('LÍNEA 4'!BB195:BB204)>0,AVERAGE('LÍNEA 4'!BO195:BO204),\" -\")","v":0},{"$f":"+AVERAGE('LÍNEA 4'!AW195:AW204)+AVERAGE('LÍNEA 4'!AY195:AY204)+AVERAGE('LÍNEA 4'!BA195:BA204)","v":0.66943071161048695},{"$f":"+AVERAGE('LÍNEA 4'!BQ195:BQ204)","v":0.57021696252465481},0.57021696252465481,{"$f":"+SUM('LÍNEA 4'!BS195:BS204)+SUM('LÍNEA 4'!BX195:BX204)+SUM('LÍNEA 4'!CC195:CC204)","v":31814960},{"$f":"+SUM('LÍNEA 4'!CN195:CN204)","v":13245000},{"$f":"+SUM('LÍNEA 4'!CO195:CO204)","v":13021468},0.41631358329540569,0.98312329180822955]
[null,"4.6.3","Convivencia",null,{"$f":"+IF(SUM('LÍNEA 4'!AV205:AV213)>0,AVERAGE('LÍNEA 4'!BI205:BI213),\" -\")","v":0.69822222222222219},{"$f":"+IF(SUM('LÍNEA 4'!AX205:AX213)>0,AVERAGE('LÍNEA 4'!BK205:BK213),\" -\")","v":0.99111111111111105},{"$f":"+IF(SUM('LÍNEA 4'!AZ205:AZ213)>0,AVERAGE('LÍNEA 4'!BM205:BM213),\" -\")","v":0.85188888888888892},{"$f":"+IF(SUM('LÍNEA 4'!BB205:BB213)>0,AVERAGE('LÍNEA 4'!BO205:BO213),\" -\")","v":0},{"$f":"+AVERAGE('LÍNEA 4'!AW205:AW213)+AVERAGE('LÍNEA 4'!AY205:AY213)+AVERAGE('LÍNEA 4'!BA205:BA213)","v":0.75},{"$f":"+AVERAGE('LÍNEA 4'!BQ205:BQ213)","v":0.66551111111111116},0.66551111111111116,{"$f":"+SUM('LÍNEA 4'!BS205:BS213)+SUM('LÍNEA 4'!BX205:BX213)+SUM('LÍNEA 4'!CC205:CC213)","v":992708},{"$f":"+SUM('LÍNEA 4'!CN205:CN213)","v":663184},{"$f":"+SUM('LÍNEA 4'!CO205:CO213)","v":233407},0.66805546041736341,0.35194908200439096]
[null,"4.6.4","Fortalecimiento de los Derechos Humanos",null,{"$f":"+IF(SUM('LÍNEA 4'!AV214:AV217)>0,AVERAGE('LÍNEA 4'!BI214:BI217),\" -\")","v":0.66666666666666663},{"$f":"+IF(SUM('LÍNEA 4'!AX214:AX217)>0,AVERAGE('LÍNEA 4'!BK214:BK217),\" -\")","v":0.75},{"$f":"+IF(SUM('LÍNEA 4'!AZ214:AZ217)>0,AVERAGE('LÍNEA 4'!BM214:BM217),\" -\")","v":0.77500000000000002},{"$f":"+IF(SUM('LÍNEA 4'!BB214:BB217)>0,AVERAGE('LÍNEA 4'!BO214:BO217),\" -\")","v":0},{"$f":"+AVERAGE('LÍNEA 4'!AW214:AW217)+AVERAGE('LÍNEA 4'!AY214:AY217)+AVERAGE('LÍNEA 4'!BA214:BA217)","v":0.71857142857142853},{"$f":"+AVERAGE('LÍNEA 4'!BQ214:BQ217)","v":0.6333333333333333},0.6333333333333333,{"$f":"+SUM('LÍNEA 4'!BS214:BS217)+SUM('LÍNEA 4'!BX214:BX217)+SUM('LÍNEA 4'!CC214:CC217)","v":31000},{"$f":"+SUM('LÍNEA 4'!CN214:CN217)","v":0},{"$f":"+SUM('LÍNEA 4'!CO214:CO217)","v":0},0," -"]
[null,"4.6.5","Bucaramanga Territorio de Paz",null,{"$f":"+IF(SUM('LÍNEA 4'!AV218:AV220)>0,AVERAGE('LÍNEA 4'!BI218:BI220),\" -\")","v":0.5},{"$f":"+IF(SUM('LÍNEA 4'!AX218:AX220)>0,AVERAGE('LÍNEA 4'!BK218:BK220),\" -\")","v":1},{"$f":"+IF(SUM('LÍNEA 4'!AZ218:AZ220)>0,AVERAGE('LÍNEA 4'!BM218:BM220),\" -\")","v":0.2},{"$f":"+IF(SUM('LÍNEA 4'!BB218:BB220)>0,AVERAGE('LÍNEA 4'!BO218:BO220),\" -\")","v":" -"},{"$f":"+AVERAGE('LÍNEA 4'!AW218:AW220)+AVERAGE('LÍNEA 4'!AY218:AY220)+AVERAGE('LÍNEA 4'!BA218:BA220)","v":1},{"$f":"+AVERAGE('LÍNEA 4'!BQ218:BQ220)","v":0.73333333333333339},0.73333333333333339,{"$f":"+SUM('LÍNEA 4'!BS218:BS220)+SUM('LÍNEA 4'!BX218:BX220)+SUM('LÍNEA 4'!CC218:CC220)","v":0},{"$f":"+SUM('LÍNEA 4'!CN218:CN220)","v":0},{"$f":"+SUM('LÍNEA 4'!CO218:CO220)","v":0},"-"," -"]
[null,5,"LÍNEA ESTRATÉGICA 5: PRODUCTIVIDAD Y GENERACIÓN DE OPORTUNIDADES",null,{"$f":"+AVERAGE(E122,E126,E132)","v":0.88592592592592589},{"$f":"+AVERAGE(F122,F126,F132)","v":0.88190123456790126},0.30618485414962809,0,{"$f":"+AVERAGE(I122,I126,I132)","v":0.43322182392421543},{"$f":"+AVERAGE(J122,J126,J132)","v":0.30189157322603682},0.30189157322603682,{"$f":"+L122+L126+L132","v":11991614},{"$f":"+M122+M126+M132","v":5195910},930244,0.43329530119965504,0.17903389396660066]
[null,"5.1","FOMENTO DEL EMPRENDIMIENTO Y LA INNOVACIÓN",null,{"$f":"+AVERAGE(E123:E125)","v":1},{"$f":"+AVERAGE(F123:F125)","v":0.90370370370370379},0.12083333333333333,0,{"$f":"+AVERAGE(I123:I125)","v":0.29773600668337513},0.15419994430520748,0.15419994430520748,{"$f":"SUM(L123:L125)","v":430253},{"$f":"SUM(M123:M125)","v":344215},335000,0.80002928509504878,0.97322894121406678]
[null,"5.1.1","Bucaramanga Emprendedora",null,{"$f":"+IF(SUM('LÍNEA 5'!AV11:AV15)>0,AVERAGE('LÍNEA 5'!BI11:BI15),\" -\")","v":1},{"$f":"+IF(SUM('LÍNEA 5'!AX11:AX15)>0,AVERAGE('LÍNEA 5'!BK11:BK15),\" -\")","v":0.90370370370370379},{"$f":"+IF(SUM('LÍNEA 5'!AZ11:AZ15)>0,AVERAGE('LÍNEA 5'!BM11:BM15),\" -\")","v":0.36249999999999999},{"$f":"+IF(SUM('LÍNEA 5'!BB11:BB15)>0,AVERAGE('LÍNEA 5'!BO11:BO15),\" -\")","v":0},{"$f":"+AVERAGE('LÍNEA 5'!AW11:AW15)+AVERAGE('LÍNEA 5'!AY11:AY15)+AVERAGE('LÍNEA 5'!BA11:BA15)","v":0.28463659147869674},{"$f":"+AVERAGE('LÍNEA 5'!BQ11:BQ15)","v":0.25942522974101923},0.25942522974101923,{"$f":"+SUM('LÍNEA 5'!BS11:BS15)+SUM('LÍNEA 5'!BX11:BX15)+SUM('LÍNEA 5'!CC11:CC15)","v":280253},{"$f":"+SUM('LÍNEA 5'!CN11:CN15)","v":194215},{"$f":"+SUM('LÍNEA 5'!CO11:CO15)","v":0},0.69299882606073793," -"]
[null,"5.1.2","Bucaramanga Innovadora",null,{"$f":"+IF(SUM('LÍNEA 5'!AV16:AV20)>0,AVERAGE('LÍNEA 5'!BI16:BI20),\" -\")","v":1},{"$f":"+IF(SUM('LÍNEA 5'!AX16:AX20)>0,AVERAGE('LÍNEA 5'!BK16:BK20),\" -\")","v":" -"},{"$f":"+IF(SUM('LÍNEA 5'!AZ16:AZ20)>0,AVERAGE('LÍNEA 5'!BM16:BM20),\" -\")","v":0},{"$f":"+IF(SUM('LÍNEA 5'!BB16:BB20)>0,AVERAGE('LÍNEA 5'!BO16:BO20),\" -\")","v":0},{"$f":"+AVERAGE('LÍNEA 5'!AW16:AW20)+AVERAGE('LÍNEA 5'!AY16:AY20)+AVERAGE('LÍNEA 5'!BA16:BA20)","v":0.10857142857142857},{"$f":"+AVERAGE('LÍNEA 5'!BQ16:BQ20)","v":0.11428571428571428},0.11428571428571428,{"$f":"+SUM('LÍNEA 5'!BS16:BS20)+SUM('LÍNEA 5'!BX16:BX20)+SUM('LÍNEA 5'!CC16:CC20)","v":150000},{"$f":"+SUM('LÍNEA 5'!CN16:CN20)","v":150000},{"$f":"+SUM('LÍNEA 5'!CO16:CO20)","v":335000},1,2.2333333333333334]
[null,"5.1.3","Bucaramanga Digital",null,{"$f":"+IF(SUM('LÍNEA 5'!AV21:AV23)>0,AVERAGE('LÍNEA 5'!BI21:BI23),\" -\")","v":" -"},{"$f":"+IF(SUM('LÍNEA 5'!AX21:AX23)>0,AVERAGE('LÍNEA 5'!BK21:BK23),\" -\")","v":" -"},{"$f":"+IF(SUM('LÍNEA 5'!AZ21:AZ23)>0,AVERAGE('LÍNEA 5'!BM21:BM23),\" -\")","v":0},{"$f":"+IF(SUM('LÍNEA 5'!BB21:BB23)>0,AVERAGE('LÍNEA 5'!BO21:BO23),\" -\")","v":0},{"$f":"+AVERAGE('LÍNEA 5'!AW21:AW23)+AVERAGE('LÍNEA 5'!AY21:AY23)+AVERAGE('LÍNEA 5'!BA21:BA23)","v":0.5},{"$f":"+AVERAGE('LÍNEA 5'!BQ21:BQ23)","v":8.8888888888888892E-2},8.8888888888888892E-2,{"$f":"+SUM('LÍNEA 5'!BS21:BS23)+SUM('LÍNEA 5'!BX21:BX23)+SUM('LÍNEA 5'!CC21:CC23)","v":0},{"$f":"+SUM('LÍNEA 5'!CN21:CN23)","v":0},{"$f":"+SUM('LÍNEA 5'!CO21:CO23)","v":0},"-"," -"]
[null,"5.2","FORTALECIMIENTO EMPRESARIAL",null,{"$f":"+AVERAGE(E127:E131)","v":0.65777777777777768},{"$f":"+AVERAGE(F127:F131)","v":0.74199999999999999},0.31090641430073612,0,{"$f":"+AVERAGE(I127:I131)","v":0.573192303557992},0.29892547565301519,0.29892547565301519,{"$f":"SUM(L127:L131)","v":11208294},{"$f":"SUM(M127:M131)","v":4632728},445244,0.41333034269086805,9.6108383656454688E-2]
[null,"5.2.1","Construcción de una Nueva Cultura Empresarial",null,{"$f":"+IF('LÍNEA 5'!AV25>0,'LÍNEA 5'!BI25,\" -\")","v":" -"},{"$f":"+IF('LÍNEA 5'!AX25>0,'LÍNEA 5'!BK25,\" -\")","v":1},{"$f":"+IF('LÍNEA 5'!AZ25>0,'LÍNEA 5'!BM25,\" -\")","v":0.19333333333333333},{"$f":"+IF('LÍNEA 5'!BB25>0,'LÍNEA 5'!BO25,\" -\")","v":0},{"$f":"+'LÍNEA 5'!AW25+'LÍNEA 5'!AY25+'LÍNEA 5'!BA25","v":0.4},{"$f":"+'LÍNEA 5'!BQ25","v":0.16200000000000001},0.16200000000000001,{"$f":"+'LÍNEA 5'!BS25+'LÍNEA 5'!BX25+'LÍNEA 5'!CC25","v":237500},{"$f":"+'LÍNEA 5'!CN25","v":236130},{"$f":"+'LÍNEA 5'!CO25","v":194930},0.99423157894736847,0.82551984076567997]
[null,"5.2.2","Asesoría y Formación Empresarial",null,{"$f":"+IF(SUM('LÍNEA 5'!AV26:AV27)>0,AVERAGE('LÍNEA 5'!BI26:BI27),\" -\")","v":" -"},{"$f":"+IF(SUM('LÍNEA 5'!AX26:AX27)>0,AVERAGE('LÍNEA 5'!BK26:BK27),\" -\")","v":1},{"$f":"+IF(SUM('LÍNEA 5'!AZ26:AZ27)>0,AVERAGE('LÍNEA 5'!BM26:BM27),\" -\")","v":0.5},{"$f":"+IF(SUM('LÍNEA 5'!BB26:BB27)>0,AVERAGE('LÍNEA 5'!BO26:BO27),\" -\")","v":0},{"$f":"+AVERAGE('LÍNEA 5'!AW26:AW27)+AVERAGE('LÍNEA 5'!AY26:AY27)+AVERAGE('LÍNEA 5'!BA26:BA27)","v":0.55000000000000004},{"$f":"+AVERAGE('LÍNEA 5'!BQ26:BQ27)","v":0.25},0.25,{"$f":"+SUM('LÍNEA 5'!BS26:BS27)+SUM('LÍNEA 5'!BX26:BX27)+SUM('LÍNEA 5'!CC26:CC27)","v":100000},{"$f":"+SUM('LÍNEA 5'!CN26:CN27)","v":30000},{"$f":"+SUM('LÍNEA 5'!CO26:CO27)","v":12800},0.3,0.42666666666666669]
[null,"5.2.3","Fondo de Microcrédito Empresarial",null,{"$f":"+IF('LÍNEA 5'!AV28>0,'LÍNEA 5'!BI28,\" -\")","v":1},{"$f":"+IF('LÍNEA 5'!AX28>0,'LÍNEA 5'!BK28,\" -\")","v":0.57333333333333336},{"$f":"+IF('LÍNEA 5'!AZ28>0,'LÍNEA 5'!BM28,\" -\")","v":0.19453207150368035},{"$f":"+IF('LÍNEA 5'!BB28>0,'LÍNEA 5'!BO28,\" -\")","v":0},{"$f":"+'LÍNEA 5'!AW28+'LÍNEA 5'!AY28+'LÍNEA 5'!BA28","v":0.70977104159948401},{"$f":"+'LÍNEA 5'!BQ28","v":0.39084166397936149},0.39084166397936149,{"$f":"+'LÍNEA 5'!BS28+'LÍNEA 5'!BX28+'LÍNEA 5'!CC28","v":4363205},{"$f":"+'LÍNEA 5'!CN28","v":0},{"$f":"+'LÍNEA 5'!CO28","v":0},0," -"]
[null,"5.2.4","Ampliación de Mercados e Internacionalización",null,{"$f":"+IF(SUM('LÍNEA 5'!AV29:AV35)>0,AVERAGE('LÍNEA 5'!BI29:BI35),\" -\")","v":0},{"$f":"+IF(SUM('LÍNEA 5'!AX29:AX35)>0,AVERAGE('LÍNEA 5'!BK29:BK35),\" -\")","v":0.5},{"$f":"+IF(SUM('LÍNEA 5'!AZ29:AZ35)>0,AVERAGE('LÍNEA 5'!BM29:BM35),\" -\")","v":0.5},{"$f":"+IF(SUM('LÍNEA 5'!BB29:BB35)>0,AVERAGE('LÍNEA 5'!BO29:BO35),\" -\")","v":0},{"$f":"+AVERAGE('LÍNEA 5'!AW29:AW35)+AVERAGE('LÍNEA 5'!AY29:AY35)+AVERAGE('LÍNEA 5'!BA29:BA35)","v":0.4561904761904762},{"$f":"+AVERAGE('LÍNEA 5'!BQ29:BQ35)","v":0.24761904761904763},0.24761904761904763,{"$f":"+SUM('LÍNEA 5'!BS29:BS35)+SUM('LÍNEA 5'!BX29:BX35)+SUM('LÍNEA 5'!CC29:CC35)","v":0},{"$f":"+SUM('LÍNEA 5'!CN29:CN35)","v":0},{"$f":"+SUM('LÍNEA 5'!CO29:CO35)","v":237514},"-",1]
[null,"5.2.5","Mejoramiento del Clima de Negocios",null,{"$f":"+IF(SUM('LÍNEA 5'!AV36:AV38)>0,AVERAGE('LÍNEA 5'!BI36:BI38),\" -\")","v":0.97333333333333327},{"$f":"+IF(SUM('LÍNEA 5'!AX36:AX38)>0,AVERAGE('LÍNEA 5'!BK36:BK38),\" -\")","v":0.63666666666666671},{"$f":"+IF(SUM('LÍNEA 5'!AZ36:AZ38)>0,AVERAGE('LÍNEA 5'!BM36:BM38),\" -\")","v":0.16666666666666666},{"$f":"+IF(SUM('LÍNEA 5'!BB36:BB38)>0,AVERAGE('LÍNEA 5'!BO36:BO38),\" -\")","v":0},{"$f":"+AVERAGE('LÍNEA 5'!AW36:AW38)+AVERAGE('LÍNEA 5'!AY36:AY38)+AVERAGE('LÍNEA 5'!BA36:BA38)","v":0.75},{"$f":"+AVERAGE('LÍNEA 5'!BQ36:BQ38)","v":0.44416666666666665},0.44416666666666665,{"$f":"+SUM('LÍNEA 5'!BS36:BS38)+SUM('LÍNEA 5'!BX36:BX38)+SUM('LÍNEA 5'!CC36:CC38)","v":6507589},{"$f":"+SUM('LÍNEA 5'!CN36:CN38)","v":4366598},{"$f":"+SUM('LÍNEA 5'!CO36:CO38)","v":0},0.67100088834743554," -"]
[null,"5.3","EMPLEABILIDAD, EMPLEO Y TRABAJO DECENTE",null,{"$f":"+AVERAGE(E133:E135)","v":1},{"$f":"+AVERAGE(F133:F135)","v":1},0.48681481481481481,0,{"$f":"+AVERAGE(I133:I135)","v":0.42873716153127917},0.45254929971988794,0.45254929971988794,{"$f":"SUM(L133:L135)","v":353067},{"$f":"SUM(M133:M135)","v":218967},150000,0.6201854039035084,0.68503473126087489]
[null,"5.3.1","Oficina de Empleo y Empleabilidad",null,{"$f":"+IF(SUM('LÍNEA 5'!AV40:AV44)>0,AVERAGE('LÍNEA 5'!BI40:BI44),\" -\")","v":1},{"$f":"+IF(SUM('LÍNEA 5'!AX40:AX44)>0,AVERAGE('LÍNEA 5'!BK40:BK44),\" -\")","v":1},{"$f":"+IF(SUM('LÍNEA 5'!AZ40:AZ44)>0,AVERAGE('LÍNEA 5'!BM40:BM44),\" -\")","v":0.74377777777777776},{"$f":"+IF(SUM('LÍNEA 5'!BB40:BB44)>0,AVERAGE('LÍNEA 5'!BO40:BO44),\" -\")","v":0},{"$f":"+AVERAGE('LÍNEA 5'!AW40:AW44)+AVERAGE('LÍNEA 5'!AY40:AY44)+AVERAGE('LÍNEA 5'!BA40:BA44)","v":0.65333333333333332},{"$f":"+AVERAGE('LÍNEA 5'!BQ40:BQ44)","v":0.60540000000000005},0.60540000000000005,{"$f":"+SUM('LÍNEA 5'!BS40:BS44)+SUM('LÍNEA 5'!BX40:BX44)+SUM('LÍNEA 5'!CC40:CC44)","v":244500},{"$f":"+SUM('LÍNEA 5'!CN40:CN44)","v":183300},{"$f":"+SUM('LÍNEA 5'!CO40:CO44)","v":0},0.74969325153374233," -"]
[null,"5.3.2","Inserción Laboral",null,{"$f":"+IF(SUM('LÍNEA 5'!AV45:AV51)>0,AVERAGE('LÍNEA 5'!BI45:BI51),\" -\")","v":1},{"$f":"+IF(SUM('LÍNEA 5'!AX45:AX51)>0,AVERAGE('LÍNEA 5'!BK45:BK51),\" -\")","v":1},{"$f":"+IF(SUM('LÍNEA 5'!AZ45:AZ51)>0,AVERAGE('LÍNEA 5'!BM45:BM51),\" -\")","v":0.71666666666666667},{"$f":"+IF(SUM('LÍNEA 5'!BB45:BB51)>0,AVERAGE('LÍNEA 5'!BO45:BO51),\" -\")","v":0},{"$f":"+AVERAGE('LÍNEA 5'!AW45:AW51)+AVERAGE('LÍNEA 5'!AY45:AY51)+AVERAGE('LÍNEA 5'!BA45:BA51)","v":0.1953781512605042},{"$f":"+AVERAGE('LÍNEA 5'!BQ45:BQ51)","v":0.18974789915966386},0.18974789915966386,{"$f":"+SUM('LÍNEA 5'!BS45:BS51)+SUM('LÍNEA 5'!BX45:BX51)+SUM('LÍNEA 5'!CC45:CC51)","v":108567},{"$f":"+SUM('LÍNEA 5'!CN45:CN51)","v":35667},{"$f":"+SUM('LÍNEA 5'!CO45:CO51)","v":0},0.32852524247699577," -"]
[null,"5.3.3","Observatorio del Empleo y el Trabajo",null,{"$f":"+IF(SUM('LÍNEA 5'!AV52:AV53)>0,AVERAGE('LÍNEA 5'!BI52:BI53),\" -\")","v":1},{"$f":"+IF(SUM('LÍNEA 5'!AX52:AX53)>0,AVERAGE('LÍNEA 5'!BK52:BK53),\" -\")","v":1},{"$f":"+IF(SUM('LÍNEA 5'!AZ52:AZ53)>0,AVERAGE('LÍNEA 5'!BM52:BM53),\" -\")","v":0},{"$f":"+IF(SUM('LÍNEA 5'!BB52:BB53)>0,AVERAGE('LÍNEA 5'!BO52:BO53),\" -\")","v":0},{"$f":"+AVERAGE('LÍNEA 5'!AW52:AW53)+AVERAGE('LÍNEA 5'!AY52:AY53)+AVERAGE('LÍNEA 5'!BA52:BA53)","v":0.4375},{"$f":"+AVERAGE('LÍNEA 5'!BQ52:BQ53)","v":0.5625},0.5625,{"$f":"+SUM('LÍNEA 5'!BS52:BS53)+SUM('LÍNEA 5'!BX52:BX53)+SUM('LÍNEA 5'!CC52:CC53)","v":0},{"$f":"+SUM('LÍNEA 5'!CN52:CN53)","v":0},{"$f":"+SUM('LÍNEA 5'!CO52:CO53)","v":150000},"-",1]
[null,6,"LÍNEA ESTRATÉGICA 6: INFRAESTRUCTURA Y CONECTIVIDAD",null,{"$f":"+AVERAGE(E137,E143,E146)","v":0.77619047619047621},{"$f":"+AVERAGE(F137,F143,F146)","v":0.71880792297979801},0.33948333333333336,0,{"$f":"+AVERAGE(I137,I143,I146)","v":0.68803836766829807},{"$f":"+AVERAGE(J137,J143,J146)","v":0.40412994516402795},{"$f":"+J136","v":0.40412994516402795},{"$f":"+L137+L143+L146","v":246640399.12799999},{"$f":"+M137+M143+M146","v":84889107.900000006},3469171,0.34418168394199183,4.0867092207950977E-2]
[null,"6.1","MOVILIDAD",null,{"$f":"+AVERAGE(E138:E142)","v":0.88571428571428579},{"$f":"+AVERAGE(F138:F142)","v":0.79227272727272724},0.43511666666666671,0,{"$f":"+AVERAGE(I138:I142)","v":0.67967519305019308},0.53828141141141139,0.53828141141141139,{"$f":"SUM(L138:L142)","v":41479841.127999999},{"$f":"SUM(M138:M142)","v":16262747.899999999},1060511,0.39206389074191056,6.5211058212370124E-2]
[null,"6.1.1","SITM Eficiente y Confiable",null,{"$f":"+IF(SUM('LÍNEA 6'!AV11:AV18)>0,AVERAGE('LÍNEA 6'!BI11:BI18),\" -\")","v":1},{"$f":"+IF(SUM('LÍNEA 6'!AX11:AX18)>0,AVERAGE('LÍNEA 6'!BK11:BK18),\" -\")","v":0.75},{"$f":"+IF(SUM('LÍNEA 6'!AZ11:AZ18)>0,AVERAGE('LÍNEA 6'!BM11:BM18),\" -\")","v":0.45},{"$f":"+IF(SUM('LÍNEA 6'!BB11:BB18)>0,AVERAGE('LÍNEA 6'!BO11:BO18),\" -\")","v":0},{"$f":"+AVERAGE('LÍNEA 6'!AW11:AW18)+AVERAGE('LÍNEA 6'!AY11:AY18)+AVERAGE('LÍNEA 6'!BA11:BA18)","v":0.80125000000000002},{"$f":"+AVERAGE('LÍNEA 6'!BQ11:BQ18)","v":0.6020833333333333},0.6020833333333333,{"$f":"+SUM('LÍNEA 6'!BS11:BS18)+SUM('LÍNEA 6'!BX11:BX18)+SUM('LÍNEA 6'!CC11:CC18)","v":3498844},{"$f":"+SUM('LÍNEA 6'!CN11:CN18)","v":488844},{"$f":"+SUM('LÍNEA 6'!CO11:CO18)","v":18850},0.13971586043847625,3.8560358723846465E-2]
[null,"6.1.2","Promoción de Modos de Transporte no Motorizados",null,{"$f":"+IF(SUM('LÍNEA 6'!AV19:AV24)>0,AVERAGE('LÍNEA 6'!BI19:BI24),\" -\")","v":0.75},{"$f":"+IF(SUM('LÍNEA 6'!AX19:AX24)>0,AVERAGE('LÍNEA 6'!BK19:BK24),\" -\")","v":0.97499999999999998},{"$f":"+IF(SUM('LÍNEA 6'!AZ19:AZ24)>0,AVERAGE('LÍNEA 6'!BM19:BM24),\" -\")","v":0.5},{"$f":"+IF(SUM('LÍNEA 6'!BB19:BB24)>0,AVERAGE('LÍNEA 6'!BO19:BO24),\" -\")","v":0},{"$f":"+AVERAGE('LÍNEA 6'!AW19:AW24)+AVERAGE('LÍNEA 6'!AY19:AY24)+AVERAGE('LÍNEA 6'!BA19:BA24)","v":0.66833333333333333},{"$f":"+AVERAGE('LÍNEA 6'!BQ19:BQ24)","v":0.57527777777777778},0.57527777777777778,{"$f":"+SUM('LÍNEA 6'!BS19:BS24)+SUM('LÍNEA 6'!BX19:BX24)+SUM('LÍNEA 6'!CC19:CC24)","v":5223407},{"$f":"+SUM('LÍNEA 6'!CN19:CN24)","v":3127159},{"$f":"+SUM('LÍNEA 6'!CO19:CO24)","v":0},{"$f":"IF(L139=0,\"-\",+M139/L139)","v":0.59868185649711003}," -"]
[null,"6.1.3","Movilidad y Seguridad Vial",null,{"$f":"+IF(SUM('LÍNEA 6'!AV25:AV40)>0,AVERAGE('LÍNEA 6'!BI25:BI40),\" -\")","v":0.97857142857142854},{"$f":"+IF(SUM('LÍNEA 6'!AX25:AX40)>0,AVERAGE('LÍNEA 6'!BK25:BK40),\" -\")","v":0.93333333333333335},{"$f":"+IF(SUM('LÍNEA 6'!AZ25:AZ40)>0,AVERAGE('LÍNEA 6'!BM25:BM40),\" -\")","v":0.72558333333333336},{"$f":"+IF(SUM('LÍNEA 6'!BB25:BB40)>0,AVERAGE('LÍNEA 6'!BO25:BO40),\" -\")","v":0},{"$f":"+AVERAGE('LÍNEA 6'!AW25:AW40)+AVERAGE('LÍNEA 6'!AY25:AY40)+AVERAGE('LÍNEA 6'!BA25:BA40)","v":0.75498310810810809},{"$f":"+AVERAGE('LÍNEA 6'!BQ25:BQ40)","v":0.71502927927927928},0.71502927927927928,{"$f":"+SUM('LÍNEA 6'!BS25:BS40)+SUM('LÍNEA 6'!BX25:BX40)+SUM('LÍNEA 6'!CC25:CC40)","v":19217827.127999999},{"$f":"+SUM('LÍNEA 6'!CN25:CN40)","v":8349430.8999999994},{"$f":"+SUM('LÍNEA 6'!CO25:CO40)","v":1041661},0.43446279563182466,0.1247583233487207]
[null,"6.1.4","Mantenimiento y Construcción de Red Vial Urbana",null,{"$f":"+IF(SUM('LÍNEA 6'!AV41:AV47)>0,AVERAGE('LÍNEA 6'!BI41:BI47),\" -\")","v":0.7},{"$f":"+IF(SUM('LÍNEA 6'!AX41:AX47)>0,AVERAGE('LÍNEA 6'!BK41:BK47),\" -\")","v":0.30303030303030304},{"$f":"+IF(SUM('LÍNEA 6'!AZ41:AZ47)>0,AVERAGE('LÍNEA 6'!BM41:BM47),\" -\")","v":0},{"$f":"+IF(SUM('LÍNEA 6'!BB41:BB47)>0,AVERAGE('LÍNEA 6'!BO41:BO47),\" -\")","v":0},{"$f":"+AVERAGE('LÍNEA 6'!AW41:AW47)+AVERAGE('LÍNEA 6'!AY41:AY47)+AVERAGE('LÍNEA 6'!BA41:BA47)","v":0.69880952380952377},{"$f":"+AVERAGE('LÍNEA 6'!BQ41:BQ47)","v":0.36401666666666666},0.36401666666666666,{"$f":"+SUM('LÍNEA 6'!BS41:BS47)+SUM('LÍNEA 6'!BX41:BX47)+SUM('LÍNEA 6'!CC41:CC47)","v":12242407},{"$f":"+SUM('LÍNEA 6'!CN41:CN47)","v":3642963},{"$f":"+SUM('LÍNEA 6'!CO41:CO47)","v":0},0.29756917900213575," -"]
[null,"6.1.5","Mantenimiento y Construcción de Red Vial Rural",null,{"$f":"+IF(SUM('LÍNEA 6'!AV48:AV49)>0,AVERAGE('LÍNEA 6'!BI48:BI49),\" -\")","v":1},{"$f":"+IF(SUM('LÍNEA 6'!AX48:AX49)>0,AVERAGE('LÍNEA 6'!BK48:BK49),\" -\")","v":1},{"$f":"+IF(SUM('LÍNEA 6'!AZ48:AZ49)>0,AVERAGE('LÍNEA 6'!BM48:BM49),\" -\")","v":0.5},{"$f":"+IF(SUM('LÍNEA 6'!BB48:BB49)>0,AVERAGE('LÍNEA 6'!BO48:BO49),\" -\")","v":0},{"$f":"+AVERAGE('LÍNEA 6'!AW48:AW49)+AVERAGE('LÍNEA 6'!AY48:AY49)+AVERAGE('LÍNEA 6'!BA48:BA49)","v":0.47499999999999998},{"$f":"+AVERAGE('LÍNEA 6'!BQ48:BQ49)","v":0.435},0.435,{"$f":"+SUM('LÍNEA 6'!BS48:BS49)+SUM('LÍNEA 6'!BX48:BX49)+SUM('LÍNEA 6'!CC48:CC49)","v":1297356},{"$f":"+SUM('LÍNEA 6'!CN48:CN49)","v":654351},{"$f":"+SUM('LÍNEA 6'!CO48:CO49)","v":0},0.50437273963353157," -"]
[null,"6.2","SERVICIOS PÚBLICOS",null,{"$f":"+AVERAGE(E144:E145)","v":0.66666666666666663},{"$f":"+AVERAGE(F144:F145)","v":0.88415104166666669},0.18333333333333335,0,{"$f":"+AVERAGE(I144:I145)","v":0.54015419566898681},0.30267985265210107,0.30267985265210107,{"$f":"SUM(L144:L145)","v":205160558},{"$f":"SUM(M144:M145)","v":68626360},2408660,0.33450074745848568,3.5098175103560787E-2]
[null,"6.2.1","Servicios Públicos Rurales",null,{"$f":"+IF(SUM('LÍNEA 6'!AV51:AV60)>0,AVERAGE('LÍNEA 6'!BI51:BI60),\" -\")","v":1},{"$f":"+IF(SUM('LÍNEA 6'!AX51:AX60)>0,AVERAGE('LÍNEA 6'!BK51:BK60),\" -\")","v":0.99666666666666659},{"$f":"+IF(SUM('LÍNEA 6'!AZ51:AZ60)>0,AVERAGE('LÍNEA 6'!BM51:BM60),\" -\")","v":0.2},{"$f":"+IF(SUM('LÍNEA 6'!BB51:BB60)>0,AVERAGE('LÍNEA 6'!BO51:BO60),\" -\")","v":0},{"$f":"+AVERAGE('LÍNEA 6'!AW51:AW60)+AVERAGE('LÍNEA 6'!AY51:AY60)+AVERAGE('LÍNEA 6'!BA51:BA60)","v":0.31572505800464035},{"$f":"+AVERAGE('LÍNEA 6'!BQ51:BQ60)","v":0.12364269141531323},0.12364269141531323,{"$f":"+SUM('LÍNEA 6'!BS51:BS60)+SUM('LÍNEA 6'!BX51:BX60)+SUM('LÍNEA 6'!CC51:CC60)","v":9315736},{"$f":"+SUM('LÍNEA 6'!CN51:CN60)","v":5124488},{"$f":"+SUM('LÍNEA 6'!CO51:CO60)","v":2408660},0.55008944006141869,0.47002939610747452]
[null,"6.2.2","Alumbrado Público Urbano y Rural",null,{"$f":"+IF(SUM('LÍNEA 6'!AV61:AV68)>0,AVERAGE('LÍNEA 6'!BI61:BI68),\" -\")","v":0.33333333333333331},{"$f":"+IF(SUM('LÍNEA 6'!AX61:AX68)>0,AVERAGE('LÍNEA 6'!BK61:BK68),\" -\")","v":0.77163541666666668},{"$f":"+IF(SUM('LÍNEA 6'!AZ61:AZ68)>0,AVERAGE('LÍNEA 6'!BM61:BM68),\" -\")","v":0.16666666666666666},{"$f":"+IF(SUM('LÍNEA 6'!BB61:BB68)>0,AVERAGE('LÍNEA 6'!BO61:BO68),\" -\")","v":0},{"$f":"+AVERAGE('LÍNEA 6'!AW61:AW68)+AVERAGE('LÍNEA 6'!AY61:AY68)+AVERAGE('LÍNEA 6'!BA61:BA68)","v":0.76458333333333328},{"$f":"+AVERAGE('LÍNEA 6'!BQ61:BQ68)","v":0.48171701388888888},0.48171701388888888,{"$f":"+SUM('LÍNEA 6'!BS61:BS68)+SUM('LÍNEA 6'!BX61:BX68)+SUM('LÍNEA 6'!CC61:CC68)","v":195844822},{"$f":"+SUM('LÍNEA 6'!CN61:CN68)","v":63501872},{"$f":"+SUM('LÍNEA 6'!CO61:CO68)","v":0},0.32424585624224467," -"]
[null,"6.3","INFRAESTRUCTURA TECNOLÓGICA",null,{"$f":"+E147","v":" -"},{"$f":"+F147","v":0.48000000000000009},0.4,0,{"$f":"+I147","v":0.84428571428571431},0.37142857142857144,0.37142857142857144,{"$f":"+L147","v":0},{"$f":"+M147","v":0},0,"-"," -"]
[null,"6.3.1","Bucaramanga Ciudad Inteligente que Aprende",null,{"$f":"+IF(SUM('LÍNEA 6'!AV70:AV76)>0,AVERAGE('LÍNEA 6'!BI70:BI76),\" -\")","v":" -"},{"$f":"+IF(SUM('LÍNEA 6'!AX70:AX76)>0,AVERAGE('LÍNEA 6'!BK70:BK76),\" -\")","v":0.48000000000000009},{"$f":"+IF(SUM('LÍNEA 6'!AZ70:AZ76)>0,AVERAGE('LÍNEA 6'!BM70:BM76),\" -\")","v":0.4},{"$f":"+IF(SUM('LÍNEA 6'!BB70:BB76)>0,AVERAGE('LÍNEA 6'!BO70:BO76),\" -\")","v":0},{"$f":"+AVERAGE('LÍNEA 6'!AW70:AW76)+AVERAGE('LÍNEA 6'!AY70:AY76)+AVERAGE('LÍNEA 6'!BA70:BA76)","v":0.84428571428571431},{"$f":"+AVERAGE('LÍNEA 6'!BQ70:BQ76)","v":0.37142857142857144},0.37142857142857144,{"$f":"+SUM('LÍNEA 6'!BS70:BS76)+SUM('LÍNEA 6'!BX70:BX76)+SUM('LÍNEA 6'!CC70:CC76)","v":0},{"$f":"+SUM('LÍNEA 6'!CN70:CN76)","v":0},{"$f":"+SUM('LÍNEA 6'!CO70:CO76)","v":0},"-"," -"]
[null,null,"PLAN DE DESARROLLO 2016 - 2019",null,{"$f":"+AVERAGE(E8,E38,E65,E80,E121,E136)","v":0.83443432959311226},{"$f":"+AVERAGE(F8,F38,F65,F80,F121,F136)","v":0.79978459092509058},0.53700381080180126,0,{"$f":"+AVERAGE(I8,I38,I65,I80,I121,I136)","v":0.67026018684119659},{"$f":"+AVERAGE(J8,J38,J65,J80,J121,J136)","v":0.51203106544799015},0.51203106544799015,{"$f":"+SUM(L8,L38,L65,L80,L121,L136)","v":2033798338.2943704},{"$f":"+SUM(M8,M38,M65,M80,M121,M136)","v":1339742878.2160001},35395396,0.65873929238213724,2.6419544059926234E-2]
[]
[null,null,"FECHA DE CORTE: 30/06/2018",null,null,null,null,null,"META A JUNIO 2018: 54%"]
[]
[]
[]
[null,null,null,"DESEMPEÑO SECRETARÍAS, OFICINAS E INSTITUTOS DESCENTRALIZADOS"]
[]
[null,null,null,null,2016,2017,2018,2019,"PROMEDIO\n2016 - 2018","Cumplimiento Acumulado",null,"RECURSOS PROGRAMADOS","RECURSOS EJECUTADOS","RECURSOS GESTIONADOS","PORCENTAJE EJECUCIÓN","NIVEL DE GESTIÓN"]
[null,null,null,"Administrativa",{"$f":"+'[9]2016 - 2019'!O31","v":1},{"$f":"+'[9]2016 - 2019'!P31","v":0.70588235294117652},{"$f":"+'[9]2016 - 2019'!Q31","v":0.67272727272727273},{"$f":"+'[9]2016 - 2019'!R31","v":0},{"$f":"+AVERAGE(E157:G157)","v":0.79286987522281649},{"$f":"+'[9]2016 - 2019'!S31","v":0.51111111111111107},{"$f":"+J157","v":0.51111111111111107},{"$f":"[9]RESUMEN!K16","v":3054857},{"$f":"[9]RESUMEN!L16","v":1818998},{"$f":"[9]RESUMEN!M16","v":0},{"$f":"[9]RESUMEN!N16","v":0.59544456581764715},{"$f":"[9]RESUMEN!O16","v":" -"}]
[null,null,null,"AMB",{"$f":"+'[13]2016 - 2019'!O24","v":" -"},{"$f":"+'[13]2016 - 2019'!P24","v":0.64500000000000002},{"$f":"+'[13]2016 - 2019'!Q24","v":0.47083333333333338},{"$f":"+'[13]2016 - 2019'!R24","v":0},{"$f":"+AVERAGE(E158:G158)","v":0.55791666666666673},{"$f":"+'[13]2016 - 2019'!$S$24","v":0.50583333333333336},{"$f":"+J158","v":0.50583333333333336},{"$f":"[13]RESUMEN!K16","v":2052760},{"$f":"[13]RESUMEN!L16","v":2044760},{"$f":"[13]RESUMEN!M16","v":0},{"$f":"[13]RESUMEN!N16","v":0.99610280792688866},{"$f":"[13]RESUMEN!O16","v":" -"}]
[null,null,null,"Bomberos",{"$f":"+'[15]2016 - 2019'!$O$16","v":1},{"$f":"+'[15]2016 - 2019'!$P$16","v":0.69444444444444453},{"$f":"+'[15]2016 - 2019'!$Q$16","v":0.76666666666666661},{"$f":"+'[15]2016 - 2019'!$R$16","v":0},{"$f":"+AVERAGE(E159:G159)","v":0.82037037037037042},{"$f":"+'[15]2016 - 2019'!$S$16","v":0.65833333333333333},{"$f":"+J159","v":0.65833333333333333},{"$f":"[15]RESUMEN!K14","v":17854599},{"$f":"[15]RESUMEN!L14","v":8173111},{"$f":"[15]RESUMEN!M14","v":1303739},{"$f":"[15]RESUMEN!N14","v":0.45775942657687241},{"$f":"[15]RESUMEN!O14","v":0.15951563609010083}]
[null,null,null,"Control Interno",{"$f":"+'[20]2016 - 2019'!$O$13","v":1},{"$f":"+'[20]2016 - 2019'!$P$13","v":1},{"$f":"+'[20]2016 - 2019'!$Q$13","v":1},{"$f":"+'[20]2016 - 2019'!$R$13","v":0},1,{"$f":"+'[20]2016 - 2019'!$S$13","v":0.81578947368421051},0.81578947368421051,{"$f":"[20]RESUMEN!K11","v":0},{"$f":"[20]RESUMEN!L11","v":0},{"$f":"[20]RESUMEN!M11","v":0},{"$f":"[20]RESUMEN!N11","v":"-"},{"$f":"[20]RESUMEN!O11","v":" -"}]
[null,null,null,"Control Interno Disciplinario",{"$f":"+'[19]2016 - 2019'!$O$14","v":1},{"$f":"+'[19]2016 - 2019'!$P$14","v":1},{"$f":"+'[19]2016 - 2019'!$Q$14","v":1},{"$f":"+'[19]2016 - 2019'!$R$14","v":0},1,{"$f":"+'[19]2016 - 2019'!$S$14","v":0.875},0.875,{"$f":"[19]RESUMEN!K11","v":0},{"$f":"[19]RESUMEN!L11","v":0},{"$f":"[19]RESUMEN!M11","v":0},{"$f":"[19]RESUMEN!N11","v":"-"},{"$f":"[19]RESUMEN!O11","v":" -"}]
[null,null,null,"DADEP",{"$f":"+'[18]2016 - 2019'!$O$18","v":0.96250000000000002},{"$f":"+'[18]2016 - 2019'!$P$18","v":0.88400000000000001},{"$f":"+'[18]2016 - 2019'!$Q$18","v":0.434},{"$f":"+'[18]2016 - 2019'!$R$18","v":0},0.76016666666666666,{"$f":"+'[18]2016 - 2019'!$S$18","v":0.60586699999999993},0.60586699999999993,{"$f":"[18]RESUMEN!K14","v":0},{"$f":"[18]RESUMEN!L14","v":0},{"$f":"[18]RESUMEN!M14","v":0},{"$f":"[18]RESUMEN!N14","v":"-"},{"$f":"[18]RESUMEN!O14","v":" -"}]
[null,null,null,"Desarrollo Social",{"$f":"+'[3]2016 - 2019'!O137","v":0.72146138229586509},{"$f":"+'[3]2016 - 2019'!P137","v":0.79986440677966075},{"$f":"+'[3]2016 - 2019'!Q137","v":0.65891518050401987},{"$f":"+'[3]2016 - 2019'!R137","v":0},0.72674698985984865,{"$f":"+'[3]2016 - 2019'!S137","v":0.59529279123414058},0.59529279123414058,{"$f":"[3]RESUMEN!K42","v":34453258},{"$f":"[3]RESUMEN!L42","v":27487766},{"$f":"[3]RESUMEN!M42","v":418362},{"$f":"[3]RESUMEN!N42","v":0.79782777001815042},{"$f":"[3]RESUMEN!O42","v":1.5219934570164777E-2}]
[null,null,null,"Educación",{"$f":"+'[4]2016 - 2019'!$O$69","v":0.78017304706615587},{"$f":"+'[4]2016 - 2019'!$P$69","v":0.81592153594648587},{"$f":"+'[4]2016 - 2019'!$Q$69","v":0.49463555660370351},{"$f":"+'[4]2016 - 2019'!$R$69","v":0},0.69691004653878164,{"$f":"+'[4]2016 - 2019'!$S$69","v":0.5722321483392997},0.5722321483392997,{"$f":"[4]RESUMEN!K22","v":483580964},{"$f":"[4]RESUMEN!L22","v":459365395},{"$f":"[4]RESUMEN!M22","v":6832258},{"$f":"[4]RESUMEN!N22","v":0.94992447841681382},{"$f":"[4]RESUMEN!O22","v":1.4873253567565751E-2}]
[null,null,null,"EMAB",{"$f":"+'[25]2016 - 2019'!$O$21","v":0.93277777777777771},{"$f":"+'[25]2016 - 2019'!$P$21","v":1},{"$f":"+'[25]2016 - 2019'!$Q$21","v":0.83724208860759486},{"$f":"+'[25]2016 - 2019'!$R$21","v":{"$error":"#DIV/0!"}},0.92333995546179093,{"$f":"+'[25]2016 - 2019'!$S$21","v":0.85071726822363758},0.85071726822363758,{"$f":"[25]RESUMEN!K11","v":23158653},{"$f":"[25]RESUMEN!L11","v":18554449},{"$f":"[25]RESUMEN!M11","v":0},{"$f":"[25]RESUMEN!N11","v":0.8011886097174995},{"$f":"[25]RESUMEN!O11","v":" -"}]
[null,null,null,"Hacienda",{"$f":"+'[5]2016 - 2019'!$O$25","v":0.8666666666666667},{"$f":"+'[5]2016 - 2019'!$P$25","v":0.95454545454545459},{"$f":"+'[5]2016 - 2019'!$Q$25","v":0.57708333333333328},{"$f":"+'[5]2016 - 2019'!$R$25","v":0},0.79943181818181819,{"$f":"+'[5]2016 - 2019'!$S$25","v":0.73024891774891776},0.73024891774891776,{"$f":"[5]RESUMEN!K18","v":35363738},{"$f":"[5]RESUMEN!L18","v":31194229},{"$f":"[5]RESUMEN!M18","v":0},{"$f":"[5]RESUMEN!N18","v":0.88209648538850727},{"$f":"[5]RESUMEN!O18","v":" -"}]
[null,null,null,"IMCT",{"$f":"+'[12]2016 - 2019'!O67","v":0.73611111111111116},{"$f":"+'[12]2016 - 2019'!P67","v":0.79255319148936165},{"$f":"+'[12]2016 - 2019'!Q67","v":0.57575757575757569},{"$f":"+'[12]2016 - 2019'!R67","v":0},0.70147395945268276,{"$f":"+'[12]2016 - 2019'!$S$67","v":0.57582654273830747},0.57582654273830747,{"$f":"[12]RESUMEN!K28","v":17059353},{"$f":"[12]RESUMEN!L28","v":12050580},{"$f":"[12]RESUMEN!M28","v":746905},{"$f":"[12]RESUMEN!N28","v":0.70639138541772362},{"$f":"[12]RESUMEN!O28","v":6.1980834117527951E-2}]
[null,null,null,"IMEBU",{"$f":"+'[22] 2016 - 2019'!O59","v":0.99333333333333329},{"$f":"+'[22] 2016 - 2019'!P59","v":0.91402116402116407},{"$f":"+'[22] 2016 - 2019'!Q59","v":0.49929824206638085},{"$f":"+'[22] 2016 - 2019'!R59","v":0},0.8022175798069594,{"$f":"+'[22] 2016 - 2019'!S59","v":0.32246798780367825},0.32246798780367825,{"$f":"[22]RESUMEN!K33","v":5629101},{"$f":"[22]RESUMEN!L33","v":4075474},{"$f":"[22]RESUMEN!M33","v":735314},{"$f":"[22]RESUMEN!N33","v":0.72400086621291748},{"$f":"[22]RESUMEN!O33","v":0.18042416661227625}]
[null,null,null,"INDERBU",{"$f":"+'[23]2016 - 2019'!$O$36","v":0.95419999999999994},{"$f":"+'[23]2016 - 2019'!$P$36","v":0.93181818181818177},{"$f":"+'[23]2016 - 2019'!$Q$36","v":0.58581765327695556},{"$f":"+'[23]2016 - 2019'!$R$36","v":0},0.82394527836504583,{"$f":"+'[23]2016 - 2019'!$S$36","v":0.68867858932952131},0.68867858932952131,{"$f":"[23]RESUMEN!K23","v":7946594},{"$f":"[23]RESUMEN!L23","v":6543681},{"$f":"[23]RESUMEN!M23","v":207615},{"$f":"[23]RESUMEN!N23","v":0.82345732020536089},{"$f":"[23]RESUMEN!O23","v":3.1727555178805322E-2}]
[null,null,null,"Infraestructura",{"$f":"+'[7]2016 - 2019'!O87","v":0.77619047619047621},{"$f":"+'[7]2016 - 2019'!P87","v":0.67019935031428834},{"$f":"+'[7]2016 - 2019'!Q87","v":0.17269503546099291},{"$f":"+'[7]2016 - 2019'!R87","v":0},0.5396949539885858,{"$f":"+'[7]2016 - 2019'!S87","v":0.28657506776991659},0.28657506776991659,{"$f":"[7]RESUMEN!K46","v":188520626},{"$f":"[7]RESUMEN!L46","v":122508019},{"$f":"[7]RESUMEN!M46","v":2408660},{"$f":"[7]RESUMEN!N46","v":0.64983880861927545},{"$f":"[7]RESUMEN!O46","v":1.9661243563166262E-2}]
[null,null,null,"Interior",{"$f":"+'[2]2016 - 2019'!$O$98","v":0.79148837209302325},{"$f":"+'[2]2016 - 2019'!$P$98","v":0.84641353728814206},{"$f":"+'[2]2016 - 2019'!$Q$98","v":0.71158535054688887},{"$f":"+'[2]2016 - 2019'!$R$98","v":0},0.78316241997601799,{"$f":"+'[2]2016 - 2019'!$S$98","v":0.61344313570233733},0.61344313570233733,{"$f":"[2]RESUMEN!K39","v":33690439},{"$f":"[2]RESUMEN!L39","v":21725886},{"$f":"[2]RESUMEN!M39","v":14382536},{"$f":"[2]RESUMEN!N39","v":0.64486799949386231},{"$f":"[2]RESUMEN!O39","v":0.66199997551308154}]
[null,null,null,"INVISBU",{"$f":"+'[24]2016 - 2019'!$O$24","v":1},{"$f":"+'[24]2016 - 2019'!$P$24","v":0.91516666666666657},{"$f":"+'[24]2016 - 2019'!$Q$24","v":0.58465454545454554},{"$f":"+'[24]2016 - 2019'!$R$24","v":0},0.83327373737373733,{"$f":"+'[24]2016 - 2019'!$S$24","v":0.59910555555555556},0.59910555555555556,{"$f":"[24]RESUMEN!K14","v":18776440},{"$f":"[24]RESUMEN!L14","v":9985564},{"$f":"[24]RESUMEN!M14","v":3629363},{"$f":"[24]RESUMEN!N14","v":0.53181348541043993},{"$f":"[24]RESUMEN!O14","v":0.36346099228846762}]
[null,null,null,"ISABU",{"$f":"+'[26]2016 - 2019'!$O$17","v":1},{"$f":"+'[26]2016 - 2019'!$P$17","v":1},{"$f":"+'[26]2016 - 2019'!$Q$17","v":0.84},{"$f":"+'[26]2016 - 2019'!$R$17","v":0},0.94666666666666666,{"$f":"+'[26]2016 - 2019'!$S$17","v":0.85933333333333339},0.85933333333333339,{"$f":"[26]RESUMEN!K11","v":1620846},{"$f":"[26]RESUMEN!L11","v":1302133},{"$f":"[26]RESUMEN!M11","v":0},{"$f":"[26]RESUMEN!N11","v":0.80336626675205414},{"$f":"[26]RESUMEN!O11","v":" -"}]
[null,null,null,"Jurídica",{"$f":"+'[14]2016 - 2019'!$O$24","v":0.84499999999999997},{"$f":"+'[14]2016 - 2019'!$P$24","v":1},{"$f":"+'[14]2016 - 2019'!$Q$24","v":0.57000000000000006},{"$f":"+'[14]2016 - 2019'!$R$24","v":0},0.80500000000000005,{"$f":"+'[14]2016 - 2019'!$S$24","v":0.67386363636363633},0.67386363636363633,{"$f":"[14]RESUMEN!K14","v":518260},{"$f":"[14]RESUMEN!L14","v":272260},{"$f":"[14]RESUMEN!M14","v":11400},{"$f":"[14]RESUMEN!N14","v":0.52533477405163431},{"$f":"[14]RESUMEN!O14","v":4.1871740248292072E-2}]
[null,null,null,"Metrolínea",{"$f":"+'[21]2016 - 2019'!$O$20","v":0.85},{"$f":"+'[21]2016 - 2019'!$P$20","v":1},{"$f":"+'[21]2016 - 2019'!$Q$20","v":0.65},{"$f":"+'[21]2016 - 2019'!$R$20","v":0},0.83333333333333337,{"$f":"+'[21]2016 - 2019'!$S$20","v":0.71666666666666667},0.71666666666666667,{"$f":"[21]RESUMEN!K14","v":588844},{"$f":"[21]RESUMEN!L14","v":488844},{"$f":"[21]RESUMEN!M14","v":18850},{"$f":"[21]RESUMEN!N14","v":0.83017573415030121},{"$f":"[21]RESUMEN!O14","v":3.8560358723846465E-2}]
[null,null,null,"Planeación",{"$f":"+'[6]2016 - 2019'!$O$58","v":0.89999999999999991},{"$f":"+'[6]2016 - 2019'!$P$58","v":0.65055555555555555},{"$f":"+'[6]2016 - 2019'!$Q$58","v":0.49403726708074525},{"$f":"+'[6]2016 - 2019'!$R$58","v":0},0.68153094087876687,{"$f":"+'[6]2016 - 2019'!$S$58","v":0.42694583333333325},0.42694583333333325,{"$f":"[6]RESUMEN!K33","v":7985915.8841300001},{"$f":"[6]RESUMEN!L33","v":6018905},{"$f":"[6]RESUMEN!M33","v":1117472},{"$f":"[6]RESUMEN!N33","v":0.75369000717388723},{"$f":"[6]RESUMEN!O33","v":0.18566034851854282}]
[null,null,null,"Prensa",{"$f":"+'[8]2016 - 2019'!$O$19","v":1},{"$f":"+'[8]2016 - 2019'!$P$19","v":1},{"$f":"+'[8]2016 - 2019'!$Q$19","v":0.65476190476190488},{"$f":"+'[8]2016 - 2019'!$R$19","v":0},0.884920634920635,{"$f":"+'[8]2016 - 2019'!$S$19","v":0.7142857142857143},0.7142857142857143,{"$f":"[8]RESUMEN!K13","v":3094931},{"$f":"[8]RESUMEN!L13","v":1504891},{"$f":"[8]RESUMEN!M13","v":0},{"$f":"[8]RESUMEN!N13","v":0.4862437967114614},{"$f":"[8]RESUMEN!O13","v":" -"}]
[null,null,null,"Salud y Ambiente",{"$f":"+'[17]2016 - 2019'!$O$75","v":0.76906710410223522},{"$f":"+'[17]2016 - 2019'!$P$75","v":0.82079083878127779},{"$f":"+'[17]2016 - 2019'!$Q$75","v":0.81349381017502465},{"$f":"+'[17]2016 - 2019'!$R$75","v":0},0.80111725101951248,{"$f":"+'[17]2016 - 2019'!$S$75","v":0.61620068799419503},0.61620068799419503,{"$f":"[17]RESUMEN!K39","v":361738896},{"$f":"[17]RESUMEN!L39","v":261075034},{"$f":"[17]RESUMEN!M39","v":0},{"$f":"[17]RESUMEN!N39","v":0.72172231652965513},{"$f":"[17]RESUMEN!O39","v":" -"}]
[null,null,null,"Sistemas",{"$f":"+'[10]2016 - 2019'!$O$55","v":0.99848484848484853},{"$f":"+'[10]2016 - 2019'!$P$55","v":0.76228571428571434},{"$f":"+'[10]2016 - 2019'!$Q$55","v":0.86544117647058827},{"$f":"+'[10]2016 - 2019'!$R$55","v":0},0.87540391308038379,{"$f":"+'[10]2016 - 2019'!$S$55","v":0.67446153846153833},0.67446153846153833,{"$f":"[10]RESUMEN!L28","v":3052569},{"$f":"[10]RESUMEN!M28","v":1683843},{"$f":"[10]RESUMEN!N28","v":0},{"$f":"[10]RESUMEN!O28","v":0.5516150494878248},{"$f":"[10]RESUMEN!P28","v":" -"}]
[null,null,null,"Tránsito",{"$f":"+'[16]2016 - 2019'!$O$34","v":0.95555555555555549},{"$f":"+'[16]2016 - 2019'!$P$34","v":0.94736842105263153},{"$f":"+'[16]2016 - 2019'!$Q$34","v":0.8215438596491228},{"$f":"+'[16]2016 - 2019'!$R$34","v":0},0.90815594541910327,{"$f":"+'[16]2016 - 2019'!$S$34","v":0.77535675675675675},0.77535675675675675,{"$f":"[16]RESUMEN!K17","v":17138734},{"$f":"[16]RESUMEN!L17","v":7987265},{"$f":"[16]RESUMEN!M17","v":1041661},{"$f":"[16]RESUMEN!N17","v":0.46603588106332711},{"$f":"[16]RESUMEN!O17","v":0.13041522974384848}]
[null,null,null,"UTSP",{"$f":"+'[11]2016 - 2019'!$O$13","v":1},{"$f":"+'[11]2016 - 2019'!$P$13","v":1},{"$f":"+'[11]2016 - 2019'!$Q$13","v":1},{"$f":"+'[11]2016 - 2019'!$R$13","v":0},1,{"$f":"+'[11]2016 - 2019'!$S$13","v":0.75},{"$f":"+J181","v":0.75},{"$f":"[11]RESUMEN!K11","v":0},{"$f":"[11]RESUMEN!L11","v":0},{"$f":"[11]RESUMEN!M11","v":0},{"$f":"[11]RESUMEN!N11","v":"-"},{"$f":"[11]RESUMEN!O11","v":" -"}]

{"sheet":"Gráficos","index":8,"n_rows":0,"n_cols":0,"rows_kept":0,"cut":false,"hidden":false,"merged":[]}